{"text_format":"1","workbook":"xlsx","n_sheets":10,"sheets":["入力フォーム","登録済データ","貼付用","設定情報案内","プロバイダ出力","コンテンツ出力","ファイル名一覧 出力シート","作業用","プロバイダ入力１","コンテンツ入力"],"not_rendered":{"charts":0,"images":2,"macros":1,"external_links":0,"defined_names":4,"comments":1,"pivot_tables":0},"unopened":[],"bounds":{"document_bytes":16777216,"sheet_cells":100000,"rows_first":2000,"rows_last":500,"rows_between":2000,"halvings":0,"cell_chars":16384,"cell_head_chars":4096},"cells_cut":0,"cells_raw":0,"read":"whole","date_system":"1900"}

{"sheet":"入力フォーム","index":0,"n_rows":52,"n_cols":15,"rows_kept":52,"cut":false,"hidden":false,"merged":[]}
[]
[null,"セコム　ピットタッチ・プロ2　設定入力シート"]
[null,"管理画面に未登録の所属情報を入力しないようにご注意ください。"]
[null,"※の付いている箇所は必須項目です。"]
[]
[null,"ご企業名","※",null,null,null,null,"ご契約のご企業名をご入力ください",null,null,{"$f":"IF(D6=\"\",\"A\",\"\")","v":"A"}]
[null,"ログインID","※",null,null,null,null,"管理画面のログインIDをご入力ください",null,null,{"$f":"IF(D7=\"\",\"A\",\"\")","v":"A"}]
[]
[]
[null,"設定「組織」＞タイムレコーダー設定"]
[null,"所属コード","※",null,null,null,null,"貴社管理画面の下図赤枠の情報をご入力ください",null,null,{"$f":"IF(D11=\"\",\"A\",\"\")","v":"A"},null,"所属コード","※"]
[null,"所属名","※",null,null,null,null,"貴社管理画面の下図青枠の情報をご入力ください",null,null,{"$f":"IF(D12=\"\",\"A\",\"\")","v":"A"},null,"所属名","※"]
[null,"タイムレコーダーID","※",null,null,null,null,"貴社管理画面の下図黃枠の情報をご入力ください",null,null,"A",null,"タイムレコーダーID","※"]
[]
[]
[]
[]
[]
[]
[null,null,null,null,null,null,null,"【例】"]
[]
[null,"1.出勤モード「開始」",null,"05:00(入力例)",null,null,null,"■「出勤」「退勤」について",null,null,{"$f":"IF(COUNTIF(D22:G23,\"*入力例*\")=1,\"D\",\"\")","v":""},null,"1.出勤モード「開始」",null,"05:00(入力例)"]
[null,"2.出勤モード「終了」",null,"14:59(入力例)",null,null,null,"左記入力例ですと、5:00~14:59の間は「出勤」ボタン、",null,null,null,null,"2.出勤モード「終了」",null,"14:59(入力例)"]
[null,null,null,null,null,null,null,"15:00~23:59の間は「退勤」ボタンが自動で選択された状態になります。"]
[null,"3.退勤モード「開始」",null,"15:00(入力例)",null,null,null,"※0:00～4：59の間は都度手動で「出勤」「退勤」を選択していただきます。",null,null,{"$f":"IF(COUNTIF(D25:G26,\"*入力例*\")=1,\"G\",\"\")","v":""},null,"3.退勤モード「開始」",null,"15:00(入力例)"]
[null,"4.退勤モード「終了」",null,"23:59(入力例)",null,null,null,"設定不要の場合は、本項目はスキップしてください。(入力例の値は反映されません。)",null,null,null,null,"4.退勤モード「終了」",null,"23:59(入力例)"]
[null,"※重複した値は入れられません。"]
[null,null,null,null,null,null,null,null,null,null,null,2]
[null,"時間表記の指定","※",null,null,null,null,null,null,null,null,{"$f":"IF(L28=2,\"24時間表記\",\"12時間表記\")","v":"24時間表記"}]
[null,null,null,null,null,null,null,null,null,null,null,1]
[null,"休憩ボタン","※",null,null,null,null,"休憩を打刻させる場合は「有」を選択してください",null,null,null,{"$f":"IF(L30=2,\"有\",\"無\")","v":"無"}]
[null,2,null,null,null,null,null,null,null,null,null,1]
[null,"IPアドレス取得方法(有線のみ)",null,null,null,null,null,"有線LANにて固定IPを割り当てる場合は「手動」を選択してください",null,null,null,{"$f":"IF(L32=2,\"手動\",\"自動（DHCP）\")","v":"自動（DHCP）"}]
[null,"IPアドレス","※",null,null,null,null,"※スラッシュ表記(CIDR)には対応していません",null,null,{"$f":"IF(D34=\"\",\"B\",\"\")","v":"B"},{"$f":"IFERROR(IF(L32=2,AND(LEFT(D34)<>\"0\",MID(SUBSTITUTE(SUBSTITUTE(D34,\".\",\"X\",4),\".\",REPT(\" \",100)),{1,101,201,301},100)*1<2^8),\"\"),\"False\")","v":""},"IPアドレス","※"]
[null,"サブネットマスク","※",null,null,null,null,"無線の場合はご入力不要です。",null,null,{"$f":"IF(D35=\"\",\"B\",\"\")","v":"B"},{"$f":"IFERROR(IF(L32=2,AND(LEFT(D35)<>\"0\",MID(SUBSTITUTE(SUBSTITUTE(D35,\".\",\"X\",4),\".\",REPT(\" \",100)),{1,101,201,301},100)*1<2^8),\"\"),\"False\")","v":""},"サブネットマスク","※"]
[null,"ゲートウェイアドレス","※",null,null,null,null,null,null,null,"B",{"$f":"IFERROR(IF(L32=2,AND(LEFT(D36)<>\"0\",MID(SUBSTITUTE(SUBSTITUTE(D36,\".\",\"X\",4),\".\",REPT(\" \",100)),{1,101,201,301},100)*1<2^8),\"\"),\"False\")","v":""},"ゲートウェイアドレス","※"]
[null,"プライマリDNS",null,null,null,null,null,null,null,null,null,null,"プライマリDNS"]
[null,"セカンダリDNS",null,null,null,null,null,null,null,null,null,null,"セカンダリDNS"]
[null,1,null,null,null,null,null,null,null,null,null,1]
[null,"プロキシ設定の有無",null,null,null,null,null,"貴社プロキシサーバーを経由する場合は「有」を選択してください",null,null,null,{"$f":"IF(L39=2,\"有\",\"無\")","v":"無"}]
[null,"プロキシサーバー名","※",null,null,null,null,null,null,null,{"$f":"IF(D41=\"\",\"C\",\"\")","v":"C"},null,"プロキシサーバー名","※"]
[null,"プロキシポート番号","※",null,null,null,null,null,null,null,{"$f":"IF(D42=\"\",\"C\",\"\")","v":"C"},null,"プロキシポート番号","※"]
[null,"認証ユーザー名",null,null,null,null,null,null,null,null,null,null,"認証ユーザー名"]
[null,"認証パスワード",null,null,null,null,null,null,null,null,null,null,"認証パスワード"]
[]
[null,"NTPサーバー名",null,null,null,null,null,"ご指定のNTPサーバーがある場合のみご入力ください",null,null,null,null,"NTPサーバー名"]
[]
[null,"データを全てご入力いただいたら、下の［データ登録］ボタンを押してください。"]
[null,null,null,null,null,null,null,null,null,null,{"$f":"COUNTIF(K6:K13,\"A\")","v":5}]
[null,null,null,null,null,null,null,null,null,null,{"$f":"IF(L32=2,COUNTIF(K34:K36,\"B\"),\"\")","v":""}]
[null,null,null,null,null,null,null,null,null,null,{"$f":"IF(L39=2,COUNTIF(K41:K42,\"C\"),\"\")","v":""}]
[null,null,null,null,null,null,null,null,null,null,{"$f":"SUM(K49:K51)","v":5}]

{"sheet":"登録済データ","index":1,"n_rows":6,"n_cols":24,"rows_kept":6,"cut":false,"hidden":false,"merged":[[4,18,4,21],[1,2,1,3],[2,2,2,3],[0,4,0,9],[4,12,4,16]]}
[]
[null,"ご企業名"]
[null,"ログインID"]
[]
[null,null,null,null,null,null,null,null,null,null,null,null,"IPアドレス取得方法が無線、又は「自動（DHCP）」の場合は不要です",null,null,null,null,null,"プロキシ設定が「無」の場合は不要です\t\t\t\t"]
[null,"登録台数","所属コード","所属名","タイム\nレコーダーID","1.出勤モード「開始」","2.出勤モード「終了」","3.退勤モード「開始」","4.退勤モード「終了」","休憩打刻\nの有無",null,"IPアドレス\n取得方法","IPアドレス","サブネット\nマスク","ゲートウェイ\nアドレス","プライマリDNS","セカンダリDNS","プロキシ\n設定の有無","プロキシ\nサーバー名","プロキシ\nポート番号","認証ユーザー名","認証パスワード","NTPサーバー名","時間表記の指定"]

{"sheet":"貼付用","index":2,"n_rows":504,"n_cols":31,"rows_kept":504,"cut":false,"hidden":true,"merged":[]}
[null,null,null,null,null,null,"セコム","IC","企業コード3桁"]
["Time","ご企業名","企業コード","ご注文番号","所属コード","所属名","タイムレコーダーID","1.出勤モード「開始」","2.出勤モード「終了」","3.退勤モード「開始」","4.退勤モード「終了」","休憩打刻の有無","ネットワーク接続方法","IPアドレス取得方法","IPアドレス","サブネットマスク","ゲートウェイアドレス","プライマリDNS","セカンダリDNS","プロキシ設定の有無","プロキシサーバー名","プロキシポート番号","認証ユーザー名","認証パスワード","NTPサーバー名","時間表記の指定","メールアドレス","Browser","IP Address","Unique ID","Location"]
[]
[null,{"$f":"IF($F4<>\"\",登録済データ!$C$2,\"\")","v":""},{"$f":"IF($F4<>\"\",IF($I$1=\"企業コード3桁\",LEFT(登録済データ!$C$3,3),LEFT(登録済データ!$C$3,6)),\"\")","v":""},null,{"$f":"IF(登録済データ!$B7<>0,登録済データ!C7,\"\")","v":""},{"$f":"IF(登録済データ!$B7<>0,登録済データ!D7,\"\")","v":""},{"$f":"IF(登録済データ!$B7<>0,登録済データ!E7,\"\")","v":""},{"$f":"IF(登録済データ!$B7<>0,IF(登録済データ!F7<>\"\",登録済データ!F7,\"\"),\"\")","v":""},{"$f":"IF(登録済データ!$B7<>0,IF(登録済データ!G7<>\"\",登録済データ!G7,\"\"),\"\")","v":""},{"$f":"IF(登録済データ!$B7<>0,IF(登録済データ!H7<>\"\",登録済データ!H7,\"\"),\"\")","v":""},{"$f":"IF(登録済データ!$B7<>0,IF(登録済データ!I7<>\"\",登録済データ!I7,\"\"),\"\")","v":""},{"$f":"IF(登録済データ!$B7<>0,登録済データ!J7,\"\")","v":""},{"$f":"IF(登録済データ!$B7<>0,登録済データ!K7,\"\")","v":""},{"$f":"IF(登録済データ!$B7<>0,登録済データ!L7,\"\")","v":""},{"$f":"IF(登録済データ!$B7<>0,登録済データ!M7,\"\")","v":""},{"$f":"IF(登録済データ!$B7<>0,登録済データ!N7,\"\")","v":""},{"$f":"IF(登録済データ!$B7<>0,登録済データ!O7,\"\")","v":""},{"$f":"IF(登録済データ!$B7<>0,登録済データ!P7,\"\")","v":""},{"$f":"IF(登録済データ!$B7<>0,登録済データ!Q7,\"\")","v":""},{"$f":"IF(登録済データ!$B7<>0,登録済データ!R7,\"\")","v":""},{"$f":"IF(登録済データ!$B7<>0,登録済データ!S7,\"\")","v":""},{"$f":"IF(登録済データ!$B7<>0,登録済データ!T7,\"\")","v":""},{"$f":"IF(登録済データ!$B7<>0,登録済データ!U7,\"\")","v":""},{"$f":"IF(登録済データ!$B7<>0,登録済データ!V7,\"\")","v":""},{"$f":"IF(登録済データ!$B7<>0,登録済データ!W7,\"\")","v":""},{"$f":"IF(登録済データ!$B7<>0,登録済データ!X7,\"\")","v":""},{"$f":"IF($F4<>\"\",登録済データ!$C$4,\"\")","v":""}]
[null,{"$f":"IF($F5<>\"\",登録済データ!$C$2,\"\")","v":""},{"$f":"IF($F5<>\"\",IF($I$1=\"企業コード3桁\",LEFT(登録済データ!$C$3,3),LEFT(登録済データ!$C$3,6)),\"\")","v":""},null,{"$f":"IF(登録済データ!$B8<>0,登録済データ!C8,\"\")","v":""},{"$f":"IF(登録済データ!$B8<>0,登録済データ!D8,\"\")","v":""},{"$f":"IF(登録済データ!$B8<>0,登録済データ!E8,\"\")","v":""},{"$f":"IF(登録済データ!$B8<>0,IF(登録済データ!F8<>\"\",登録済データ!F8,\"\"),\"\")","v":""},{"$f":"IF(登録済データ!$B8<>0,IF(登録済データ!G8<>\"\",登録済データ!G8,\"\"),\"\")","v":""},{"$f":"IF(登録済データ!$B8<>0,IF(登録済データ!H8<>\"\",登録済データ!H8,\"\"),\"\")","v":""},{"$f":"IF(登録済データ!$B8<>0,IF(登録済データ!I8<>\"\",登録済データ!I8,\"\"),\"\")","v":""},{"$f":"IF(登録済データ!$B8<>0,登録済データ!J8,\"\")","v":""},{"$f":"IF(登録済データ!$B8<>0,登録済データ!K8,\"\")","v":""},{"$f":"IF(登録済データ!$B8<>0,登録済データ!L8,\"\")","v":""},{"$f":"IF(登録済データ!$B8<>0,登録済データ!M8,\"\")","v":""},{"$f":"IF(登録済データ!$B8<>0,登録済データ!N8,\"\")","v":""},{"$f":"IF(登録済データ!$B8<>0,登録済データ!O8,\"\")","v":""},{"$f":"IF(登録済データ!$B8<>0,登録済データ!P8,\"\")","v":""},{"$f":"IF(登録済データ!$B8<>0,登録済データ!Q8,\"\")","v":""},{"$f":"IF(登録済データ!$B8<>0,登録済データ!R8,\"\")","v":""},{"$f":"IF(登録済データ!$B8<>0,登録済データ!S8,\"\")","v":""},{"$f":"IF(登録済データ!$B8<>0,登録済データ!T8,\"\")","v":""},{"$f":"IF(登録済データ!$B8<>0,登録済データ!U8,\"\")","v":""},{"$f":"IF(登録済データ!$B8<>0,登録済データ!V8,\"\")","v":""},{"$f":"IF(登録済データ!$B8<>0,登録済データ!W8,\"\")","v":""},{"$f":"IF(登録済データ!$B8<>0,登録済データ!X8,\"\")","v":""},{"$f":"IF($F5<>\"\",登録済データ!$C$4,\"\")","v":""}]
[null,{"$f":"IF($F6<>\"\",登録済データ!$C$2,\"\")","v":""},{"$f":"IF($F6<>\"\",IF($I$1=\"企業コード3桁\",LEFT(登録済データ!$C$3,3),LEFT(登録済データ!$C$3,6)),\"\")","v":""},null,{"$f":"IF(登録済データ!$B9<>0,登録済データ!C9,\"\")","v":""},{"$f":"IF(登録済データ!$B9<>0,登録済データ!D9,\"\")","v":""},{"$f":"IF(登録済データ!$B9<>0,登録済データ!E9,\"\")","v":""},{"$f":"IF(登録済データ!$B9<>0,IF(登録済データ!F9<>\"\",登録済データ!F9,\"\"),\"\")","v":""},{"$f":"IF(登録済データ!$B9<>0,IF(登録済データ!G9<>\"\",登録済データ!G9,\"\"),\"\")","v":""},{"$f":"IF(登録済データ!$B9<>0,IF(登録済データ!H9<>\"\",登録済データ!H9,\"\"),\"\")","v":""},{"$f":"IF(登録済データ!$B9<>0,IF(登録済データ!I9<>\"\",登録済データ!I9,\"\"),\"\")","v":""},{"$f":"IF(登録済データ!$B9<>0,登録済データ!J9,\"\")","v":""},{"$f":"IF(登録済データ!$B9<>0,登録済データ!K9,\"\")","v":""},{"$f":"IF(登録済データ!$B9<>0,登録済データ!L9,\"\")","v":""},{"$f":"IF(登録済データ!$B9<>0,登録済データ!M9,\"\")","v":""},{"$f":"IF(登録済データ!$B9<>0,登録済データ!N9,\"\")","v":""},{"$f":"IF(登録済データ!$B9<>0,登録済データ!O9,\"\")","v":""},{"$f":"IF(登録済データ!$B9<>0,登録済データ!P9,\"\")","v":""},{"$f":"IF(登録済データ!$B9<>0,登録済データ!Q9,\"\")","v":""},{"$f":"IF(登録済データ!$B9<>0,登録済データ!R9,\"\")","v":""},{"$f":"IF(登録済データ!$B9<>0,登録済データ!S9,\"\")","v":""},{"$f":"IF(登録済データ!$B9<>0,登録済データ!T9,\"\")","v":""},{"$f":"IF(登録済データ!$B9<>0,登録済データ!U9,\"\")","v":""},{"$f":"IF(登録済データ!$B9<>0,登録済データ!V9,\"\")","v":""},{"$f":"IF(登録済データ!$B9<>0,登録済データ!W9,\"\")","v":""},{"$f":"IF(登録済データ!$B9<>0,登録済データ!X9,\"\")","v":""},{"$f":"IF($F6<>\"\",登録済データ!$C$4,\"\")","v":""}]
[null,{"$f":"IF($F7<>\"\",登録済データ!$C$2,\"\")","v":""},{"$f":"IF($F7<>\"\",IF($I$1=\"企業コード3桁\",LEFT(登録済データ!$C$3,3),LEFT(登録済データ!$C$3,6)),\"\")","v":""},null,{"$f":"IF(登録済データ!$B10<>0,登録済データ!C10,\"\")","v":""},{"$f":"IF(登録済データ!$B10<>0,登録済データ!D10,\"\")","v":""},{"$f":"IF(登録済データ!$B10<>0,登録済データ!E10,\"\")","v":""},{"$f":"IF(登録済データ!$B10<>0,IF(登録済データ!F10<>\"\",登録済データ!F10,\"\"),\"\")","v":""},{"$f":"IF(登録済データ!$B10<>0,IF(登録済データ!G10<>\"\",登録済データ!G10,\"\"),\"\")","v":""},{"$f":"IF(登録済データ!$B10<>0,IF(登録済データ!H10<>\"\",登録済データ!H10,\"\"),\"\")","v":""},{"$f":"IF(登録済データ!$B10<>0,IF(登録済データ!I10<>\"\",登録済データ!I10,\"\"),\"\")","v":""},{"$f":"IF(登録済データ!$B10<>0,登録済データ!J10,\"\")","v":""},{"$f":"IF(登録済データ!$B10<>0,登録済データ!K10,\"\")","v":""},{"$f":"IF(登録済データ!$B10<>0,登録済データ!L10,\"\")","v":""},{"$f":"IF(登録済データ!$B10<>0,登録済データ!M10,\"\")","v":""},{"$f":"IF(登録済データ!$B10<>0,登録済データ!N10,\"\")","v":""},{"$f":"IF(登録済データ!$B10<>0,登録済データ!O10,\"\")","v":""},{"$f":"IF(登録済データ!$B10<>0,登録済データ!P10,\"\")","v":""},{"$f":"IF(登録済データ!$B10<>0,登録済データ!Q10,\"\")","v":""},{"$f":"IF(登録済データ!$B10<>0,登録済データ!R10,\"\")","v":""},{"$f":"IF(登録済データ!$B10<>0,登録済データ!S10,\"\")","v":""},{"$f":"IF(登録済データ!$B10<>0,登録済データ!T10,\"\")","v":""},{"$f":"IF(登録済データ!$B10<>0,登録済データ!U10,\"\")","v":""},{"$f":"IF(登録済データ!$B10<>0,登録済データ!V10,\"\")","v":""},{"$f":"IF(登録済データ!$B10<>0,登録済データ!W10,\"\")","v":""},{"$f":"IF(登録済データ!$B10<>0,登録済データ!X10,\"\")","v":""},{"$f":"IF($F7<>\"\",登録済データ!$C$4,\"\")","v":""}]
[null,{"$f":"IF($F8<>\"\",登録済データ!$C$2,\"\")","v":""},{"$f":"IF($F8<>\"\",IF($I$1=\"企業コード3桁\",LEFT(登録済データ!$C$3,3),LEFT(登録済データ!$C$3,6)),\"\")","v":""},null,{"$f":"IF(登録済データ!$B11<>0,登録済データ!C11,\"\")","v":""},{"$f":"IF(登録済データ!$B11<>0,登録済データ!D11,\"\")","v":""},{"$f":"IF(登録済データ!$B11<>0,登録済データ!E11,\"\")","v":""},{"$f":"IF(登録済データ!$B11<>0,IF(登録済データ!F11<>\"\",登録済データ!F11,\"\"),\"\")","v":""},{"$f":"IF(登録済データ!$B11<>0,IF(登録済データ!G11<>\"\",登録済データ!G11,\"\"),\"\")","v":""},{"$f":"IF(登録済データ!$B11<>0,IF(登録済データ!H11<>\"\",登録済データ!H11,\"\"),\"\")","v":""},{"$f":"IF(登録済データ!$B11<>0,IF(登録済データ!I11<>\"\",登録済データ!I11,\"\"),\"\")","v":""},{"$f":"IF(登録済データ!$B11<>0,登録済データ!J11,\"\")","v":""},{"$f":"IF(登録済データ!$B11<>0,登録済データ!K11,\"\")","v":""},{"$f":"IF(登録済データ!$B11<>0,登録済データ!L11,\"\")","v":""},{"$f":"IF(登録済データ!$B11<>0,登録済データ!M11,\"\")","v":""},{"$f":"IF(登録済データ!$B11<>0,登録済データ!N11,\"\")","v":""},{"$f":"IF(登録済データ!$B11<>0,登録済データ!O11,\"\")","v":""},{"$f":"IF(登録済データ!$B11<>0,登録済データ!P11,\"\")","v":""},{"$f":"IF(登録済データ!$B11<>0,登録済データ!Q11,\"\")","v":""},{"$f":"IF(登録済データ!$B11<>0,登録済データ!R11,\"\")","v":""},{"$f":"IF(登録済データ!$B11<>0,登録済データ!S11,\"\")","v":""},{"$f":"IF(登録済データ!$B11<>0,登録済データ!T11,\"\")","v":""},{"$f":"IF(登録済データ!$B11<>0,登録済データ!U11,\"\")","v":""},{"$f":"IF(登録済データ!$B11<>0,登録済データ!V11,\"\")","v":""},{"$f":"IF(登録済データ!$B11<>0,登録済データ!W11,\"\")","v":""},{"$f":"IF(登録済データ!$B11<>0,登録済データ!X11,\"\")","v":""},{"$f":"IF($F8<>\"\",登録済データ!$C$4,\"\")","v":""}]
[null,{"$f":"IF($F9<>\"\",登録済データ!$C$2,\"\")","v":""},{"$f":"IF($F9<>\"\",IF($I$1=\"企業コード3桁\",LEFT(登録済データ!$C$3,3),LEFT(登録済データ!$C$3,6)),\"\")","v":""},null,{"$f":"IF(登録済データ!$B12<>0,登録済データ!C12,\"\")","v":""},{"$f":"IF(登録済データ!$B12<>0,登録済データ!D12,\"\")","v":""},{"$f":"IF(登録済データ!$B12<>0,登録済データ!E12,\"\")","v":""},{"$f":"IF(登録済データ!$B12<>0,IF(登録済データ!F12<>\"\",登録済データ!F12,\"\"),\"\")","v":""},{"$f":"IF(登録済データ!$B12<>0,IF(登録済データ!G12<>\"\",登録済データ!G12,\"\"),\"\")","v":""},{"$f":"IF(登録済データ!$B12<>0,IF(登録済データ!H12<>\"\",登録済データ!H12,\"\"),\"\")","v":""},{"$f":"IF(登録済データ!$B12<>0,IF(登録済データ!I12<>\"\",登録済データ!I12,\"\"),\"\")","v":""},{"$f":"IF(登録済データ!$B12<>0,登録済データ!J12,\"\")","v":""},{"$f":"IF(登録済データ!$B12<>0,登録済データ!K12,\"\")","v":""},{"$f":"IF(登録済データ!$B12<>0,登録済データ!L12,\"\")","v":""},{"$f":"IF(登録済データ!$B12<>0,登録済データ!M12,\"\")","v":""},{"$f":"IF(登録済データ!$B12<>0,登録済データ!N12,\"\")","v":""},{"$f":"IF(登録済データ!$B12<>0,登録済データ!O12,\"\")","v":""},{"$f":"IF(登録済データ!$B12<>0,登録済データ!P12,\"\")","v":""},{"$f":"IF(登録済データ!$B12<>0,登録済データ!Q12,\"\")","v":""},{"$f":"IF(登録済データ!$B12<>0,登録済データ!R12,\"\")","v":""},{"$f":"IF(登録済データ!$B12<>0,登録済データ!S12,\"\")","v":""},{"$f":"IF(登録済データ!$B12<>0,登録済データ!T12,\"\")","v":""},{"$f":"IF(登録済データ!$B12<>0,登録済データ!U12,\"\")","v":""},{"$f":"IF(登録済データ!$B12<>0,登録済データ!V12,\"\")","v":""},{"$f":"IF(登録済データ!$B12<>0,登録済データ!W12,\"\")","v":""},{"$f":"IF(登録済データ!$B12<>0,登録済データ!X12,\"\")","v":""},{"$f":"IF($F9<>\"\",登録済データ!$C$4,\"\")","v":""}]
[null,{"$f":"IF($F10<>\"\",登録済データ!$C$2,\"\")","v":""},{"$f":"IF($F10<>\"\",IF($I$1=\"企業コード3桁\",LEFT(登録済データ!$C$3,3),LEFT(登録済データ!$C$3,6)),\"\")","v":""},null,{"$f":"IF(登録済データ!$B13<>0,登録済データ!C13,\"\")","v":""},{"$f":"IF(登録済データ!$B13<>0,登録済データ!D13,\"\")","v":""},{"$f":"IF(登録済データ!$B13<>0,登録済データ!E13,\"\")","v":""},{"$f":"IF(登録済データ!$B13<>0,IF(登録済データ!F13<>\"\",登録済データ!F13,\"\"),\"\")","v":""},{"$f":"IF(登録済データ!$B13<>0,IF(登録済データ!G13<>\"\",登録済データ!G13,\"\"),\"\")","v":""},{"$f":"IF(登録済データ!$B13<>0,IF(登録済データ!H13<>\"\",登録済データ!H13,\"\"),\"\")","v":""},{"$f":"IF(登録済データ!$B13<>0,IF(登録済データ!I13<>\"\",登録済データ!I13,\"\"),\"\")","v":""},{"$f":"IF(登録済データ!$B13<>0,登録済データ!J13,\"\")","v":""},{"$f":"IF(登録済データ!$B13<>0,登録済データ!K13,\"\")","v":""},{"$f":"IF(登録済データ!$B13<>0,登録済データ!L13,\"\")","v":""},{"$f":"IF(登録済データ!$B13<>0,登録済データ!M13,\"\")","v":""},{"$f":"IF(登録済データ!$B13<>0,登録済データ!N13,\"\")","v":""},{"$f":"IF(登録済データ!$B13<>0,登録済データ!O13,\"\")","v":""},{"$f":"IF(登録済データ!$B13<>0,登録済データ!P13,\"\")","v":""},{"$f":"IF(登録済データ!$B13<>0,登録済データ!Q13,\"\")","v":""},{"$f":"IF(登録済データ!$B13<>0,登録済データ!R13,\"\")","v":""},{"$f":"IF(登録済データ!$B13<>0,登録済データ!S13,\"\")","v":""},{"$f":"IF(登録済データ!$B13<>0,登録済データ!T13,\"\")","v":""},{"$f":"IF(登録済データ!$B13<>0,登録済データ!U13,\"\")","v":""},{"$f":"IF(登録済データ!$B13<>0,登録済データ!V13,\"\")","v":""},{"$f":"IF(登録済データ!$B13<>0,登録済データ!W13,\"\")","v":""},{"$f":"IF(登録済データ!$B13<>0,登録済データ!X13,\"\")","v":""},{"$f":"IF($F10<>\"\",登録済データ!$C$4,\"\")","v":""}]
[null,{"$f":"IF($F11<>\"\",登録済データ!$C$2,\"\")","v":""},{"$f":"IF($F11<>\"\",IF($I$1=\"企業コード3桁\",LEFT(登録済データ!$C$3,3),LEFT(登録済データ!$C$3,6)),\"\")","v":""},null,{"$f":"IF(登録済データ!$B14<>0,登録済データ!C14,\"\")","v":""},{"$f":"IF(登録済データ!$B14<>0,登録済データ!D14,\"\")","v":""},{"$f":"IF(登録済データ!$B14<>0,登録済データ!E14,\"\")","v":""},{"$f":"IF(登録済データ!$B14<>0,IF(登録済データ!F14<>\"\",登録済データ!F14,\"\"),\"\")","v":""},{"$f":"IF(登録済データ!$B14<>0,IF(登録済データ!G14<>\"\",登録済データ!G14,\"\"),\"\")","v":""},{"$f":"IF(登録済データ!$B14<>0,IF(登録済データ!H14<>\"\",登録済データ!H14,\"\"),\"\")","v":""},{"$f":"IF(登録済データ!$B14<>0,IF(登録済データ!I14<>\"\",登録済データ!I14,\"\"),\"\")","v":""},{"$f":"IF(登録済データ!$B14<>0,登録済データ!J14,\"\")","v":""},{"$f":"IF(登録済データ!$B14<>0,登録済データ!K14,\"\")","v":""},{"$f":"IF(登録済データ!$B14<>0,登録済データ!L14,\"\")","v":""},{"$f":"IF(登録済データ!$B14<>0,登録済データ!M14,\"\")","v":""},{"$f":"IF(登録済データ!$B14<>0,登録済データ!N14,\"\")","v":""},{"$f":"IF(登録済データ!$B14<>0,登録済データ!O14,\"\")","v":""},{"$f":"IF(登録済データ!$B14<>0,登録済データ!P14,\"\")","v":""},{"$f":"IF(登録済データ!$B14<>0,登録済データ!Q14,\"\")","v":""},{"$f":"IF(登録済データ!$B14<>0,登録済データ!R14,\"\")","v":""},{"$f":"IF(登録済データ!$B14<>0,登録済データ!S14,\"\")","v":""},{"$f":"IF(登録済データ!$B14<>0,登録済データ!T14,\"\")","v":""},{"$f":"IF(登録済データ!$B14<>0,登録済データ!U14,\"\")","v":""},{"$f":"IF(登録済データ!$B14<>0,登録済データ!V14,\"\")","v":""},{"$f":"IF(登録済データ!$B14<>0,登録済データ!W14,\"\")","v":""},{"$f":"IF(登録済データ!$B14<>0,登録済データ!X14,\"\")","v":""},{"$f":"IF($F11<>\"\",登録済データ!$C$4,\"\")","v":""}]
[null,{"$f":"IF($F12<>\"\",登録済データ!$C$2,\"\")","v":""},{"$f":"IF($F12<>\"\",IF($I$1=\"企業コード3桁\",LEFT(登録済データ!$C$3,3),LEFT(登録済データ!$C$3,6)),\"\")","v":""},null,{"$f":"IF(登録済データ!$B15<>0,登録済データ!C15,\"\")","v":""},{"$f":"IF(登録済データ!$B15<>0,登録済データ!D15,\"\")","v":""},{"$f":"IF(登録済データ!$B15<>0,登録済データ!E15,\"\")","v":""},{"$f":"IF(登録済データ!$B15<>0,IF(登録済データ!F15<>\"\",登録済データ!F15,\"\"),\"\")","v":""},{"$f":"IF(登録済データ!$B15<>0,IF(登録済データ!G15<>\"\",登録済データ!G15,\"\"),\"\")","v":""},{"$f":"IF(登録済データ!$B15<>0,IF(登録済データ!H15<>\"\",登録済データ!H15,\"\"),\"\")","v":""},{"$f":"IF(登録済データ!$B15<>0,IF(登録済データ!I15<>\"\",登録済データ!I15,\"\"),\"\")","v":""},{"$f":"IF(登録済データ!$B15<>0,登録済データ!J15,\"\")","v":""},{"$f":"IF(登録済データ!$B15<>0,登録済データ!K15,\"\")","v":""},{"$f":"IF(登録済データ!$B15<>0,登録済データ!L15,\"\")","v":""},{"$f":"IF(登録済データ!$B15<>0,登録済データ!M15,\"\")","v":""},{"$f":"IF(登録済データ!$B15<>0,登録済データ!N15,\"\")","v":""},{"$f":"IF(登録済データ!$B15<>0,登録済データ!O15,\"\")","v":""},{"$f":"IF(登録済データ!$B15<>0,登録済データ!P15,\"\")","v":""},{"$f":"IF(登録済データ!$B15<>0,登録済データ!Q15,\"\")","v":""},{"$f":"IF(登録済データ!$B15<>0,登録済データ!R15,\"\")","v":""},{"$f":"IF(登録済データ!$B15<>0,登録済データ!S15,\"\")","v":""},{"$f":"IF(登録済データ!$B15<>0,登録済データ!T15,\"\")","v":""},{"$f":"IF(登録済データ!$B15<>0,登録済データ!U15,\"\")","v":""},{"$f":"IF(登録済データ!$B15<>0,登録済データ!V15,\"\")","v":""},{"$f":"IF(登録済データ!$B15<>0,登録済データ!W15,\"\")","v":""},{"$f":"IF(登録済データ!$B15<>0,登録済データ!X15,\"\")","v":""},{"$f":"IF($F12<>\"\",登録済データ!$C$4,\"\")","v":""}]
[null,{"$f":"IF($F13<>\"\",登録済データ!$C$2,\"\")","v":""},{"$f":"IF($F13<>\"\",IF($I$1=\"企業コード3桁\",LEFT(登録済データ!$C$3,3),LEFT(登録済データ!$C$3,6)),\"\")","v":""},null,{"$f":"IF(登録済データ!$B16<>0,登録済データ!C16,\"\")","v":""},{"$f":"IF(登録済データ!$B16<>0,登録済データ!D16,\"\")","v":""},{"$f":"IF(登録済データ!$B16<>0,登録済データ!E16,\"\")","v":""},{"$f":"IF(登録済データ!$B16<>0,IF(登録済データ!F16<>\"\",登録済データ!F16,\"\"),\"\")","v":""},{"$f":"IF(登録済データ!$B16<>0,IF(登録済データ!G16<>\"\",登録済データ!G16,\"\"),\"\")","v":""},{"$f":"IF(登録済データ!$B16<>0,IF(登録済データ!H16<>\"\",登録済データ!H16,\"\"),\"\")","v":""},{"$f":"IF(登録済データ!$B16<>0,IF(登録済データ!I16<>\"\",登録済データ!I16,\"\"),\"\")","v":""},{"$f":"IF(登録済データ!$B16<>0,登録済データ!J16,\"\")","v":""},{"$f":"IF(登録済データ!$B16<>0,登録済データ!K16,\"\")","v":""},{"$f":"IF(登録済データ!$B16<>0,登録済データ!L16,\"\")","v":""},{"$f":"IF(登録済データ!$B16<>0,登録済データ!M16,\"\")","v":""},{"$f":"IF(登録済データ!$B16<>0,登録済データ!N16,\"\")","v":""},{"$f":"IF(登録済データ!$B16<>0,登録済データ!O16,\"\")","v":""},{"$f":"IF(登録済データ!$B16<>0,登録済データ!P16,\"\")","v":""},{"$f":"IF(登録済データ!$B16<>0,登録済データ!Q16,\"\")","v":""},{"$f":"IF(登録済データ!$B16<>0,登録済データ!R16,\"\")","v":""},{"$f":"IF(登録済データ!$B16<>0,登録済データ!S16,\"\")","v":""},{"$f":"IF(登録済データ!$B16<>0,登録済データ!T16,\"\")","v":""},{"$f":"IF(登録済データ!$B16<>0,登録済データ!U16,\"\")","v":""},{"$f":"IF(登録済データ!$B16<>0,登録済データ!V16,\"\")","v":""},{"$f":"IF(登録済データ!$B16<>0,登録済データ!W16,\"\")","v":""},{"$f":"IF(登録済データ!$B16<>0,登録済データ!X16,\"\")","v":""},{"$f":"IF($F13<>\"\",登録済データ!$C$4,\"\")","v":""}]
[null,{"$f":"IF($F14<>\"\",登録済データ!$C$2,\"\")","v":""},{"$f":"IF($F14<>\"\",IF($I$1=\"企業コード3桁\",LEFT(登録済データ!$C$3,3),LEFT(登録済データ!$C$3,6)),\"\")","v":""},null,{"$f":"IF(登録済データ!$B17<>0,登録済データ!C17,\"\")","v":""},{"$f":"IF(登録済データ!$B17<>0,登録済データ!D17,\"\")","v":""},{"$f":"IF(登録済データ!$B17<>0,登録済データ!E17,\"\")","v":""},{"$f":"IF(登録済データ!$B17<>0,IF(登録済データ!F17<>\"\",登録済データ!F17,\"\"),\"\")","v":""},{"$f":"IF(登録済データ!$B17<>0,IF(登録済データ!G17<>\"\",登録済データ!G17,\"\"),\"\")","v":""},{"$f":"IF(登録済データ!$B17<>0,IF(登録済データ!H17<>\"\",登録済データ!H17,\"\"),\"\")","v":""},{"$f":"IF(登録済データ!$B17<>0,IF(登録済データ!I17<>\"\",登録済データ!I17,\"\"),\"\")","v":""},{"$f":"IF(登録済データ!$B17<>0,登録済データ!J17,\"\")","v":""},{"$f":"IF(登録済データ!$B17<>0,登録済データ!K17,\"\")","v":""},{"$f":"IF(登録済データ!$B17<>0,登録済データ!L17,\"\")","v":""},{"$f":"IF(登録済データ!$B17<>0,登録済データ!M17,\"\")","v":""},{"$f":"IF(登録済データ!$B17<>0,登録済データ!N17,\"\")","v":""},{"$f":"IF(登録済データ!$B17<>0,登録済データ!O17,\"\")","v":""},{"$f":"IF(登録済データ!$B17<>0,登録済データ!P17,\"\")","v":""},{"$f":"IF(登録済データ!$B17<>0,登録済データ!Q17,\"\")","v":""},{"$f":"IF(登録済データ!$B17<>0,登録済データ!R17,\"\")","v":""},{"$f":"IF(登録済データ!$B17<>0,登録済データ!S17,\"\")","v":""},{"$f":"IF(登録済データ!$B17<>0,登録済データ!T17,\"\")","v":""},{"$f":"IF(登録済データ!$B17<>0,登録済データ!U17,\"\")","v":""},{"$f":"IF(登録済データ!$B17<>0,登録済データ!V17,\"\")","v":""},{"$f":"IF(登録済データ!$B17<>0,登録済データ!W17,\"\")","v":""},{"$f":"IF(登録済データ!$B17<>0,登録済データ!X17,\"\")","v":""},{"$f":"IF($F14<>\"\",登録済データ!$C$4,\"\")","v":""}]
[null,{"$f":"IF($F15<>\"\",登録済データ!$C$2,\"\")","v":""},{"$f":"IF($F15<>\"\",IF($I$1=\"企業コード3桁\",LEFT(登録済データ!$C$3,3),LEFT(登録済データ!$C$3,6)),\"\")","v":""},null,{"$f":"IF(登録済データ!$B18<>0,登録済データ!C18,\"\")","v":""},{"$f":"IF(登録済データ!$B18<>0,登録済データ!D18,\"\")","v":""},{"$f":"IF(登録済データ!$B18<>0,登録済データ!E18,\"\")","v":""},{"$f":"IF(登録済データ!$B18<>0,IF(登録済データ!F18<>\"\",登録済データ!F18,\"\"),\"\")","v":""},{"$f":"IF(登録済データ!$B18<>0,IF(登録済データ!G18<>\"\",登録済データ!G18,\"\"),\"\")","v":""},{"$f":"IF(登録済データ!$B18<>0,IF(登録済データ!H18<>\"\",登録済データ!H18,\"\"),\"\")","v":""},{"$f":"IF(登録済データ!$B18<>0,IF(登録済データ!I18<>\"\",登録済データ!I18,\"\"),\"\")","v":""},{"$f":"IF(登録済データ!$B18<>0,登録済データ!J18,\"\")","v":""},{"$f":"IF(登録済データ!$B18<>0,登録済データ!K18,\"\")","v":""},{"$f":"IF(登録済データ!$B18<>0,登録済データ!L18,\"\")","v":""},{"$f":"IF(登録済データ!$B18<>0,登録済データ!M18,\"\")","v":""},{"$f":"IF(登録済データ!$B18<>0,登録済データ!N18,\"\")","v":""},{"$f":"IF(登録済データ!$B18<>0,登録済データ!O18,\"\")","v":""},{"$f":"IF(登録済データ!$B18<>0,登録済データ!P18,\"\")","v":""},{"$f":"IF(登録済データ!$B18<>0,登録済データ!Q18,\"\")","v":""},{"$f":"IF(登録済データ!$B18<>0,登録済データ!R18,\"\")","v":""},{"$f":"IF(登録済データ!$B18<>0,登録済データ!S18,\"\")","v":""},{"$f":"IF(登録済データ!$B18<>0,登録済データ!T18,\"\")","v":""},{"$f":"IF(登録済データ!$B18<>0,登録済データ!U18,\"\")","v":""},{"$f":"IF(登録済データ!$B18<>0,登録済データ!V18,\"\")","v":""},{"$f":"IF(登録済データ!$B18<>0,登録済データ!W18,\"\")","v":""},{"$f":"IF(登録済データ!$B18<>0,登録済データ!X18,\"\")","v":""},{"$f":"IF($F15<>\"\",登録済データ!$C$4,\"\")","v":""}]
[null,{"$f":"IF($F16<>\"\",登録済データ!$C$2,\"\")","v":""},{"$f":"IF($F16<>\"\",IF($I$1=\"企業コード3桁\",LEFT(登録済データ!$C$3,3),LEFT(登録済データ!$C$3,6)),\"\")","v":""},null,{"$f":"IF(登録済データ!$B19<>0,登録済データ!C19,\"\")","v":""},{"$f":"IF(登録済データ!$B19<>0,登録済データ!D19,\"\")","v":""},{"$f":"IF(登録済データ!$B19<>0,登録済データ!E19,\"\")","v":""},{"$f":"IF(登録済データ!$B19<>0,IF(登録済データ!F19<>\"\",登録済データ!F19,\"\"),\"\")","v":""},{"$f":"IF(登録済データ!$B19<>0,IF(登録済データ!G19<>\"\",登録済データ!G19,\"\"),\"\")","v":""},{"$f":"IF(登録済データ!$B19<>0,IF(登録済データ!H19<>\"\",登録済データ!H19,\"\"),\"\")","v":""},{"$f":"IF(登録済データ!$B19<>0,IF(登録済データ!I19<>\"\",登録済データ!I19,\"\"),\"\")","v":""},{"$f":"IF(登録済データ!$B19<>0,登録済データ!J19,\"\")","v":""},{"$f":"IF(登録済データ!$B19<>0,登録済データ!K19,\"\")","v":""},{"$f":"IF(登録済データ!$B19<>0,登録済データ!L19,\"\")","v":""},{"$f":"IF(登録済データ!$B19<>0,登録済データ!M19,\"\")","v":""},{"$f":"IF(登録済データ!$B19<>0,登録済データ!N19,\"\")","v":""},{"$f":"IF(登録済データ!$B19<>0,登録済データ!O19,\"\")","v":""},{"$f":"IF(登録済データ!$B19<>0,登録済データ!P19,\"\")","v":""},{"$f":"IF(登録済データ!$B19<>0,登録済データ!Q19,\"\")","v":""},{"$f":"IF(登録済データ!$B19<>0,登録済データ!R19,\"\")","v":""},{"$f":"IF(登録済データ!$B19<>0,登録済データ!S19,\"\")","v":""},{"$f":"IF(登録済データ!$B19<>0,登録済データ!T19,\"\")","v":""},{"$f":"IF(登録済データ!$B19<>0,登録済データ!U19,\"\")","v":""},{"$f":"IF(登録済データ!$B19<>0,登録済データ!V19,\"\")","v":""},{"$f":"IF(登録済データ!$B19<>0,登録済データ!W19,\"\")","v":""},{"$f":"IF(登録済データ!$B19<>0,登録済データ!X19,\"\")","v":""},{"$f":"IF($F16<>\"\",登録済データ!$C$4,\"\")","v":""}]
[null,{"$f":"IF($F17<>\"\",登録済データ!$C$2,\"\")","v":""},{"$f":"IF($F17<>\"\",IF($I$1=\"企業コード3桁\",LEFT(登録済データ!$C$3,3),LEFT(登録済データ!$C$3,6)),\"\")","v":""},null,{"$f":"IF(登録済データ!$B20<>0,登録済データ!C20,\"\")","v":""},{"$f":"IF(登録済データ!$B20<>0,登録済データ!D20,\"\")","v":""},{"$f":"IF(登録済データ!$B20<>0,登録済データ!E20,\"\")","v":""},{"$f":"IF(登録済データ!$B20<>0,IF(登録済データ!F20<>\"\",登録済データ!F20,\"\"),\"\")","v":""},{"$f":"IF(登録済データ!$B20<>0,IF(登録済データ!G20<>\"\",登録済データ!G20,\"\"),\"\")","v":""},{"$f":"IF(登録済データ!$B20<>0,IF(登録済データ!H20<>\"\",登録済データ!H20,\"\"),\"\")","v":""},{"$f":"IF(登録済データ!$B20<>0,IF(登録済データ!I20<>\"\",登録済データ!I20,\"\"),\"\")","v":""},{"$f":"IF(登録済データ!$B20<>0,登録済データ!J20,\"\")","v":""},{"$f":"IF(登録済データ!$B20<>0,登録済データ!K20,\"\")","v":""},{"$f":"IF(登録済データ!$B20<>0,登録済データ!L20,\"\")","v":""},{"$f":"IF(登録済データ!$B20<>0,登録済データ!M20,\"\")","v":""},{"$f":"IF(登録済データ!$B20<>0,登録済データ!N20,\"\")","v":""},{"$f":"IF(登録済データ!$B20<>0,登録済データ!O20,\"\")","v":""},{"$f":"IF(登録済データ!$B20<>0,登録済データ!P20,\"\")","v":""},{"$f":"IF(登録済データ!$B20<>0,登録済データ!Q20,\"\")","v":""},{"$f":"IF(登録済データ!$B20<>0,登録済データ!R20,\"\")","v":""},{"$f":"IF(登録済データ!$B20<>0,登録済データ!S20,\"\")","v":""},{"$f":"IF(登録済データ!$B20<>0,登録済データ!T20,\"\")","v":""},{"$f":"IF(登録済データ!$B20<>0,登録済データ!U20,\"\")","v":""},{"$f":"IF(登録済データ!$B20<>0,登録済データ!V20,\"\")","v":""},{"$f":"IF(登録済データ!$B20<>0,登録済データ!W20,\"\")","v":""},{"$f":"IF(登録済データ!$B20<>0,登録済データ!X20,\"\")","v":""},{"$f":"IF($F17<>\"\",登録済データ!$C$4,\"\")","v":""}]
[null,{"$f":"IF($F18<>\"\",登録済データ!$C$2,\"\")","v":""},{"$f":"IF($F18<>\"\",IF($I$1=\"企業コード3桁\",LEFT(登録済データ!$C$3,3),LEFT(登録済データ!$C$3,6)),\"\")","v":""},null,{"$f":"IF(登録済データ!$B21<>0,登録済データ!C21,\"\")","v":""},{"$f":"IF(登録済データ!$B21<>0,登録済データ!D21,\"\")","v":""},{"$f":"IF(登録済データ!$B21<>0,登録済データ!E21,\"\")","v":""},{"$f":"IF(登録済データ!$B21<>0,IF(登録済データ!F21<>\"\",登録済データ!F21,\"\"),\"\")","v":""},{"$f":"IF(登録済データ!$B21<>0,IF(登録済データ!G21<>\"\",登録済データ!G21,\"\"),\"\")","v":""},{"$f":"IF(登録済データ!$B21<>0,IF(登録済データ!H21<>\"\",登録済データ!H21,\"\"),\"\")","v":""},{"$f":"IF(登録済データ!$B21<>0,IF(登録済データ!I21<>\"\",登録済データ!I21,\"\"),\"\")","v":""},{"$f":"IF(登録済データ!$B21<>0,登録済データ!J21,\"\")","v":""},{"$f":"IF(登録済データ!$B21<>0,登録済データ!K21,\"\")","v":""},{"$f":"IF(登録済データ!$B21<>0,登録済データ!L21,\"\")","v":""},{"$f":"IF(登録済データ!$B21<>0,登録済データ!M21,\"\")","v":""},{"$f":"IF(登録済データ!$B21<>0,登録済データ!N21,\"\")","v":""},{"$f":"IF(登録済データ!$B21<>0,登録済データ!O21,\"\")","v":""},{"$f":"IF(登録済データ!$B21<>0,登録済データ!P21,\"\")","v":""},{"$f":"IF(登録済データ!$B21<>0,登録済データ!Q21,\"\")","v":""},{"$f":"IF(登録済データ!$B21<>0,登録済データ!R21,\"\")","v":""},{"$f":"IF(登録済データ!$B21<>0,登録済データ!S21,\"\")","v":""},{"$f":"IF(登録済データ!$B21<>0,登録済データ!T21,\"\")","v":""},{"$f":"IF(登録済データ!$B21<>0,登録済データ!U21,\"\")","v":""},{"$f":"IF(登録済データ!$B21<>0,登録済データ!V21,\"\")","v":""},{"$f":"IF(登録済データ!$B21<>0,登録済データ!W21,\"\")","v":""},{"$f":"IF(登録済データ!$B21<>0,登録済データ!X21,\"\")","v":""},{"$f":"IF($F18<>\"\",登録済データ!$C$4,\"\")","v":""}]
[null,{"$f":"IF($F19<>\"\",登録済データ!$C$2,\"\")","v":""},{"$f":"IF($F19<>\"\",IF($I$1=\"企業コード3桁\",LEFT(登録済データ!$C$3,3),LEFT(登録済データ!$C$3,6)),\"\")","v":""},null,{"$f":"IF(登録済データ!$B22<>0,登録済データ!C22,\"\")","v":""},{"$f":"IF(登録済データ!$B22<>0,登録済データ!D22,\"\")","v":""},{"$f":"IF(登録済データ!$B22<>0,登録済データ!E22,\"\")","v":""},{"$f":"IF(登録済データ!$B22<>0,IF(登録済データ!F22<>\"\",登録済データ!F22,\"\"),\"\")","v":""},{"$f":"IF(登録済データ!$B22<>0,IF(登録済データ!G22<>\"\",登録済データ!G22,\"\"),\"\")","v":""},{"$f":"IF(登録済データ!$B22<>0,IF(登録済データ!H22<>\"\",登録済データ!H22,\"\"),\"\")","v":""},{"$f":"IF(登録済データ!$B22<>0,IF(登録済データ!I22<>\"\",登録済データ!I22,\"\"),\"\")","v":""},{"$f":"IF(登録済データ!$B22<>0,登録済データ!J22,\"\")","v":""},{"$f":"IF(登録済データ!$B22<>0,登録済データ!K22,\"\")","v":""},{"$f":"IF(登録済データ!$B22<>0,登録済データ!L22,\"\")","v":""},{"$f":"IF(登録済データ!$B22<>0,登録済データ!M22,\"\")","v":""},{"$f":"IF(登録済データ!$B22<>0,登録済データ!N22,\"\")","v":""},{"$f":"IF(登録済データ!$B22<>0,登録済データ!O22,\"\")","v":""},{"$f":"IF(登録済データ!$B22<>0,登録済データ!P22,\"\")","v":""},{"$f":"IF(登録済データ!$B22<>0,登録済データ!Q22,\"\")","v":""},{"$f":"IF(登録済データ!$B22<>0,登録済データ!R22,\"\")","v":""},{"$f":"IF(登録済データ!$B22<>0,登録済データ!S22,\"\")","v":""},{"$f":"IF(登録済データ!$B22<>0,登録済データ!T22,\"\")","v":""},{"$f":"IF(登録済データ!$B22<>0,登録済データ!U22,\"\")","v":""},{"$f":"IF(登録済データ!$B22<>0,登録済データ!V22,\"\")","v":""},{"$f":"IF(登録済データ!$B22<>0,登録済データ!W22,\"\")","v":""},{"$f":"IF(登録済データ!$B22<>0,登録済データ!X22,\"\")","v":""},{"$f":"IF($F19<>\"\",登録済データ!$C$4,\"\")","v":""}]
[null,{"$f":"IF($F20<>\"\",登録済データ!$C$2,\"\")","v":""},{"$f":"IF($F20<>\"\",IF($I$1=\"企業コード3桁\",LEFT(登録済データ!$C$3,3),LEFT(登録済データ!$C$3,6)),\"\")","v":""},null,{"$f":"IF(登録済データ!$B23<>0,登録済データ!C23,\"\")","v":""},{"$f":"IF(登録済データ!$B23<>0,登録済データ!D23,\"\")","v":""},{"$f":"IF(登録済データ!$B23<>0,登録済データ!E23,\"\")","v":""},{"$f":"IF(登録済データ!$B23<>0,IF(登録済データ!F23<>\"\",登録済データ!F23,\"\"),\"\")","v":""},{"$f":"IF(登録済データ!$B23<>0,IF(登録済データ!G23<>\"\",登録済データ!G23,\"\"),\"\")","v":""},{"$f":"IF(登録済データ!$B23<>0,IF(登録済データ!H23<>\"\",登録済データ!H23,\"\"),\"\")","v":""},{"$f":"IF(登録済データ!$B23<>0,IF(登録済データ!I23<>\"\",登録済データ!I23,\"\"),\"\")","v":""},{"$f":"IF(登録済データ!$B23<>0,登録済データ!J23,\"\")","v":""},{"$f":"IF(登録済データ!$B23<>0,登録済データ!K23,\"\")","v":""},{"$f":"IF(登録済データ!$B23<>0,登録済データ!L23,\"\")","v":""},{"$f":"IF(登録済データ!$B23<>0,登録済データ!M23,\"\")","v":""},{"$f":"IF(登録済データ!$B23<>0,登録済データ!N23,\"\")","v":""},{"$f":"IF(登録済データ!$B23<>0,登録済データ!O23,\"\")","v":""},{"$f":"IF(登録済データ!$B23<>0,登録済データ!P23,\"\")","v":""},{"$f":"IF(登録済データ!$B23<>0,登録済データ!Q23,\"\")","v":""},{"$f":"IF(登録済データ!$B23<>0,登録済データ!R23,\"\")","v":""},{"$f":"IF(登録済データ!$B23<>0,登録済データ!S23,\"\")","v":""},{"$f":"IF(登録済データ!$B23<>0,登録済データ!T23,\"\")","v":""},{"$f":"IF(登録済データ!$B23<>0,登録済データ!U23,\"\")","v":""},{"$f":"IF(登録済データ!$B23<>0,登録済データ!V23,\"\")","v":""},{"$f":"IF(登録済データ!$B23<>0,登録済データ!W23,\"\")","v":""},{"$f":"IF(登録済データ!$B23<>0,登録済データ!X23,\"\")","v":""},{"$f":"IF($F20<>\"\",登録済データ!$C$4,\"\")","v":""}]
[null,{"$f":"IF($F21<>\"\",登録済データ!$C$2,\"\")","v":""},{"$f":"IF($F21<>\"\",IF($I$1=\"企業コード3桁\",LEFT(登録済データ!$C$3,3),LEFT(登録済データ!$C$3,6)),\"\")","v":""},null,{"$f":"IF(登録済データ!$B24<>0,登録済データ!C24,\"\")","v":""},{"$f":"IF(登録済データ!$B24<>0,登録済データ!D24,\"\")","v":""},{"$f":"IF(登録済データ!$B24<>0,登録済データ!E24,\"\")","v":""},{"$f":"IF(登録済データ!$B24<>0,IF(登録済データ!F24<>\"\",登録済データ!F24,\"\"),\"\")","v":""},{"$f":"IF(登録済データ!$B24<>0,IF(登録済データ!G24<>\"\",登録済データ!G24,\"\"),\"\")","v":""},{"$f":"IF(登録済データ!$B24<>0,IF(登録済データ!H24<>\"\",登録済データ!H24,\"\"),\"\")","v":""},{"$f":"IF(登録済データ!$B24<>0,IF(登録済データ!I24<>\"\",登録済データ!I24,\"\"),\"\")","v":""},{"$f":"IF(登録済データ!$B24<>0,登録済データ!J24,\"\")","v":""},{"$f":"IF(登録済データ!$B24<>0,登録済データ!K24,\"\")","v":""},{"$f":"IF(登録済データ!$B24<>0,登録済データ!L24,\"\")","v":""},{"$f":"IF(登録済データ!$B24<>0,登録済データ!M24,\"\")","v":""},{"$f":"IF(登録済データ!$B24<>0,登録済データ!N24,\"\")","v":""},{"$f":"IF(登録済データ!$B24<>0,登録済データ!O24,\"\")","v":""},{"$f":"IF(登録済データ!$B24<>0,登録済データ!P24,\"\")","v":""},{"$f":"IF(登録済データ!$B24<>0,登録済データ!Q24,\"\")","v":""},{"$f":"IF(登録済データ!$B24<>0,登録済データ!R24,\"\")","v":""},{"$f":"IF(登録済データ!$B24<>0,登録済データ!S24,\"\")","v":""},{"$f":"IF(登録済データ!$B24<>0,登録済データ!T24,\"\")","v":""},{"$f":"IF(登録済データ!$B24<>0,登録済データ!U24,\"\")","v":""},{"$f":"IF(登録済データ!$B24<>0,登録済データ!V24,\"\")","v":""},{"$f":"IF(登録済データ!$B24<>0,登録済データ!W24,\"\")","v":""},{"$f":"IF(登録済データ!$B24<>0,登録済データ!X24,\"\")","v":""},{"$f":"IF($F21<>\"\",登録済データ!$C$4,\"\")","v":""}]
[null,{"$f":"IF($F22<>\"\",登録済データ!$C$2,\"\")","v":""},{"$f":"IF($F22<>\"\",IF($I$1=\"企業コード3桁\",LEFT(登録済データ!$C$3,3),LEFT(登録済データ!$C$3,6)),\"\")","v":""},null,{"$f":"IF(登録済データ!$B25<>0,登録済データ!C25,\"\")","v":""},{"$f":"IF(登録済データ!$B25<>0,登録済データ!D25,\"\")","v":""},{"$f":"IF(登録済データ!$B25<>0,登録済データ!E25,\"\")","v":""},{"$f":"IF(登録済データ!$B25<>0,IF(登録済データ!F25<>\"\",登録済データ!F25,\"\"),\"\")","v":""},{"$f":"IF(登録済データ!$B25<>0,IF(登録済データ!G25<>\"\",登録済データ!G25,\"\"),\"\")","v":""},{"$f":"IF(登録済データ!$B25<>0,IF(登録済データ!H25<>\"\",登録済データ!H25,\"\"),\"\")","v":""},{"$f":"IF(登録済データ!$B25<>0,IF(登録済データ!I25<>\"\",登録済データ!I25,\"\"),\"\")","v":""},{"$f":"IF(登録済データ!$B25<>0,登録済データ!J25,\"\")","v":""},{"$f":"IF(登録済データ!$B25<>0,登録済データ!K25,\"\")","v":""},{"$f":"IF(登録済データ!$B25<>0,登録済データ!L25,\"\")","v":""},{"$f":"IF(登録済データ!$B25<>0,登録済データ!M25,\"\")","v":""},{"$f":"IF(登録済データ!$B25<>0,登録済データ!N25,\"\")","v":""},{"$f":"IF(登録済データ!$B25<>0,登録済データ!O25,\"\")","v":""},{"$f":"IF(登録済データ!$B25<>0,登録済データ!P25,\"\")","v":""},{"$f":"IF(登録済データ!$B25<>0,登録済データ!Q25,\"\")","v":""},{"$f":"IF(登録済データ!$B25<>0,登録済データ!R25,\"\")","v":""},{"$f":"IF(登録済データ!$B25<>0,登録済データ!S25,\"\")","v":""},{"$f":"IF(登録済データ!$B25<>0,登録済データ!T25,\"\")","v":""},{"$f":"IF(登録済データ!$B25<>0,登録済データ!U25,\"\")","v":""},{"$f":"IF(登録済データ!$B25<>0,登録済データ!V25,\"\")","v":""},{"$f":"IF(登録済データ!$B25<>0,登録済データ!W25,\"\")","v":""},{"$f":"IF(登録済データ!$B25<>0,登録済データ!X25,\"\")","v":""},{"$f":"IF($F22<>\"\",登録済データ!$C$4,\"\")","v":""}]
[null,{"$f":"IF($F23<>\"\",登録済データ!$C$2,\"\")","v":""},{"$f":"IF($F23<>\"\",IF($I$1=\"企業コード3桁\",LEFT(登録済データ!$C$3,3),LEFT(登録済データ!$C$3,6)),\"\")","v":""},null,{"$f":"IF(登録済データ!$B26<>0,登録済データ!C26,\"\")","v":""},{"$f":"IF(登録済データ!$B26<>0,登録済データ!D26,\"\")","v":""},{"$f":"IF(登録済データ!$B26<>0,登録済データ!E26,\"\")","v":""},{"$f":"IF(登録済データ!$B26<>0,IF(登録済データ!F26<>\"\",登録済データ!F26,\"\"),\"\")","v":""},{"$f":"IF(登録済データ!$B26<>0,IF(登録済データ!G26<>\"\",登録済データ!G26,\"\"),\"\")","v":""},{"$f":"IF(登録済データ!$B26<>0,IF(登録済データ!H26<>\"\",登録済データ!H26,\"\"),\"\")","v":""},{"$f":"IF(登録済データ!$B26<>0,IF(登録済データ!I26<>\"\",登録済データ!I26,\"\"),\"\")","v":""},{"$f":"IF(登録済データ!$B26<>0,登録済データ!J26,\"\")","v":""},{"$f":"IF(登録済データ!$B26<>0,登録済データ!K26,\"\")","v":""},{"$f":"IF(登録済データ!$B26<>0,登録済データ!L26,\"\")","v":""},{"$f":"IF(登録済データ!$B26<>0,登録済データ!M26,\"\")","v":""},{"$f":"IF(登録済データ!$B26<>0,登録済データ!N26,\"\")","v":""},{"$f":"IF(登録済データ!$B26<>0,登録済データ!O26,\"\")","v":""},{"$f":"IF(登録済データ!$B26<>0,登録済データ!P26,\"\")","v":""},{"$f":"IF(登録済データ!$B26<>0,登録済データ!Q26,\"\")","v":""},{"$f":"IF(登録済データ!$B26<>0,登録済データ!R26,\"\")","v":""},{"$f":"IF(登録済データ!$B26<>0,登録済データ!S26,\"\")","v":""},{"$f":"IF(登録済データ!$B26<>0,登録済データ!T26,\"\")","v":""},{"$f":"IF(登録済データ!$B26<>0,登録済データ!U26,\"\")","v":""},{"$f":"IF(登録済データ!$B26<>0,登録済データ!V26,\"\")","v":""},{"$f":"IF(登録済データ!$B26<>0,登録済データ!W26,\"\")","v":""},{"$f":"IF(登録済データ!$B26<>0,登録済データ!X26,\"\")","v":""},{"$f":"IF($F23<>\"\",登録済データ!$C$4,\"\")","v":""}]
[null,{"$f":"IF($F24<>\"\",登録済データ!$C$2,\"\")","v":""},{"$f":"IF($F24<>\"\",IF($I$1=\"企業コード3桁\",LEFT(登録済データ!$C$3,3),LEFT(登録済データ!$C$3,6)),\"\")","v":""},null,{"$f":"IF(登録済データ!$B27<>0,登録済データ!C27,\"\")","v":""},{"$f":"IF(登録済データ!$B27<>0,登録済データ!D27,\"\")","v":""},{"$f":"IF(登録済データ!$B27<>0,登録済データ!E27,\"\")","v":""},{"$f":"IF(登録済データ!$B27<>0,IF(登録済データ!F27<>\"\",登録済データ!F27,\"\"),\"\")","v":""},{"$f":"IF(登録済データ!$B27<>0,IF(登録済データ!G27<>\"\",登録済データ!G27,\"\"),\"\")","v":""},{"$f":"IF(登録済データ!$B27<>0,IF(登録済データ!H27<>\"\",登録済データ!H27,\"\"),\"\")","v":""},{"$f":"IF(登録済データ!$B27<>0,IF(登録済データ!I27<>\"\",登録済データ!I27,\"\"),\"\")","v":""},{"$f":"IF(登録済データ!$B27<>0,登録済データ!J27,\"\")","v":""},{"$f":"IF(登録済データ!$B27<>0,登録済データ!K27,\"\")","v":""},{"$f":"IF(登録済データ!$B27<>0,登録済データ!L27,\"\")","v":""},{"$f":"IF(登録済データ!$B27<>0,登録済データ!M27,\"\")","v":""},{"$f":"IF(登録済データ!$B27<>0,登録済データ!N27,\"\")","v":""},{"$f":"IF(登録済データ!$B27<>0,登録済データ!O27,\"\")","v":""},{"$f":"IF(登録済データ!$B27<>0,登録済データ!P27,\"\")","v":""},{"$f":"IF(登録済データ!$B27<>0,登録済データ!Q27,\"\")","v":""},{"$f":"IF(登録済データ!$B27<>0,登録済データ!R27,\"\")","v":""},{"$f":"IF(登録済データ!$B27<>0,登録済データ!S27,\"\")","v":""},{"$f":"IF(登録済データ!$B27<>0,登録済データ!T27,\"\")","v":""},{"$f":"IF(登録済データ!$B27<>0,登録済データ!U27,\"\")","v":""},{"$f":"IF(登録済データ!$B27<>0,登録済データ!V27,\"\")","v":""},{"$f":"IF(登録済データ!$B27<>0,登録済データ!W27,\"\")","v":""},{"$f":"IF(登録済データ!$B27<>0,登録済データ!X27,\"\")","v":""},{"$f":"IF($F24<>\"\",登録済データ!$C$4,\"\")","v":""}]
[null,{"$f":"IF($F25<>\"\",登録済データ!$C$2,\"\")","v":""},{"$f":"IF($F25<>\"\",IF($I$1=\"企業コード3桁\",LEFT(登録済データ!$C$3,3),LEFT(登録済データ!$C$3,6)),\"\")","v":""},null,{"$f":"IF(登録済データ!$B28<>0,登録済データ!C28,\"\")","v":""},{"$f":"IF(登録済データ!$B28<>0,登録済データ!D28,\"\")","v":""},{"$f":"IF(登録済データ!$B28<>0,登録済データ!E28,\"\")","v":""},{"$f":"IF(登録済データ!$B28<>0,IF(登録済データ!F28<>\"\",登録済データ!F28,\"\"),\"\")","v":""},{"$f":"IF(登録済データ!$B28<>0,IF(登録済データ!G28<>\"\",登録済データ!G28,\"\"),\"\")","v":""},{"$f":"IF(登録済データ!$B28<>0,IF(登録済データ!H28<>\"\",登録済データ!H28,\"\"),\"\")","v":""},{"$f":"IF(登録済データ!$B28<>0,IF(登録済データ!I28<>\"\",登録済データ!I28,\"\"),\"\")","v":""},{"$f":"IF(登録済データ!$B28<>0,登録済データ!J28,\"\")","v":""},{"$f":"IF(登録済データ!$B28<>0,登録済データ!K28,\"\")","v":""},{"$f":"IF(登録済データ!$B28<>0,登録済データ!L28,\"\")","v":""},{"$f":"IF(登録済データ!$B28<>0,登録済データ!M28,\"\")","v":""},{"$f":"IF(登録済データ!$B28<>0,登録済データ!N28,\"\")","v":""},{"$f":"IF(登録済データ!$B28<>0,登録済データ!O28,\"\")","v":""},{"$f":"IF(登録済データ!$B28<>0,登録済データ!P28,\"\")","v":""},{"$f":"IF(登録済データ!$B28<>0,登録済データ!Q28,\"\")","v":""},{"$f":"IF(登録済データ!$B28<>0,登録済データ!R28,\"\")","v":""},{"$f":"IF(登録済データ!$B28<>0,登録済データ!S28,\"\")","v":""},{"$f":"IF(登録済データ!$B28<>0,登録済データ!T28,\"\")","v":""},{"$f":"IF(登録済データ!$B28<>0,登録済データ!U28,\"\")","v":""},{"$f":"IF(登録済データ!$B28<>0,登録済データ!V28,\"\")","v":""},{"$f":"IF(登録済データ!$B28<>0,登録済データ!W28,\"\")","v":""},{"$f":"IF(登録済データ!$B28<>0,登録済データ!X28,\"\")","v":""},{"$f":"IF($F25<>\"\",登録済データ!$C$4,\"\")","v":""}]
[null,{"$f":"IF($F26<>\"\",登録済データ!$C$2,\"\")","v":""},{"$f":"IF($F26<>\"\",IF($I$1=\"企業コード3桁\",LEFT(登録済データ!$C$3,3),LEFT(登録済データ!$C$3,6)),\"\")","v":""},null,{"$f":"IF(登録済データ!$B29<>0,登録済データ!C29,\"\")","v":""},{"$f":"IF(登録済データ!$B29<>0,登録済データ!D29,\"\")","v":""},{"$f":"IF(登録済データ!$B29<>0,登録済データ!E29,\"\")","v":""},{"$f":"IF(登録済データ!$B29<>0,IF(登録済データ!F29<>\"\",登録済データ!F29,\"\"),\"\")","v":""},{"$f":"IF(登録済データ!$B29<>0,IF(登録済データ!G29<>\"\",登録済データ!G29,\"\"),\"\")","v":""},{"$f":"IF(登録済データ!$B29<>0,IF(登録済データ!H29<>\"\",登録済データ!H29,\"\"),\"\")","v":""},{"$f":"IF(登録済データ!$B29<>0,IF(登録済データ!I29<>\"\",登録済データ!I29,\"\"),\"\")","v":""},{"$f":"IF(登録済データ!$B29<>0,登録済データ!J29,\"\")","v":""},{"$f":"IF(登録済データ!$B29<>0,登録済データ!K29,\"\")","v":""},{"$f":"IF(登録済データ!$B29<>0,登録済データ!L29,\"\")","v":""},{"$f":"IF(登録済データ!$B29<>0,登録済データ!M29,\"\")","v":""},{"$f":"IF(登録済データ!$B29<>0,登録済データ!N29,\"\")","v":""},{"$f":"IF(登録済データ!$B29<>0,登録済データ!O29,\"\")","v":""},{"$f":"IF(登録済データ!$B29<>0,登録済データ!P29,\"\")","v":""},{"$f":"IF(登録済データ!$B29<>0,登録済データ!Q29,\"\")","v":""},{"$f":"IF(登録済データ!$B29<>0,登録済データ!R29,\"\")","v":""},{"$f":"IF(登録済データ!$B29<>0,登録済データ!S29,\"\")","v":""},{"$f":"IF(登録済データ!$B29<>0,登録済データ!T29,\"\")","v":""},{"$f":"IF(登録済データ!$B29<>0,登録済データ!U29,\"\")","v":""},{"$f":"IF(登録済データ!$B29<>0,登録済データ!V29,\"\")","v":""},{"$f":"IF(登録済データ!$B29<>0,登録済データ!W29,\"\")","v":""},{"$f":"IF(登録済データ!$B29<>0,登録済データ!X29,\"\")","v":""},{"$f":"IF($F26<>\"\",登録済データ!$C$4,\"\")","v":""}]
[null,{"$f":"IF($F27<>\"\",登録済データ!$C$2,\"\")","v":""},{"$f":"IF($F27<>\"\",IF($I$1=\"企業コード3桁\",LEFT(登録済データ!$C$3,3),LEFT(登録済データ!$C$3,6)),\"\")","v":""},null,{"$f":"IF(登録済データ!$B30<>0,登録済データ!C30,\"\")","v":""},{"$f":"IF(登録済データ!$B30<>0,登録済データ!D30,\"\")","v":""},{"$f":"IF(登録済データ!$B30<>0,登録済データ!E30,\"\")","v":""},{"$f":"IF(登録済データ!$B30<>0,IF(登録済データ!F30<>\"\",登録済データ!F30,\"\"),\"\")","v":""},{"$f":"IF(登録済データ!$B30<>0,IF(登録済データ!G30<>\"\",登録済データ!G30,\"\"),\"\")","v":""},{"$f":"IF(登録済データ!$B30<>0,IF(登録済データ!H30<>\"\",登録済データ!H30,\"\"),\"\")","v":""},{"$f":"IF(登録済データ!$B30<>0,IF(登録済データ!I30<>\"\",登録済データ!I30,\"\"),\"\")","v":""},{"$f":"IF(登録済データ!$B30<>0,登録済データ!J30,\"\")","v":""},{"$f":"IF(登録済データ!$B30<>0,登録済データ!K30,\"\")","v":""},{"$f":"IF(登録済データ!$B30<>0,登録済データ!L30,\"\")","v":""},{"$f":"IF(登録済データ!$B30<>0,登録済データ!M30,\"\")","v":""},{"$f":"IF(登録済データ!$B30<>0,登録済データ!N30,\"\")","v":""},{"$f":"IF(登録済データ!$B30<>0,登録済データ!O30,\"\")","v":""},{"$f":"IF(登録済データ!$B30<>0,登録済データ!P30,\"\")","v":""},{"$f":"IF(登録済データ!$B30<>0,登録済データ!Q30,\"\")","v":""},{"$f":"IF(登録済データ!$B30<>0,登録済データ!R30,\"\")","v":""},{"$f":"IF(登録済データ!$B30<>0,登録済データ!S30,\"\")","v":""},{"$f":"IF(登録済データ!$B30<>0,登録済データ!T30,\"\")","v":""},{"$f":"IF(登録済データ!$B30<>0,登録済データ!U30,\"\")","v":""},{"$f":"IF(登録済データ!$B30<>0,登録済データ!V30,\"\")","v":""},{"$f":"IF(登録済データ!$B30<>0,登録済データ!W30,\"\")","v":""},{"$f":"IF(登録済データ!$B30<>0,登録済データ!X30,\"\")","v":""},{"$f":"IF($F27<>\"\",登録済データ!$C$4,\"\")","v":""}]
[null,{"$f":"IF($F28<>\"\",登録済データ!$C$2,\"\")","v":""},{"$f":"IF($F28<>\"\",IF($I$1=\"企業コード3桁\",LEFT(登録済データ!$C$3,3),LEFT(登録済データ!$C$3,6)),\"\")","v":""},null,{"$f":"IF(登録済データ!$B31<>0,登録済データ!C31,\"\")","v":""},{"$f":"IF(登録済データ!$B31<>0,登録済データ!D31,\"\")","v":""},{"$f":"IF(登録済データ!$B31<>0,登録済データ!E31,\"\")","v":""},{"$f":"IF(登録済データ!$B31<>0,IF(登録済データ!F31<>\"\",登録済データ!F31,\"\"),\"\")","v":""},{"$f":"IF(登録済データ!$B31<>0,IF(登録済データ!G31<>\"\",登録済データ!G31,\"\"),\"\")","v":""},{"$f":"IF(登録済データ!$B31<>0,IF(登録済データ!H31<>\"\",登録済データ!H31,\"\"),\"\")","v":""},{"$f":"IF(登録済データ!$B31<>0,IF(登録済データ!I31<>\"\",登録済データ!I31,\"\"),\"\")","v":""},{"$f":"IF(登録済データ!$B31<>0,登録済データ!J31,\"\")","v":""},{"$f":"IF(登録済データ!$B31<>0,登録済データ!K31,\"\")","v":""},{"$f":"IF(登録済データ!$B31<>0,登録済データ!L31,\"\")","v":""},{"$f":"IF(登録済データ!$B31<>0,登録済データ!M31,\"\")","v":""},{"$f":"IF(登録済データ!$B31<>0,登録済データ!N31,\"\")","v":""},{"$f":"IF(登録済データ!$B31<>0,登録済データ!O31,\"\")","v":""},{"$f":"IF(登録済データ!$B31<>0,登録済データ!P31,\"\")","v":""},{"$f":"IF(登録済データ!$B31<>0,登録済データ!Q31,\"\")","v":""},{"$f":"IF(登録済データ!$B31<>0,登録済データ!R31,\"\")","v":""},{"$f":"IF(登録済データ!$B31<>0,登録済データ!S31,\"\")","v":""},{"$f":"IF(登録済データ!$B31<>0,登録済データ!T31,\"\")","v":""},{"$f":"IF(登録済データ!$B31<>0,登録済データ!U31,\"\")","v":""},{"$f":"IF(登録済データ!$B31<>0,登録済データ!V31,\"\")","v":""},{"$f":"IF(登録済データ!$B31<>0,登録済データ!W31,\"\")","v":""},{"$f":"IF(登録済データ!$B31<>0,登録済データ!X31,\"\")","v":""},{"$f":"IF($F28<>\"\",登録済データ!$C$4,\"\")","v":""}]
[null,{"$f":"IF($F29<>\"\",登録済データ!$C$2,\"\")","v":""},{"$f":"IF($F29<>\"\",IF($I$1=\"企業コード3桁\",LEFT(登録済データ!$C$3,3),LEFT(登録済データ!$C$3,6)),\"\")","v":""},null,{"$f":"IF(登録済データ!$B32<>0,登録済データ!C32,\"\")","v":""},{"$f":"IF(登録済データ!$B32<>0,登録済データ!D32,\"\")","v":""},{"$f":"IF(登録済データ!$B32<>0,登録済データ!E32,\"\")","v":""},{"$f":"IF(登録済データ!$B32<>0,IF(登録済データ!F32<>\"\",登録済データ!F32,\"\"),\"\")","v":""},{"$f":"IF(登録済データ!$B32<>0,IF(登録済データ!G32<>\"\",登録済データ!G32,\"\"),\"\")","v":""},{"$f":"IF(登録済データ!$B32<>0,IF(登録済データ!H32<>\"\",登録済データ!H32,\"\"),\"\")","v":""},{"$f":"IF(登録済データ!$B32<>0,IF(登録済データ!I32<>\"\",登録済データ!I32,\"\"),\"\")","v":""},{"$f":"IF(登録済データ!$B32<>0,登録済データ!J32,\"\")","v":""},{"$f":"IF(登録済データ!$B32<>0,登録済データ!K32,\"\")","v":""},{"$f":"IF(登録済データ!$B32<>0,登録済データ!L32,\"\")","v":""},{"$f":"IF(登録済データ!$B32<>0,登録済データ!M32,\"\")","v":""},{"$f":"IF(登録済データ!$B32<>0,登録済データ!N32,\"\")","v":""},{"$f":"IF(登録済データ!$B32<>0,登録済データ!O32,\"\")","v":""},{"$f":"IF(登録済データ!$B32<>0,登録済データ!P32,\"\")","v":""},{"$f":"IF(登録済データ!$B32<>0,登録済データ!Q32,\"\")","v":""},{"$f":"IF(登録済データ!$B32<>0,登録済データ!R32,\"\")","v":""},{"$f":"IF(登録済データ!$B32<>0,登録済データ!S32,\"\")","v":""},{"$f":"IF(登録済データ!$B32<>0,登録済データ!T32,\"\")","v":""},{"$f":"IF(登録済データ!$B32<>0,登録済データ!U32,\"\")","v":""},{"$f":"IF(登録済データ!$B32<>0,登録済データ!V32,\"\")","v":""},{"$f":"IF(登録済データ!$B32<>0,登録済データ!W32,\"\")","v":""},{"$f":"IF(登録済データ!$B32<>0,登録済データ!X32,\"\")","v":""},{"$f":"IF($F29<>\"\",登録済データ!$C$4,\"\")","v":""}]
[null,{"$f":"IF($F30<>\"\",登録済データ!$C$2,\"\")","v":""},{"$f":"IF($F30<>\"\",IF($I$1=\"企業コード3桁\",LEFT(登録済データ!$C$3,3),LEFT(登録済データ!$C$3,6)),\"\")","v":""},null,{"$f":"IF(登録済データ!$B33<>0,登録済データ!C33,\"\")","v":""},{"$f":"IF(登録済データ!$B33<>0,登録済データ!D33,\"\")","v":""},{"$f":"IF(登録済データ!$B33<>0,登録済データ!E33,\"\")","v":""},{"$f":"IF(登録済データ!$B33<>0,IF(登録済データ!F33<>\"\",登録済データ!F33,\"\"),\"\")","v":""},{"$f":"IF(登録済データ!$B33<>0,IF(登録済データ!G33<>\"\",登録済データ!G33,\"\"),\"\")","v":""},{"$f":"IF(登録済データ!$B33<>0,IF(登録済データ!H33<>\"\",登録済データ!H33,\"\"),\"\")","v":""},{"$f":"IF(登録済データ!$B33<>0,IF(登録済データ!I33<>\"\",登録済データ!I33,\"\"),\"\")","v":""},{"$f":"IF(登録済データ!$B33<>0,登録済データ!J33,\"\")","v":""},{"$f":"IF(登録済データ!$B33<>0,登録済データ!K33,\"\")","v":""},{"$f":"IF(登録済データ!$B33<>0,登録済データ!L33,\"\")","v":""},{"$f":"IF(登録済データ!$B33<>0,登録済データ!M33,\"\")","v":""},{"$f":"IF(登録済データ!$B33<>0,登録済データ!N33,\"\")","v":""},{"$f":"IF(登録済データ!$B33<>0,登録済データ!O33,\"\")","v":""},{"$f":"IF(登録済データ!$B33<>0,登録済データ!P33,\"\")","v":""},{"$f":"IF(登録済データ!$B33<>0,登録済データ!Q33,\"\")","v":""},{"$f":"IF(登録済データ!$B33<>0,登録済データ!R33,\"\")","v":""},{"$f":"IF(登録済データ!$B33<>0,登録済データ!S33,\"\")","v":""},{"$f":"IF(登録済データ!$B33<>0,登録済データ!T33,\"\")","v":""},{"$f":"IF(登録済データ!$B33<>0,登録済データ!U33,\"\")","v":""},{"$f":"IF(登録済データ!$B33<>0,登録済データ!V33,\"\")","v":""},{"$f":"IF(登録済データ!$B33<>0,登録済データ!W33,\"\")","v":""},{"$f":"IF(登録済データ!$B33<>0,登録済データ!X33,\"\")","v":""},{"$f":"IF($F30<>\"\",登録済データ!$C$4,\"\")","v":""}]
[null,{"$f":"IF($F31<>\"\",登録済データ!$C$2,\"\")","v":""},{"$f":"IF($F31<>\"\",IF($I$1=\"企業コード3桁\",LEFT(登録済データ!$C$3,3),LEFT(登録済データ!$C$3,6)),\"\")","v":""},null,{"$f":"IF(登録済データ!$B34<>0,登録済データ!C34,\"\")","v":""},{"$f":"IF(登録済データ!$B34<>0,登録済データ!D34,\"\")","v":""},{"$f":"IF(登録済データ!$B34<>0,登録済データ!E34,\"\")","v":""},{"$f":"IF(登録済データ!$B34<>0,IF(登録済データ!F34<>\"\",登録済データ!F34,\"\"),\"\")","v":""},{"$f":"IF(登録済データ!$B34<>0,IF(登録済データ!G34<>\"\",登録済データ!G34,\"\"),\"\")","v":""},{"$f":"IF(登録済データ!$B34<>0,IF(登録済データ!H34<>\"\",登録済データ!H34,\"\"),\"\")","v":""},{"$f":"IF(登録済データ!$B34<>0,IF(登録済データ!I34<>\"\",登録済データ!I34,\"\"),\"\")","v":""},{"$f":"IF(登録済データ!$B34<>0,登録済データ!J34,\"\")","v":""},{"$f":"IF(登録済データ!$B34<>0,登録済データ!K34,\"\")","v":""},{"$f":"IF(登録済データ!$B34<>0,登録済データ!L34,\"\")","v":""},{"$f":"IF(登録済データ!$B34<>0,登録済データ!M34,\"\")","v":""},{"$f":"IF(登録済データ!$B34<>0,登録済データ!N34,\"\")","v":""},{"$f":"IF(登録済データ!$B34<>0,登録済データ!O34,\"\")","v":""},{"$f":"IF(登録済データ!$B34<>0,登録済データ!P34,\"\")","v":""},{"$f":"IF(登録済データ!$B34<>0,登録済データ!Q34,\"\")","v":""},{"$f":"IF(登録済データ!$B34<>0,登録済データ!R34,\"\")","v":""},{"$f":"IF(登録済データ!$B34<>0,登録済データ!S34,\"\")","v":""},{"$f":"IF(登録済データ!$B34<>0,登録済データ!T34,\"\")","v":""},{"$f":"IF(登録済データ!$B34<>0,登録済データ!U34,\"\")","v":""},{"$f":"IF(登録済データ!$B34<>0,登録済データ!V34,\"\")","v":""},{"$f":"IF(登録済データ!$B34<>0,登録済データ!W34,\"\")","v":""},{"$f":"IF(登録済データ!$B34<>0,登録済データ!X34,\"\")","v":""},{"$f":"IF($F31<>\"\",登録済データ!$C$4,\"\")","v":""}]
[null,{"$f":"IF($F32<>\"\",登録済データ!$C$2,\"\")","v":""},{"$f":"IF($F32<>\"\",IF($I$1=\"企業コード3桁\",LEFT(登録済データ!$C$3,3),LEFT(登録済データ!$C$3,6)),\"\")","v":""},null,{"$f":"IF(登録済データ!$B35<>0,登録済データ!C35,\"\")","v":""},{"$f":"IF(登録済データ!$B35<>0,登録済データ!D35,\"\")","v":""},{"$f":"IF(登録済データ!$B35<>0,登録済データ!E35,\"\")","v":""},{"$f":"IF(登録済データ!$B35<>0,IF(登録済データ!F35<>\"\",登録済データ!F35,\"\"),\"\")","v":""},{"$f":"IF(登録済データ!$B35<>0,IF(登録済データ!G35<>\"\",登録済データ!G35,\"\"),\"\")","v":""},{"$f":"IF(登録済データ!$B35<>0,IF(登録済データ!H35<>\"\",登録済データ!H35,\"\"),\"\")","v":""},{"$f":"IF(登録済データ!$B35<>0,IF(登録済データ!I35<>\"\",登録済データ!I35,\"\"),\"\")","v":""},{"$f":"IF(登録済データ!$B35<>0,登録済データ!J35,\"\")","v":""},{"$f":"IF(登録済データ!$B35<>0,登録済データ!K35,\"\")","v":""},{"$f":"IF(登録済データ!$B35<>0,登録済データ!L35,\"\")","v":""},{"$f":"IF(登録済データ!$B35<>0,登録済データ!M35,\"\")","v":""},{"$f":"IF(登録済データ!$B35<>0,登録済データ!N35,\"\")","v":""},{"$f":"IF(登録済データ!$B35<>0,登録済データ!O35,\"\")","v":""},{"$f":"IF(登録済データ!$B35<>0,登録済データ!P35,\"\")","v":""},{"$f":"IF(登録済データ!$B35<>0,登録済データ!Q35,\"\")","v":""},{"$f":"IF(登録済データ!$B35<>0,登録済データ!R35,\"\")","v":""},{"$f":"IF(登録済データ!$B35<>0,登録済データ!S35,\"\")","v":""},{"$f":"IF(登録済データ!$B35<>0,登録済データ!T35,\"\")","v":""},{"$f":"IF(登録済データ!$B35<>0,登録済データ!U35,\"\")","v":""},{"$f":"IF(登録済データ!$B35<>0,登録済データ!V35,\"\")","v":""},{"$f":"IF(登録済データ!$B35<>0,登録済データ!W35,\"\")","v":""},{"$f":"IF(登録済データ!$B35<>0,登録済データ!X35,\"\")","v":""},{"$f":"IF($F32<>\"\",登録済データ!$C$4,\"\")","v":""}]
[null,{"$f":"IF($F33<>\"\",登録済データ!$C$2,\"\")","v":""},{"$f":"IF($F33<>\"\",IF($I$1=\"企業コード3桁\",LEFT(登録済データ!$C$3,3),LEFT(登録済データ!$C$3,6)),\"\")","v":""},null,{"$f":"IF(登録済データ!$B36<>0,登録済データ!C36,\"\")","v":""},{"$f":"IF(登録済データ!$B36<>0,登録済データ!D36,\"\")","v":""},{"$f":"IF(登録済データ!$B36<>0,登録済データ!E36,\"\")","v":""},{"$f":"IF(登録済データ!$B36<>0,IF(登録済データ!F36<>\"\",登録済データ!F36,\"\"),\"\")","v":""},{"$f":"IF(登録済データ!$B36<>0,IF(登録済データ!G36<>\"\",登録済データ!G36,\"\"),\"\")","v":""},{"$f":"IF(登録済データ!$B36<>0,IF(登録済データ!H36<>\"\",登録済データ!H36,\"\"),\"\")","v":""},{"$f":"IF(登録済データ!$B36<>0,IF(登録済データ!I36<>\"\",登録済データ!I36,\"\"),\"\")","v":""},{"$f":"IF(登録済データ!$B36<>0,登録済データ!J36,\"\")","v":""},{"$f":"IF(登録済データ!$B36<>0,登録済データ!K36,\"\")","v":""},{"$f":"IF(登録済データ!$B36<>0,登録済データ!L36,\"\")","v":""},{"$f":"IF(登録済データ!$B36<>0,登録済データ!M36,\"\")","v":""},{"$f":"IF(登録済データ!$B36<>0,登録済データ!N36,\"\")","v":""},{"$f":"IF(登録済データ!$B36<>0,登録済データ!O36,\"\")","v":""},{"$f":"IF(登録済データ!$B36<>0,登録済データ!P36,\"\")","v":""},{"$f":"IF(登録済データ!$B36<>0,登録済データ!Q36,\"\")","v":""},{"$f":"IF(登録済データ!$B36<>0,登録済データ!R36,\"\")","v":""},{"$f":"IF(登録済データ!$B36<>0,登録済データ!S36,\"\")","v":""},{"$f":"IF(登録済データ!$B36<>0,登録済データ!T36,\"\")","v":""},{"$f":"IF(登録済データ!$B36<>0,登録済データ!U36,\"\")","v":""},{"$f":"IF(登録済データ!$B36<>0,登録済データ!V36,\"\")","v":""},{"$f":"IF(登録済データ!$B36<>0,登録済データ!W36,\"\")","v":""},{"$f":"IF(登録済データ!$B36<>0,登録済データ!X36,\"\")","v":""},{"$f":"IF($F33<>\"\",登録済データ!$C$4,\"\")","v":""}]
[null,{"$f":"IF($F34<>\"\",登録済データ!$C$2,\"\")","v":""},{"$f":"IF($F34<>\"\",IF($I$1=\"企業コード3桁\",LEFT(登録済データ!$C$3,3),LEFT(登録済データ!$C$3,6)),\"\")","v":""},null,{"$f":"IF(登録済データ!$B37<>0,登録済データ!C37,\"\")","v":""},{"$f":"IF(登録済データ!$B37<>0,登録済データ!D37,\"\")","v":""},{"$f":"IF(登録済データ!$B37<>0,登録済データ!E37,\"\")","v":""},{"$f":"IF(登録済データ!$B37<>0,IF(登録済データ!F37<>\"\",登録済データ!F37,\"\"),\"\")","v":""},{"$f":"IF(登録済データ!$B37<>0,IF(登録済データ!G37<>\"\",登録済データ!G37,\"\"),\"\")","v":""},{"$f":"IF(登録済データ!$B37<>0,IF(登録済データ!H37<>\"\",登録済データ!H37,\"\"),\"\")","v":""},{"$f":"IF(登録済データ!$B37<>0,IF(登録済データ!I37<>\"\",登録済データ!I37,\"\"),\"\")","v":""},{"$f":"IF(登録済データ!$B37<>0,登録済データ!J37,\"\")","v":""},{"$f":"IF(登録済データ!$B37<>0,登録済データ!K37,\"\")","v":""},{"$f":"IF(登録済データ!$B37<>0,登録済データ!L37,\"\")","v":""},{"$f":"IF(登録済データ!$B37<>0,登録済データ!M37,\"\")","v":""},{"$f":"IF(登録済データ!$B37<>0,登録済データ!N37,\"\")","v":""},{"$f":"IF(登録済データ!$B37<>0,登録済データ!O37,\"\")","v":""},{"$f":"IF(登録済データ!$B37<>0,登録済データ!P37,\"\")","v":""},{"$f":"IF(登録済データ!$B37<>0,登録済データ!Q37,\"\")","v":""},{"$f":"IF(登録済データ!$B37<>0,登録済データ!R37,\"\")","v":""},{"$f":"IF(登録済データ!$B37<>0,登録済データ!S37,\"\")","v":""},{"$f":"IF(登録済データ!$B37<>0,登録済データ!T37,\"\")","v":""},{"$f":"IF(登録済データ!$B37<>0,登録済データ!U37,\"\")","v":""},{"$f":"IF(登録済データ!$B37<>0,登録済データ!V37,\"\")","v":""},{"$f":"IF(登録済データ!$B37<>0,登録済データ!W37,\"\")","v":""},{"$f":"IF(登録済データ!$B37<>0,登録済データ!X37,\"\")","v":""},{"$f":"IF($F34<>\"\",登録済データ!$C$4,\"\")","v":""}]
[null,{"$f":"IF($F35<>\"\",登録済データ!$C$2,\"\")","v":""},{"$f":"IF($F35<>\"\",IF($I$1=\"企業コード3桁\",LEFT(登録済データ!$C$3,3),LEFT(登録済データ!$C$3,6)),\"\")","v":""},null,{"$f":"IF(登録済データ!$B38<>0,登録済データ!C38,\"\")","v":""},{"$f":"IF(登録済データ!$B38<>0,登録済データ!D38,\"\")","v":""},{"$f":"IF(登録済データ!$B38<>0,登録済データ!E38,\"\")","v":""},{"$f":"IF(登録済データ!$B38<>0,IF(登録済データ!F38<>\"\",登録済データ!F38,\"\"),\"\")","v":""},{"$f":"IF(登録済データ!$B38<>0,IF(登録済データ!G38<>\"\",登録済データ!G38,\"\"),\"\")","v":""},{"$f":"IF(登録済データ!$B38<>0,IF(登録済データ!H38<>\"\",登録済データ!H38,\"\"),\"\")","v":""},{"$f":"IF(登録済データ!$B38<>0,IF(登録済データ!I38<>\"\",登録済データ!I38,\"\"),\"\")","v":""},{"$f":"IF(登録済データ!$B38<>0,登録済データ!J38,\"\")","v":""},{"$f":"IF(登録済データ!$B38<>0,登録済データ!K38,\"\")","v":""},{"$f":"IF(登録済データ!$B38<>0,登録済データ!L38,\"\")","v":""},{"$f":"IF(登録済データ!$B38<>0,登録済データ!M38,\"\")","v":""},{"$f":"IF(登録済データ!$B38<>0,登録済データ!N38,\"\")","v":""},{"$f":"IF(登録済データ!$B38<>0,登録済データ!O38,\"\")","v":""},{"$f":"IF(登録済データ!$B38<>0,登録済データ!P38,\"\")","v":""},{"$f":"IF(登録済データ!$B38<>0,登録済データ!Q38,\"\")","v":""},{"$f":"IF(登録済データ!$B38<>0,登録済データ!R38,\"\")","v":""},{"$f":"IF(登録済データ!$B38<>0,登録済データ!S38,\"\")","v":""},{"$f":"IF(登録済データ!$B38<>0,登録済データ!T38,\"\")","v":""},{"$f":"IF(登録済データ!$B38<>0,登録済データ!U38,\"\")","v":""},{"$f":"IF(登録済データ!$B38<>0,登録済データ!V38,\"\")","v":""},{"$f":"IF(登録済データ!$B38<>0,登録済データ!W38,\"\")","v":""},{"$f":"IF(登録済データ!$B38<>0,登録済データ!X38,\"\")","v":""},{"$f":"IF($F35<>\"\",登録済データ!$C$4,\"\")","v":""}]
[null,{"$f":"IF($F36<>\"\",登録済データ!$C$2,\"\")","v":""},{"$f":"IF($F36<>\"\",IF($I$1=\"企業コード3桁\",LEFT(登録済データ!$C$3,3),LEFT(登録済データ!$C$3,6)),\"\")","v":""},null,{"$f":"IF(登録済データ!$B39<>0,登録済データ!C39,\"\")","v":""},{"$f":"IF(登録済データ!$B39<>0,登録済データ!D39,\"\")","v":""},{"$f":"IF(登録済データ!$B39<>0,登録済データ!E39,\"\")","v":""},{"$f":"IF(登録済データ!$B39<>0,IF(登録済データ!F39<>\"\",登録済データ!F39,\"\"),\"\")","v":""},{"$f":"IF(登録済データ!$B39<>0,IF(登録済データ!G39<>\"\",登録済データ!G39,\"\"),\"\")","v":""},{"$f":"IF(登録済データ!$B39<>0,IF(登録済データ!H39<>\"\",登録済データ!H39,\"\"),\"\")","v":""},{"$f":"IF(登録済データ!$B39<>0,IF(登録済データ!I39<>\"\",登録済データ!I39,\"\"),\"\")","v":""},{"$f":"IF(登録済データ!$B39<>0,登録済データ!J39,\"\")","v":""},{"$f":"IF(登録済データ!$B39<>0,登録済データ!K39,\"\")","v":""},{"$f":"IF(登録済データ!$B39<>0,登録済データ!L39,\"\")","v":""},{"$f":"IF(登録済データ!$B39<>0,登録済データ!M39,\"\")","v":""},{"$f":"IF(登録済データ!$B39<>0,登録済データ!N39,\"\")","v":""},{"$f":"IF(登録済データ!$B39<>0,登録済データ!O39,\"\")","v":""},{"$f":"IF(登録済データ!$B39<>0,登録済データ!P39,\"\")","v":""},{"$f":"IF(登録済データ!$B39<>0,登録済データ!Q39,\"\")","v":""},{"$f":"IF(登録済データ!$B39<>0,登録済データ!R39,\"\")","v":""},{"$f":"IF(登録済データ!$B39<>0,登録済データ!S39,\"\")","v":""},{"$f":"IF(登録済データ!$B39<>0,登録済データ!T39,\"\")","v":""},{"$f":"IF(登録済データ!$B39<>0,登録済データ!U39,\"\")","v":""},{"$f":"IF(登録済データ!$B39<>0,登録済データ!V39,\"\")","v":""},{"$f":"IF(登録済データ!$B39<>0,登録済データ!W39,\"\")","v":""},{"$f":"IF(登録済データ!$B39<>0,登録済データ!X39,\"\")","v":""},{"$f":"IF($F36<>\"\",登録済データ!$C$4,\"\")","v":""}]
[null,{"$f":"IF($F37<>\"\",登録済データ!$C$2,\"\")","v":""},{"$f":"IF($F37<>\"\",IF($I$1=\"企業コード3桁\",LEFT(登録済データ!$C$3,3),LEFT(登録済データ!$C$3,6)),\"\")","v":""},null,{"$f":"IF(登録済データ!$B40<>0,登録済データ!C40,\"\")","v":""},{"$f":"IF(登録済データ!$B40<>0,登録済データ!D40,\"\")","v":""},{"$f":"IF(登録済データ!$B40<>0,登録済データ!E40,\"\")","v":""},{"$f":"IF(登録済データ!$B40<>0,IF(登録済データ!F40<>\"\",登録済データ!F40,\"\"),\"\")","v":""},{"$f":"IF(登録済データ!$B40<>0,IF(登録済データ!G40<>\"\",登録済データ!G40,\"\"),\"\")","v":""},{"$f":"IF(登録済データ!$B40<>0,IF(登録済データ!H40<>\"\",登録済データ!H40,\"\"),\"\")","v":""},{"$f":"IF(登録済データ!$B40<>0,IF(登録済データ!I40<>\"\",登録済データ!I40,\"\"),\"\")","v":""},{"$f":"IF(登録済データ!$B40<>0,登録済データ!J40,\"\")","v":""},{"$f":"IF(登録済データ!$B40<>0,登録済データ!K40,\"\")","v":""},{"$f":"IF(登録済データ!$B40<>0,登録済データ!L40,\"\")","v":""},{"$f":"IF(登録済データ!$B40<>0,登録済データ!M40,\"\")","v":""},{"$f":"IF(登録済データ!$B40<>0,登録済データ!N40,\"\")","v":""},{"$f":"IF(登録済データ!$B40<>0,登録済データ!O40,\"\")","v":""},{"$f":"IF(登録済データ!$B40<>0,登録済データ!P40,\"\")","v":""},{"$f":"IF(登録済データ!$B40<>0,登録済データ!Q40,\"\")","v":""},{"$f":"IF(登録済データ!$B40<>0,登録済データ!R40,\"\")","v":""},{"$f":"IF(登録済データ!$B40<>0,登録済データ!S40,\"\")","v":""},{"$f":"IF(登録済データ!$B40<>0,登録済データ!T40,\"\")","v":""},{"$f":"IF(登録済データ!$B40<>0,登録済データ!U40,\"\")","v":""},{"$f":"IF(登録済データ!$B40<>0,登録済データ!V40,\"\")","v":""},{"$f":"IF(登録済データ!$B40<>0,登録済データ!W40,\"\")","v":""},{"$f":"IF(登録済データ!$B40<>0,登録済データ!X40,\"\")","v":""},{"$f":"IF($F37<>\"\",登録済データ!$C$4,\"\")","v":""}]
[null,{"$f":"IF($F38<>\"\",登録済データ!$C$2,\"\")","v":""},{"$f":"IF($F38<>\"\",IF($I$1=\"企業コード3桁\",LEFT(登録済データ!$C$3,3),LEFT(登録済データ!$C$3,6)),\"\")","v":""},null,{"$f":"IF(登録済データ!$B41<>0,登録済データ!C41,\"\")","v":""},{"$f":"IF(登録済データ!$B41<>0,登録済データ!D41,\"\")","v":""},{"$f":"IF(登録済データ!$B41<>0,登録済データ!E41,\"\")","v":""},{"$f":"IF(登録済データ!$B41<>0,IF(登録済データ!F41<>\"\",登録済データ!F41,\"\"),\"\")","v":""},{"$f":"IF(登録済データ!$B41<>0,IF(登録済データ!G41<>\"\",登録済データ!G41,\"\"),\"\")","v":""},{"$f":"IF(登録済データ!$B41<>0,IF(登録済データ!H41<>\"\",登録済データ!H41,\"\"),\"\")","v":""},{"$f":"IF(登録済データ!$B41<>0,IF(登録済データ!I41<>\"\",登録済データ!I41,\"\"),\"\")","v":""},{"$f":"IF(登録済データ!$B41<>0,登録済データ!J41,\"\")","v":""},{"$f":"IF(登録済データ!$B41<>0,登録済データ!K41,\"\")","v":""},{"$f":"IF(登録済データ!$B41<>0,登録済データ!L41,\"\")","v":""},{"$f":"IF(登録済データ!$B41<>0,登録済データ!M41,\"\")","v":""},{"$f":"IF(登録済データ!$B41<>0,登録済データ!N41,\"\")","v":""},{"$f":"IF(登録済データ!$B41<>0,登録済データ!O41,\"\")","v":""},{"$f":"IF(登録済データ!$B41<>0,登録済データ!P41,\"\")","v":""},{"$f":"IF(登録済データ!$B41<>0,登録済データ!Q41,\"\")","v":""},{"$f":"IF(登録済データ!$B41<>0,登録済データ!R41,\"\")","v":""},{"$f":"IF(登録済データ!$B41<>0,登録済データ!S41,\"\")","v":""},{"$f":"IF(登録済データ!$B41<>0,登録済データ!T41,\"\")","v":""},{"$f":"IF(登録済データ!$B41<>0,登録済データ!U41,\"\")","v":""},{"$f":"IF(登録済データ!$B41<>0,登録済データ!V41,\"\")","v":""},{"$f":"IF(登録済データ!$B41<>0,登録済データ!W41,\"\")","v":""},{"$f":"IF(登録済データ!$B41<>0,登録済データ!X41,\"\")","v":""},{"$f":"IF($F38<>\"\",登録済データ!$C$4,\"\")","v":""}]
[null,{"$f":"IF($F39<>\"\",登録済データ!$C$2,\"\")","v":""},{"$f":"IF($F39<>\"\",IF($I$1=\"企業コード3桁\",LEFT(登録済データ!$C$3,3),LEFT(登録済データ!$C$3,6)),\"\")","v":""},null,{"$f":"IF(登録済データ!$B42<>0,登録済データ!C42,\"\")","v":""},{"$f":"IF(登録済データ!$B42<>0,登録済データ!D42,\"\")","v":""},{"$f":"IF(登録済データ!$B42<>0,登録済データ!E42,\"\")","v":""},{"$f":"IF(登録済データ!$B42<>0,IF(登録済データ!F42<>\"\",登録済データ!F42,\"\"),\"\")","v":""},{"$f":"IF(登録済データ!$B42<>0,IF(登録済データ!G42<>\"\",登録済データ!G42,\"\"),\"\")","v":""},{"$f":"IF(登録済データ!$B42<>0,IF(登録済データ!H42<>\"\",登録済データ!H42,\"\"),\"\")","v":""},{"$f":"IF(登録済データ!$B42<>0,IF(登録済データ!I42<>\"\",登録済データ!I42,\"\"),\"\")","v":""},{"$f":"IF(登録済データ!$B42<>0,登録済データ!J42,\"\")","v":""},{"$f":"IF(登録済データ!$B42<>0,登録済データ!K42,\"\")","v":""},{"$f":"IF(登録済データ!$B42<>0,登録済データ!L42,\"\")","v":""},{"$f":"IF(登録済データ!$B42<>0,登録済データ!M42,\"\")","v":""},{"$f":"IF(登録済データ!$B42<>0,登録済データ!N42,\"\")","v":""},{"$f":"IF(登録済データ!$B42<>0,登録済データ!O42,\"\")","v":""},{"$f":"IF(登録済データ!$B42<>0,登録済データ!P42,\"\")","v":""},{"$f":"IF(登録済データ!$B42<>0,登録済データ!Q42,\"\")","v":""},{"$f":"IF(登録済データ!$B42<>0,登録済データ!R42,\"\")","v":""},{"$f":"IF(登録済データ!$B42<>0,登録済データ!S42,\"\")","v":""},{"$f":"IF(登録済データ!$B42<>0,登録済データ!T42,\"\")","v":""},{"$f":"IF(登録済データ!$B42<>0,登録済データ!U42,\"\")","v":""},{"$f":"IF(登録済データ!$B42<>0,登録済データ!V42,\"\")","v":""},{"$f":"IF(登録済データ!$B42<>0,登録済データ!W42,\"\")","v":""},{"$f":"IF(登録済データ!$B42<>0,登録済データ!X42,\"\")","v":""},{"$f":"IF($F39<>\"\",登録済データ!$C$4,\"\")","v":""}]
[null,{"$f":"IF($F40<>\"\",登録済データ!$C$2,\"\")","v":""},{"$f":"IF($F40<>\"\",IF($I$1=\"企業コード3桁\",LEFT(登録済データ!$C$3,3),LEFT(登録済データ!$C$3,6)),\"\")","v":""},null,{"$f":"IF(登録済データ!$B43<>0,登録済データ!C43,\"\")","v":""},{"$f":"IF(登録済データ!$B43<>0,登録済データ!D43,\"\")","v":""},{"$f":"IF(登録済データ!$B43<>0,登録済データ!E43,\"\")","v":""},{"$f":"IF(登録済データ!$B43<>0,IF(登録済データ!F43<>\"\",登録済データ!F43,\"\"),\"\")","v":""},{"$f":"IF(登録済データ!$B43<>0,IF(登録済データ!G43<>\"\",登録済データ!G43,\"\"),\"\")","v":""},{"$f":"IF(登録済データ!$B43<>0,IF(登録済データ!H43<>\"\",登録済データ!H43,\"\"),\"\")","v":""},{"$f":"IF(登録済データ!$B43<>0,IF(登録済データ!I43<>\"\",登録済データ!I43,\"\"),\"\")","v":""},{"$f":"IF(登録済データ!$B43<>0,登録済データ!J43,\"\")","v":""},{"$f":"IF(登録済データ!$B43<>0,登録済データ!K43,\"\")","v":""},{"$f":"IF(登録済データ!$B43<>0,登録済データ!L43,\"\")","v":""},{"$f":"IF(登録済データ!$B43<>0,登録済データ!M43,\"\")","v":""},{"$f":"IF(登録済データ!$B43<>0,登録済データ!N43,\"\")","v":""},{"$f":"IF(登録済データ!$B43<>0,登録済データ!O43,\"\")","v":""},{"$f":"IF(登録済データ!$B43<>0,登録済データ!P43,\"\")","v":""},{"$f":"IF(登録済データ!$B43<>0,登録済データ!Q43,\"\")","v":""},{"$f":"IF(登録済データ!$B43<>0,登録済データ!R43,\"\")","v":""},{"$f":"IF(登録済データ!$B43<>0,登録済データ!S43,\"\")","v":""},{"$f":"IF(登録済データ!$B43<>0,登録済データ!T43,\"\")","v":""},{"$f":"IF(登録済データ!$B43<>0,登録済データ!U43,\"\")","v":""},{"$f":"IF(登録済データ!$B43<>0,登録済データ!V43,\"\")","v":""},{"$f":"IF(登録済データ!$B43<>0,登録済データ!W43,\"\")","v":""},{"$f":"IF(登録済データ!$B43<>0,登録済データ!X43,\"\")","v":""},{"$f":"IF($F40<>\"\",登録済データ!$C$4,\"\")","v":""}]
[null,{"$f":"IF($F41<>\"\",登録済データ!$C$2,\"\")","v":""},{"$f":"IF($F41<>\"\",IF($I$1=\"企業コード3桁\",LEFT(登録済データ!$C$3,3),LEFT(登録済データ!$C$3,6)),\"\")","v":""},null,{"$f":"IF(登録済データ!$B44<>0,登録済データ!C44,\"\")","v":""},{"$f":"IF(登録済データ!$B44<>0,登録済データ!D44,\"\")","v":""},{"$f":"IF(登録済データ!$B44<>0,登録済データ!E44,\"\")","v":""},{"$f":"IF(登録済データ!$B44<>0,IF(登録済データ!F44<>\"\",登録済データ!F44,\"\"),\"\")","v":""},{"$f":"IF(登録済データ!$B44<>0,IF(登録済データ!G44<>\"\",登録済データ!G44,\"\"),\"\")","v":""},{"$f":"IF(登録済データ!$B44<>0,IF(登録済データ!H44<>\"\",登録済データ!H44,\"\"),\"\")","v":""},{"$f":"IF(登録済データ!$B44<>0,IF(登録済データ!I44<>\"\",登録済データ!I44,\"\"),\"\")","v":""},{"$f":"IF(登録済データ!$B44<>0,登録済データ!J44,\"\")","v":""},{"$f":"IF(登録済データ!$B44<>0,登録済データ!K44,\"\")","v":""},{"$f":"IF(登録済データ!$B44<>0,登録済データ!L44,\"\")","v":""},{"$f":"IF(登録済データ!$B44<>0,登録済データ!M44,\"\")","v":""},{"$f":"IF(登録済データ!$B44<>0,登録済データ!N44,\"\")","v":""},{"$f":"IF(登録済データ!$B44<>0,登録済データ!O44,\"\")","v":""},{"$f":"IF(登録済データ!$B44<>0,登録済データ!P44,\"\")","v":""},{"$f":"IF(登録済データ!$B44<>0,登録済データ!Q44,\"\")","v":""},{"$f":"IF(登録済データ!$B44<>0,登録済データ!R44,\"\")","v":""},{"$f":"IF(登録済データ!$B44<>0,登録済データ!S44,\"\")","v":""},{"$f":"IF(登録済データ!$B44<>0,登録済データ!T44,\"\")","v":""},{"$f":"IF(登録済データ!$B44<>0,登録済データ!U44,\"\")","v":""},{"$f":"IF(登録済データ!$B44<>0,登録済データ!V44,\"\")","v":""},{"$f":"IF(登録済データ!$B44<>0,登録済データ!W44,\"\")","v":""},{"$f":"IF(登録済データ!$B44<>0,登録済データ!X44,\"\")","v":""},{"$f":"IF($F41<>\"\",登録済データ!$C$4,\"\")","v":""}]
[null,{"$f":"IF($F42<>\"\",登録済データ!$C$2,\"\")","v":""},{"$f":"IF($F42<>\"\",IF($I$1=\"企業コード3桁\",LEFT(登録済データ!$C$3,3),LEFT(登録済データ!$C$3,6)),\"\")","v":""},null,{"$f":"IF(登録済データ!$B45<>0,登録済データ!C45,\"\")","v":""},{"$f":"IF(登録済データ!$B45<>0,登録済データ!D45,\"\")","v":""},{"$f":"IF(登録済データ!$B45<>0,登録済データ!E45,\"\")","v":""},{"$f":"IF(登録済データ!$B45<>0,IF(登録済データ!F45<>\"\",登録済データ!F45,\"\"),\"\")","v":""},{"$f":"IF(登録済データ!$B45<>0,IF(登録済データ!G45<>\"\",登録済データ!G45,\"\"),\"\")","v":""},{"$f":"IF(登録済データ!$B45<>0,IF(登録済データ!H45<>\"\",登録済データ!H45,\"\"),\"\")","v":""},{"$f":"IF(登録済データ!$B45<>0,IF(登録済データ!I45<>\"\",登録済データ!I45,\"\"),\"\")","v":""},{"$f":"IF(登録済データ!$B45<>0,登録済データ!J45,\"\")","v":""},{"$f":"IF(登録済データ!$B45<>0,登録済データ!K45,\"\")","v":""},{"$f":"IF(登録済データ!$B45<>0,登録済データ!L45,\"\")","v":""},{"$f":"IF(登録済データ!$B45<>0,登録済データ!M45,\"\")","v":""},{"$f":"IF(登録済データ!$B45<>0,登録済データ!N45,\"\")","v":""},{"$f":"IF(登録済データ!$B45<>0,登録済データ!O45,\"\")","v":""},{"$f":"IF(登録済データ!$B45<>0,登録済データ!P45,\"\")","v":""},{"$f":"IF(登録済データ!$B45<>0,登録済データ!Q45,\"\")","v":""},{"$f":"IF(登録済データ!$B45<>0,登録済データ!R45,\"\")","v":""},{"$f":"IF(登録済データ!$B45<>0,登録済データ!S45,\"\")","v":""},{"$f":"IF(登録済データ!$B45<>0,登録済データ!T45,\"\")","v":""},{"$f":"IF(登録済データ!$B45<>0,登録済データ!U45,\"\")","v":""},{"$f":"IF(登録済データ!$B45<>0,登録済データ!V45,\"\")","v":""},{"$f":"IF(登録済データ!$B45<>0,登録済データ!W45,\"\")","v":""},{"$f":"IF(登録済データ!$B45<>0,登録済データ!X45,\"\")","v":""},{"$f":"IF($F42<>\"\",登録済データ!$C$4,\"\")","v":""}]
[null,{"$f":"IF($F43<>\"\",登録済データ!$C$2,\"\")","v":""},{"$f":"IF($F43<>\"\",IF($I$1=\"企業コード3桁\",LEFT(登録済データ!$C$3,3),LEFT(登録済データ!$C$3,6)),\"\")","v":""},null,{"$f":"IF(登録済データ!$B46<>0,登録済データ!C46,\"\")","v":""},{"$f":"IF(登録済データ!$B46<>0,登録済データ!D46,\"\")","v":""},{"$f":"IF(登録済データ!$B46<>0,登録済データ!E46,\"\")","v":""},{"$f":"IF(登録済データ!$B46<>0,IF(登録済データ!F46<>\"\",登録済データ!F46,\"\"),\"\")","v":""},{"$f":"IF(登録済データ!$B46<>0,IF(登録済データ!G46<>\"\",登録済データ!G46,\"\"),\"\")","v":""},{"$f":"IF(登録済データ!$B46<>0,IF(登録済データ!H46<>\"\",登録済データ!H46,\"\"),\"\")","v":""},{"$f":"IF(登録済データ!$B46<>0,IF(登録済データ!I46<>\"\",登録済データ!I46,\"\"),\"\")","v":""},{"$f":"IF(登録済データ!$B46<>0,登録済データ!J46,\"\")","v":""},{"$f":"IF(登録済データ!$B46<>0,登録済データ!K46,\"\")","v":""},{"$f":"IF(登録済データ!$B46<>0,登録済データ!L46,\"\")","v":""},{"$f":"IF(登録済データ!$B46<>0,登録済データ!M46,\"\")","v":""},{"$f":"IF(登録済データ!$B46<>0,登録済データ!N46,\"\")","v":""},{"$f":"IF(登録済データ!$B46<>0,登録済データ!O46,\"\")","v":""},{"$f":"IF(登録済データ!$B46<>0,登録済データ!P46,\"\")","v":""},{"$f":"IF(登録済データ!$B46<>0,登録済データ!Q46,\"\")","v":""},{"$f":"IF(登録済データ!$B46<>0,登録済データ!R46,\"\")","v":""},{"$f":"IF(登録済データ!$B46<>0,登録済データ!S46,\"\")","v":""},{"$f":"IF(登録済データ!$B46<>0,登録済データ!T46,\"\")","v":""},{"$f":"IF(登録済データ!$B46<>0,登録済データ!U46,\"\")","v":""},{"$f":"IF(登録済データ!$B46<>0,登録済データ!V46,\"\")","v":""},{"$f":"IF(登録済データ!$B46<>0,登録済データ!W46,\"\")","v":""},{"$f":"IF(登録済データ!$B46<>0,登録済データ!X46,\"\")","v":""},{"$f":"IF($F43<>\"\",登録済データ!$C$4,\"\")","v":""}]
[null,{"$f":"IF($F44<>\"\",登録済データ!$C$2,\"\")","v":""},{"$f":"IF($F44<>\"\",IF($I$1=\"企業コード3桁\",LEFT(登録済データ!$C$3,3),LEFT(登録済データ!$C$3,6)),\"\")","v":""},null,{"$f":"IF(登録済データ!$B47<>0,登録済データ!C47,\"\")","v":""},{"$f":"IF(登録済データ!$B47<>0,登録済データ!D47,\"\")","v":""},{"$f":"IF(登録済データ!$B47<>0,登録済データ!E47,\"\")","v":""},{"$f":"IF(登録済データ!$B47<>0,IF(登録済データ!F47<>\"\",登録済データ!F47,\"\"),\"\")","v":""},{"$f":"IF(登録済データ!$B47<>0,IF(登録済データ!G47<>\"\",登録済データ!G47,\"\"),\"\")","v":""},{"$f":"IF(登録済データ!$B47<>0,IF(登録済データ!H47<>\"\",登録済データ!H47,\"\"),\"\")","v":""},{"$f":"IF(登録済データ!$B47<>0,IF(登録済データ!I47<>\"\",登録済データ!I47,\"\"),\"\")","v":""},{"$f":"IF(登録済データ!$B47<>0,登録済データ!J47,\"\")","v":""},{"$f":"IF(登録済データ!$B47<>0,登録済データ!K47,\"\")","v":""},{"$f":"IF(登録済データ!$B47<>0,登録済データ!L47,\"\")","v":""},{"$f":"IF(登録済データ!$B47<>0,登録済データ!M47,\"\")","v":""},{"$f":"IF(登録済データ!$B47<>0,登録済データ!N47,\"\")","v":""},{"$f":"IF(登録済データ!$B47<>0,登録済データ!O47,\"\")","v":""},{"$f":"IF(登録済データ!$B47<>0,登録済データ!P47,\"\")","v":""},{"$f":"IF(登録済データ!$B47<>0,登録済データ!Q47,\"\")","v":""},{"$f":"IF(登録済データ!$B47<>0,登録済データ!R47,\"\")","v":""},{"$f":"IF(登録済データ!$B47<>0,登録済データ!S47,\"\")","v":""},{"$f":"IF(登録済データ!$B47<>0,登録済データ!T47,\"\")","v":""},{"$f":"IF(登録済データ!$B47<>0,登録済データ!U47,\"\")","v":""},{"$f":"IF(登録済データ!$B47<>0,登録済データ!V47,\"\")","v":""},{"$f":"IF(登録済データ!$B47<>0,登録済データ!W47,\"\")","v":""},{"$f":"IF(登録済データ!$B47<>0,登録済データ!X47,\"\")","v":""},{"$f":"IF($F44<>\"\",登録済データ!$C$4,\"\")","v":""}]
[null,{"$f":"IF($F45<>\"\",登録済データ!$C$2,\"\")","v":""},{"$f":"IF($F45<>\"\",IF($I$1=\"企業コード3桁\",LEFT(登録済データ!$C$3,3),LEFT(登録済データ!$C$3,6)),\"\")","v":""},null,{"$f":"IF(登録済データ!$B48<>0,登録済データ!C48,\"\")","v":""},{"$f":"IF(登録済データ!$B48<>0,登録済データ!D48,\"\")","v":""},{"$f":"IF(登録済データ!$B48<>0,登録済データ!E48,\"\")","v":""},{"$f":"IF(登録済データ!$B48<>0,IF(登録済データ!F48<>\"\",登録済データ!F48,\"\"),\"\")","v":""},{"$f":"IF(登録済データ!$B48<>0,IF(登録済データ!G48<>\"\",登録済データ!G48,\"\"),\"\")","v":""},{"$f":"IF(登録済データ!$B48<>0,IF(登録済データ!H48<>\"\",登録済データ!H48,\"\"),\"\")","v":""},{"$f":"IF(登録済データ!$B48<>0,IF(登録済データ!I48<>\"\",登録済データ!I48,\"\"),\"\")","v":""},{"$f":"IF(登録済データ!$B48<>0,登録済データ!J48,\"\")","v":""},{"$f":"IF(登録済データ!$B48<>0,登録済データ!K48,\"\")","v":""},{"$f":"IF(登録済データ!$B48<>0,登録済データ!L48,\"\")","v":""},{"$f":"IF(登録済データ!$B48<>0,登録済データ!M48,\"\")","v":""},{"$f":"IF(登録済データ!$B48<>0,登録済データ!N48,\"\")","v":""},{"$f":"IF(登録済データ!$B48<>0,登録済データ!O48,\"\")","v":""},{"$f":"IF(登録済データ!$B48<>0,登録済データ!P48,\"\")","v":""},{"$f":"IF(登録済データ!$B48<>0,登録済データ!Q48,\"\")","v":""},{"$f":"IF(登録済データ!$B48<>0,登録済データ!R48,\"\")","v":""},{"$f":"IF(登録済データ!$B48<>0,登録済データ!S48,\"\")","v":""},{"$f":"IF(登録済データ!$B48<>0,登録済データ!T48,\"\")","v":""},{"$f":"IF(登録済データ!$B48<>0,登録済データ!U48,\"\")","v":""},{"$f":"IF(登録済データ!$B48<>0,登録済データ!V48,\"\")","v":""},{"$f":"IF(登録済データ!$B48<>0,登録済データ!W48,\"\")","v":""},{"$f":"IF(登録済データ!$B48<>0,登録済データ!X48,\"\")","v":""},{"$f":"IF($F45<>\"\",登録済データ!$C$4,\"\")","v":""}]
[null,{"$f":"IF($F46<>\"\",登録済データ!$C$2,\"\")","v":""},{"$f":"IF($F46<>\"\",IF($I$1=\"企業コード3桁\",LEFT(登録済データ!$C$3,3),LEFT(登録済データ!$C$3,6)),\"\")","v":""},null,{"$f":"IF(登録済データ!$B49<>0,登録済データ!C49,\"\")","v":""},{"$f":"IF(登録済データ!$B49<>0,登録済データ!D49,\"\")","v":""},{"$f":"IF(登録済データ!$B49<>0,登録済データ!E49,\"\")","v":""},{"$f":"IF(登録済データ!$B49<>0,IF(登録済データ!F49<>\"\",登録済データ!F49,\"\"),\"\")","v":""},{"$f":"IF(登録済データ!$B49<>0,IF(登録済データ!G49<>\"\",登録済データ!G49,\"\"),\"\")","v":""},{"$f":"IF(登録済データ!$B49<>0,IF(登録済データ!H49<>\"\",登録済データ!H49,\"\"),\"\")","v":""},{"$f":"IF(登録済データ!$B49<>0,IF(登録済データ!I49<>\"\",登録済データ!I49,\"\"),\"\")","v":""},{"$f":"IF(登録済データ!$B49<>0,登録済データ!J49,\"\")","v":""},{"$f":"IF(登録済データ!$B49<>0,登録済データ!K49,\"\")","v":""},{"$f":"IF(登録済データ!$B49<>0,登録済データ!L49,\"\")","v":""},{"$f":"IF(登録済データ!$B49<>0,登録済データ!M49,\"\")","v":""},{"$f":"IF(登録済データ!$B49<>0,登録済データ!N49,\"\")","v":""},{"$f":"IF(登録済データ!$B49<>0,登録済データ!O49,\"\")","v":""},{"$f":"IF(登録済データ!$B49<>0,登録済データ!P49,\"\")","v":""},{"$f":"IF(登録済データ!$B49<>0,登録済データ!Q49,\"\")","v":""},{"$f":"IF(登録済データ!$B49<>0,登録済データ!R49,\"\")","v":""},{"$f":"IF(登録済データ!$B49<>0,登録済データ!S49,\"\")","v":""},{"$f":"IF(登録済データ!$B49<>0,登録済データ!T49,\"\")","v":""},{"$f":"IF(登録済データ!$B49<>0,登録済データ!U49,\"\")","v":""},{"$f":"IF(登録済データ!$B49<>0,登録済データ!V49,\"\")","v":""},{"$f":"IF(登録済データ!$B49<>0,登録済データ!W49,\"\")","v":""},{"$f":"IF(登録済データ!$B49<>0,登録済データ!X49,\"\")","v":""},{"$f":"IF($F46<>\"\",登録済データ!$C$4,\"\")","v":""}]
[null,{"$f":"IF($F47<>\"\",登録済データ!$C$2,\"\")","v":""},{"$f":"IF($F47<>\"\",IF($I$1=\"企業コード3桁\",LEFT(登録済データ!$C$3,3),LEFT(登録済データ!$C$3,6)),\"\")","v":""},null,{"$f":"IF(登録済データ!$B50<>0,登録済データ!C50,\"\")","v":""},{"$f":"IF(登録済データ!$B50<>0,登録済データ!D50,\"\")","v":""},{"$f":"IF(登録済データ!$B50<>0,登録済データ!E50,\"\")","v":""},{"$f":"IF(登録済データ!$B50<>0,IF(登録済データ!F50<>\"\",登録済データ!F50,\"\"),\"\")","v":""},{"$f":"IF(登録済データ!$B50<>0,IF(登録済データ!G50<>\"\",登録済データ!G50,\"\"),\"\")","v":""},{"$f":"IF(登録済データ!$B50<>0,IF(登録済データ!H50<>\"\",登録済データ!H50,\"\"),\"\")","v":""},{"$f":"IF(登録済データ!$B50<>0,IF(登録済データ!I50<>\"\",登録済データ!I50,\"\"),\"\")","v":""},{"$f":"IF(登録済データ!$B50<>0,登録済データ!J50,\"\")","v":""},{"$f":"IF(登録済データ!$B50<>0,登録済データ!K50,\"\")","v":""},{"$f":"IF(登録済データ!$B50<>0,登録済データ!L50,\"\")","v":""},{"$f":"IF(登録済データ!$B50<>0,登録済データ!M50,\"\")","v":""},{"$f":"IF(登録済データ!$B50<>0,登録済データ!N50,\"\")","v":""},{"$f":"IF(登録済データ!$B50<>0,登録済データ!O50,\"\")","v":""},{"$f":"IF(登録済データ!$B50<>0,登録済データ!P50,\"\")","v":""},{"$f":"IF(登録済データ!$B50<>0,登録済データ!Q50,\"\")","v":""},{"$f":"IF(登録済データ!$B50<>0,登録済データ!R50,\"\")","v":""},{"$f":"IF(登録済データ!$B50<>0,登録済データ!S50,\"\")","v":""},{"$f":"IF(登録済データ!$B50<>0,登録済データ!T50,\"\")","v":""},{"$f":"IF(登録済データ!$B50<>0,登録済データ!U50,\"\")","v":""},{"$f":"IF(登録済データ!$B50<>0,登録済データ!V50,\"\")","v":""},{"$f":"IF(登録済データ!$B50<>0,登録済データ!W50,\"\")","v":""},{"$f":"IF(登録済データ!$B50<>0,登録済データ!X50,\"\")","v":""},{"$f":"IF($F47<>\"\",登録済データ!$C$4,\"\")","v":""}]
[null,{"$f":"IF($F48<>\"\",登録済データ!$C$2,\"\")","v":""},{"$f":"IF($F48<>\"\",IF($I$1=\"企業コード3桁\",LEFT(登録済データ!$C$3,3),LEFT(登録済データ!$C$3,6)),\"\")","v":""},null,{"$f":"IF(登録済データ!$B51<>0,登録済データ!C51,\"\")","v":""},{"$f":"IF(登録済データ!$B51<>0,登録済データ!D51,\"\")","v":""},{"$f":"IF(登録済データ!$B51<>0,登録済データ!E51,\"\")","v":""},{"$f":"IF(登録済データ!$B51<>0,IF(登録済データ!F51<>\"\",登録済データ!F51,\"\"),\"\")","v":""},{"$f":"IF(登録済データ!$B51<>0,IF(登録済データ!G51<>\"\",登録済データ!G51,\"\"),\"\")","v":""},{"$f":"IF(登録済データ!$B51<>0,IF(登録済データ!H51<>\"\",登録済データ!H51,\"\"),\"\")","v":""},{"$f":"IF(登録済データ!$B51<>0,IF(登録済データ!I51<>\"\",登録済データ!I51,\"\"),\"\")","v":""},{"$f":"IF(登録済データ!$B51<>0,登録済データ!J51,\"\")","v":""},{"$f":"IF(登録済データ!$B51<>0,登録済データ!K51,\"\")","v":""},{"$f":"IF(登録済データ!$B51<>0,登録済データ!L51,\"\")","v":""},{"$f":"IF(登録済データ!$B51<>0,登録済データ!M51,\"\")","v":""},{"$f":"IF(登録済データ!$B51<>0,登録済データ!N51,\"\")","v":""},{"$f":"IF(登録済データ!$B51<>0,登録済データ!O51,\"\")","v":""},{"$f":"IF(登録済データ!$B51<>0,登録済データ!P51,\"\")","v":""},{"$f":"IF(登録済データ!$B51<>0,登録済データ!Q51,\"\")","v":""},{"$f":"IF(登録済データ!$B51<>0,登録済データ!R51,\"\")","v":""},{"$f":"IF(登録済データ!$B51<>0,登録済データ!S51,\"\")","v":""},{"$f":"IF(登録済データ!$B51<>0,登録済データ!T51,\"\")","v":""},{"$f":"IF(登録済データ!$B51<>0,登録済データ!U51,\"\")","v":""},{"$f":"IF(登録済データ!$B51<>0,登録済データ!V51,\"\")","v":""},{"$f":"IF(登録済データ!$B51<>0,登録済データ!W51,\"\")","v":""},{"$f":"IF(登録済データ!$B51<>0,登録済データ!X51,\"\")","v":""},{"$f":"IF($F48<>\"\",登録済データ!$C$4,\"\")","v":""}]
[null,{"$f":"IF($F49<>\"\",登録済データ!$C$2,\"\")","v":""},{"$f":"IF($F49<>\"\",IF($I$1=\"企業コード3桁\",LEFT(登録済データ!$C$3,3),LEFT(登録済データ!$C$3,6)),\"\")","v":""},null,{"$f":"IF(登録済データ!$B52<>0,登録済データ!C52,\"\")","v":""},{"$f":"IF(登録済データ!$B52<>0,登録済データ!D52,\"\")","v":""},{"$f":"IF(登録済データ!$B52<>0,登録済データ!E52,\"\")","v":""},{"$f":"IF(登録済データ!$B52<>0,IF(登録済データ!F52<>\"\",登録済データ!F52,\"\"),\"\")","v":""},{"$f":"IF(登録済データ!$B52<>0,IF(登録済データ!G52<>\"\",登録済データ!G52,\"\"),\"\")","v":""},{"$f":"IF(登録済データ!$B52<>0,IF(登録済データ!H52<>\"\",登録済データ!H52,\"\"),\"\")","v":""},{"$f":"IF(登録済データ!$B52<>0,IF(登録済データ!I52<>\"\",登録済データ!I52,\"\"),\"\")","v":""},{"$f":"IF(登録済データ!$B52<>0,登録済データ!J52,\"\")","v":""},{"$f":"IF(登録済データ!$B52<>0,登録済データ!K52,\"\")","v":""},{"$f":"IF(登録済データ!$B52<>0,登録済データ!L52,\"\")","v":""},{"$f":"IF(登録済データ!$B52<>0,登録済データ!M52,\"\")","v":""},{"$f":"IF(登録済データ!$B52<>0,登録済データ!N52,\"\")","v":""},{"$f":"IF(登録済データ!$B52<>0,登録済データ!O52,\"\")","v":""},{"$f":"IF(登録済データ!$B52<>0,登録済データ!P52,\"\")","v":""},{"$f":"IF(登録済データ!$B52<>0,登録済データ!Q52,\"\")","v":""},{"$f":"IF(登録済データ!$B52<>0,登録済データ!R52,\"\")","v":""},{"$f":"IF(登録済データ!$B52<>0,登録済データ!S52,\"\")","v":""},{"$f":"IF(登録済データ!$B52<>0,登録済データ!T52,\"\")","v":""},{"$f":"IF(登録済データ!$B52<>0,登録済データ!U52,\"\")","v":""},{"$f":"IF(登録済データ!$B52<>0,登録済データ!V52,\"\")","v":""},{"$f":"IF(登録済データ!$B52<>0,登録済データ!W52,\"\")","v":""},{"$f":"IF(登録済データ!$B52<>0,登録済データ!X52,\"\")","v":""},{"$f":"IF($F49<>\"\",登録済データ!$C$4,\"\")","v":""}]
[null,{"$f":"IF($F50<>\"\",登録済データ!$C$2,\"\")","v":""},{"$f":"IF($F50<>\"\",IF($I$1=\"企業コード3桁\",LEFT(登録済データ!$C$3,3),LEFT(登録済データ!$C$3,6)),\"\")","v":""},null,{"$f":"IF(登録済データ!$B53<>0,登録済データ!C53,\"\")","v":""},{"$f":"IF(登録済データ!$B53<>0,登録済データ!D53,\"\")","v":""},{"$f":"IF(登録済データ!$B53<>0,登録済データ!E53,\"\")","v":""},{"$f":"IF(登録済データ!$B53<>0,IF(登録済データ!F53<>\"\",登録済データ!F53,\"\"),\"\")","v":""},{"$f":"IF(登録済データ!$B53<>0,IF(登録済データ!G53<>\"\",登録済データ!G53,\"\"),\"\")","v":""},{"$f":"IF(登録済データ!$B53<>0,IF(登録済データ!H53<>\"\",登録済データ!H53,\"\"),\"\")","v":""},{"$f":"IF(登録済データ!$B53<>0,IF(登録済データ!I53<>\"\",登録済データ!I53,\"\"),\"\")","v":""},{"$f":"IF(登録済データ!$B53<>0,登録済データ!J53,\"\")","v":""},{"$f":"IF(登録済データ!$B53<>0,登録済データ!K53,\"\")","v":""},{"$f":"IF(登録済データ!$B53<>0,登録済データ!L53,\"\")","v":""},{"$f":"IF(登録済データ!$B53<>0,登録済データ!M53,\"\")","v":""},{"$f":"IF(登録済データ!$B53<>0,登録済データ!N53,\"\")","v":""},{"$f":"IF(登録済データ!$B53<>0,登録済データ!O53,\"\")","v":""},{"$f":"IF(登録済データ!$B53<>0,登録済データ!P53,\"\")","v":""},{"$f":"IF(登録済データ!$B53<>0,登録済データ!Q53,\"\")","v":""},{"$f":"IF(登録済データ!$B53<>0,登録済データ!R53,\"\")","v":""},{"$f":"IF(登録済データ!$B53<>0,登録済データ!S53,\"\")","v":""},{"$f":"IF(登録済データ!$B53<>0,登録済データ!T53,\"\")","v":""},{"$f":"IF(登録済データ!$B53<>0,登録済データ!U53,\"\")","v":""},{"$f":"IF(登録済データ!$B53<>0,登録済データ!V53,\"\")","v":""},{"$f":"IF(登録済データ!$B53<>0,登録済データ!W53,\"\")","v":""},{"$f":"IF(登録済データ!$B53<>0,登録済データ!X53,\"\")","v":""},{"$f":"IF($F50<>\"\",登録済データ!$C$4,\"\")","v":""}]
[null,{"$f":"IF($F51<>\"\",登録済データ!$C$2,\"\")","v":""},{"$f":"IF($F51<>\"\",IF($I$1=\"企業コード3桁\",LEFT(登録済データ!$C$3,3),LEFT(登録済データ!$C$3,6)),\"\")","v":""},null,{"$f":"IF(登録済データ!$B54<>0,登録済データ!C54,\"\")","v":""},{"$f":"IF(登録済データ!$B54<>0,登録済データ!D54,\"\")","v":""},{"$f":"IF(登録済データ!$B54<>0,登録済データ!E54,\"\")","v":""},{"$f":"IF(登録済データ!$B54<>0,IF(登録済データ!F54<>\"\",登録済データ!F54,\"\"),\"\")","v":""},{"$f":"IF(登録済データ!$B54<>0,IF(登録済データ!G54<>\"\",登録済データ!G54,\"\"),\"\")","v":""},{"$f":"IF(登録済データ!$B54<>0,IF(登録済データ!H54<>\"\",登録済データ!H54,\"\"),\"\")","v":""},{"$f":"IF(登録済データ!$B54<>0,IF(登録済データ!I54<>\"\",登録済データ!I54,\"\"),\"\")","v":""},{"$f":"IF(登録済データ!$B54<>0,登録済データ!J54,\"\")","v":""},{"$f":"IF(登録済データ!$B54<>0,登録済データ!K54,\"\")","v":""},{"$f":"IF(登録済データ!$B54<>0,登録済データ!L54,\"\")","v":""},{"$f":"IF(登録済データ!$B54<>0,登録済データ!M54,\"\")","v":""},{"$f":"IF(登録済データ!$B54<>0,登録済データ!N54,\"\")","v":""},{"$f":"IF(登録済データ!$B54<>0,登録済データ!O54,\"\")","v":""},{"$f":"IF(登録済データ!$B54<>0,登録済データ!P54,\"\")","v":""},{"$f":"IF(登録済データ!$B54<>0,登録済データ!Q54,\"\")","v":""},{"$f":"IF(登録済データ!$B54<>0,登録済データ!R54,\"\")","v":""},{"$f":"IF(登録済データ!$B54<>0,登録済データ!S54,\"\")","v":""},{"$f":"IF(登録済データ!$B54<>0,登録済データ!T54,\"\")","v":""},{"$f":"IF(登録済データ!$B54<>0,登録済データ!U54,\"\")","v":""},{"$f":"IF(登録済データ!$B54<>0,登録済データ!V54,\"\")","v":""},{"$f":"IF(登録済データ!$B54<>0,登録済データ!W54,\"\")","v":""},{"$f":"IF(登録済データ!$B54<>0,登録済データ!X54,\"\")","v":""},{"$f":"IF($F51<>\"\",登録済データ!$C$4,\"\")","v":""}]
[null,{"$f":"IF($F52<>\"\",登録済データ!$C$2,\"\")","v":""},{"$f":"IF($F52<>\"\",IF($I$1=\"企業コード3桁\",LEFT(登録済データ!$C$3,3),LEFT(登録済データ!$C$3,6)),\"\")","v":""},null,{"$f":"IF(登録済データ!$B55<>0,登録済データ!C55,\"\")","v":""},{"$f":"IF(登録済データ!$B55<>0,登録済データ!D55,\"\")","v":""},{"$f":"IF(登録済データ!$B55<>0,登録済データ!E55,\"\")","v":""},{"$f":"IF(登録済データ!$B55<>0,IF(登録済データ!F55<>\"\",登録済データ!F55,\"\"),\"\")","v":""},{"$f":"IF(登録済データ!$B55<>0,IF(登録済データ!G55<>\"\",登録済データ!G55,\"\"),\"\")","v":""},{"$f":"IF(登録済データ!$B55<>0,IF(登録済データ!H55<>\"\",登録済データ!H55,\"\"),\"\")","v":""},{"$f":"IF(登録済データ!$B55<>0,IF(登録済データ!I55<>\"\",登録済データ!I55,\"\"),\"\")","v":""},{"$f":"IF(登録済データ!$B55<>0,登録済データ!J55,\"\")","v":""},{"$f":"IF(登録済データ!$B55<>0,登録済データ!K55,\"\")","v":""},{"$f":"IF(登録済データ!$B55<>0,登録済データ!L55,\"\")","v":""},{"$f":"IF(登録済データ!$B55<>0,登録済データ!M55,\"\")","v":""},{"$f":"IF(登録済データ!$B55<>0,登録済データ!N55,\"\")","v":""},{"$f":"IF(登録済データ!$B55<>0,登録済データ!O55,\"\")","v":""},{"$f":"IF(登録済データ!$B55<>0,登録済データ!P55,\"\")","v":""},{"$f":"IF(登録済データ!$B55<>0,登録済データ!Q55,\"\")","v":""},{"$f":"IF(登録済データ!$B55<>0,登録済データ!R55,\"\")","v":""},{"$f":"IF(登録済データ!$B55<>0,登録済データ!S55,\"\")","v":""},{"$f":"IF(登録済データ!$B55<>0,登録済データ!T55,\"\")","v":""},{"$f":"IF(登録済データ!$B55<>0,登録済データ!U55,\"\")","v":""},{"$f":"IF(登録済データ!$B55<>0,登録済データ!V55,\"\")","v":""},{"$f":"IF(登録済データ!$B55<>0,登録済データ!W55,\"\")","v":""},{"$f":"IF(登録済データ!$B55<>0,登録済データ!X55,\"\")","v":""},{"$f":"IF($F52<>\"\",登録済データ!$C$4,\"\")","v":""}]
[null,{"$f":"IF($F53<>\"\",登録済データ!$C$2,\"\")","v":""},{"$f":"IF($F53<>\"\",IF($I$1=\"企業コード3桁\",LEFT(登録済データ!$C$3,3),LEFT(登録済データ!$C$3,6)),\"\")","v":""},null,{"$f":"IF(登録済データ!$B56<>0,登録済データ!C56,\"\")","v":""},{"$f":"IF(登録済データ!$B56<>0,登録済データ!D56,\"\")","v":""},{"$f":"IF(登録済データ!$B56<>0,登録済データ!E56,\"\")","v":""},{"$f":"IF(登録済データ!$B56<>0,IF(登録済データ!F56<>\"\",登録済データ!F56,\"\"),\"\")","v":""},{"$f":"IF(登録済データ!$B56<>0,IF(登録済データ!G56<>\"\",登録済データ!G56,\"\"),\"\")","v":""},{"$f":"IF(登録済データ!$B56<>0,IF(登録済データ!H56<>\"\",登録済データ!H56,\"\"),\"\")","v":""},{"$f":"IF(登録済データ!$B56<>0,IF(登録済データ!I56<>\"\",登録済データ!I56,\"\"),\"\")","v":""},{"$f":"IF(登録済データ!$B56<>0,登録済データ!J56,\"\")","v":""},{"$f":"IF(登録済データ!$B56<>0,登録済データ!K56,\"\")","v":""},{"$f":"IF(登録済データ!$B56<>0,登録済データ!L56,\"\")","v":""},{"$f":"IF(登録済データ!$B56<>0,登録済データ!M56,\"\")","v":""},{"$f":"IF(登録済データ!$B56<>0,登録済データ!N56,\"\")","v":""},{"$f":"IF(登録済データ!$B56<>0,登録済データ!O56,\"\")","v":""},{"$f":"IF(登録済データ!$B56<>0,登録済データ!P56,\"\")","v":""},{"$f":"IF(登録済データ!$B56<>0,登録済データ!Q56,\"\")","v":""},{"$f":"IF(登録済データ!$B56<>0,登録済データ!R56,\"\")","v":""},{"$f":"IF(登録済データ!$B56<>0,登録済データ!S56,\"\")","v":""},{"$f":"IF(登録済データ!$B56<>0,登録済データ!T56,\"\")","v":""},{"$f":"IF(登録済データ!$B56<>0,登録済データ!U56,\"\")","v":""},{"$f":"IF(登録済データ!$B56<>0,登録済データ!V56,\"\")","v":""},{"$f":"IF(登録済データ!$B56<>0,登録済データ!W56,\"\")","v":""},{"$f":"IF(登録済データ!$B56<>0,登録済データ!X56,\"\")","v":""},{"$f":"IF($F53<>\"\",登録済データ!$C$4,\"\")","v":""}]
[null,{"$f":"IF($F54<>\"\",登録済データ!$C$2,\"\")","v":""},{"$f":"IF($F54<>\"\",IF($I$1=\"企業コード3桁\",LEFT(登録済データ!$C$3,3),LEFT(登録済データ!$C$3,6)),\"\")","v":""},null,{"$f":"IF(登録済データ!$B57<>0,登録済データ!C57,\"\")","v":""},{"$f":"IF(登録済データ!$B57<>0,登録済データ!D57,\"\")","v":""},{"$f":"IF(登録済データ!$B57<>0,登録済データ!E57,\"\")","v":""},{"$f":"IF(登録済データ!$B57<>0,IF(登録済データ!F57<>\"\",登録済データ!F57,\"\"),\"\")","v":""},{"$f":"IF(登録済データ!$B57<>0,IF(登録済データ!G57<>\"\",登録済データ!G57,\"\"),\"\")","v":""},{"$f":"IF(登録済データ!$B57<>0,IF(登録済データ!H57<>\"\",登録済データ!H57,\"\"),\"\")","v":""},{"$f":"IF(登録済データ!$B57<>0,IF(登録済データ!I57<>\"\",登録済データ!I57,\"\"),\"\")","v":""},{"$f":"IF(登録済データ!$B57<>0,登録済データ!J57,\"\")","v":""},{"$f":"IF(登録済データ!$B57<>0,登録済データ!K57,\"\")","v":""},{"$f":"IF(登録済データ!$B57<>0,登録済データ!L57,\"\")","v":""},{"$f":"IF(登録済データ!$B57<>0,登録済データ!M57,\"\")","v":""},{"$f":"IF(登録済データ!$B57<>0,登録済データ!N57,\"\")","v":""},{"$f":"IF(登録済データ!$B57<>0,登録済データ!O57,\"\")","v":""},{"$f":"IF(登録済データ!$B57<>0,登録済データ!P57,\"\")","v":""},{"$f":"IF(登録済データ!$B57<>0,登録済データ!Q57,\"\")","v":""},{"$f":"IF(登録済データ!$B57<>0,登録済データ!R57,\"\")","v":""},{"$f":"IF(登録済データ!$B57<>0,登録済データ!S57,\"\")","v":""},{"$f":"IF(登録済データ!$B57<>0,登録済データ!T57,\"\")","v":""},{"$f":"IF(登録済データ!$B57<>0,登録済データ!U57,\"\")","v":""},{"$f":"IF(登録済データ!$B57<>0,登録済データ!V57,\"\")","v":""},{"$f":"IF(登録済データ!$B57<>0,登録済データ!W57,\"\")","v":""},{"$f":"IF(登録済データ!$B57<>0,登録済データ!X57,\"\")","v":""},{"$f":"IF($F54<>\"\",登録済データ!$C$4,\"\")","v":""}]
[null,{"$f":"IF($F55<>\"\",登録済データ!$C$2,\"\")","v":""},{"$f":"IF($F55<>\"\",IF($I$1=\"企業コード3桁\",LEFT(登録済データ!$C$3,3),LEFT(登録済データ!$C$3,6)),\"\")","v":""},null,{"$f":"IF(登録済データ!$B58<>0,登録済データ!C58,\"\")","v":""},{"$f":"IF(登録済データ!$B58<>0,登録済データ!D58,\"\")","v":""},{"$f":"IF(登録済データ!$B58<>0,登録済データ!E58,\"\")","v":""},{"$f":"IF(登録済データ!$B58<>0,IF(登録済データ!F58<>\"\",登録済データ!F58,\"\"),\"\")","v":""},{"$f":"IF(登録済データ!$B58<>0,IF(登録済データ!G58<>\"\",登録済データ!G58,\"\"),\"\")","v":""},{"$f":"IF(登録済データ!$B58<>0,IF(登録済データ!H58<>\"\",登録済データ!H58,\"\"),\"\")","v":""},{"$f":"IF(登録済データ!$B58<>0,IF(登録済データ!I58<>\"\",登録済データ!I58,\"\"),\"\")","v":""},{"$f":"IF(登録済データ!$B58<>0,登録済データ!J58,\"\")","v":""},{"$f":"IF(登録済データ!$B58<>0,登録済データ!K58,\"\")","v":""},{"$f":"IF(登録済データ!$B58<>0,登録済データ!L58,\"\")","v":""},{"$f":"IF(登録済データ!$B58<>0,登録済データ!M58,\"\")","v":""},{"$f":"IF(登録済データ!$B58<>0,登録済データ!N58,\"\")","v":""},{"$f":"IF(登録済データ!$B58<>0,登録済データ!O58,\"\")","v":""},{"$f":"IF(登録済データ!$B58<>0,登録済データ!P58,\"\")","v":""},{"$f":"IF(登録済データ!$B58<>0,登録済データ!Q58,\"\")","v":""},{"$f":"IF(登録済データ!$B58<>0,登録済データ!R58,\"\")","v":""},{"$f":"IF(登録済データ!$B58<>0,登録済データ!S58,\"\")","v":""},{"$f":"IF(登録済データ!$B58<>0,登録済データ!T58,\"\")","v":""},{"$f":"IF(登録済データ!$B58<>0,登録済データ!U58,\"\")","v":""},{"$f":"IF(登録済データ!$B58<>0,登録済データ!V58,\"\")","v":""},{"$f":"IF(登録済データ!$B58<>0,登録済データ!W58,\"\")","v":""},{"$f":"IF(登録済データ!$B58<>0,登録済データ!X58,\"\")","v":""},{"$f":"IF($F55<>\"\",登録済データ!$C$4,\"\")","v":""}]
[null,{"$f":"IF($F56<>\"\",登録済データ!$C$2,\"\")","v":""},{"$f":"IF($F56<>\"\",IF($I$1=\"企業コード3桁\",LEFT(登録済データ!$C$3,3),LEFT(登録済データ!$C$3,6)),\"\")","v":""},null,{"$f":"IF(登録済データ!$B59<>0,登録済データ!C59,\"\")","v":""},{"$f":"IF(登録済データ!$B59<>0,登録済データ!D59,\"\")","v":""},{"$f":"IF(登録済データ!$B59<>0,登録済データ!E59,\"\")","v":""},{"$f":"IF(登録済データ!$B59<>0,IF(登録済データ!F59<>\"\",登録済データ!F59,\"\"),\"\")","v":""},{"$f":"IF(登録済データ!$B59<>0,IF(登録済データ!G59<>\"\",登録済データ!G59,\"\"),\"\")","v":""},{"$f":"IF(登録済データ!$B59<>0,IF(登録済データ!H59<>\"\",登録済データ!H59,\"\"),\"\")","v":""},{"$f":"IF(登録済データ!$B59<>0,IF(登録済データ!I59<>\"\",登録済データ!I59,\"\"),\"\")","v":""},{"$f":"IF(登録済データ!$B59<>0,登録済データ!J59,\"\")","v":""},{"$f":"IF(登録済データ!$B59<>0,登録済データ!K59,\"\")","v":""},{"$f":"IF(登録済データ!$B59<>0,登録済データ!L59,\"\")","v":""},{"$f":"IF(登録済データ!$B59<>0,登録済データ!M59,\"\")","v":""},{"$f":"IF(登録済データ!$B59<>0,登録済データ!N59,\"\")","v":""},{"$f":"IF(登録済データ!$B59<>0,登録済データ!O59,\"\")","v":""},{"$f":"IF(登録済データ!$B59<>0,登録済データ!P59,\"\")","v":""},{"$f":"IF(登録済データ!$B59<>0,登録済データ!Q59,\"\")","v":""},{"$f":"IF(登録済データ!$B59<>0,登録済データ!R59,\"\")","v":""},{"$f":"IF(登録済データ!$B59<>0,登録済データ!S59,\"\")","v":""},{"$f":"IF(登録済データ!$B59<>0,登録済データ!T59,\"\")","v":""},{"$f":"IF(登録済データ!$B59<>0,登録済データ!U59,\"\")","v":""},{"$f":"IF(登録済データ!$B59<>0,登録済データ!V59,\"\")","v":""},{"$f":"IF(登録済データ!$B59<>0,登録済データ!W59,\"\")","v":""},{"$f":"IF(登録済データ!$B59<>0,登録済データ!X59,\"\")","v":""},{"$f":"IF($F56<>\"\",登録済データ!$C$4,\"\")","v":""}]
[null,{"$f":"IF($F57<>\"\",登録済データ!$C$2,\"\")","v":""},{"$f":"IF($F57<>\"\",IF($I$1=\"企業コード3桁\",LEFT(登録済データ!$C$3,3),LEFT(登録済データ!$C$3,6)),\"\")","v":""},null,{"$f":"IF(登録済データ!$B60<>0,登録済データ!C60,\"\")","v":""},{"$f":"IF(登録済データ!$B60<>0,登録済データ!D60,\"\")","v":""},{"$f":"IF(登録済データ!$B60<>0,登録済データ!E60,\"\")","v":""},{"$f":"IF(登録済データ!$B60<>0,IF(登録済データ!F60<>\"\",登録済データ!F60,\"\"),\"\")","v":""},{"$f":"IF(登録済データ!$B60<>0,IF(登録済データ!G60<>\"\",登録済データ!G60,\"\"),\"\")","v":""},{"$f":"IF(登録済データ!$B60<>0,IF(登録済データ!H60<>\"\",登録済データ!H60,\"\"),\"\")","v":""},{"$f":"IF(登録済データ!$B60<>0,IF(登録済データ!I60<>\"\",登録済データ!I60,\"\"),\"\")","v":""},{"$f":"IF(登録済データ!$B60<>0,登録済データ!J60,\"\")","v":""},{"$f":"IF(登録済データ!$B60<>0,登録済データ!K60,\"\")","v":""},{"$f":"IF(登録済データ!$B60<>0,登録済データ!L60,\"\")","v":""},{"$f":"IF(登録済データ!$B60<>0,登録済データ!M60,\"\")","v":""},{"$f":"IF(登録済データ!$B60<>0,登録済データ!N60,\"\")","v":""},{"$f":"IF(登録済データ!$B60<>0,登録済データ!O60,\"\")","v":""},{"$f":"IF(登録済データ!$B60<>0,登録済データ!P60,\"\")","v":""},{"$f":"IF(登録済データ!$B60<>0,登録済データ!Q60,\"\")","v":""},{"$f":"IF(登録済データ!$B60<>0,登録済データ!R60,\"\")","v":""},{"$f":"IF(登録済データ!$B60<>0,登録済データ!S60,\"\")","v":""},{"$f":"IF(登録済データ!$B60<>0,登録済データ!T60,\"\")","v":""},{"$f":"IF(登録済データ!$B60<>0,登録済データ!U60,\"\")","v":""},{"$f":"IF(登録済データ!$B60<>0,登録済データ!V60,\"\")","v":""},{"$f":"IF(登録済データ!$B60<>0,登録済データ!W60,\"\")","v":""},{"$f":"IF(登録済データ!$B60<>0,登録済データ!X60,\"\")","v":""},{"$f":"IF($F57<>\"\",登録済データ!$C$4,\"\")","v":""}]
[null,{"$f":"IF($F58<>\"\",登録済データ!$C$2,\"\")","v":""},{"$f":"IF($F58<>\"\",IF($I$1=\"企業コード3桁\",LEFT(登録済データ!$C$3,3),LEFT(登録済データ!$C$3,6)),\"\")","v":""},null,{"$f":"IF(登録済データ!$B61<>0,登録済データ!C61,\"\")","v":""},{"$f":"IF(登録済データ!$B61<>0,登録済データ!D61,\"\")","v":""},{"$f":"IF(登録済データ!$B61<>0,登録済データ!E61,\"\")","v":""},{"$f":"IF(登録済データ!$B61<>0,IF(登録済データ!F61<>\"\",登録済データ!F61,\"\"),\"\")","v":""},{"$f":"IF(登録済データ!$B61<>0,IF(登録済データ!G61<>\"\",登録済データ!G61,\"\"),\"\")","v":""},{"$f":"IF(登録済データ!$B61<>0,IF(登録済データ!H61<>\"\",登録済データ!H61,\"\"),\"\")","v":""},{"$f":"IF(登録済データ!$B61<>0,IF(登録済データ!I61<>\"\",登録済データ!I61,\"\"),\"\")","v":""},{"$f":"IF(登録済データ!$B61<>0,登録済データ!J61,\"\")","v":""},{"$f":"IF(登録済データ!$B61<>0,登録済データ!K61,\"\")","v":""},{"$f":"IF(登録済データ!$B61<>0,登録済データ!L61,\"\")","v":""},{"$f":"IF(登録済データ!$B61<>0,登録済データ!M61,\"\")","v":""},{"$f":"IF(登録済データ!$B61<>0,登録済データ!N61,\"\")","v":""},{"$f":"IF(登録済データ!$B61<>0,登録済データ!O61,\"\")","v":""},{"$f":"IF(登録済データ!$B61<>0,登録済データ!P61,\"\")","v":""},{"$f":"IF(登録済データ!$B61<>0,登録済データ!Q61,\"\")","v":""},{"$f":"IF(登録済データ!$B61<>0,登録済データ!R61,\"\")","v":""},{"$f":"IF(登録済データ!$B61<>0,登録済データ!S61,\"\")","v":""},{"$f":"IF(登録済データ!$B61<>0,登録済データ!T61,\"\")","v":""},{"$f":"IF(登録済データ!$B61<>0,登録済データ!U61,\"\")","v":""},{"$f":"IF(登録済データ!$B61<>0,登録済データ!V61,\"\")","v":""},{"$f":"IF(登録済データ!$B61<>0,登録済データ!W61,\"\")","v":""},{"$f":"IF(登録済データ!$B61<>0,登録済データ!X61,\"\")","v":""},{"$f":"IF($F58<>\"\",登録済データ!$C$4,\"\")","v":""}]
[null,{"$f":"IF($F59<>\"\",登録済データ!$C$2,\"\")","v":""},{"$f":"IF($F59<>\"\",IF($I$1=\"企業コード3桁\",LEFT(登録済データ!$C$3,3),LEFT(登録済データ!$C$3,6)),\"\")","v":""},null,{"$f":"IF(登録済データ!$B62<>0,登録済データ!C62,\"\")","v":""},{"$f":"IF(登録済データ!$B62<>0,登録済データ!D62,\"\")","v":""},{"$f":"IF(登録済データ!$B62<>0,登録済データ!E62,\"\")","v":""},{"$f":"IF(登録済データ!$B62<>0,IF(登録済データ!F62<>\"\",登録済データ!F62,\"\"),\"\")","v":""},{"$f":"IF(登録済データ!$B62<>0,IF(登録済データ!G62<>\"\",登録済データ!G62,\"\"),\"\")","v":""},{"$f":"IF(登録済データ!$B62<>0,IF(登録済データ!H62<>\"\",登録済データ!H62,\"\"),\"\")","v":""},{"$f":"IF(登録済データ!$B62<>0,IF(登録済データ!I62<>\"\",登録済データ!I62,\"\"),\"\")","v":""},{"$f":"IF(登録済データ!$B62<>0,登録済データ!J62,\"\")","v":""},{"$f":"IF(登録済データ!$B62<>0,登録済データ!K62,\"\")","v":""},{"$f":"IF(登録済データ!$B62<>0,登録済データ!L62,\"\")","v":""},{"$f":"IF(登録済データ!$B62<>0,登録済データ!M62,\"\")","v":""},{"$f":"IF(登録済データ!$B62<>0,登録済データ!N62,\"\")","v":""},{"$f":"IF(登録済データ!$B62<>0,登録済データ!O62,\"\")","v":""},{"$f":"IF(登録済データ!$B62<>0,登録済データ!P62,\"\")","v":""},{"$f":"IF(登録済データ!$B62<>0,登録済データ!Q62,\"\")","v":""},{"$f":"IF(登録済データ!$B62<>0,登録済データ!R62,\"\")","v":""},{"$f":"IF(登録済データ!$B62<>0,登録済データ!S62,\"\")","v":""},{"$f":"IF(登録済データ!$B62<>0,登録済データ!T62,\"\")","v":""},{"$f":"IF(登録済データ!$B62<>0,登録済データ!U62,\"\")","v":""},{"$f":"IF(登録済データ!$B62<>0,登録済データ!V62,\"\")","v":""},{"$f":"IF(登録済データ!$B62<>0,登録済データ!W62,\"\")","v":""},{"$f":"IF(登録済データ!$B62<>0,登録済データ!X62,\"\")","v":""},{"$f":"IF($F59<>\"\",登録済データ!$C$4,\"\")","v":""}]
[null,{"$f":"IF($F60<>\"\",登録済データ!$C$2,\"\")","v":""},{"$f":"IF($F60<>\"\",IF($I$1=\"企業コード3桁\",LEFT(登録済データ!$C$3,3),LEFT(登録済データ!$C$3,6)),\"\")","v":""},null,{"$f":"IF(登録済データ!$B63<>0,登録済データ!C63,\"\")","v":""},{"$f":"IF(登録済データ!$B63<>0,登録済データ!D63,\"\")","v":""},{"$f":"IF(登録済データ!$B63<>0,登録済データ!E63,\"\")","v":""},{"$f":"IF(登録済データ!$B63<>0,IF(登録済データ!F63<>\"\",登録済データ!F63,\"\"),\"\")","v":""},{"$f":"IF(登録済データ!$B63<>0,IF(登録済データ!G63<>\"\",登録済データ!G63,\"\"),\"\")","v":""},{"$f":"IF(登録済データ!$B63<>0,IF(登録済データ!H63<>\"\",登録済データ!H63,\"\"),\"\")","v":""},{"$f":"IF(登録済データ!$B63<>0,IF(登録済データ!I63<>\"\",登録済データ!I63,\"\"),\"\")","v":""},{"$f":"IF(登録済データ!$B63<>0,登録済データ!J63,\"\")","v":""},{"$f":"IF(登録済データ!$B63<>0,登録済データ!K63,\"\")","v":""},{"$f":"IF(登録済データ!$B63<>0,登録済データ!L63,\"\")","v":""},{"$f":"IF(登録済データ!$B63<>0,登録済データ!M63,\"\")","v":""},{"$f":"IF(登録済データ!$B63<>0,登録済データ!N63,\"\")","v":""},{"$f":"IF(登録済データ!$B63<>0,登録済データ!O63,\"\")","v":""},{"$f":"IF(登録済データ!$B63<>0,登録済データ!P63,\"\")","v":""},{"$f":"IF(登録済データ!$B63<>0,登録済データ!Q63,\"\")","v":""},{"$f":"IF(登録済データ!$B63<>0,登録済データ!R63,\"\")","v":""},{"$f":"IF(登録済データ!$B63<>0,登録済データ!S63,\"\")","v":""},{"$f":"IF(登録済データ!$B63<>0,登録済データ!T63,\"\")","v":""},{"$f":"IF(登録済データ!$B63<>0,登録済データ!U63,\"\")","v":""},{"$f":"IF(登録済データ!$B63<>0,登録済データ!V63,\"\")","v":""},{"$f":"IF(登録済データ!$B63<>0,登録済データ!W63,\"\")","v":""},{"$f":"IF(登録済データ!$B63<>0,登録済データ!X63,\"\")","v":""},{"$f":"IF($F60<>\"\",登録済データ!$C$4,\"\")","v":""}]
[null,{"$f":"IF($F61<>\"\",登録済データ!$C$2,\"\")","v":""},{"$f":"IF($F61<>\"\",IF($I$1=\"企業コード3桁\",LEFT(登録済データ!$C$3,3),LEFT(登録済データ!$C$3,6)),\"\")","v":""},null,{"$f":"IF(登録済データ!$B64<>0,登録済データ!C64,\"\")","v":""},{"$f":"IF(登録済データ!$B64<>0,登録済データ!D64,\"\")","v":""},{"$f":"IF(登録済データ!$B64<>0,登録済データ!E64,\"\")","v":""},{"$f":"IF(登録済データ!$B64<>0,IF(登録済データ!F64<>\"\",登録済データ!F64,\"\"),\"\")","v":""},{"$f":"IF(登録済データ!$B64<>0,IF(登録済データ!G64<>\"\",登録済データ!G64,\"\"),\"\")","v":""},{"$f":"IF(登録済データ!$B64<>0,IF(登録済データ!H64<>\"\",登録済データ!H64,\"\"),\"\")","v":""},{"$f":"IF(登録済データ!$B64<>0,IF(登録済データ!I64<>\"\",登録済データ!I64,\"\"),\"\")","v":""},{"$f":"IF(登録済データ!$B64<>0,登録済データ!J64,\"\")","v":""},{"$f":"IF(登録済データ!$B64<>0,登録済データ!K64,\"\")","v":""},{"$f":"IF(登録済データ!$B64<>0,登録済データ!L64,\"\")","v":""},{"$f":"IF(登録済データ!$B64<>0,登録済データ!M64,\"\")","v":""},{"$f":"IF(登録済データ!$B64<>0,登録済データ!N64,\"\")","v":""},{"$f":"IF(登録済データ!$B64<>0,登録済データ!O64,\"\")","v":""},{"$f":"IF(登録済データ!$B64<>0,登録済データ!P64,\"\")","v":""},{"$f":"IF(登録済データ!$B64<>0,登録済データ!Q64,\"\")","v":""},{"$f":"IF(登録済データ!$B64<>0,登録済データ!R64,\"\")","v":""},{"$f":"IF(登録済データ!$B64<>0,登録済データ!S64,\"\")","v":""},{"$f":"IF(登録済データ!$B64<>0,登録済データ!T64,\"\")","v":""},{"$f":"IF(登録済データ!$B64<>0,登録済データ!U64,\"\")","v":""},{"$f":"IF(登録済データ!$B64<>0,登録済データ!V64,\"\")","v":""},{"$f":"IF(登録済データ!$B64<>0,登録済データ!W64,\"\")","v":""},{"$f":"IF(登録済データ!$B64<>0,登録済データ!X64,\"\")","v":""},{"$f":"IF($F61<>\"\",登録済データ!$C$4,\"\")","v":""}]
[null,{"$f":"IF($F62<>\"\",登録済データ!$C$2,\"\")","v":""},{"$f":"IF($F62<>\"\",IF($I$1=\"企業コード3桁\",LEFT(登録済データ!$C$3,3),LEFT(登録済データ!$C$3,6)),\"\")","v":""},null,{"$f":"IF(登録済データ!$B65<>0,登録済データ!C65,\"\")","v":""},{"$f":"IF(登録済データ!$B65<>0,登録済データ!D65,\"\")","v":""},{"$f":"IF(登録済データ!$B65<>0,登録済データ!E65,\"\")","v":""},{"$f":"IF(登録済データ!$B65<>0,IF(登録済データ!F65<>\"\",登録済データ!F65,\"\"),\"\")","v":""},{"$f":"IF(登録済データ!$B65<>0,IF(登録済データ!G65<>\"\",登録済データ!G65,\"\"),\"\")","v":""},{"$f":"IF(登録済データ!$B65<>0,IF(登録済データ!H65<>\"\",登録済データ!H65,\"\"),\"\")","v":""},{"$f":"IF(登録済データ!$B65<>0,IF(登録済データ!I65<>\"\",登録済データ!I65,\"\"),\"\")","v":""},{"$f":"IF(登録済データ!$B65<>0,登録済データ!J65,\"\")","v":""},{"$f":"IF(登録済データ!$B65<>0,登録済データ!K65,\"\")","v":""},{"$f":"IF(登録済データ!$B65<>0,登録済データ!L65,\"\")","v":""},{"$f":"IF(登録済データ!$B65<>0,登録済データ!M65,\"\")","v":""},{"$f":"IF(登録済データ!$B65<>0,登録済データ!N65,\"\")","v":""},{"$f":"IF(登録済データ!$B65<>0,登録済データ!O65,\"\")","v":""},{"$f":"IF(登録済データ!$B65<>0,登録済データ!P65,\"\")","v":""},{"$f":"IF(登録済データ!$B65<>0,登録済データ!Q65,\"\")","v":""},{"$f":"IF(登録済データ!$B65<>0,登録済データ!R65,\"\")","v":""},{"$f":"IF(登録済データ!$B65<>0,登録済データ!S65,\"\")","v":""},{"$f":"IF(登録済データ!$B65<>0,登録済データ!T65,\"\")","v":""},{"$f":"IF(登録済データ!$B65<>0,登録済データ!U65,\"\")","v":""},{"$f":"IF(登録済データ!$B65<>0,登録済データ!V65,\"\")","v":""},{"$f":"IF(登録済データ!$B65<>0,登録済データ!W65,\"\")","v":""},{"$f":"IF(登録済データ!$B65<>0,登録済データ!X65,\"\")","v":""},{"$f":"IF($F62<>\"\",登録済データ!$C$4,\"\")","v":""}]
[null,{"$f":"IF($F63<>\"\",登録済データ!$C$2,\"\")","v":""},{"$f":"IF($F63<>\"\",IF($I$1=\"企業コード3桁\",LEFT(登録済データ!$C$3,3),LEFT(登録済データ!$C$3,6)),\"\")","v":""},null,{"$f":"IF(登録済データ!$B66<>0,登録済データ!C66,\"\")","v":""},{"$f":"IF(登録済データ!$B66<>0,登録済データ!D66,\"\")","v":""},{"$f":"IF(登録済データ!$B66<>0,登録済データ!E66,\"\")","v":""},{"$f":"IF(登録済データ!$B66<>0,IF(登録済データ!F66<>\"\",登録済データ!F66,\"\"),\"\")","v":""},{"$f":"IF(登録済データ!$B66<>0,IF(登録済データ!G66<>\"\",登録済データ!G66,\"\"),\"\")","v":""},{"$f":"IF(登録済データ!$B66<>0,IF(登録済データ!H66<>\"\",登録済データ!H66,\"\"),\"\")","v":""},{"$f":"IF(登録済データ!$B66<>0,IF(登録済データ!I66<>\"\",登録済データ!I66,\"\"),\"\")","v":""},{"$f":"IF(登録済データ!$B66<>0,登録済データ!J66,\"\")","v":""},{"$f":"IF(登録済データ!$B66<>0,登録済データ!K66,\"\")","v":""},{"$f":"IF(登録済データ!$B66<>0,登録済データ!L66,\"\")","v":""},{"$f":"IF(登録済データ!$B66<>0,登録済データ!M66,\"\")","v":""},{"$f":"IF(登録済データ!$B66<>0,登録済データ!N66,\"\")","v":""},{"$f":"IF(登録済データ!$B66<>0,登録済データ!O66,\"\")","v":""},{"$f":"IF(登録済データ!$B66<>0,登録済データ!P66,\"\")","v":""},{"$f":"IF(登録済データ!$B66<>0,登録済データ!Q66,\"\")","v":""},{"$f":"IF(登録済データ!$B66<>0,登録済データ!R66,\"\")","v":""},{"$f":"IF(登録済データ!$B66<>0,登録済データ!S66,\"\")","v":""},{"$f":"IF(登録済データ!$B66<>0,登録済データ!T66,\"\")","v":""},{"$f":"IF(登録済データ!$B66<>0,登録済データ!U66,\"\")","v":""},{"$f":"IF(登録済データ!$B66<>0,登録済データ!V66,\"\")","v":""},{"$f":"IF(登録済データ!$B66<>0,登録済データ!W66,\"\")","v":""},{"$f":"IF(登録済データ!$B66<>0,登録済データ!X66,\"\")","v":""},{"$f":"IF($F63<>\"\",登録済データ!$C$4,\"\")","v":""}]
[null,{"$f":"IF($F64<>\"\",登録済データ!$C$2,\"\")","v":""},{"$f":"IF($F64<>\"\",IF($I$1=\"企業コード3桁\",LEFT(登録済データ!$C$3,3),LEFT(登録済データ!$C$3,6)),\"\")","v":""},null,{"$f":"IF(登録済データ!$B67<>0,登録済データ!C67,\"\")","v":""},{"$f":"IF(登録済データ!$B67<>0,登録済データ!D67,\"\")","v":""},{"$f":"IF(登録済データ!$B67<>0,登録済データ!E67,\"\")","v":""},{"$f":"IF(登録済データ!$B67<>0,IF(登録済データ!F67<>\"\",登録済データ!F67,\"\"),\"\")","v":""},{"$f":"IF(登録済データ!$B67<>0,IF(登録済データ!G67<>\"\",登録済データ!G67,\"\"),\"\")","v":""},{"$f":"IF(登録済データ!$B67<>0,IF(登録済データ!H67<>\"\",登録済データ!H67,\"\"),\"\")","v":""},{"$f":"IF(登録済データ!$B67<>0,IF(登録済データ!I67<>\"\",登録済データ!I67,\"\"),\"\")","v":""},{"$f":"IF(登録済データ!$B67<>0,登録済データ!J67,\"\")","v":""},{"$f":"IF(登録済データ!$B67<>0,登録済データ!K67,\"\")","v":""},{"$f":"IF(登録済データ!$B67<>0,登録済データ!L67,\"\")","v":""},{"$f":"IF(登録済データ!$B67<>0,登録済データ!M67,\"\")","v":""},{"$f":"IF(登録済データ!$B67<>0,登録済データ!N67,\"\")","v":""},{"$f":"IF(登録済データ!$B67<>0,登録済データ!O67,\"\")","v":""},{"$f":"IF(登録済データ!$B67<>0,登録済データ!P67,\"\")","v":""},{"$f":"IF(登録済データ!$B67<>0,登録済データ!Q67,\"\")","v":""},{"$f":"IF(登録済データ!$B67<>0,登録済データ!R67,\"\")","v":""},{"$f":"IF(登録済データ!$B67<>0,登録済データ!S67,\"\")","v":""},{"$f":"IF(登録済データ!$B67<>0,登録済データ!T67,\"\")","v":""},{"$f":"IF(登録済データ!$B67<>0,登録済データ!U67,\"\")","v":""},{"$f":"IF(登録済データ!$B67<>0,登録済データ!V67,\"\")","v":""},{"$f":"IF(登録済データ!$B67<>0,登録済データ!W67,\"\")","v":""},{"$f":"IF(登録済データ!$B67<>0,登録済データ!X67,\"\")","v":""},{"$f":"IF($F64<>\"\",登録済データ!$C$4,\"\")","v":""}]
[null,{"$f":"IF($F65<>\"\",登録済データ!$C$2,\"\")","v":""},{"$f":"IF($F65<>\"\",IF($I$1=\"企業コード3桁\",LEFT(登録済データ!$C$3,3),LEFT(登録済データ!$C$3,6)),\"\")","v":""},null,{"$f":"IF(登録済データ!$B68<>0,登録済データ!C68,\"\")","v":""},{"$f":"IF(登録済データ!$B68<>0,登録済データ!D68,\"\")","v":""},{"$f":"IF(登録済データ!$B68<>0,登録済データ!E68,\"\")","v":""},{"$f":"IF(登録済データ!$B68<>0,IF(登録済データ!F68<>\"\",登録済データ!F68,\"\"),\"\")","v":""},{"$f":"IF(登録済データ!$B68<>0,IF(登録済データ!G68<>\"\",登録済データ!G68,\"\"),\"\")","v":""},{"$f":"IF(登録済データ!$B68<>0,IF(登録済データ!H68<>\"\",登録済データ!H68,\"\"),\"\")","v":""},{"$f":"IF(登録済データ!$B68<>0,IF(登録済データ!I68<>\"\",登録済データ!I68,\"\"),\"\")","v":""},{"$f":"IF(登録済データ!$B68<>0,登録済データ!J68,\"\")","v":""},{"$f":"IF(登録済データ!$B68<>0,登録済データ!K68,\"\")","v":""},{"$f":"IF(登録済データ!$B68<>0,登録済データ!L68,\"\")","v":""},{"$f":"IF(登録済データ!$B68<>0,登録済データ!M68,\"\")","v":""},{"$f":"IF(登録済データ!$B68<>0,登録済データ!N68,\"\")","v":""},{"$f":"IF(登録済データ!$B68<>0,登録済データ!O68,\"\")","v":""},{"$f":"IF(登録済データ!$B68<>0,登録済データ!P68,\"\")","v":""},{"$f":"IF(登録済データ!$B68<>0,登録済データ!Q68,\"\")","v":""},{"$f":"IF(登録済データ!$B68<>0,登録済データ!R68,\"\")","v":""},{"$f":"IF(登録済データ!$B68<>0,登録済データ!S68,\"\")","v":""},{"$f":"IF(登録済データ!$B68<>0,登録済データ!T68,\"\")","v":""},{"$f":"IF(登録済データ!$B68<>0,登録済データ!U68,\"\")","v":""},{"$f":"IF(登録済データ!$B68<>0,登録済データ!V68,\"\")","v":""},{"$f":"IF(登録済データ!$B68<>0,登録済データ!W68,\"\")","v":""},{"$f":"IF(登録済データ!$B68<>0,登録済データ!X68,\"\")","v":""},{"$f":"IF($F65<>\"\",登録済データ!$C$4,\"\")","v":""}]
[null,{"$f":"IF($F66<>\"\",登録済データ!$C$2,\"\")","v":""},{"$f":"IF($F66<>\"\",IF($I$1=\"企業コード3桁\",LEFT(登録済データ!$C$3,3),LEFT(登録済データ!$C$3,6)),\"\")","v":""},null,{"$f":"IF(登録済データ!$B69<>0,登録済データ!C69,\"\")","v":""},{"$f":"IF(登録済データ!$B69<>0,登録済データ!D69,\"\")","v":""},{"$f":"IF(登録済データ!$B69<>0,登録済データ!E69,\"\")","v":""},{"$f":"IF(登録済データ!$B69<>0,IF(登録済データ!F69<>\"\",登録済データ!F69,\"\"),\"\")","v":""},{"$f":"IF(登録済データ!$B69<>0,IF(登録済データ!G69<>\"\",登録済データ!G69,\"\"),\"\")","v":""},{"$f":"IF(登録済データ!$B69<>0,IF(登録済データ!H69<>\"\",登録済データ!H69,\"\"),\"\")","v":""},{"$f":"IF(登録済データ!$B69<>0,IF(登録済データ!I69<>\"\",登録済データ!I69,\"\"),\"\")","v":""},{"$f":"IF(登録済データ!$B69<>0,登録済データ!J69,\"\")","v":""},{"$f":"IF(登録済データ!$B69<>0,登録済データ!K69,\"\")","v":""},{"$f":"IF(登録済データ!$B69<>0,登録済データ!L69,\"\")","v":""},{"$f":"IF(登録済データ!$B69<>0,登録済データ!M69,\"\")","v":""},{"$f":"IF(登録済データ!$B69<>0,登録済データ!N69,\"\")","v":""},{"$f":"IF(登録済データ!$B69<>0,登録済データ!O69,\"\")","v":""},{"$f":"IF(登録済データ!$B69<>0,登録済データ!P69,\"\")","v":""},{"$f":"IF(登録済データ!$B69<>0,登録済データ!Q69,\"\")","v":""},{"$f":"IF(登録済データ!$B69<>0,登録済データ!R69,\"\")","v":""},{"$f":"IF(登録済データ!$B69<>0,登録済データ!S69,\"\")","v":""},{"$f":"IF(登録済データ!$B69<>0,登録済データ!T69,\"\")","v":""},{"$f":"IF(登録済データ!$B69<>0,登録済データ!U69,\"\")","v":""},{"$f":"IF(登録済データ!$B69<>0,登録済データ!V69,\"\")","v":""},{"$f":"IF(登録済データ!$B69<>0,登録済データ!W69,\"\")","v":""},{"$f":"IF(登録済データ!$B69<>0,登録済データ!X69,\"\")","v":""},{"$f":"IF($F66<>\"\",登録済データ!$C$4,\"\")","v":""}]
[null,{"$f":"IF($F67<>\"\",登録済データ!$C$2,\"\")","v":""},{"$f":"IF($F67<>\"\",IF($I$1=\"企業コード3桁\",LEFT(登録済データ!$C$3,3),LEFT(登録済データ!$C$3,6)),\"\")","v":""},null,{"$f":"IF(登録済データ!$B70<>0,登録済データ!C70,\"\")","v":""},{"$f":"IF(登録済データ!$B70<>0,登録済データ!D70,\"\")","v":""},{"$f":"IF(登録済データ!$B70<>0,登録済データ!E70,\"\")","v":""},{"$f":"IF(登録済データ!$B70<>0,IF(登録済データ!F70<>\"\",登録済データ!F70,\"\"),\"\")","v":""},{"$f":"IF(登録済データ!$B70<>0,IF(登録済データ!G70<>\"\",登録済データ!G70,\"\"),\"\")","v":""},{"$f":"IF(登録済データ!$B70<>0,IF(登録済データ!H70<>\"\",登録済データ!H70,\"\"),\"\")","v":""},{"$f":"IF(登録済データ!$B70<>0,IF(登録済データ!I70<>\"\",登録済データ!I70,\"\"),\"\")","v":""},{"$f":"IF(登録済データ!$B70<>0,登録済データ!J70,\"\")","v":""},{"$f":"IF(登録済データ!$B70<>0,登録済データ!K70,\"\")","v":""},{"$f":"IF(登録済データ!$B70<>0,登録済データ!L70,\"\")","v":""},{"$f":"IF(登録済データ!$B70<>0,登録済データ!M70,\"\")","v":""},{"$f":"IF(登録済データ!$B70<>0,登録済データ!N70,\"\")","v":""},{"$f":"IF(登録済データ!$B70<>0,登録済データ!O70,\"\")","v":""},{"$f":"IF(登録済データ!$B70<>0,登録済データ!P70,\"\")","v":""},{"$f":"IF(登録済データ!$B70<>0,登録済データ!Q70,\"\")","v":""},{"$f":"IF(登録済データ!$B70<>0,登録済データ!R70,\"\")","v":""},{"$f":"IF(登録済データ!$B70<>0,登録済データ!S70,\"\")","v":""},{"$f":"IF(登録済データ!$B70<>0,登録済データ!T70,\"\")","v":""},{"$f":"IF(登録済データ!$B70<>0,登録済データ!U70,\"\")","v":""},{"$f":"IF(登録済データ!$B70<>0,登録済データ!V70,\"\")","v":""},{"$f":"IF(登録済データ!$B70<>0,登録済データ!W70,\"\")","v":""},{"$f":"IF(登録済データ!$B70<>0,登録済データ!X70,\"\")","v":""},{"$f":"IF($F67<>\"\",登録済データ!$C$4,\"\")","v":""}]
[null,{"$f":"IF($F68<>\"\",登録済データ!$C$2,\"\")","v":""},{"$f":"IF($F68<>\"\",IF($I$1=\"企業コード3桁\",LEFT(登録済データ!$C$3,3),LEFT(登録済データ!$C$3,6)),\"\")","v":""},null,{"$f":"IF(登録済データ!$B71<>0,登録済データ!C71,\"\")","v":""},{"$f":"IF(登録済データ!$B71<>0,登録済データ!D71,\"\")","v":""},{"$f":"IF(登録済データ!$B71<>0,登録済データ!E71,\"\")","v":""},{"$f":"IF(登録済データ!$B71<>0,IF(登録済データ!F71<>\"\",登録済データ!F71,\"\"),\"\")","v":""},{"$f":"IF(登録済データ!$B71<>0,IF(登録済データ!G71<>\"\",登録済データ!G71,\"\"),\"\")","v":""},{"$f":"IF(登録済データ!$B71<>0,IF(登録済データ!H71<>\"\",登録済データ!H71,\"\"),\"\")","v":""},{"$f":"IF(登録済データ!$B71<>0,IF(登録済データ!I71<>\"\",登録済データ!I71,\"\"),\"\")","v":""},{"$f":"IF(登録済データ!$B71<>0,登録済データ!J71,\"\")","v":""},{"$f":"IF(登録済データ!$B71<>0,登録済データ!K71,\"\")","v":""},{"$f":"IF(登録済データ!$B71<>0,登録済データ!L71,\"\")","v":""},{"$f":"IF(登録済データ!$B71<>0,登録済データ!M71,\"\")","v":""},{"$f":"IF(登録済データ!$B71<>0,登録済データ!N71,\"\")","v":""},{"$f":"IF(登録済データ!$B71<>0,登録済データ!O71,\"\")","v":""},{"$f":"IF(登録済データ!$B71<>0,登録済データ!P71,\"\")","v":""},{"$f":"IF(登録済データ!$B71<>0,登録済データ!Q71,\"\")","v":""},{"$f":"IF(登録済データ!$B71<>0,登録済データ!R71,\"\")","v":""},{"$f":"IF(登録済データ!$B71<>0,登録済データ!S71,\"\")","v":""},{"$f":"IF(登録済データ!$B71<>0,登録済データ!T71,\"\")","v":""},{"$f":"IF(登録済データ!$B71<>0,登録済データ!U71,\"\")","v":""},{"$f":"IF(登録済データ!$B71<>0,登録済データ!V71,\"\")","v":""},{"$f":"IF(登録済データ!$B71<>0,登録済データ!W71,\"\")","v":""},{"$f":"IF(登録済データ!$B71<>0,登録済データ!X71,\"\")","v":""},{"$f":"IF($F68<>\"\",登録済データ!$C$4,\"\")","v":""}]
[null,{"$f":"IF($F69<>\"\",登録済データ!$C$2,\"\")","v":""},{"$f":"IF($F69<>\"\",IF($I$1=\"企業コード3桁\",LEFT(登録済データ!$C$3,3),LEFT(登録済データ!$C$3,6)),\"\")","v":""},null,{"$f":"IF(登録済データ!$B72<>0,登録済データ!C72,\"\")","v":""},{"$f":"IF(登録済データ!$B72<>0,登録済データ!D72,\"\")","v":""},{"$f":"IF(登録済データ!$B72<>0,登録済データ!E72,\"\")","v":""},{"$f":"IF(登録済データ!$B72<>0,IF(登録済データ!F72<>\"\",登録済データ!F72,\"\"),\"\")","v":""},{"$f":"IF(登録済データ!$B72<>0,IF(登録済データ!G72<>\"\",登録済データ!G72,\"\"),\"\")","v":""},{"$f":"IF(登録済データ!$B72<>0,IF(登録済データ!H72<>\"\",登録済データ!H72,\"\"),\"\")","v":""},{"$f":"IF(登録済データ!$B72<>0,IF(登録済データ!I72<>\"\",登録済データ!I72,\"\"),\"\")","v":""},{"$f":"IF(登録済データ!$B72<>0,登録済データ!J72,\"\")","v":""},{"$f":"IF(登録済データ!$B72<>0,登録済データ!K72,\"\")","v":""},{"$f":"IF(登録済データ!$B72<>0,登録済データ!L72,\"\")","v":""},{"$f":"IF(登録済データ!$B72<>0,登録済データ!M72,\"\")","v":""},{"$f":"IF(登録済データ!$B72<>0,登録済データ!N72,\"\")","v":""},{"$f":"IF(登録済データ!$B72<>0,登録済データ!O72,\"\")","v":""},{"$f":"IF(登録済データ!$B72<>0,登録済データ!P72,\"\")","v":""},{"$f":"IF(登録済データ!$B72<>0,登録済データ!Q72,\"\")","v":""},{"$f":"IF(登録済データ!$B72<>0,登録済データ!R72,\"\")","v":""},{"$f":"IF(登録済データ!$B72<>0,登録済データ!S72,\"\")","v":""},{"$f":"IF(登録済データ!$B72<>0,登録済データ!T72,\"\")","v":""},{"$f":"IF(登録済データ!$B72<>0,登録済データ!U72,\"\")","v":""},{"$f":"IF(登録済データ!$B72<>0,登録済データ!V72,\"\")","v":""},{"$f":"IF(登録済データ!$B72<>0,登録済データ!W72,\"\")","v":""},{"$f":"IF(登録済データ!$B72<>0,登録済データ!X72,\"\")","v":""},{"$f":"IF($F69<>\"\",登録済データ!$C$4,\"\")","v":""}]
[null,{"$f":"IF($F70<>\"\",登録済データ!$C$2,\"\")","v":""},{"$f":"IF($F70<>\"\",IF($I$1=\"企業コード3桁\",LEFT(登録済データ!$C$3,3),LEFT(登録済データ!$C$3,6)),\"\")","v":""},null,{"$f":"IF(登録済データ!$B73<>0,登録済データ!C73,\"\")","v":""},{"$f":"IF(登録済データ!$B73<>0,登録済データ!D73,\"\")","v":""},{"$f":"IF(登録済データ!$B73<>0,登録済データ!E73,\"\")","v":""},{"$f":"IF(登録済データ!$B73<>0,IF(登録済データ!F73<>\"\",登録済データ!F73,\"\"),\"\")","v":""},{"$f":"IF(登録済データ!$B73<>0,IF(登録済データ!G73<>\"\",登録済データ!G73,\"\"),\"\")","v":""},{"$f":"IF(登録済データ!$B73<>0,IF(登録済データ!H73<>\"\",登録済データ!H73,\"\"),\"\")","v":""},{"$f":"IF(登録済データ!$B73<>0,IF(登録済データ!I73<>\"\",登録済データ!I73,\"\"),\"\")","v":""},{"$f":"IF(登録済データ!$B73<>0,登録済データ!J73,\"\")","v":""},{"$f":"IF(登録済データ!$B73<>0,登録済データ!K73,\"\")","v":""},{"$f":"IF(登録済データ!$B73<>0,登録済データ!L73,\"\")","v":""},{"$f":"IF(登録済データ!$B73<>0,登録済データ!M73,\"\")","v":""},{"$f":"IF(登録済データ!$B73<>0,登録済データ!N73,\"\")","v":""},{"$f":"IF(登録済データ!$B73<>0,登録済データ!O73,\"\")","v":""},{"$f":"IF(登録済データ!$B73<>0,登録済データ!P73,\"\")","v":""},{"$f":"IF(登録済データ!$B73<>0,登録済データ!Q73,\"\")","v":""},{"$f":"IF(登録済データ!$B73<>0,登録済データ!R73,\"\")","v":""},{"$f":"IF(登録済データ!$B73<>0,登録済データ!S73,\"\")","v":""},{"$f":"IF(登録済データ!$B73<>0,登録済データ!T73,\"\")","v":""},{"$f":"IF(登録済データ!$B73<>0,登録済データ!U73,\"\")","v":""},{"$f":"IF(登録済データ!$B73<>0,登録済データ!V73,\"\")","v":""},{"$f":"IF(登録済データ!$B73<>0,登録済データ!W73,\"\")","v":""},{"$f":"IF(登録済データ!$B73<>0,登録済データ!X73,\"\")","v":""},{"$f":"IF($F70<>\"\",登録済データ!$C$4,\"\")","v":""}]
[null,{"$f":"IF($F71<>\"\",登録済データ!$C$2,\"\")","v":""},{"$f":"IF($F71<>\"\",IF($I$1=\"企業コード3桁\",LEFT(登録済データ!$C$3,3),LEFT(登録済データ!$C$3,6)),\"\")","v":""},null,{"$f":"IF(登録済データ!$B74<>0,登録済データ!C74,\"\")","v":""},{"$f":"IF(登録済データ!$B74<>0,登録済データ!D74,\"\")","v":""},{"$f":"IF(登録済データ!$B74<>0,登録済データ!E74,\"\")","v":""},{"$f":"IF(登録済データ!$B74<>0,IF(登録済データ!F74<>\"\",登録済データ!F74,\"\"),\"\")","v":""},{"$f":"IF(登録済データ!$B74<>0,IF(登録済データ!G74<>\"\",登録済データ!G74,\"\"),\"\")","v":""},{"$f":"IF(登録済データ!$B74<>0,IF(登録済データ!H74<>\"\",登録済データ!H74,\"\"),\"\")","v":""},{"$f":"IF(登録済データ!$B74<>0,IF(登録済データ!I74<>\"\",登録済データ!I74,\"\"),\"\")","v":""},{"$f":"IF(登録済データ!$B74<>0,登録済データ!J74,\"\")","v":""},{"$f":"IF(登録済データ!$B74<>0,登録済データ!K74,\"\")","v":""},{"$f":"IF(登録済データ!$B74<>0,登録済データ!L74,\"\")","v":""},{"$f":"IF(登録済データ!$B74<>0,登録済データ!M74,\"\")","v":""},{"$f":"IF(登録済データ!$B74<>0,登録済データ!N74,\"\")","v":""},{"$f":"IF(登録済データ!$B74<>0,登録済データ!O74,\"\")","v":""},{"$f":"IF(登録済データ!$B74<>0,登録済データ!P74,\"\")","v":""},{"$f":"IF(登録済データ!$B74<>0,登録済データ!Q74,\"\")","v":""},{"$f":"IF(登録済データ!$B74<>0,登録済データ!R74,\"\")","v":""},{"$f":"IF(登録済データ!$B74<>0,登録済データ!S74,\"\")","v":""},{"$f":"IF(登録済データ!$B74<>0,登録済データ!T74,\"\")","v":""},{"$f":"IF(登録済データ!$B74<>0,登録済データ!U74,\"\")","v":""},{"$f":"IF(登録済データ!$B74<>0,登録済データ!V74,\"\")","v":""},{"$f":"IF(登録済データ!$B74<>0,登録済データ!W74,\"\")","v":""},{"$f":"IF(登録済データ!$B74<>0,登録済データ!X74,\"\")","v":""},{"$f":"IF($F71<>\"\",登録済データ!$C$4,\"\")","v":""}]
[null,{"$f":"IF($F72<>\"\",登録済データ!$C$2,\"\")","v":""},{"$f":"IF($F72<>\"\",IF($I$1=\"企業コード3桁\",LEFT(登録済データ!$C$3,3),LEFT(登録済データ!$C$3,6)),\"\")","v":""},null,{"$f":"IF(登録済データ!$B75<>0,登録済データ!C75,\"\")","v":""},{"$f":"IF(登録済データ!$B75<>0,登録済データ!D75,\"\")","v":""},{"$f":"IF(登録済データ!$B75<>0,登録済データ!E75,\"\")","v":""},{"$f":"IF(登録済データ!$B75<>0,IF(登録済データ!F75<>\"\",登録済データ!F75,\"\"),\"\")","v":""},{"$f":"IF(登録済データ!$B75<>0,IF(登録済データ!G75<>\"\",登録済データ!G75,\"\"),\"\")","v":""},{"$f":"IF(登録済データ!$B75<>0,IF(登録済データ!H75<>\"\",登録済データ!H75,\"\"),\"\")","v":""},{"$f":"IF(登録済データ!$B75<>0,IF(登録済データ!I75<>\"\",登録済データ!I75,\"\"),\"\")","v":""},{"$f":"IF(登録済データ!$B75<>0,登録済データ!J75,\"\")","v":""},{"$f":"IF(登録済データ!$B75<>0,登録済データ!K75,\"\")","v":""},{"$f":"IF(登録済データ!$B75<>0,登録済データ!L75,\"\")","v":""},{"$f":"IF(登録済データ!$B75<>0,登録済データ!M75,\"\")","v":""},{"$f":"IF(登録済データ!$B75<>0,登録済データ!N75,\"\")","v":""},{"$f":"IF(登録済データ!$B75<>0,登録済データ!O75,\"\")","v":""},{"$f":"IF(登録済データ!$B75<>0,登録済データ!P75,\"\")","v":""},{"$f":"IF(登録済データ!$B75<>0,登録済データ!Q75,\"\")","v":""},{"$f":"IF(登録済データ!$B75<>0,登録済データ!R75,\"\")","v":""},{"$f":"IF(登録済データ!$B75<>0,登録済データ!S75,\"\")","v":""},{"$f":"IF(登録済データ!$B75<>0,登録済データ!T75,\"\")","v":""},{"$f":"IF(登録済データ!$B75<>0,登録済データ!U75,\"\")","v":""},{"$f":"IF(登録済データ!$B75<>0,登録済データ!V75,\"\")","v":""},{"$f":"IF(登録済データ!$B75<>0,登録済データ!W75,\"\")","v":""},{"$f":"IF(登録済データ!$B75<>0,登録済データ!X75,\"\")","v":""},{"$f":"IF($F72<>\"\",登録済データ!$C$4,\"\")","v":""}]
[null,{"$f":"IF($F73<>\"\",登録済データ!$C$2,\"\")","v":""},{"$f":"IF($F73<>\"\",IF($I$1=\"企業コード3桁\",LEFT(登録済データ!$C$3,3),LEFT(登録済データ!$C$3,6)),\"\")","v":""},null,{"$f":"IF(登録済データ!$B76<>0,登録済データ!C76,\"\")","v":""},{"$f":"IF(登録済データ!$B76<>0,登録済データ!D76,\"\")","v":""},{"$f":"IF(登録済データ!$B76<>0,登録済データ!E76,\"\")","v":""},{"$f":"IF(登録済データ!$B76<>0,IF(登録済データ!F76<>\"\",登録済データ!F76,\"\"),\"\")","v":""},{"$f":"IF(登録済データ!$B76<>0,IF(登録済データ!G76<>\"\",登録済データ!G76,\"\"),\"\")","v":""},{"$f":"IF(登録済データ!$B76<>0,IF(登録済データ!H76<>\"\",登録済データ!H76,\"\"),\"\")","v":""},{"$f":"IF(登録済データ!$B76<>0,IF(登録済データ!I76<>\"\",登録済データ!I76,\"\"),\"\")","v":""},{"$f":"IF(登録済データ!$B76<>0,登録済データ!J76,\"\")","v":""},{"$f":"IF(登録済データ!$B76<>0,登録済データ!K76,\"\")","v":""},{"$f":"IF(登録済データ!$B76<>0,登録済データ!L76,\"\")","v":""},{"$f":"IF(登録済データ!$B76<>0,登録済データ!M76,\"\")","v":""},{"$f":"IF(登録済データ!$B76<>0,登録済データ!N76,\"\")","v":""},{"$f":"IF(登録済データ!$B76<>0,登録済データ!O76,\"\")","v":""},{"$f":"IF(登録済データ!$B76<>0,登録済データ!P76,\"\")","v":""},{"$f":"IF(登録済データ!$B76<>0,登録済データ!Q76,\"\")","v":""},{"$f":"IF(登録済データ!$B76<>0,登録済データ!R76,\"\")","v":""},{"$f":"IF(登録済データ!$B76<>0,登録済データ!S76,\"\")","v":""},{"$f":"IF(登録済データ!$B76<>0,登録済データ!T76,\"\")","v":""},{"$f":"IF(登録済データ!$B76<>0,登録済データ!U76,\"\")","v":""},{"$f":"IF(登録済データ!$B76<>0,登録済データ!V76,\"\")","v":""},{"$f":"IF(登録済データ!$B76<>0,登録済データ!W76,\"\")","v":""},{"$f":"IF(登録済データ!$B76<>0,登録済データ!X76,\"\")","v":""},{"$f":"IF($F73<>\"\",登録済データ!$C$4,\"\")","v":""}]
[null,{"$f":"IF($F74<>\"\",登録済データ!$C$2,\"\")","v":""},{"$f":"IF($F74<>\"\",IF($I$1=\"企業コード3桁\",LEFT(登録済データ!$C$3,3),LEFT(登録済データ!$C$3,6)),\"\")","v":""},null,{"$f":"IF(登録済データ!$B77<>0,登録済データ!C77,\"\")","v":""},{"$f":"IF(登録済データ!$B77<>0,登録済データ!D77,\"\")","v":""},{"$f":"IF(登録済データ!$B77<>0,登録済データ!E77,\"\")","v":""},{"$f":"IF(登録済データ!$B77<>0,IF(登録済データ!F77<>\"\",登録済データ!F77,\"\"),\"\")","v":""},{"$f":"IF(登録済データ!$B77<>0,IF(登録済データ!G77<>\"\",登録済データ!G77,\"\"),\"\")","v":""},{"$f":"IF(登録済データ!$B77<>0,IF(登録済データ!H77<>\"\",登録済データ!H77,\"\"),\"\")","v":""},{"$f":"IF(登録済データ!$B77<>0,IF(登録済データ!I77<>\"\",登録済データ!I77,\"\"),\"\")","v":""},{"$f":"IF(登録済データ!$B77<>0,登録済データ!J77,\"\")","v":""},{"$f":"IF(登録済データ!$B77<>0,登録済データ!K77,\"\")","v":""},{"$f":"IF(登録済データ!$B77<>0,登録済データ!L77,\"\")","v":""},{"$f":"IF(登録済データ!$B77<>0,登録済データ!M77,\"\")","v":""},{"$f":"IF(登録済データ!$B77<>0,登録済データ!N77,\"\")","v":""},{"$f":"IF(登録済データ!$B77<>0,登録済データ!O77,\"\")","v":""},{"$f":"IF(登録済データ!$B77<>0,登録済データ!P77,\"\")","v":""},{"$f":"IF(登録済データ!$B77<>0,登録済データ!Q77,\"\")","v":""},{"$f":"IF(登録済データ!$B77<>0,登録済データ!R77,\"\")","v":""},{"$f":"IF(登録済データ!$B77<>0,登録済データ!S77,\"\")","v":""},{"$f":"IF(登録済データ!$B77<>0,登録済データ!T77,\"\")","v":""},{"$f":"IF(登録済データ!$B77<>0,登録済データ!U77,\"\")","v":""},{"$f":"IF(登録済データ!$B77<>0,登録済データ!V77,\"\")","v":""},{"$f":"IF(登録済データ!$B77<>0,登録済データ!W77,\"\")","v":""},{"$f":"IF(登録済データ!$B77<>0,登録済データ!X77,\"\")","v":""},{"$f":"IF($F74<>\"\",登録済データ!$C$4,\"\")","v":""}]
[null,{"$f":"IF($F75<>\"\",登録済データ!$C$2,\"\")","v":""},{"$f":"IF($F75<>\"\",IF($I$1=\"企業コード3桁\",LEFT(登録済データ!$C$3,3),LEFT(登録済データ!$C$3,6)),\"\")","v":""},null,{"$f":"IF(登録済データ!$B78<>0,登録済データ!C78,\"\")","v":""},{"$f":"IF(登録済データ!$B78<>0,登録済データ!D78,\"\")","v":""},{"$f":"IF(登録済データ!$B78<>0,登録済データ!E78,\"\")","v":""},{"$f":"IF(登録済データ!$B78<>0,IF(登録済データ!F78<>\"\",登録済データ!F78,\"\"),\"\")","v":""},{"$f":"IF(登録済データ!$B78<>0,IF(登録済データ!G78<>\"\",登録済データ!G78,\"\"),\"\")","v":""},{"$f":"IF(登録済データ!$B78<>0,IF(登録済データ!H78<>\"\",登録済データ!H78,\"\"),\"\")","v":""},{"$f":"IF(登録済データ!$B78<>0,IF(登録済データ!I78<>\"\",登録済データ!I78,\"\"),\"\")","v":""},{"$f":"IF(登録済データ!$B78<>0,登録済データ!J78,\"\")","v":""},{"$f":"IF(登録済データ!$B78<>0,登録済データ!K78,\"\")","v":""},{"$f":"IF(登録済データ!$B78<>0,登録済データ!L78,\"\")","v":""},{"$f":"IF(登録済データ!$B78<>0,登録済データ!M78,\"\")","v":""},{"$f":"IF(登録済データ!$B78<>0,登録済データ!N78,\"\")","v":""},{"$f":"IF(登録済データ!$B78<>0,登録済データ!O78,\"\")","v":""},{"$f":"IF(登録済データ!$B78<>0,登録済データ!P78,\"\")","v":""},{"$f":"IF(登録済データ!$B78<>0,登録済データ!Q78,\"\")","v":""},{"$f":"IF(登録済データ!$B78<>0,登録済データ!R78,\"\")","v":""},{"$f":"IF(登録済データ!$B78<>0,登録済データ!S78,\"\")","v":""},{"$f":"IF(登録済データ!$B78<>0,登録済データ!T78,\"\")","v":""},{"$f":"IF(登録済データ!$B78<>0,登録済データ!U78,\"\")","v":""},{"$f":"IF(登録済データ!$B78<>0,登録済データ!V78,\"\")","v":""},{"$f":"IF(登録済データ!$B78<>0,登録済データ!W78,\"\")","v":""},{"$f":"IF(登録済データ!$B78<>0,登録済データ!X78,\"\")","v":""},{"$f":"IF($F75<>\"\",登録済データ!$C$4,\"\")","v":""}]
[null,{"$f":"IF($F76<>\"\",登録済データ!$C$2,\"\")","v":""},{"$f":"IF($F76<>\"\",IF($I$1=\"企業コード3桁\",LEFT(登録済データ!$C$3,3),LEFT(登録済データ!$C$3,6)),\"\")","v":""},null,{"$f":"IF(登録済データ!$B79<>0,登録済データ!C79,\"\")","v":""},{"$f":"IF(登録済データ!$B79<>0,登録済データ!D79,\"\")","v":""},{"$f":"IF(登録済データ!$B79<>0,登録済データ!E79,\"\")","v":""},{"$f":"IF(登録済データ!$B79<>0,IF(登録済データ!F79<>\"\",登録済データ!F79,\"\"),\"\")","v":""},{"$f":"IF(登録済データ!$B79<>0,IF(登録済データ!G79<>\"\",登録済データ!G79,\"\"),\"\")","v":""},{"$f":"IF(登録済データ!$B79<>0,IF(登録済データ!H79<>\"\",登録済データ!H79,\"\"),\"\")","v":""},{"$f":"IF(登録済データ!$B79<>0,IF(登録済データ!I79<>\"\",登録済データ!I79,\"\"),\"\")","v":""},{"$f":"IF(登録済データ!$B79<>0,登録済データ!J79,\"\")","v":""},{"$f":"IF(登録済データ!$B79<>0,登録済データ!K79,\"\")","v":""},{"$f":"IF(登録済データ!$B79<>0,登録済データ!L79,\"\")","v":""},{"$f":"IF(登録済データ!$B79<>0,登録済データ!M79,\"\")","v":""},{"$f":"IF(登録済データ!$B79<>0,登録済データ!N79,\"\")","v":""},{"$f":"IF(登録済データ!$B79<>0,登録済データ!O79,\"\")","v":""},{"$f":"IF(登録済データ!$B79<>0,登録済データ!P79,\"\")","v":""},{"$f":"IF(登録済データ!$B79<>0,登録済データ!Q79,\"\")","v":""},{"$f":"IF(登録済データ!$B79<>0,登録済データ!R79,\"\")","v":""},{"$f":"IF(登録済データ!$B79<>0,登録済データ!S79,\"\")","v":""},{"$f":"IF(登録済データ!$B79<>0,登録済データ!T79,\"\")","v":""},{"$f":"IF(登録済データ!$B79<>0,登録済データ!U79,\"\")","v":""},{"$f":"IF(登録済データ!$B79<>0,登録済データ!V79,\"\")","v":""},{"$f":"IF(登録済データ!$B79<>0,登録済データ!W79,\"\")","v":""},{"$f":"IF(登録済データ!$B79<>0,登録済データ!X79,\"\")","v":""},{"$f":"IF($F76<>\"\",登録済データ!$C$4,\"\")","v":""}]
[null,{"$f":"IF($F77<>\"\",登録済データ!$C$2,\"\")","v":""},{"$f":"IF($F77<>\"\",IF($I$1=\"企業コード3桁\",LEFT(登録済データ!$C$3,3),LEFT(登録済データ!$C$3,6)),\"\")","v":""},null,{"$f":"IF(登録済データ!$B80<>0,登録済データ!C80,\"\")","v":""},{"$f":"IF(登録済データ!$B80<>0,登録済データ!D80,\"\")","v":""},{"$f":"IF(登録済データ!$B80<>0,登録済データ!E80,\"\")","v":""},{"$f":"IF(登録済データ!$B80<>0,IF(登録済データ!F80<>\"\",登録済データ!F80,\"\"),\"\")","v":""},{"$f":"IF(登録済データ!$B80<>0,IF(登録済データ!G80<>\"\",登録済データ!G80,\"\"),\"\")","v":""},{"$f":"IF(登録済データ!$B80<>0,IF(登録済データ!H80<>\"\",登録済データ!H80,\"\"),\"\")","v":""},{"$f":"IF(登録済データ!$B80<>0,IF(登録済データ!I80<>\"\",登録済データ!I80,\"\"),\"\")","v":""},{"$f":"IF(登録済データ!$B80<>0,登録済データ!J80,\"\")","v":""},{"$f":"IF(登録済データ!$B80<>0,登録済データ!K80,\"\")","v":""},{"$f":"IF(登録済データ!$B80<>0,登録済データ!L80,\"\")","v":""},{"$f":"IF(登録済データ!$B80<>0,登録済データ!M80,\"\")","v":""},{"$f":"IF(登録済データ!$B80<>0,登録済データ!N80,\"\")","v":""},{"$f":"IF(登録済データ!$B80<>0,登録済データ!O80,\"\")","v":""},{"$f":"IF(登録済データ!$B80<>0,登録済データ!P80,\"\")","v":""},{"$f":"IF(登録済データ!$B80<>0,登録済データ!Q80,\"\")","v":""},{"$f":"IF(登録済データ!$B80<>0,登録済データ!R80,\"\")","v":""},{"$f":"IF(登録済データ!$B80<>0,登録済データ!S80,\"\")","v":""},{"$f":"IF(登録済データ!$B80<>0,登録済データ!T80,\"\")","v":""},{"$f":"IF(登録済データ!$B80<>0,登録済データ!U80,\"\")","v":""},{"$f":"IF(登録済データ!$B80<>0,登録済データ!V80,\"\")","v":""},{"$f":"IF(登録済データ!$B80<>0,登録済データ!W80,\"\")","v":""},{"$f":"IF(登録済データ!$B80<>0,登録済データ!X80,\"\")","v":""},{"$f":"IF($F77<>\"\",登録済データ!$C$4,\"\")","v":""}]
[null,{"$f":"IF($F78<>\"\",登録済データ!$C$2,\"\")","v":""},{"$f":"IF($F78<>\"\",IF($I$1=\"企業コード3桁\",LEFT(登録済データ!$C$3,3),LEFT(登録済データ!$C$3,6)),\"\")","v":""},null,{"$f":"IF(登録済データ!$B81<>0,登録済データ!C81,\"\")","v":""},{"$f":"IF(登録済データ!$B81<>0,登録済データ!D81,\"\")","v":""},{"$f":"IF(登録済データ!$B81<>0,登録済データ!E81,\"\")","v":""},{"$f":"IF(登録済データ!$B81<>0,IF(登録済データ!F81<>\"\",登録済データ!F81,\"\"),\"\")","v":""},{"$f":"IF(登録済データ!$B81<>0,IF(登録済データ!G81<>\"\",登録済データ!G81,\"\"),\"\")","v":""},{"$f":"IF(登録済データ!$B81<>0,IF(登録済データ!H81<>\"\",登録済データ!H81,\"\"),\"\")","v":""},{"$f":"IF(登録済データ!$B81<>0,IF(登録済データ!I81<>\"\",登録済データ!I81,\"\"),\"\")","v":""},{"$f":"IF(登録済データ!$B81<>0,登録済データ!J81,\"\")","v":""},{"$f":"IF(登録済データ!$B81<>0,登録済データ!K81,\"\")","v":""},{"$f":"IF(登録済データ!$B81<>0,登録済データ!L81,\"\")","v":""},{"$f":"IF(登録済データ!$B81<>0,登録済データ!M81,\"\")","v":""},{"$f":"IF(登録済データ!$B81<>0,登録済データ!N81,\"\")","v":""},{"$f":"IF(登録済データ!$B81<>0,登録済データ!O81,\"\")","v":""},{"$f":"IF(登録済データ!$B81<>0,登録済データ!P81,\"\")","v":""},{"$f":"IF(登録済データ!$B81<>0,登録済データ!Q81,\"\")","v":""},{"$f":"IF(登録済データ!$B81<>0,登録済データ!R81,\"\")","v":""},{"$f":"IF(登録済データ!$B81<>0,登録済データ!S81,\"\")","v":""},{"$f":"IF(登録済データ!$B81<>0,登録済データ!T81,\"\")","v":""},{"$f":"IF(登録済データ!$B81<>0,登録済データ!U81,\"\")","v":""},{"$f":"IF(登録済データ!$B81<>0,登録済データ!V81,\"\")","v":""},{"$f":"IF(登録済データ!$B81<>0,登録済データ!W81,\"\")","v":""},{"$f":"IF(登録済データ!$B81<>0,登録済データ!X81,\"\")","v":""},{"$f":"IF($F78<>\"\",登録済データ!$C$4,\"\")","v":""}]
[null,{"$f":"IF($F79<>\"\",登録済データ!$C$2,\"\")","v":""},{"$f":"IF($F79<>\"\",IF($I$1=\"企業コード3桁\",LEFT(登録済データ!$C$3,3),LEFT(登録済データ!$C$3,6)),\"\")","v":""},null,{"$f":"IF(登録済データ!$B82<>0,登録済データ!C82,\"\")","v":""},{"$f":"IF(登録済データ!$B82<>0,登録済データ!D82,\"\")","v":""},{"$f":"IF(登録済データ!$B82<>0,登録済データ!E82,\"\")","v":""},{"$f":"IF(登録済データ!$B82<>0,IF(登録済データ!F82<>\"\",登録済データ!F82,\"\"),\"\")","v":""},{"$f":"IF(登録済データ!$B82<>0,IF(登録済データ!G82<>\"\",登録済データ!G82,\"\"),\"\")","v":""},{"$f":"IF(登録済データ!$B82<>0,IF(登録済データ!H82<>\"\",登録済データ!H82,\"\"),\"\")","v":""},{"$f":"IF(登録済データ!$B82<>0,IF(登録済データ!I82<>\"\",登録済データ!I82,\"\"),\"\")","v":""},{"$f":"IF(登録済データ!$B82<>0,登録済データ!J82,\"\")","v":""},{"$f":"IF(登録済データ!$B82<>0,登録済データ!K82,\"\")","v":""},{"$f":"IF(登録済データ!$B82<>0,登録済データ!L82,\"\")","v":""},{"$f":"IF(登録済データ!$B82<>0,登録済データ!M82,\"\")","v":""},{"$f":"IF(登録済データ!$B82<>0,登録済データ!N82,\"\")","v":""},{"$f":"IF(登録済データ!$B82<>0,登録済データ!O82,\"\")","v":""},{"$f":"IF(登録済データ!$B82<>0,登録済データ!P82,\"\")","v":""},{"$f":"IF(登録済データ!$B82<>0,登録済データ!Q82,\"\")","v":""},{"$f":"IF(登録済データ!$B82<>0,登録済データ!R82,\"\")","v":""},{"$f":"IF(登録済データ!$B82<>0,登録済データ!S82,\"\")","v":""},{"$f":"IF(登録済データ!$B82<>0,登録済データ!T82,\"\")","v":""},{"$f":"IF(登録済データ!$B82<>0,登録済データ!U82,\"\")","v":""},{"$f":"IF(登録済データ!$B82<>0,登録済データ!V82,\"\")","v":""},{"$f":"IF(登録済データ!$B82<>0,登録済データ!W82,\"\")","v":""},{"$f":"IF(登録済データ!$B82<>0,登録済データ!X82,\"\")","v":""},{"$f":"IF($F79<>\"\",登録済データ!$C$4,\"\")","v":""}]
[null,{"$f":"IF($F80<>\"\",登録済データ!$C$2,\"\")","v":""},{"$f":"IF($F80<>\"\",IF($I$1=\"企業コード3桁\",LEFT(登録済データ!$C$3,3),LEFT(登録済データ!$C$3,6)),\"\")","v":""},null,{"$f":"IF(登録済データ!$B83<>0,登録済データ!C83,\"\")","v":""},{"$f":"IF(登録済データ!$B83<>0,登録済データ!D83,\"\")","v":""},{"$f":"IF(登録済データ!$B83<>0,登録済データ!E83,\"\")","v":""},{"$f":"IF(登録済データ!$B83<>0,IF(登録済データ!F83<>\"\",登録済データ!F83,\"\"),\"\")","v":""},{"$f":"IF(登録済データ!$B83<>0,IF(登録済データ!G83<>\"\",登録済データ!G83,\"\"),\"\")","v":""},{"$f":"IF(登録済データ!$B83<>0,IF(登録済データ!H83<>\"\",登録済データ!H83,\"\"),\"\")","v":""},{"$f":"IF(登録済データ!$B83<>0,IF(登録済データ!I83<>\"\",登録済データ!I83,\"\"),\"\")","v":""},{"$f":"IF(登録済データ!$B83<>0,登録済データ!J83,\"\")","v":""},{"$f":"IF(登録済データ!$B83<>0,登録済データ!K83,\"\")","v":""},{"$f":"IF(登録済データ!$B83<>0,登録済データ!L83,\"\")","v":""},{"$f":"IF(登録済データ!$B83<>0,登録済データ!M83,\"\")","v":""},{"$f":"IF(登録済データ!$B83<>0,登録済データ!N83,\"\")","v":""},{"$f":"IF(登録済データ!$B83<>0,登録済データ!O83,\"\")","v":""},{"$f":"IF(登録済データ!$B83<>0,登録済データ!P83,\"\")","v":""},{"$f":"IF(登録済データ!$B83<>0,登録済データ!Q83,\"\")","v":""},{"$f":"IF(登録済データ!$B83<>0,登録済データ!R83,\"\")","v":""},{"$f":"IF(登録済データ!$B83<>0,登録済データ!S83,\"\")","v":""},{"$f":"IF(登録済データ!$B83<>0,登録済データ!T83,\"\")","v":""},{"$f":"IF(登録済データ!$B83<>0,登録済データ!U83,\"\")","v":""},{"$f":"IF(登録済データ!$B83<>0,登録済データ!V83,\"\")","v":""},{"$f":"IF(登録済データ!$B83<>0,登録済データ!W83,\"\")","v":""},{"$f":"IF(登録済データ!$B83<>0,登録済データ!X83,\"\")","v":""},{"$f":"IF($F80<>\"\",登録済データ!$C$4,\"\")","v":""}]
[null,{"$f":"IF($F81<>\"\",登録済データ!$C$2,\"\")","v":""},{"$f":"IF($F81<>\"\",IF($I$1=\"企業コード3桁\",LEFT(登録済データ!$C$3,3),LEFT(登録済データ!$C$3,6)),\"\")","v":""},null,{"$f":"IF(登録済データ!$B84<>0,登録済データ!C84,\"\")","v":""},{"$f":"IF(登録済データ!$B84<>0,登録済データ!D84,\"\")","v":""},{"$f":"IF(登録済データ!$B84<>0,登録済データ!E84,\"\")","v":""},{"$f":"IF(登録済データ!$B84<>0,IF(登録済データ!F84<>\"\",登録済データ!F84,\"\"),\"\")","v":""},{"$f":"IF(登録済データ!$B84<>0,IF(登録済データ!G84<>\"\",登録済データ!G84,\"\"),\"\")","v":""},{"$f":"IF(登録済データ!$B84<>0,IF(登録済データ!H84<>\"\",登録済データ!H84,\"\"),\"\")","v":""},{"$f":"IF(登録済データ!$B84<>0,IF(登録済データ!I84<>\"\",登録済データ!I84,\"\"),\"\")","v":""},{"$f":"IF(登録済データ!$B84<>0,登録済データ!J84,\"\")","v":""},{"$f":"IF(登録済データ!$B84<>0,登録済データ!K84,\"\")","v":""},{"$f":"IF(登録済データ!$B84<>0,登録済データ!L84,\"\")","v":""},{"$f":"IF(登録済データ!$B84<>0,登録済データ!M84,\"\")","v":""},{"$f":"IF(登録済データ!$B84<>0,登録済データ!N84,\"\")","v":""},{"$f":"IF(登録済データ!$B84<>0,登録済データ!O84,\"\")","v":""},{"$f":"IF(登録済データ!$B84<>0,登録済データ!P84,\"\")","v":""},{"$f":"IF(登録済データ!$B84<>0,登録済データ!Q84,\"\")","v":""},{"$f":"IF(登録済データ!$B84<>0,登録済データ!R84,\"\")","v":""},{"$f":"IF(登録済データ!$B84<>0,登録済データ!S84,\"\")","v":""},{"$f":"IF(登録済データ!$B84<>0,登録済データ!T84,\"\")","v":""},{"$f":"IF(登録済データ!$B84<>0,登録済データ!U84,\"\")","v":""},{"$f":"IF(登録済データ!$B84<>0,登録済データ!V84,\"\")","v":""},{"$f":"IF(登録済データ!$B84<>0,登録済データ!W84,\"\")","v":""},{"$f":"IF(登録済データ!$B84<>0,登録済データ!X84,\"\")","v":""},{"$f":"IF($F81<>\"\",登録済データ!$C$4,\"\")","v":""}]
[null,{"$f":"IF($F82<>\"\",登録済データ!$C$2,\"\")","v":""},{"$f":"IF($F82<>\"\",IF($I$1=\"企業コード3桁\",LEFT(登録済データ!$C$3,3),LEFT(登録済データ!$C$3,6)),\"\")","v":""},null,{"$f":"IF(登録済データ!$B85<>0,登録済データ!C85,\"\")","v":""},{"$f":"IF(登録済データ!$B85<>0,登録済データ!D85,\"\")","v":""},{"$f":"IF(登録済データ!$B85<>0,登録済データ!E85,\"\")","v":""},{"$f":"IF(登録済データ!$B85<>0,IF(登録済データ!F85<>\"\",登録済データ!F85,\"\"),\"\")","v":""},{"$f":"IF(登録済データ!$B85<>0,IF(登録済データ!G85<>\"\",登録済データ!G85,\"\"),\"\")","v":""},{"$f":"IF(登録済データ!$B85<>0,IF(登録済データ!H85<>\"\",登録済データ!H85,\"\"),\"\")","v":""},{"$f":"IF(登録済データ!$B85<>0,IF(登録済データ!I85<>\"\",登録済データ!I85,\"\"),\"\")","v":""},{"$f":"IF(登録済データ!$B85<>0,登録済データ!J85,\"\")","v":""},{"$f":"IF(登録済データ!$B85<>0,登録済データ!K85,\"\")","v":""},{"$f":"IF(登録済データ!$B85<>0,登録済データ!L85,\"\")","v":""},{"$f":"IF(登録済データ!$B85<>0,登録済データ!M85,\"\")","v":""},{"$f":"IF(登録済データ!$B85<>0,登録済データ!N85,\"\")","v":""},{"$f":"IF(登録済データ!$B85<>0,登録済データ!O85,\"\")","v":""},{"$f":"IF(登録済データ!$B85<>0,登録済データ!P85,\"\")","v":""},{"$f":"IF(登録済データ!$B85<>0,登録済データ!Q85,\"\")","v":""},{"$f":"IF(登録済データ!$B85<>0,登録済データ!R85,\"\")","v":""},{"$f":"IF(登録済データ!$B85<>0,登録済データ!S85,\"\")","v":""},{"$f":"IF(登録済データ!$B85<>0,登録済データ!T85,\"\")","v":""},{"$f":"IF(登録済データ!$B85<>0,登録済データ!U85,\"\")","v":""},{"$f":"IF(登録済データ!$B85<>0,登録済データ!V85,\"\")","v":""},{"$f":"IF(登録済データ!$B85<>0,登録済データ!W85,\"\")","v":""},{"$f":"IF(登録済データ!$B85<>0,登録済データ!X85,\"\")","v":""},{"$f":"IF($F82<>\"\",登録済データ!$C$4,\"\")","v":""}]
[null,{"$f":"IF($F83<>\"\",登録済データ!$C$2,\"\")","v":""},{"$f":"IF($F83<>\"\",IF($I$1=\"企業コード3桁\",LEFT(登録済データ!$C$3,3),LEFT(登録済データ!$C$3,6)),\"\")","v":""},null,{"$f":"IF(登録済データ!$B86<>0,登録済データ!C86,\"\")","v":""},{"$f":"IF(登録済データ!$B86<>0,登録済データ!D86,\"\")","v":""},{"$f":"IF(登録済データ!$B86<>0,登録済データ!E86,\"\")","v":""},{"$f":"IF(登録済データ!$B86<>0,IF(登録済データ!F86<>\"\",登録済データ!F86,\"\"),\"\")","v":""},{"$f":"IF(登録済データ!$B86<>0,IF(登録済データ!G86<>\"\",登録済データ!G86,\"\"),\"\")","v":""},{"$f":"IF(登録済データ!$B86<>0,IF(登録済データ!H86<>\"\",登録済データ!H86,\"\"),\"\")","v":""},{"$f":"IF(登録済データ!$B86<>0,IF(登録済データ!I86<>\"\",登録済データ!I86,\"\"),\"\")","v":""},{"$f":"IF(登録済データ!$B86<>0,登録済データ!J86,\"\")","v":""},{"$f":"IF(登録済データ!$B86<>0,登録済データ!K86,\"\")","v":""},{"$f":"IF(登録済データ!$B86<>0,登録済データ!L86,\"\")","v":""},{"$f":"IF(登録済データ!$B86<>0,登録済データ!M86,\"\")","v":""},{"$f":"IF(登録済データ!$B86<>0,登録済データ!N86,\"\")","v":""},{"$f":"IF(登録済データ!$B86<>0,登録済データ!O86,\"\")","v":""},{"$f":"IF(登録済データ!$B86<>0,登録済データ!P86,\"\")","v":""},{"$f":"IF(登録済データ!$B86<>0,登録済データ!Q86,\"\")","v":""},{"$f":"IF(登録済データ!$B86<>0,登録済データ!R86,\"\")","v":""},{"$f":"IF(登録済データ!$B86<>0,登録済データ!S86,\"\")","v":""},{"$f":"IF(登録済データ!$B86<>0,登録済データ!T86,\"\")","v":""},{"$f":"IF(登録済データ!$B86<>0,登録済データ!U86,\"\")","v":""},{"$f":"IF(登録済データ!$B86<>0,登録済データ!V86,\"\")","v":""},{"$f":"IF(登録済データ!$B86<>0,登録済データ!W86,\"\")","v":""},{"$f":"IF(登録済データ!$B86<>0,登録済データ!X86,\"\")","v":""},{"$f":"IF($F83<>\"\",登録済データ!$C$4,\"\")","v":""}]
[null,{"$f":"IF($F84<>\"\",登録済データ!$C$2,\"\")","v":""},{"$f":"IF($F84<>\"\",IF($I$1=\"企業コード3桁\",LEFT(登録済データ!$C$3,3),LEFT(登録済データ!$C$3,6)),\"\")","v":""},null,{"$f":"IF(登録済データ!$B87<>0,登録済データ!C87,\"\")","v":""},{"$f":"IF(登録済データ!$B87<>0,登録済データ!D87,\"\")","v":""},{"$f":"IF(登録済データ!$B87<>0,登録済データ!E87,\"\")","v":""},{"$f":"IF(登録済データ!$B87<>0,IF(登録済データ!F87<>\"\",登録済データ!F87,\"\"),\"\")","v":""},{"$f":"IF(登録済データ!$B87<>0,IF(登録済データ!G87<>\"\",登録済データ!G87,\"\"),\"\")","v":""},{"$f":"IF(登録済データ!$B87<>0,IF(登録済データ!H87<>\"\",登録済データ!H87,\"\"),\"\")","v":""},{"$f":"IF(登録済データ!$B87<>0,IF(登録済データ!I87<>\"\",登録済データ!I87,\"\"),\"\")","v":""},{"$f":"IF(登録済データ!$B87<>0,登録済データ!J87,\"\")","v":""},{"$f":"IF(登録済データ!$B87<>0,登録済データ!K87,\"\")","v":""},{"$f":"IF(登録済データ!$B87<>0,登録済データ!L87,\"\")","v":""},{"$f":"IF(登録済データ!$B87<>0,登録済データ!M87,\"\")","v":""},{"$f":"IF(登録済データ!$B87<>0,登録済データ!N87,\"\")","v":""},{"$f":"IF(登録済データ!$B87<>0,登録済データ!O87,\"\")","v":""},{"$f":"IF(登録済データ!$B87<>0,登録済データ!P87,\"\")","v":""},{"$f":"IF(登録済データ!$B87<>0,登録済データ!Q87,\"\")","v":""},{"$f":"IF(登録済データ!$B87<>0,登録済データ!R87,\"\")","v":""},{"$f":"IF(登録済データ!$B87<>0,登録済データ!S87,\"\")","v":""},{"$f":"IF(登録済データ!$B87<>0,登録済データ!T87,\"\")","v":""},{"$f":"IF(登録済データ!$B87<>0,登録済データ!U87,\"\")","v":""},{"$f":"IF(登録済データ!$B87<>0,登録済データ!V87,\"\")","v":""},{"$f":"IF(登録済データ!$B87<>0,登録済データ!W87,\"\")","v":""},{"$f":"IF(登録済データ!$B87<>0,登録済データ!X87,\"\")","v":""},{"$f":"IF($F84<>\"\",登録済データ!$C$4,\"\")","v":""}]
[null,{"$f":"IF($F85<>\"\",登録済データ!$C$2,\"\")","v":""},{"$f":"IF($F85<>\"\",IF($I$1=\"企業コード3桁\",LEFT(登録済データ!$C$3,3),LEFT(登録済データ!$C$3,6)),\"\")","v":""},null,{"$f":"IF(登録済データ!$B88<>0,登録済データ!C88,\"\")","v":""},{"$f":"IF(登録済データ!$B88<>0,登録済データ!D88,\"\")","v":""},{"$f":"IF(登録済データ!$B88<>0,登録済データ!E88,\"\")","v":""},{"$f":"IF(登録済データ!$B88<>0,IF(登録済データ!F88<>\"\",登録済データ!F88,\"\"),\"\")","v":""},{"$f":"IF(登録済データ!$B88<>0,IF(登録済データ!G88<>\"\",登録済データ!G88,\"\"),\"\")","v":""},{"$f":"IF(登録済データ!$B88<>0,IF(登録済データ!H88<>\"\",登録済データ!H88,\"\"),\"\")","v":""},{"$f":"IF(登録済データ!$B88<>0,IF(登録済データ!I88<>\"\",登録済データ!I88,\"\"),\"\")","v":""},{"$f":"IF(登録済データ!$B88<>0,登録済データ!J88,\"\")","v":""},{"$f":"IF(登録済データ!$B88<>0,登録済データ!K88,\"\")","v":""},{"$f":"IF(登録済データ!$B88<>0,登録済データ!L88,\"\")","v":""},{"$f":"IF(登録済データ!$B88<>0,登録済データ!M88,\"\")","v":""},{"$f":"IF(登録済データ!$B88<>0,登録済データ!N88,\"\")","v":""},{"$f":"IF(登録済データ!$B88<>0,登録済データ!O88,\"\")","v":""},{"$f":"IF(登録済データ!$B88<>0,登録済データ!P88,\"\")","v":""},{"$f":"IF(登録済データ!$B88<>0,登録済データ!Q88,\"\")","v":""},{"$f":"IF(登録済データ!$B88<>0,登録済データ!R88,\"\")","v":""},{"$f":"IF(登録済データ!$B88<>0,登録済データ!S88,\"\")","v":""},{"$f":"IF(登録済データ!$B88<>0,登録済データ!T88,\"\")","v":""},{"$f":"IF(登録済データ!$B88<>0,登録済データ!U88,\"\")","v":""},{"$f":"IF(登録済データ!$B88<>0,登録済データ!V88,\"\")","v":""},{"$f":"IF(登録済データ!$B88<>0,登録済データ!W88,\"\")","v":""},{"$f":"IF(登録済データ!$B88<>0,登録済データ!X88,\"\")","v":""},{"$f":"IF($F85<>\"\",登録済データ!$C$4,\"\")","v":""}]
[null,{"$f":"IF($F86<>\"\",登録済データ!$C$2,\"\")","v":""},{"$f":"IF($F86<>\"\",IF($I$1=\"企業コード3桁\",LEFT(登録済データ!$C$3,3),LEFT(登録済データ!$C$3,6)),\"\")","v":""},null,{"$f":"IF(登録済データ!$B89<>0,登録済データ!C89,\"\")","v":""},{"$f":"IF(登録済データ!$B89<>0,登録済データ!D89,\"\")","v":""},{"$f":"IF(登録済データ!$B89<>0,登録済データ!E89,\"\")","v":""},{"$f":"IF(登録済データ!$B89<>0,IF(登録済データ!F89<>\"\",登録済データ!F89,\"\"),\"\")","v":""},{"$f":"IF(登録済データ!$B89<>0,IF(登録済データ!G89<>\"\",登録済データ!G89,\"\"),\"\")","v":""},{"$f":"IF(登録済データ!$B89<>0,IF(登録済データ!H89<>\"\",登録済データ!H89,\"\"),\"\")","v":""},{"$f":"IF(登録済データ!$B89<>0,IF(登録済データ!I89<>\"\",登録済データ!I89,\"\"),\"\")","v":""},{"$f":"IF(登録済データ!$B89<>0,登録済データ!J89,\"\")","v":""},{"$f":"IF(登録済データ!$B89<>0,登録済データ!K89,\"\")","v":""},{"$f":"IF(登録済データ!$B89<>0,登録済データ!L89,\"\")","v":""},{"$f":"IF(登録済データ!$B89<>0,登録済データ!M89,\"\")","v":""},{"$f":"IF(登録済データ!$B89<>0,登録済データ!N89,\"\")","v":""},{"$f":"IF(登録済データ!$B89<>0,登録済データ!O89,\"\")","v":""},{"$f":"IF(登録済データ!$B89<>0,登録済データ!P89,\"\")","v":""},{"$f":"IF(登録済データ!$B89<>0,登録済データ!Q89,\"\")","v":""},{"$f":"IF(登録済データ!$B89<>0,登録済データ!R89,\"\")","v":""},{"$f":"IF(登録済データ!$B89<>0,登録済データ!S89,\"\")","v":""},{"$f":"IF(登録済データ!$B89<>0,登録済データ!T89,\"\")","v":""},{"$f":"IF(登録済データ!$B89<>0,登録済データ!U89,\"\")","v":""},{"$f":"IF(登録済データ!$B89<>0,登録済データ!V89,\"\")","v":""},{"$f":"IF(登録済データ!$B89<>0,登録済データ!W89,\"\")","v":""},{"$f":"IF(登録済データ!$B89<>0,登録済データ!X89,\"\")","v":""},{"$f":"IF($F86<>\"\",登録済データ!$C$4,\"\")","v":""}]
[null,{"$f":"IF($F87<>\"\",登録済データ!$C$2,\"\")","v":""},{"$f":"IF($F87<>\"\",IF($I$1=\"企業コード3桁\",LEFT(登録済データ!$C$3,3),LEFT(登録済データ!$C$3,6)),\"\")","v":""},null,{"$f":"IF(登録済データ!$B90<>0,登録済データ!C90,\"\")","v":""},{"$f":"IF(登録済データ!$B90<>0,登録済データ!D90,\"\")","v":""},{"$f":"IF(登録済データ!$B90<>0,登録済データ!E90,\"\")","v":""},{"$f":"IF(登録済データ!$B90<>0,IF(登録済データ!F90<>\"\",登録済データ!F90,\"\"),\"\")","v":""},{"$f":"IF(登録済データ!$B90<>0,IF(登録済データ!G90<>\"\",登録済データ!G90,\"\"),\"\")","v":""},{"$f":"IF(登録済データ!$B90<>0,IF(登録済データ!H90<>\"\",登録済データ!H90,\"\"),\"\")","v":""},{"$f":"IF(登録済データ!$B90<>0,IF(登録済データ!I90<>\"\",登録済データ!I90,\"\"),\"\")","v":""},{"$f":"IF(登録済データ!$B90<>0,登録済データ!J90,\"\")","v":""},{"$f":"IF(登録済データ!$B90<>0,登録済データ!K90,\"\")","v":""},{"$f":"IF(登録済データ!$B90<>0,登録済データ!L90,\"\")","v":""},{"$f":"IF(登録済データ!$B90<>0,登録済データ!M90,\"\")","v":""},{"$f":"IF(登録済データ!$B90<>0,登録済データ!N90,\"\")","v":""},{"$f":"IF(登録済データ!$B90<>0,登録済データ!O90,\"\")","v":""},{"$f":"IF(登録済データ!$B90<>0,登録済データ!P90,\"\")","v":""},{"$f":"IF(登録済データ!$B90<>0,登録済データ!Q90,\"\")","v":""},{"$f":"IF(登録済データ!$B90<>0,登録済データ!R90,\"\")","v":""},{"$f":"IF(登録済データ!$B90<>0,登録済データ!S90,\"\")","v":""},{"$f":"IF(登録済データ!$B90<>0,登録済データ!T90,\"\")","v":""},{"$f":"IF(登録済データ!$B90<>0,登録済データ!U90,\"\")","v":""},{"$f":"IF(登録済データ!$B90<>0,登録済データ!V90,\"\")","v":""},{"$f":"IF(登録済データ!$B90<>0,登録済データ!W90,\"\")","v":""},{"$f":"IF(登録済データ!$B90<>0,登録済データ!X90,\"\")","v":""},{"$f":"IF($F87<>\"\",登録済データ!$C$4,\"\")","v":""}]
[null,{"$f":"IF($F88<>\"\",登録済データ!$C$2,\"\")","v":""},{"$f":"IF($F88<>\"\",IF($I$1=\"企業コード3桁\",LEFT(登録済データ!$C$3,3),LEFT(登録済データ!$C$3,6)),\"\")","v":""},null,{"$f":"IF(登録済データ!$B91<>0,登録済データ!C91,\"\")","v":""},{"$f":"IF(登録済データ!$B91<>0,登録済データ!D91,\"\")","v":""},{"$f":"IF(登録済データ!$B91<>0,登録済データ!E91,\"\")","v":""},{"$f":"IF(登録済データ!$B91<>0,IF(登録済データ!F91<>\"\",登録済データ!F91,\"\"),\"\")","v":""},{"$f":"IF(登録済データ!$B91<>0,IF(登録済データ!G91<>\"\",登録済データ!G91,\"\"),\"\")","v":""},{"$f":"IF(登録済データ!$B91<>0,IF(登録済データ!H91<>\"\",登録済データ!H91,\"\"),\"\")","v":""},{"$f":"IF(登録済データ!$B91<>0,IF(登録済データ!I91<>\"\",登録済データ!I91,\"\"),\"\")","v":""},{"$f":"IF(登録済データ!$B91<>0,登録済データ!J91,\"\")","v":""},{"$f":"IF(登録済データ!$B91<>0,登録済データ!K91,\"\")","v":""},{"$f":"IF(登録済データ!$B91<>0,登録済データ!L91,\"\")","v":""},{"$f":"IF(登録済データ!$B91<>0,登録済データ!M91,\"\")","v":""},{"$f":"IF(登録済データ!$B91<>0,登録済データ!N91,\"\")","v":""},{"$f":"IF(登録済データ!$B91<>0,登録済データ!O91,\"\")","v":""},{"$f":"IF(登録済データ!$B91<>0,登録済データ!P91,\"\")","v":""},{"$f":"IF(登録済データ!$B91<>0,登録済データ!Q91,\"\")","v":""},{"$f":"IF(登録済データ!$B91<>0,登録済データ!R91,\"\")","v":""},{"$f":"IF(登録済データ!$B91<>0,登録済データ!S91,\"\")","v":""},{"$f":"IF(登録済データ!$B91<>0,登録済データ!T91,\"\")","v":""},{"$f":"IF(登録済データ!$B91<>0,登録済データ!U91,\"\")","v":""},{"$f":"IF(登録済データ!$B91<>0,登録済データ!V91,\"\")","v":""},{"$f":"IF(登録済データ!$B91<>0,登録済データ!W91,\"\")","v":""},{"$f":"IF(登録済データ!$B91<>0,登録済データ!X91,\"\")","v":""},{"$f":"IF($F88<>\"\",登録済データ!$C$4,\"\")","v":""}]
[null,{"$f":"IF($F89<>\"\",登録済データ!$C$2,\"\")","v":""},{"$f":"IF($F89<>\"\",IF($I$1=\"企業コード3桁\",LEFT(登録済データ!$C$3,3),LEFT(登録済データ!$C$3,6)),\"\")","v":""},null,{"$f":"IF(登録済データ!$B92<>0,登録済データ!C92,\"\")","v":""},{"$f":"IF(登録済データ!$B92<>0,登録済データ!D92,\"\")","v":""},{"$f":"IF(登録済データ!$B92<>0,登録済データ!E92,\"\")","v":""},{"$f":"IF(登録済データ!$B92<>0,IF(登録済データ!F92<>\"\",登録済データ!F92,\"\"),\"\")","v":""},{"$f":"IF(登録済データ!$B92<>0,IF(登録済データ!G92<>\"\",登録済データ!G92,\"\"),\"\")","v":""},{"$f":"IF(登録済データ!$B92<>0,IF(登録済データ!H92<>\"\",登録済データ!H92,\"\"),\"\")","v":""},{"$f":"IF(登録済データ!$B92<>0,IF(登録済データ!I92<>\"\",登録済データ!I92,\"\"),\"\")","v":""},{"$f":"IF(登録済データ!$B92<>0,登録済データ!J92,\"\")","v":""},{"$f":"IF(登録済データ!$B92<>0,登録済データ!K92,\"\")","v":""},{"$f":"IF(登録済データ!$B92<>0,登録済データ!L92,\"\")","v":""},{"$f":"IF(登録済データ!$B92<>0,登録済データ!M92,\"\")","v":""},{"$f":"IF(登録済データ!$B92<>0,登録済データ!N92,\"\")","v":""},{"$f":"IF(登録済データ!$B92<>0,登録済データ!O92,\"\")","v":""},{"$f":"IF(登録済データ!$B92<>0,登録済データ!P92,\"\")","v":""},{"$f":"IF(登録済データ!$B92<>0,登録済データ!Q92,\"\")","v":""},{"$f":"IF(登録済データ!$B92<>0,登録済データ!R92,\"\")","v":""},{"$f":"IF(登録済データ!$B92<>0,登録済データ!S92,\"\")","v":""},{"$f":"IF(登録済データ!$B92<>0,登録済データ!T92,\"\")","v":""},{"$f":"IF(登録済データ!$B92<>0,登録済データ!U92,\"\")","v":""},{"$f":"IF(登録済データ!$B92<>0,登録済データ!V92,\"\")","v":""},{"$f":"IF(登録済データ!$B92<>0,登録済データ!W92,\"\")","v":""},{"$f":"IF(登録済データ!$B92<>0,登録済データ!X92,\"\")","v":""},{"$f":"IF($F89<>\"\",登録済データ!$C$4,\"\")","v":""}]
[null,{"$f":"IF($F90<>\"\",登録済データ!$C$2,\"\")","v":""},{"$f":"IF($F90<>\"\",IF($I$1=\"企業コード3桁\",LEFT(登録済データ!$C$3,3),LEFT(登録済データ!$C$3,6)),\"\")","v":""},null,{"$f":"IF(登録済データ!$B93<>0,登録済データ!C93,\"\")","v":""},{"$f":"IF(登録済データ!$B93<>0,登録済データ!D93,\"\")","v":""},{"$f":"IF(登録済データ!$B93<>0,登録済データ!E93,\"\")","v":""},{"$f":"IF(登録済データ!$B93<>0,IF(登録済データ!F93<>\"\",登録済データ!F93,\"\"),\"\")","v":""},{"$f":"IF(登録済データ!$B93<>0,IF(登録済データ!G93<>\"\",登録済データ!G93,\"\"),\"\")","v":""},{"$f":"IF(登録済データ!$B93<>0,IF(登録済データ!H93<>\"\",登録済データ!H93,\"\"),\"\")","v":""},{"$f":"IF(登録済データ!$B93<>0,IF(登録済データ!I93<>\"\",登録済データ!I93,\"\"),\"\")","v":""},{"$f":"IF(登録済データ!$B93<>0,登録済データ!J93,\"\")","v":""},{"$f":"IF(登録済データ!$B93<>0,登録済データ!K93,\"\")","v":""},{"$f":"IF(登録済データ!$B93<>0,登録済データ!L93,\"\")","v":""},{"$f":"IF(登録済データ!$B93<>0,登録済データ!M93,\"\")","v":""},{"$f":"IF(登録済データ!$B93<>0,登録済データ!N93,\"\")","v":""},{"$f":"IF(登録済データ!$B93<>0,登録済データ!O93,\"\")","v":""},{"$f":"IF(登録済データ!$B93<>0,登録済データ!P93,\"\")","v":""},{"$f":"IF(登録済データ!$B93<>0,登録済データ!Q93,\"\")","v":""},{"$f":"IF(登録済データ!$B93<>0,登録済データ!R93,\"\")","v":""},{"$f":"IF(登録済データ!$B93<>0,登録済データ!S93,\"\")","v":""},{"$f":"IF(登録済データ!$B93<>0,登録済データ!T93,\"\")","v":""},{"$f":"IF(登録済データ!$B93<>0,登録済データ!U93,\"\")","v":""},{"$f":"IF(登録済データ!$B93<>0,登録済データ!V93,\"\")","v":""},{"$f":"IF(登録済データ!$B93<>0,登録済データ!W93,\"\")","v":""},{"$f":"IF(登録済データ!$B93<>0,登録済データ!X93,\"\")","v":""},{"$f":"IF($F90<>\"\",登録済データ!$C$4,\"\")","v":""}]
[null,{"$f":"IF($F91<>\"\",登録済データ!$C$2,\"\")","v":""},{"$f":"IF($F91<>\"\",IF($I$1=\"企業コード3桁\",LEFT(登録済データ!$C$3,3),LEFT(登録済データ!$C$3,6)),\"\")","v":""},null,{"$f":"IF(登録済データ!$B94<>0,登録済データ!C94,\"\")","v":""},{"$f":"IF(登録済データ!$B94<>0,登録済データ!D94,\"\")","v":""},{"$f":"IF(登録済データ!$B94<>0,登録済データ!E94,\"\")","v":""},{"$f":"IF(登録済データ!$B94<>0,IF(登録済データ!F94<>\"\",登録済データ!F94,\"\"),\"\")","v":""},{"$f":"IF(登録済データ!$B94<>0,IF(登録済データ!G94<>\"\",登録済データ!G94,\"\"),\"\")","v":""},{"$f":"IF(登録済データ!$B94<>0,IF(登録済データ!H94<>\"\",登録済データ!H94,\"\"),\"\")","v":""},{"$f":"IF(登録済データ!$B94<>0,IF(登録済データ!I94<>\"\",登録済データ!I94,\"\"),\"\")","v":""},{"$f":"IF(登録済データ!$B94<>0,登録済データ!J94,\"\")","v":""},{"$f":"IF(登録済データ!$B94<>0,登録済データ!K94,\"\")","v":""},{"$f":"IF(登録済データ!$B94<>0,登録済データ!L94,\"\")","v":""},{"$f":"IF(登録済データ!$B94<>0,登録済データ!M94,\"\")","v":""},{"$f":"IF(登録済データ!$B94<>0,登録済データ!N94,\"\")","v":""},{"$f":"IF(登録済データ!$B94<>0,登録済データ!O94,\"\")","v":""},{"$f":"IF(登録済データ!$B94<>0,登録済データ!P94,\"\")","v":""},{"$f":"IF(登録済データ!$B94<>0,登録済データ!Q94,\"\")","v":""},{"$f":"IF(登録済データ!$B94<>0,登録済データ!R94,\"\")","v":""},{"$f":"IF(登録済データ!$B94<>0,登録済データ!S94,\"\")","v":""},{"$f":"IF(登録済データ!$B94<>0,登録済データ!T94,\"\")","v":""},{"$f":"IF(登録済データ!$B94<>0,登録済データ!U94,\"\")","v":""},{"$f":"IF(登録済データ!$B94<>0,登録済データ!V94,\"\")","v":""},{"$f":"IF(登録済データ!$B94<>0,登録済データ!W94,\"\")","v":""},{"$f":"IF(登録済データ!$B94<>0,登録済データ!X94,\"\")","v":""},{"$f":"IF($F91<>\"\",登録済データ!$C$4,\"\")","v":""}]
[null,{"$f":"IF($F92<>\"\",登録済データ!$C$2,\"\")","v":""},{"$f":"IF($F92<>\"\",IF($I$1=\"企業コード3桁\",LEFT(登録済データ!$C$3,3),LEFT(登録済データ!$C$3,6)),\"\")","v":""},null,{"$f":"IF(登録済データ!$B95<>0,登録済データ!C95,\"\")","v":""},{"$f":"IF(登録済データ!$B95<>0,登録済データ!D95,\"\")","v":""},{"$f":"IF(登録済データ!$B95<>0,登録済データ!E95,\"\")","v":""},{"$f":"IF(登録済データ!$B95<>0,IF(登録済データ!F95<>\"\",登録済データ!F95,\"\"),\"\")","v":""},{"$f":"IF(登録済データ!$B95<>0,IF(登録済データ!G95<>\"\",登録済データ!G95,\"\"),\"\")","v":""},{"$f":"IF(登録済データ!$B95<>0,IF(登録済データ!H95<>\"\",登録済データ!H95,\"\"),\"\")","v":""},{"$f":"IF(登録済データ!$B95<>0,IF(登録済データ!I95<>\"\",登録済データ!I95,\"\"),\"\")","v":""},{"$f":"IF(登録済データ!$B95<>0,登録済データ!J95,\"\")","v":""},{"$f":"IF(登録済データ!$B95<>0,登録済データ!K95,\"\")","v":""},{"$f":"IF(登録済データ!$B95<>0,登録済データ!L95,\"\")","v":""},{"$f":"IF(登録済データ!$B95<>0,登録済データ!M95,\"\")","v":""},{"$f":"IF(登録済データ!$B95<>0,登録済データ!N95,\"\")","v":""},{"$f":"IF(登録済データ!$B95<>0,登録済データ!O95,\"\")","v":""},{"$f":"IF(登録済データ!$B95<>0,登録済データ!P95,\"\")","v":""},{"$f":"IF(登録済データ!$B95<>0,登録済データ!Q95,\"\")","v":""},{"$f":"IF(登録済データ!$B95<>0,登録済データ!R95,\"\")","v":""},{"$f":"IF(登録済データ!$B95<>0,登録済データ!S95,\"\")","v":""},{"$f":"IF(登録済データ!$B95<>0,登録済データ!T95,\"\")","v":""},{"$f":"IF(登録済データ!$B95<>0,登録済データ!U95,\"\")","v":""},{"$f":"IF(登録済データ!$B95<>0,登録済データ!V95,\"\")","v":""},{"$f":"IF(登録済データ!$B95<>0,登録済データ!W95,\"\")","v":""},{"$f":"IF(登録済データ!$B95<>0,登録済データ!X95,\"\")","v":""},{"$f":"IF($F92<>\"\",登録済データ!$C$4,\"\")","v":""}]
[null,{"$f":"IF($F93<>\"\",登録済データ!$C$2,\"\")","v":""},{"$f":"IF($F93<>\"\",IF($I$1=\"企業コード3桁\",LEFT(登録済データ!$C$3,3),LEFT(登録済データ!$C$3,6)),\"\")","v":""},null,{"$f":"IF(登録済データ!$B96<>0,登録済データ!C96,\"\")","v":""},{"$f":"IF(登録済データ!$B96<>0,登録済データ!D96,\"\")","v":""},{"$f":"IF(登録済データ!$B96<>0,登録済データ!E96,\"\")","v":""},{"$f":"IF(登録済データ!$B96<>0,IF(登録済データ!F96<>\"\",登録済データ!F96,\"\"),\"\")","v":""},{"$f":"IF(登録済データ!$B96<>0,IF(登録済データ!G96<>\"\",登録済データ!G96,\"\"),\"\")","v":""},{"$f":"IF(登録済データ!$B96<>0,IF(登録済データ!H96<>\"\",登録済データ!H96,\"\"),\"\")","v":""},{"$f":"IF(登録済データ!$B96<>0,IF(登録済データ!I96<>\"\",登録済データ!I96,\"\"),\"\")","v":""},{"$f":"IF(登録済データ!$B96<>0,登録済データ!J96,\"\")","v":""},{"$f":"IF(登録済データ!$B96<>0,登録済データ!K96,\"\")","v":""},{"$f":"IF(登録済データ!$B96<>0,登録済データ!L96,\"\")","v":""},{"$f":"IF(登録済データ!$B96<>0,登録済データ!M96,\"\")","v":""},{"$f":"IF(登録済データ!$B96<>0,登録済データ!N96,\"\")","v":""},{"$f":"IF(登録済データ!$B96<>0,登録済データ!O96,\"\")","v":""},{"$f":"IF(登録済データ!$B96<>0,登録済データ!P96,\"\")","v":""},{"$f":"IF(登録済データ!$B96<>0,登録済データ!Q96,\"\")","v":""},{"$f":"IF(登録済データ!$B96<>0,登録済データ!R96,\"\")","v":""},{"$f":"IF(登録済データ!$B96<>0,登録済データ!S96,\"\")","v":""},{"$f":"IF(登録済データ!$B96<>0,登録済データ!T96,\"\")","v":""},{"$f":"IF(登録済データ!$B96<>0,登録済データ!U96,\"\")","v":""},{"$f":"IF(登録済データ!$B96<>0,登録済データ!V96,\"\")","v":""},{"$f":"IF(登録済データ!$B96<>0,登録済データ!W96,\"\")","v":""},{"$f":"IF(登録済データ!$B96<>0,登録済データ!X96,\"\")","v":""},{"$f":"IF($F93<>\"\",登録済データ!$C$4,\"\")","v":""}]
[null,{"$f":"IF($F94<>\"\",登録済データ!$C$2,\"\")","v":""},{"$f":"IF($F94<>\"\",IF($I$1=\"企業コード3桁\",LEFT(登録済データ!$C$3,3),LEFT(登録済データ!$C$3,6)),\"\")","v":""},null,{"$f":"IF(登録済データ!$B97<>0,登録済データ!C97,\"\")","v":""},{"$f":"IF(登録済データ!$B97<>0,登録済データ!D97,\"\")","v":""},{"$f":"IF(登録済データ!$B97<>0,登録済データ!E97,\"\")","v":""},{"$f":"IF(登録済データ!$B97<>0,IF(登録済データ!F97<>\"\",登録済データ!F97,\"\"),\"\")","v":""},{"$f":"IF(登録済データ!$B97<>0,IF(登録済データ!G97<>\"\",登録済データ!G97,\"\"),\"\")","v":""},{"$f":"IF(登録済データ!$B97<>0,IF(登録済データ!H97<>\"\",登録済データ!H97,\"\"),\"\")","v":""},{"$f":"IF(登録済データ!$B97<>0,IF(登録済データ!I97<>\"\",登録済データ!I97,\"\"),\"\")","v":""},{"$f":"IF(登録済データ!$B97<>0,登録済データ!J97,\"\")","v":""},{"$f":"IF(登録済データ!$B97<>0,登録済データ!K97,\"\")","v":""},{"$f":"IF(登録済データ!$B97<>0,登録済データ!L97,\"\")","v":""},{"$f":"IF(登録済データ!$B97<>0,登録済データ!M97,\"\")","v":""},{"$f":"IF(登録済データ!$B97<>0,登録済データ!N97,\"\")","v":""},{"$f":"IF(登録済データ!$B97<>0,登録済データ!O97,\"\")","v":""},{"$f":"IF(登録済データ!$B97<>0,登録済データ!P97,\"\")","v":""},{"$f":"IF(登録済データ!$B97<>0,登録済データ!Q97,\"\")","v":""},{"$f":"IF(登録済データ!$B97<>0,登録済データ!R97,\"\")","v":""},{"$f":"IF(登録済データ!$B97<>0,登録済データ!S97,\"\")","v":""},{"$f":"IF(登録済データ!$B97<>0,登録済データ!T97,\"\")","v":""},{"$f":"IF(登録済データ!$B97<>0,登録済データ!U97,\"\")","v":""},{"$f":"IF(登録済データ!$B97<>0,登録済データ!V97,\"\")","v":""},{"$f":"IF(登録済データ!$B97<>0,登録済データ!W97,\"\")","v":""},{"$f":"IF(登録済データ!$B97<>0,登録済データ!X97,\"\")","v":""},{"$f":"IF($F94<>\"\",登録済データ!$C$4,\"\")","v":""}]
[null,{"$f":"IF($F95<>\"\",登録済データ!$C$2,\"\")","v":""},{"$f":"IF($F95<>\"\",IF($I$1=\"企業コード3桁\",LEFT(登録済データ!$C$3,3),LEFT(登録済データ!$C$3,6)),\"\")","v":""},null,{"$f":"IF(登録済データ!$B98<>0,登録済データ!C98,\"\")","v":""},{"$f":"IF(登録済データ!$B98<>0,登録済データ!D98,\"\")","v":""},{"$f":"IF(登録済データ!$B98<>0,登録済データ!E98,\"\")","v":""},{"$f":"IF(登録済データ!$B98<>0,IF(登録済データ!F98<>\"\",登録済データ!F98,\"\"),\"\")","v":""},{"$f":"IF(登録済データ!$B98<>0,IF(登録済データ!G98<>\"\",登録済データ!G98,\"\"),\"\")","v":""},{"$f":"IF(登録済データ!$B98<>0,IF(登録済データ!H98<>\"\",登録済データ!H98,\"\"),\"\")","v":""},{"$f":"IF(登録済データ!$B98<>0,IF(登録済データ!I98<>\"\",登録済データ!I98,\"\"),\"\")","v":""},{"$f":"IF(登録済データ!$B98<>0,登録済データ!J98,\"\")","v":""},{"$f":"IF(登録済データ!$B98<>0,登録済データ!K98,\"\")","v":""},{"$f":"IF(登録済データ!$B98<>0,登録済データ!L98,\"\")","v":""},{"$f":"IF(登録済データ!$B98<>0,登録済データ!M98,\"\")","v":""},{"$f":"IF(登録済データ!$B98<>0,登録済データ!N98,\"\")","v":""},{"$f":"IF(登録済データ!$B98<>0,登録済データ!O98,\"\")","v":""},{"$f":"IF(登録済データ!$B98<>0,登録済データ!P98,\"\")","v":""},{"$f":"IF(登録済データ!$B98<>0,登録済データ!Q98,\"\")","v":""},{"$f":"IF(登録済データ!$B98<>0,登録済データ!R98,\"\")","v":""},{"$f":"IF(登録済データ!$B98<>0,登録済データ!S98,\"\")","v":""},{"$f":"IF(登録済データ!$B98<>0,登録済データ!T98,\"\")","v":""},{"$f":"IF(登録済データ!$B98<>0,登録済データ!U98,\"\")","v":""},{"$f":"IF(登録済データ!$B98<>0,登録済データ!V98,\"\")","v":""},{"$f":"IF(登録済データ!$B98<>0,登録済データ!W98,\"\")","v":""},{"$f":"IF(登録済データ!$B98<>0,登録済データ!X98,\"\")","v":""},{"$f":"IF($F95<>\"\",登録済データ!$C$4,\"\")","v":""}]
[null,{"$f":"IF($F96<>\"\",登録済データ!$C$2,\"\")","v":""},{"$f":"IF($F96<>\"\",IF($I$1=\"企業コード3桁\",LEFT(登録済データ!$C$3,3),LEFT(登録済データ!$C$3,6)),\"\")","v":""},null,{"$f":"IF(登録済データ!$B99<>0,登録済データ!C99,\"\")","v":""},{"$f":"IF(登録済データ!$B99<>0,登録済データ!D99,\"\")","v":""},{"$f":"IF(登録済データ!$B99<>0,登録済データ!E99,\"\")","v":""},{"$f":"IF(登録済データ!$B99<>0,IF(登録済データ!F99<>\"\",登録済データ!F99,\"\"),\"\")","v":""},{"$f":"IF(登録済データ!$B99<>0,IF(登録済データ!G99<>\"\",登録済データ!G99,\"\"),\"\")","v":""},{"$f":"IF(登録済データ!$B99<>0,IF(登録済データ!H99<>\"\",登録済データ!H99,\"\"),\"\")","v":""},{"$f":"IF(登録済データ!$B99<>0,IF(登録済データ!I99<>\"\",登録済データ!I99,\"\"),\"\")","v":""},{"$f":"IF(登録済データ!$B99<>0,登録済データ!J99,\"\")","v":""},{"$f":"IF(登録済データ!$B99<>0,登録済データ!K99,\"\")","v":""},{"$f":"IF(登録済データ!$B99<>0,登録済データ!L99,\"\")","v":""},{"$f":"IF(登録済データ!$B99<>0,登録済データ!M99,\"\")","v":""},{"$f":"IF(登録済データ!$B99<>0,登録済データ!N99,\"\")","v":""},{"$f":"IF(登録済データ!$B99<>0,登録済データ!O99,\"\")","v":""},{"$f":"IF(登録済データ!$B99<>0,登録済データ!P99,\"\")","v":""},{"$f":"IF(登録済データ!$B99<>0,登録済データ!Q99,\"\")","v":""},{"$f":"IF(登録済データ!$B99<>0,登録済データ!R99,\"\")","v":""},{"$f":"IF(登録済データ!$B99<>0,登録済データ!S99,\"\")","v":""},{"$f":"IF(登録済データ!$B99<>0,登録済データ!T99,\"\")","v":""},{"$f":"IF(登録済データ!$B99<>0,登録済データ!U99,\"\")","v":""},{"$f":"IF(登録済データ!$B99<>0,登録済データ!V99,\"\")","v":""},{"$f":"IF(登録済データ!$B99<>0,登録済データ!W99,\"\")","v":""},{"$f":"IF(登録済データ!$B99<>0,登録済データ!X99,\"\")","v":""},{"$f":"IF($F96<>\"\",登録済データ!$C$4,\"\")","v":""}]
[null,{"$f":"IF($F97<>\"\",登録済データ!$C$2,\"\")","v":""},{"$f":"IF($F97<>\"\",IF($I$1=\"企業コード3桁\",LEFT(登録済データ!$C$3,3),LEFT(登録済データ!$C$3,6)),\"\")","v":""},null,{"$f":"IF(登録済データ!$B100<>0,登録済データ!C100,\"\")","v":""},{"$f":"IF(登録済データ!$B100<>0,登録済データ!D100,\"\")","v":""},{"$f":"IF(登録済データ!$B100<>0,登録済データ!E100,\"\")","v":""},{"$f":"IF(登録済データ!$B100<>0,IF(登録済データ!F100<>\"\",登録済データ!F100,\"\"),\"\")","v":""},{"$f":"IF(登録済データ!$B100<>0,IF(登録済データ!G100<>\"\",登録済データ!G100,\"\"),\"\")","v":""},{"$f":"IF(登録済データ!$B100<>0,IF(登録済データ!H100<>\"\",登録済データ!H100,\"\"),\"\")","v":""},{"$f":"IF(登録済データ!$B100<>0,IF(登録済データ!I100<>\"\",登録済データ!I100,\"\"),\"\")","v":""},{"$f":"IF(登録済データ!$B100<>0,登録済データ!J100,\"\")","v":""},{"$f":"IF(登録済データ!$B100<>0,登録済データ!K100,\"\")","v":""},{"$f":"IF(登録済データ!$B100<>0,登録済データ!L100,\"\")","v":""},{"$f":"IF(登録済データ!$B100<>0,登録済データ!M100,\"\")","v":""},{"$f":"IF(登録済データ!$B100<>0,登録済データ!N100,\"\")","v":""},{"$f":"IF(登録済データ!$B100<>0,登録済データ!O100,\"\")","v":""},{"$f":"IF(登録済データ!$B100<>0,登録済データ!P100,\"\")","v":""},{"$f":"IF(登録済データ!$B100<>0,登録済データ!Q100,\"\")","v":""},{"$f":"IF(登録済データ!$B100<>0,登録済データ!R100,\"\")","v":""},{"$f":"IF(登録済データ!$B100<>0,登録済データ!S100,\"\")","v":""},{"$f":"IF(登録済データ!$B100<>0,登録済データ!T100,\"\")","v":""},{"$f":"IF(登録済データ!$B100<>0,登録済データ!U100,\"\")","v":""},{"$f":"IF(登録済データ!$B100<>0,登録済データ!V100,\"\")","v":""},{"$f":"IF(登録済データ!$B100<>0,登録済データ!W100,\"\")","v":""},{"$f":"IF(登録済データ!$B100<>0,登録済データ!X100,\"\")","v":""},{"$f":"IF($F97<>\"\",登録済データ!$C$4,\"\")","v":""}]
[null,{"$f":"IF($F98<>\"\",登録済データ!$C$2,\"\")","v":""},{"$f":"IF($F98<>\"\",IF($I$1=\"企業コード3桁\",LEFT(登録済データ!$C$3,3),LEFT(登録済データ!$C$3,6)),\"\")","v":""},null,{"$f":"IF(登録済データ!$B101<>0,登録済データ!C101,\"\")","v":""},{"$f":"IF(登録済データ!$B101<>0,登録済データ!D101,\"\")","v":""},{"$f":"IF(登録済データ!$B101<>0,登録済データ!E101,\"\")","v":""},{"$f":"IF(登録済データ!$B101<>0,IF(登録済データ!F101<>\"\",登録済データ!F101,\"\"),\"\")","v":""},{"$f":"IF(登録済データ!$B101<>0,IF(登録済データ!G101<>\"\",登録済データ!G101,\"\"),\"\")","v":""},{"$f":"IF(登録済データ!$B101<>0,IF(登録済データ!H101<>\"\",登録済データ!H101,\"\"),\"\")","v":""},{"$f":"IF(登録済データ!$B101<>0,IF(登録済データ!I101<>\"\",登録済データ!I101,\"\"),\"\")","v":""},{"$f":"IF(登録済データ!$B101<>0,登録済データ!J101,\"\")","v":""},{"$f":"IF(登録済データ!$B101<>0,登録済データ!K101,\"\")","v":""},{"$f":"IF(登録済データ!$B101<>0,登録済データ!L101,\"\")","v":""},{"$f":"IF(登録済データ!$B101<>0,登録済データ!M101,\"\")","v":""},{"$f":"IF(登録済データ!$B101<>0,登録済データ!N101,\"\")","v":""},{"$f":"IF(登録済データ!$B101<>0,登録済データ!O101,\"\")","v":""},{"$f":"IF(登録済データ!$B101<>0,登録済データ!P101,\"\")","v":""},{"$f":"IF(登録済データ!$B101<>0,登録済データ!Q101,\"\")","v":""},{"$f":"IF(登録済データ!$B101<>0,登録済データ!R101,\"\")","v":""},{"$f":"IF(登録済データ!$B101<>0,登録済データ!S101,\"\")","v":""},{"$f":"IF(登録済データ!$B101<>0,登録済データ!T101,\"\")","v":""},{"$f":"IF(登録済データ!$B101<>0,登録済データ!U101,\"\")","v":""},{"$f":"IF(登録済データ!$B101<>0,登録済データ!V101,\"\")","v":""},{"$f":"IF(登録済データ!$B101<>0,登録済データ!W101,\"\")","v":""},{"$f":"IF(登録済データ!$B101<>0,登録済データ!X101,\"\")","v":""},{"$f":"IF($F98<>\"\",登録済データ!$C$4,\"\")","v":""}]
[null,{"$f":"IF($F99<>\"\",登録済データ!$C$2,\"\")","v":""},{"$f":"IF($F99<>\"\",IF($I$1=\"企業コード3桁\",LEFT(登録済データ!$C$3,3),LEFT(登録済データ!$C$3,6)),\"\")","v":""},null,{"$f":"IF(登録済データ!$B102<>0,登録済データ!C102,\"\")","v":""},{"$f":"IF(登録済データ!$B102<>0,登録済データ!D102,\"\")","v":""},{"$f":"IF(登録済データ!$B102<>0,登録済データ!E102,\"\")","v":""},{"$f":"IF(登録済データ!$B102<>0,IF(登録済データ!F102<>\"\",登録済データ!F102,\"\"),\"\")","v":""},{"$f":"IF(登録済データ!$B102<>0,IF(登録済データ!G102<>\"\",登録済データ!G102,\"\"),\"\")","v":""},{"$f":"IF(登録済データ!$B102<>0,IF(登録済データ!H102<>\"\",登録済データ!H102,\"\"),\"\")","v":""},{"$f":"IF(登録済データ!$B102<>0,IF(登録済データ!I102<>\"\",登録済データ!I102,\"\"),\"\")","v":""},{"$f":"IF(登録済データ!$B102<>0,登録済データ!J102,\"\")","v":""},{"$f":"IF(登録済データ!$B102<>0,登録済データ!K102,\"\")","v":""},{"$f":"IF(登録済データ!$B102<>0,登録済データ!L102,\"\")","v":""},{"$f":"IF(登録済データ!$B102<>0,登録済データ!M102,\"\")","v":""},{"$f":"IF(登録済データ!$B102<>0,登録済データ!N102,\"\")","v":""},{"$f":"IF(登録済データ!$B102<>0,登録済データ!O102,\"\")","v":""},{"$f":"IF(登録済データ!$B102<>0,登録済データ!P102,\"\")","v":""},{"$f":"IF(登録済データ!$B102<>0,登録済データ!Q102,\"\")","v":""},{"$f":"IF(登録済データ!$B102<>0,登録済データ!R102,\"\")","v":""},{"$f":"IF(登録済データ!$B102<>0,登録済データ!S102,\"\")","v":""},{"$f":"IF(登録済データ!$B102<>0,登録済データ!T102,\"\")","v":""},{"$f":"IF(登録済データ!$B102<>0,登録済データ!U102,\"\")","v":""},{"$f":"IF(登録済データ!$B102<>0,登録済データ!V102,\"\")","v":""},{"$f":"IF(登録済データ!$B102<>0,登録済データ!W102,\"\")","v":""},{"$f":"IF(登録済データ!$B102<>0,登録済データ!X102,\"\")","v":""},{"$f":"IF($F99<>\"\",登録済データ!$C$4,\"\")","v":""}]
[null,{"$f":"IF($F100<>\"\",登録済データ!$C$2,\"\")","v":""},{"$f":"IF($F100<>\"\",IF($I$1=\"企業コード3桁\",LEFT(登録済データ!$C$3,3),LEFT(登録済データ!$C$3,6)),\"\")","v":""},null,{"$f":"IF(登録済データ!$B103<>0,登録済データ!C103,\"\")","v":""},{"$f":"IF(登録済データ!$B103<>0,登録済データ!D103,\"\")","v":""},{"$f":"IF(登録済データ!$B103<>0,登録済データ!E103,\"\")","v":""},{"$f":"IF(登録済データ!$B103<>0,IF(登録済データ!F103<>\"\",登録済データ!F103,\"\"),\"\")","v":""},{"$f":"IF(登録済データ!$B103<>0,IF(登録済データ!G103<>\"\",登録済データ!G103,\"\"),\"\")","v":""},{"$f":"IF(登録済データ!$B103<>0,IF(登録済データ!H103<>\"\",登録済データ!H103,\"\"),\"\")","v":""},{"$f":"IF(登録済データ!$B103<>0,IF(登録済データ!I103<>\"\",登録済データ!I103,\"\"),\"\")","v":""},{"$f":"IF(登録済データ!$B103<>0,登録済データ!J103,\"\")","v":""},{"$f":"IF(登録済データ!$B103<>0,登録済データ!K103,\"\")","v":""},{"$f":"IF(登録済データ!$B103<>0,登録済データ!L103,\"\")","v":""},{"$f":"IF(登録済データ!$B103<>0,登録済データ!M103,\"\")","v":""},{"$f":"IF(登録済データ!$B103<>0,登録済データ!N103,\"\")","v":""},{"$f":"IF(登録済データ!$B103<>0,登録済データ!O103,\"\")","v":""},{"$f":"IF(登録済データ!$B103<>0,登録済データ!P103,\"\")","v":""},{"$f":"IF(登録済データ!$B103<>0,登録済データ!Q103,\"\")","v":""},{"$f":"IF(登録済データ!$B103<>0,登録済データ!R103,\"\")","v":""},{"$f":"IF(登録済データ!$B103<>0,登録済データ!S103,\"\")","v":""},{"$f":"IF(登録済データ!$B103<>0,登録済データ!T103,\"\")","v":""},{"$f":"IF(登録済データ!$B103<>0,登録済データ!U103,\"\")","v":""},{"$f":"IF(登録済データ!$B103<>0,登録済データ!V103,\"\")","v":""},{"$f":"IF(登録済データ!$B103<>0,登録済データ!W103,\"\")","v":""},{"$f":"IF(登録済データ!$B103<>0,登録済データ!X103,\"\")","v":""},{"$f":"IF($F100<>\"\",登録済データ!$C$4,\"\")","v":""}]
[null,{"$f":"IF($F101<>\"\",登録済データ!$C$2,\"\")","v":""},{"$f":"IF($F101<>\"\",IF($I$1=\"企業コード3桁\",LEFT(登録済データ!$C$3,3),LEFT(登録済データ!$C$3,6)),\"\")","v":""},null,{"$f":"IF(登録済データ!$B104<>0,登録済データ!C104,\"\")","v":""},{"$f":"IF(登録済データ!$B104<>0,登録済データ!D104,\"\")","v":""},{"$f":"IF(登録済データ!$B104<>0,登録済データ!E104,\"\")","v":""},{"$f":"IF(登録済データ!$B104<>0,IF(登録済データ!F104<>\"\",登録済データ!F104,\"\"),\"\")","v":""},{"$f":"IF(登録済データ!$B104<>0,IF(登録済データ!G104<>\"\",登録済データ!G104,\"\"),\"\")","v":""},{"$f":"IF(登録済データ!$B104<>0,IF(登録済データ!H104<>\"\",登録済データ!H104,\"\"),\"\")","v":""},{"$f":"IF(登録済データ!$B104<>0,IF(登録済データ!I104<>\"\",登録済データ!I104,\"\"),\"\")","v":""},{"$f":"IF(登録済データ!$B104<>0,登録済データ!J104,\"\")","v":""},{"$f":"IF(登録済データ!$B104<>0,登録済データ!K104,\"\")","v":""},{"$f":"IF(登録済データ!$B104<>0,登録済データ!L104,\"\")","v":""},{"$f":"IF(登録済データ!$B104<>0,登録済データ!M104,\"\")","v":""},{"$f":"IF(登録済データ!$B104<>0,登録済データ!N104,\"\")","v":""},{"$f":"IF(登録済データ!$B104<>0,登録済データ!O104,\"\")","v":""},{"$f":"IF(登録済データ!$B104<>0,登録済データ!P104,\"\")","v":""},{"$f":"IF(登録済データ!$B104<>0,登録済データ!Q104,\"\")","v":""},{"$f":"IF(登録済データ!$B104<>0,登録済データ!R104,\"\")","v":""},{"$f":"IF(登録済データ!$B104<>0,登録済データ!S104,\"\")","v":""},{"$f":"IF(登録済データ!$B104<>0,登録済データ!T104,\"\")","v":""},{"$f":"IF(登録済データ!$B104<>0,登録済データ!U104,\"\")","v":""},{"$f":"IF(登録済データ!$B104<>0,登録済データ!V104,\"\")","v":""},{"$f":"IF(登録済データ!$B104<>0,登録済データ!W104,\"\")","v":""},{"$f":"IF(登録済データ!$B104<>0,登録済データ!X104,\"\")","v":""},{"$f":"IF($F101<>\"\",登録済データ!$C$4,\"\")","v":""}]
[null,{"$f":"IF($F102<>\"\",登録済データ!$C$2,\"\")","v":""},{"$f":"IF($F102<>\"\",IF($I$1=\"企業コード3桁\",LEFT(登録済データ!$C$3,3),LEFT(登録済データ!$C$3,6)),\"\")","v":""},null,{"$f":"IF(登録済データ!$B105<>0,登録済データ!C105,\"\")","v":""},{"$f":"IF(登録済データ!$B105<>0,登録済データ!D105,\"\")","v":""},{"$f":"IF(登録済データ!$B105<>0,登録済データ!E105,\"\")","v":""},{"$f":"IF(登録済データ!$B105<>0,IF(登録済データ!F105<>\"\",登録済データ!F105,\"\"),\"\")","v":""},{"$f":"IF(登録済データ!$B105<>0,IF(登録済データ!G105<>\"\",登録済データ!G105,\"\"),\"\")","v":""},{"$f":"IF(登録済データ!$B105<>0,IF(登録済データ!H105<>\"\",登録済データ!H105,\"\"),\"\")","v":""},{"$f":"IF(登録済データ!$B105<>0,IF(登録済データ!I105<>\"\",登録済データ!I105,\"\"),\"\")","v":""},{"$f":"IF(登録済データ!$B105<>0,登録済データ!J105,\"\")","v":""},{"$f":"IF(登録済データ!$B105<>0,登録済データ!K105,\"\")","v":""},{"$f":"IF(登録済データ!$B105<>0,登録済データ!L105,\"\")","v":""},{"$f":"IF(登録済データ!$B105<>0,登録済データ!M105,\"\")","v":""},{"$f":"IF(登録済データ!$B105<>0,登録済データ!N105,\"\")","v":""},{"$f":"IF(登録済データ!$B105<>0,登録済データ!O105,\"\")","v":""},{"$f":"IF(登録済データ!$B105<>0,登録済データ!P105,\"\")","v":""},{"$f":"IF(登録済データ!$B105<>0,登録済データ!Q105,\"\")","v":""},{"$f":"IF(登録済データ!$B105<>0,登録済データ!R105,\"\")","v":""},{"$f":"IF(登録済データ!$B105<>0,登録済データ!S105,\"\")","v":""},{"$f":"IF(登録済データ!$B105<>0,登録済データ!T105,\"\")","v":""},{"$f":"IF(登録済データ!$B105<>0,登録済データ!U105,\"\")","v":""},{"$f":"IF(登録済データ!$B105<>0,登録済データ!V105,\"\")","v":""},{"$f":"IF(登録済データ!$B105<>0,登録済データ!W105,\"\")","v":""},{"$f":"IF(登録済データ!$B105<>0,登録済データ!X105,\"\")","v":""},{"$f":"IF($F102<>\"\",登録済データ!$C$4,\"\")","v":""}]
[null,{"$f":"IF($F103<>\"\",登録済データ!$C$2,\"\")","v":""},{"$f":"IF($F103<>\"\",IF($I$1=\"企業コード3桁\",LEFT(登録済データ!$C$3,3),LEFT(登録済データ!$C$3,6)),\"\")","v":""},null,{"$f":"IF(登録済データ!$B106<>0,登録済データ!C106,\"\")","v":""},{"$f":"IF(登録済データ!$B106<>0,登録済データ!D106,\"\")","v":""},{"$f":"IF(登録済データ!$B106<>0,登録済データ!E106,\"\")","v":""},{"$f":"IF(登録済データ!$B106<>0,IF(登録済データ!F106<>\"\",登録済データ!F106,\"\"),\"\")","v":""},{"$f":"IF(登録済データ!$B106<>0,IF(登録済データ!G106<>\"\",登録済データ!G106,\"\"),\"\")","v":""},{"$f":"IF(登録済データ!$B106<>0,IF(登録済データ!H106<>\"\",登録済データ!H106,\"\"),\"\")","v":""},{"$f":"IF(登録済データ!$B106<>0,IF(登録済データ!I106<>\"\",登録済データ!I106,\"\"),\"\")","v":""},{"$f":"IF(登録済データ!$B106<>0,登録済データ!J106,\"\")","v":""},{"$f":"IF(登録済データ!$B106<>0,登録済データ!K106,\"\")","v":""},{"$f":"IF(登録済データ!$B106<>0,登録済データ!L106,\"\")","v":""},{"$f":"IF(登録済データ!$B106<>0,登録済データ!M106,\"\")","v":""},{"$f":"IF(登録済データ!$B106<>0,登録済データ!N106,\"\")","v":""},{"$f":"IF(登録済データ!$B106<>0,登録済データ!O106,\"\")","v":""},{"$f":"IF(登録済データ!$B106<>0,登録済データ!P106,\"\")","v":""},{"$f":"IF(登録済データ!$B106<>0,登録済データ!Q106,\"\")","v":""},{"$f":"IF(登録済データ!$B106<>0,登録済データ!R106,\"\")","v":""},{"$f":"IF(登録済データ!$B106<>0,登録済データ!S106,\"\")","v":""},{"$f":"IF(登録済データ!$B106<>0,登録済データ!T106,\"\")","v":""},{"$f":"IF(登録済データ!$B106<>0,登録済データ!U106,\"\")","v":""},{"$f":"IF(登録済データ!$B106<>0,登録済データ!V106,\"\")","v":""},{"$f":"IF(登録済データ!$B106<>0,登録済データ!W106,\"\")","v":""},{"$f":"IF(登録済データ!$B106<>0,登録済データ!X106,\"\")","v":""},{"$f":"IF($F103<>\"\",登録済データ!$C$4,\"\")","v":""}]
[null,{"$f":"IF($F104<>\"\",登録済データ!$C$2,\"\")","v":""},{"$f":"IF($F104<>\"\",IF($I$1=\"企業コード3桁\",LEFT(登録済データ!$C$3,3),LEFT(登録済データ!$C$3,6)),\"\")","v":""},null,{"$f":"IF(登録済データ!$B107<>0,登録済データ!C107,\"\")","v":""},{"$f":"IF(登録済データ!$B107<>0,登録済データ!D107,\"\")","v":""},{"$f":"IF(登録済データ!$B107<>0,登録済データ!E107,\"\")","v":""},{"$f":"IF(登録済データ!$B107<>0,IF(登録済データ!F107<>\"\",登録済データ!F107,\"\"),\"\")","v":""},{"$f":"IF(登録済データ!$B107<>0,IF(登録済データ!G107<>\"\",登録済データ!G107,\"\"),\"\")","v":""},{"$f":"IF(登録済データ!$B107<>0,IF(登録済データ!H107<>\"\",登録済データ!H107,\"\"),\"\")","v":""},{"$f":"IF(登録済データ!$B107<>0,IF(登録済データ!I107<>\"\",登録済データ!I107,\"\"),\"\")","v":""},{"$f":"IF(登録済データ!$B107<>0,登録済データ!J107,\"\")","v":""},{"$f":"IF(登録済データ!$B107<>0,登録済データ!K107,\"\")","v":""},{"$f":"IF(登録済データ!$B107<>0,登録済データ!L107,\"\")","v":""},{"$f":"IF(登録済データ!$B107<>0,登録済データ!M107,\"\")","v":""},{"$f":"IF(登録済データ!$B107<>0,登録済データ!N107,\"\")","v":""},{"$f":"IF(登録済データ!$B107<>0,登録済データ!O107,\"\")","v":""},{"$f":"IF(登録済データ!$B107<>0,登録済データ!P107,\"\")","v":""},{"$f":"IF(登録済データ!$B107<>0,登録済データ!Q107,\"\")","v":""},{"$f":"IF(登録済データ!$B107<>0,登録済データ!R107,\"\")","v":""},{"$f":"IF(登録済データ!$B107<>0,登録済データ!S107,\"\")","v":""},{"$f":"IF(登録済データ!$B107<>0,登録済データ!T107,\"\")","v":""},{"$f":"IF(登録済データ!$B107<>0,登録済データ!U107,\"\")","v":""},{"$f":"IF(登録済データ!$B107<>0,登録済データ!V107,\"\")","v":""},{"$f":"IF(登録済データ!$B107<>0,登録済データ!W107,\"\")","v":""},{"$f":"IF(登録済データ!$B107<>0,登録済データ!X107,\"\")","v":""},{"$f":"IF($F104<>\"\",登録済データ!$C$4,\"\")","v":""}]
[null,{"$f":"IF($F105<>\"\",登録済データ!$C$2,\"\")","v":""},{"$f":"IF($F105<>\"\",IF($I$1=\"企業コード3桁\",LEFT(登録済データ!$C$3,3),LEFT(登録済データ!$C$3,6)),\"\")","v":""},null,{"$f":"IF(登録済データ!$B108<>0,登録済データ!C108,\"\")","v":""},{"$f":"IF(登録済データ!$B108<>0,登録済データ!D108,\"\")","v":""},{"$f":"IF(登録済データ!$B108<>0,登録済データ!E108,\"\")","v":""},{"$f":"IF(登録済データ!$B108<>0,IF(登録済データ!F108<>\"\",登録済データ!F108,\"\"),\"\")","v":""},{"$f":"IF(登録済データ!$B108<>0,IF(登録済データ!G108<>\"\",登録済データ!G108,\"\"),\"\")","v":""},{"$f":"IF(登録済データ!$B108<>0,IF(登録済データ!H108<>\"\",登録済データ!H108,\"\"),\"\")","v":""},{"$f":"IF(登録済データ!$B108<>0,IF(登録済データ!I108<>\"\",登録済データ!I108,\"\"),\"\")","v":""},{"$f":"IF(登録済データ!$B108<>0,登録済データ!J108,\"\")","v":""},{"$f":"IF(登録済データ!$B108<>0,登録済データ!K108,\"\")","v":""},{"$f":"IF(登録済データ!$B108<>0,登録済データ!L108,\"\")","v":""},{"$f":"IF(登録済データ!$B108<>0,登録済データ!M108,\"\")","v":""},{"$f":"IF(登録済データ!$B108<>0,登録済データ!N108,\"\")","v":""},{"$f":"IF(登録済データ!$B108<>0,登録済データ!O108,\"\")","v":""},{"$f":"IF(登録済データ!$B108<>0,登録済データ!P108,\"\")","v":""},{"$f":"IF(登録済データ!$B108<>0,登録済データ!Q108,\"\")","v":""},{"$f":"IF(登録済データ!$B108<>0,登録済データ!R108,\"\")","v":""},{"$f":"IF(登録済データ!$B108<>0,登録済データ!S108,\"\")","v":""},{"$f":"IF(登録済データ!$B108<>0,登録済データ!T108,\"\")","v":""},{"$f":"IF(登録済データ!$B108<>0,登録済データ!U108,\"\")","v":""},{"$f":"IF(登録済データ!$B108<>0,登録済データ!V108,\"\")","v":""},{"$f":"IF(登録済データ!$B108<>0,登録済データ!W108,\"\")","v":""},{"$f":"IF(登録済データ!$B108<>0,登録済データ!X108,\"\")","v":""},{"$f":"IF($F105<>\"\",登録済データ!$C$4,\"\")","v":""}]
[null,{"$f":"IF($F106<>\"\",登録済データ!$C$2,\"\")","v":""},{"$f":"IF($F106<>\"\",IF($I$1=\"企業コード3桁\",LEFT(登録済データ!$C$3,3),LEFT(登録済データ!$C$3,6)),\"\")","v":""},null,{"$f":"IF(登録済データ!$B109<>0,登録済データ!C109,\"\")","v":""},{"$f":"IF(登録済データ!$B109<>0,登録済データ!D109,\"\")","v":""},{"$f":"IF(登録済データ!$B109<>0,登録済データ!E109,\"\")","v":""},{"$f":"IF(登録済データ!$B109<>0,IF(登録済データ!F109<>\"\",登録済データ!F109,\"\"),\"\")","v":""},{"$f":"IF(登録済データ!$B109<>0,IF(登録済データ!G109<>\"\",登録済データ!G109,\"\"),\"\")","v":""},{"$f":"IF(登録済データ!$B109<>0,IF(登録済データ!H109<>\"\",登録済データ!H109,\"\"),\"\")","v":""},{"$f":"IF(登録済データ!$B109<>0,IF(登録済データ!I109<>\"\",登録済データ!I109,\"\"),\"\")","v":""},{"$f":"IF(登録済データ!$B109<>0,登録済データ!J109,\"\")","v":""},{"$f":"IF(登録済データ!$B109<>0,登録済データ!K109,\"\")","v":""},{"$f":"IF(登録済データ!$B109<>0,登録済データ!L109,\"\")","v":""},{"$f":"IF(登録済データ!$B109<>0,登録済データ!M109,\"\")","v":""},{"$f":"IF(登録済データ!$B109<>0,登録済データ!N109,\"\")","v":""},{"$f":"IF(登録済データ!$B109<>0,登録済データ!O109,\"\")","v":""},{"$f":"IF(登録済データ!$B109<>0,登録済データ!P109,\"\")","v":""},{"$f":"IF(登録済データ!$B109<>0,登録済データ!Q109,\"\")","v":""},{"$f":"IF(登録済データ!$B109<>0,登録済データ!R109,\"\")","v":""},{"$f":"IF(登録済データ!$B109<>0,登録済データ!S109,\"\")","v":""},{"$f":"IF(登録済データ!$B109<>0,登録済データ!T109,\"\")","v":""},{"$f":"IF(登録済データ!$B109<>0,登録済データ!U109,\"\")","v":""},{"$f":"IF(登録済データ!$B109<>0,登録済データ!V109,\"\")","v":""},{"$f":"IF(登録済データ!$B109<>0,登録済データ!W109,\"\")","v":""},{"$f":"IF(登録済データ!$B109<>0,登録済データ!X109,\"\")","v":""},{"$f":"IF($F106<>\"\",登録済データ!$C$4,\"\")","v":""}]
[null,{"$f":"IF($F107<>\"\",登録済データ!$C$2,\"\")","v":""},{"$f":"IF($F107<>\"\",IF($I$1=\"企業コード3桁\",LEFT(登録済データ!$C$3,3),LEFT(登録済データ!$C$3,6)),\"\")","v":""},null,{"$f":"IF(登録済データ!$B110<>0,登録済データ!C110,\"\")","v":""},{"$f":"IF(登録済データ!$B110<>0,登録済データ!D110,\"\")","v":""},{"$f":"IF(登録済データ!$B110<>0,登録済データ!E110,\"\")","v":""},{"$f":"IF(登録済データ!$B110<>0,IF(登録済データ!F110<>\"\",登録済データ!F110,\"\"),\"\")","v":""},{"$f":"IF(登録済データ!$B110<>0,IF(登録済データ!G110<>\"\",登録済データ!G110,\"\"),\"\")","v":""},{"$f":"IF(登録済データ!$B110<>0,IF(登録済データ!H110<>\"\",登録済データ!H110,\"\"),\"\")","v":""},{"$f":"IF(登録済データ!$B110<>0,IF(登録済データ!I110<>\"\",登録済データ!I110,\"\"),\"\")","v":""},{"$f":"IF(登録済データ!$B110<>0,登録済データ!J110,\"\")","v":""},{"$f":"IF(登録済データ!$B110<>0,登録済データ!K110,\"\")","v":""},{"$f":"IF(登録済データ!$B110<>0,登録済データ!L110,\"\")","v":""},{"$f":"IF(登録済データ!$B110<>0,登録済データ!M110,\"\")","v":""},{"$f":"IF(登録済データ!$B110<>0,登録済データ!N110,\"\")","v":""},{"$f":"IF(登録済データ!$B110<>0,登録済データ!O110,\"\")","v":""},{"$f":"IF(登録済データ!$B110<>0,登録済データ!P110,\"\")","v":""},{"$f":"IF(登録済データ!$B110<>0,登録済データ!Q110,\"\")","v":""},{"$f":"IF(登録済データ!$B110<>0,登録済データ!R110,\"\")","v":""},{"$f":"IF(登録済データ!$B110<>0,登録済データ!S110,\"\")","v":""},{"$f":"IF(登録済データ!$B110<>0,登録済データ!T110,\"\")","v":""},{"$f":"IF(登録済データ!$B110<>0,登録済データ!U110,\"\")","v":""},{"$f":"IF(登録済データ!$B110<>0,登録済データ!V110,\"\")","v":""},{"$f":"IF(登録済データ!$B110<>0,登録済データ!W110,\"\")","v":""},{"$f":"IF(登録済データ!$B110<>0,登録済データ!X110,\"\")","v":""},{"$f":"IF($F107<>\"\",登録済データ!$C$4,\"\")","v":""}]
[null,{"$f":"IF($F108<>\"\",登録済データ!$C$2,\"\")","v":""},{"$f":"IF($F108<>\"\",IF($I$1=\"企業コード3桁\",LEFT(登録済データ!$C$3,3),LEFT(登録済データ!$C$3,6)),\"\")","v":""},null,{"$f":"IF(登録済データ!$B111<>0,登録済データ!C111,\"\")","v":""},{"$f":"IF(登録済データ!$B111<>0,登録済データ!D111,\"\")","v":""},{"$f":"IF(登録済データ!$B111<>0,登録済データ!E111,\"\")","v":""},{"$f":"IF(登録済データ!$B111<>0,IF(登録済データ!F111<>\"\",登録済データ!F111,\"\"),\"\")","v":""},{"$f":"IF(登録済データ!$B111<>0,IF(登録済データ!G111<>\"\",登録済データ!G111,\"\"),\"\")","v":""},{"$f":"IF(登録済データ!$B111<>0,IF(登録済データ!H111<>\"\",登録済データ!H111,\"\"),\"\")","v":""},{"$f":"IF(登録済データ!$B111<>0,IF(登録済データ!I111<>\"\",登録済データ!I111,\"\"),\"\")","v":""},{"$f":"IF(登録済データ!$B111<>0,登録済データ!J111,\"\")","v":""},{"$f":"IF(登録済データ!$B111<>0,登録済データ!K111,\"\")","v":""},{"$f":"IF(登録済データ!$B111<>0,登録済データ!L111,\"\")","v":""},{"$f":"IF(登録済データ!$B111<>0,登録済データ!M111,\"\")","v":""},{"$f":"IF(登録済データ!$B111<>0,登録済データ!N111,\"\")","v":""},{"$f":"IF(登録済データ!$B111<>0,登録済データ!O111,\"\")","v":""},{"$f":"IF(登録済データ!$B111<>0,登録済データ!P111,\"\")","v":""},{"$f":"IF(登録済データ!$B111<>0,登録済データ!Q111,\"\")","v":""},{"$f":"IF(登録済データ!$B111<>0,登録済データ!R111,\"\")","v":""},{"$f":"IF(登録済データ!$B111<>0,登録済データ!S111,\"\")","v":""},{"$f":"IF(登録済データ!$B111<>0,登録済データ!T111,\"\")","v":""},{"$f":"IF(登録済データ!$B111<>0,登録済データ!U111,\"\")","v":""},{"$f":"IF(登録済データ!$B111<>0,登録済データ!V111,\"\")","v":""},{"$f":"IF(登録済データ!$B111<>0,登録済データ!W111,\"\")","v":""},{"$f":"IF(登録済データ!$B111<>0,登録済データ!X111,\"\")","v":""},{"$f":"IF($F108<>\"\",登録済データ!$C$4,\"\")","v":""}]
[null,{"$f":"IF($F109<>\"\",登録済データ!$C$2,\"\")","v":""},{"$f":"IF($F109<>\"\",IF($I$1=\"企業コード3桁\",LEFT(登録済データ!$C$3,3),LEFT(登録済データ!$C$3,6)),\"\")","v":""},null,{"$f":"IF(登録済データ!$B112<>0,登録済データ!C112,\"\")","v":""},{"$f":"IF(登録済データ!$B112<>0,登録済データ!D112,\"\")","v":""},{"$f":"IF(登録済データ!$B112<>0,登録済データ!E112,\"\")","v":""},{"$f":"IF(登録済データ!$B112<>0,IF(登録済データ!F112<>\"\",登録済データ!F112,\"\"),\"\")","v":""},{"$f":"IF(登録済データ!$B112<>0,IF(登録済データ!G112<>\"\",登録済データ!G112,\"\"),\"\")","v":""},{"$f":"IF(登録済データ!$B112<>0,IF(登録済データ!H112<>\"\",登録済データ!H112,\"\"),\"\")","v":""},{"$f":"IF(登録済データ!$B112<>0,IF(登録済データ!I112<>\"\",登録済データ!I112,\"\"),\"\")","v":""},{"$f":"IF(登録済データ!$B112<>0,登録済データ!J112,\"\")","v":""},{"$f":"IF(登録済データ!$B112<>0,登録済データ!K112,\"\")","v":""},{"$f":"IF(登録済データ!$B112<>0,登録済データ!L112,\"\")","v":""},{"$f":"IF(登録済データ!$B112<>0,登録済データ!M112,\"\")","v":""},{"$f":"IF(登録済データ!$B112<>0,登録済データ!N112,\"\")","v":""},{"$f":"IF(登録済データ!$B112<>0,登録済データ!O112,\"\")","v":""},{"$f":"IF(登録済データ!$B112<>0,登録済データ!P112,\"\")","v":""},{"$f":"IF(登録済データ!$B112<>0,登録済データ!Q112,\"\")","v":""},{"$f":"IF(登録済データ!$B112<>0,登録済データ!R112,\"\")","v":""},{"$f":"IF(登録済データ!$B112<>0,登録済データ!S112,\"\")","v":""},{"$f":"IF(登録済データ!$B112<>0,登録済データ!T112,\"\")","v":""},{"$f":"IF(登録済データ!$B112<>0,登録済データ!U112,\"\")","v":""},{"$f":"IF(登録済データ!$B112<>0,登録済データ!V112,\"\")","v":""},{"$f":"IF(登録済データ!$B112<>0,登録済データ!W112,\"\")","v":""},{"$f":"IF(登録済データ!$B112<>0,登録済データ!X112,\"\")","v":""},{"$f":"IF($F109<>\"\",登録済データ!$C$4,\"\")","v":""}]
[null,{"$f":"IF($F110<>\"\",登録済データ!$C$2,\"\")","v":""},{"$f":"IF($F110<>\"\",IF($I$1=\"企業コード3桁\",LEFT(登録済データ!$C$3,3),LEFT(登録済データ!$C$3,6)),\"\")","v":""},null,{"$f":"IF(登録済データ!$B113<>0,登録済データ!C113,\"\")","v":""},{"$f":"IF(登録済データ!$B113<>0,登録済データ!D113,\"\")","v":""},{"$f":"IF(登録済データ!$B113<>0,登録済データ!E113,\"\")","v":""},{"$f":"IF(登録済データ!$B113<>0,IF(登録済データ!F113<>\"\",登録済データ!F113,\"\"),\"\")","v":""},{"$f":"IF(登録済データ!$B113<>0,IF(登録済データ!G113<>\"\",登録済データ!G113,\"\"),\"\")","v":""},{"$f":"IF(登録済データ!$B113<>0,IF(登録済データ!H113<>\"\",登録済データ!H113,\"\"),\"\")","v":""},{"$f":"IF(登録済データ!$B113<>0,IF(登録済データ!I113<>\"\",登録済データ!I113,\"\"),\"\")","v":""},{"$f":"IF(登録済データ!$B113<>0,登録済データ!J113,\"\")","v":""},{"$f":"IF(登録済データ!$B113<>0,登録済データ!K113,\"\")","v":""},{"$f":"IF(登録済データ!$B113<>0,登録済データ!L113,\"\")","v":""},{"$f":"IF(登録済データ!$B113<>0,登録済データ!M113,\"\")","v":""},{"$f":"IF(登録済データ!$B113<>0,登録済データ!N113,\"\")","v":""},{"$f":"IF(登録済データ!$B113<>0,登録済データ!O113,\"\")","v":""},{"$f":"IF(登録済データ!$B113<>0,登録済データ!P113,\"\")","v":""},{"$f":"IF(登録済データ!$B113<>0,登録済データ!Q113,\"\")","v":""},{"$f":"IF(登録済データ!$B113<>0,登録済データ!R113,\"\")","v":""},{"$f":"IF(登録済データ!$B113<>0,登録済データ!S113,\"\")","v":""},{"$f":"IF(登録済データ!$B113<>0,登録済データ!T113,\"\")","v":""},{"$f":"IF(登録済データ!$B113<>0,登録済データ!U113,\"\")","v":""},{"$f":"IF(登録済データ!$B113<>0,登録済データ!V113,\"\")","v":""},{"$f":"IF(登録済データ!$B113<>0,登録済データ!W113,\"\")","v":""},{"$f":"IF(登録済データ!$B113<>0,登録済データ!X113,\"\")","v":""},{"$f":"IF($F110<>\"\",登録済データ!$C$4,\"\")","v":""}]
[null,{"$f":"IF($F111<>\"\",登録済データ!$C$2,\"\")","v":""},{"$f":"IF($F111<>\"\",IF($I$1=\"企業コード3桁\",LEFT(登録済データ!$C$3,3),LEFT(登録済データ!$C$3,6)),\"\")","v":""},null,{"$f":"IF(登録済データ!$B114<>0,登録済データ!C114,\"\")","v":""},{"$f":"IF(登録済データ!$B114<>0,登録済データ!D114,\"\")","v":""},{"$f":"IF(登録済データ!$B114<>0,登録済データ!E114,\"\")","v":""},{"$f":"IF(登録済データ!$B114<>0,IF(登録済データ!F114<>\"\",登録済データ!F114,\"\"),\"\")","v":""},{"$f":"IF(登録済データ!$B114<>0,IF(登録済データ!G114<>\"\",登録済データ!G114,\"\"),\"\")","v":""},{"$f":"IF(登録済データ!$B114<>0,IF(登録済データ!H114<>\"\",登録済データ!H114,\"\"),\"\")","v":""},{"$f":"IF(登録済データ!$B114<>0,IF(登録済データ!I114<>\"\",登録済データ!I114,\"\"),\"\")","v":""},{"$f":"IF(登録済データ!$B114<>0,登録済データ!J114,\"\")","v":""},{"$f":"IF(登録済データ!$B114<>0,登録済データ!K114,\"\")","v":""},{"$f":"IF(登録済データ!$B114<>0,登録済データ!L114,\"\")","v":""},{"$f":"IF(登録済データ!$B114<>0,登録済データ!M114,\"\")","v":""},{"$f":"IF(登録済データ!$B114<>0,登録済データ!N114,\"\")","v":""},{"$f":"IF(登録済データ!$B114<>0,登録済データ!O114,\"\")","v":""},{"$f":"IF(登録済データ!$B114<>0,登録済データ!P114,\"\")","v":""},{"$f":"IF(登録済データ!$B114<>0,登録済データ!Q114,\"\")","v":""},{"$f":"IF(登録済データ!$B114<>0,登録済データ!R114,\"\")","v":""},{"$f":"IF(登録済データ!$B114<>0,登録済データ!S114,\"\")","v":""},{"$f":"IF(登録済データ!$B114<>0,登録済データ!T114,\"\")","v":""},{"$f":"IF(登録済データ!$B114<>0,登録済データ!U114,\"\")","v":""},{"$f":"IF(登録済データ!$B114<>0,登録済データ!V114,\"\")","v":""},{"$f":"IF(登録済データ!$B114<>0,登録済データ!W114,\"\")","v":""},{"$f":"IF(登録済データ!$B114<>0,登録済データ!X114,\"\")","v":""},{"$f":"IF($F111<>\"\",登録済データ!$C$4,\"\")","v":""}]
[null,{"$f":"IF($F112<>\"\",登録済データ!$C$2,\"\")","v":""},{"$f":"IF($F112<>\"\",IF($I$1=\"企業コード3桁\",LEFT(登録済データ!$C$3,3),LEFT(登録済データ!$C$3,6)),\"\")","v":""},null,{"$f":"IF(登録済データ!$B115<>0,登録済データ!C115,\"\")","v":""},{"$f":"IF(登録済データ!$B115<>0,登録済データ!D115,\"\")","v":""},{"$f":"IF(登録済データ!$B115<>0,登録済データ!E115,\"\")","v":""},{"$f":"IF(登録済データ!$B115<>0,IF(登録済データ!F115<>\"\",登録済データ!F115,\"\"),\"\")","v":""},{"$f":"IF(登録済データ!$B115<>0,IF(登録済データ!G115<>\"\",登録済データ!G115,\"\"),\"\")","v":""},{"$f":"IF(登録済データ!$B115<>0,IF(登録済データ!H115<>\"\",登録済データ!H115,\"\"),\"\")","v":""},{"$f":"IF(登録済データ!$B115<>0,IF(登録済データ!I115<>\"\",登録済データ!I115,\"\"),\"\")","v":""},{"$f":"IF(登録済データ!$B115<>0,登録済データ!J115,\"\")","v":""},{"$f":"IF(登録済データ!$B115<>0,登録済データ!K115,\"\")","v":""},{"$f":"IF(登録済データ!$B115<>0,登録済データ!L115,\"\")","v":""},{"$f":"IF(登録済データ!$B115<>0,登録済データ!M115,\"\")","v":""},{"$f":"IF(登録済データ!$B115<>0,登録済データ!N115,\"\")","v":""},{"$f":"IF(登録済データ!$B115<>0,登録済データ!O115,\"\")","v":""},{"$f":"IF(登録済データ!$B115<>0,登録済データ!P115,\"\")","v":""},{"$f":"IF(登録済データ!$B115<>0,登録済データ!Q115,\"\")","v":""},{"$f":"IF(登録済データ!$B115<>0,登録済データ!R115,\"\")","v":""},{"$f":"IF(登録済データ!$B115<>0,登録済データ!S115,\"\")","v":""},{"$f":"IF(登録済データ!$B115<>0,登録済データ!T115,\"\")","v":""},{"$f":"IF(登録済データ!$B115<>0,登録済データ!U115,\"\")","v":""},{"$f":"IF(登録済データ!$B115<>0,登録済データ!V115,\"\")","v":""},{"$f":"IF(登録済データ!$B115<>0,登録済データ!W115,\"\")","v":""},{"$f":"IF(登録済データ!$B115<>0,登録済データ!X115,\"\")","v":""},{"$f":"IF($F112<>\"\",登録済データ!$C$4,\"\")","v":""}]
[null,{"$f":"IF($F113<>\"\",登録済データ!$C$2,\"\")","v":""},{"$f":"IF($F113<>\"\",IF($I$1=\"企業コード3桁\",LEFT(登録済データ!$C$3,3),LEFT(登録済データ!$C$3,6)),\"\")","v":""},null,{"$f":"IF(登録済データ!$B116<>0,登録済データ!C116,\"\")","v":""},{"$f":"IF(登録済データ!$B116<>0,登録済データ!D116,\"\")","v":""},{"$f":"IF(登録済データ!$B116<>0,登録済データ!E116,\"\")","v":""},{"$f":"IF(登録済データ!$B116<>0,IF(登録済データ!F116<>\"\",登録済データ!F116,\"\"),\"\")","v":""},{"$f":"IF(登録済データ!$B116<>0,IF(登録済データ!G116<>\"\",登録済データ!G116,\"\"),\"\")","v":""},{"$f":"IF(登録済データ!$B116<>0,IF(登録済データ!H116<>\"\",登録済データ!H116,\"\"),\"\")","v":""},{"$f":"IF(登録済データ!$B116<>0,IF(登録済データ!I116<>\"\",登録済データ!I116,\"\"),\"\")","v":""},{"$f":"IF(登録済データ!$B116<>0,登録済データ!J116,\"\")","v":""},{"$f":"IF(登録済データ!$B116<>0,登録済データ!K116,\"\")","v":""},{"$f":"IF(登録済データ!$B116<>0,登録済データ!L116,\"\")","v":""},{"$f":"IF(登録済データ!$B116<>0,登録済データ!M116,\"\")","v":""},{"$f":"IF(登録済データ!$B116<>0,登録済データ!N116,\"\")","v":""},{"$f":"IF(登録済データ!$B116<>0,登録済データ!O116,\"\")","v":""},{"$f":"IF(登録済データ!$B116<>0,登録済データ!P116,\"\")","v":""},{"$f":"IF(登録済データ!$B116<>0,登録済データ!Q116,\"\")","v":""},{"$f":"IF(登録済データ!$B116<>0,登録済データ!R116,\"\")","v":""},{"$f":"IF(登録済データ!$B116<>0,登録済データ!S116,\"\")","v":""},{"$f":"IF(登録済データ!$B116<>0,登録済データ!T116,\"\")","v":""},{"$f":"IF(登録済データ!$B116<>0,登録済データ!U116,\"\")","v":""},{"$f":"IF(登録済データ!$B116<>0,登録済データ!V116,\"\")","v":""},{"$f":"IF(登録済データ!$B116<>0,登録済データ!W116,\"\")","v":""},{"$f":"IF(登録済データ!$B116<>0,登録済データ!X116,\"\")","v":""},{"$f":"IF($F113<>\"\",登録済データ!$C$4,\"\")","v":""}]
[null,{"$f":"IF($F114<>\"\",登録済データ!$C$2,\"\")","v":""},{"$f":"IF($F114<>\"\",IF($I$1=\"企業コード3桁\",LEFT(登録済データ!$C$3,3),LEFT(登録済データ!$C$3,6)),\"\")","v":""},null,{"$f":"IF(登録済データ!$B117<>0,登録済データ!C117,\"\")","v":""},{"$f":"IF(登録済データ!$B117<>0,登録済データ!D117,\"\")","v":""},{"$f":"IF(登録済データ!$B117<>0,登録済データ!E117,\"\")","v":""},{"$f":"IF(登録済データ!$B117<>0,IF(登録済データ!F117<>\"\",登録済データ!F117,\"\"),\"\")","v":""},{"$f":"IF(登録済データ!$B117<>0,IF(登録済データ!G117<>\"\",登録済データ!G117,\"\"),\"\")","v":""},{"$f":"IF(登録済データ!$B117<>0,IF(登録済データ!H117<>\"\",登録済データ!H117,\"\"),\"\")","v":""},{"$f":"IF(登録済データ!$B117<>0,IF(登録済データ!I117<>\"\",登録済データ!I117,\"\"),\"\")","v":""},{"$f":"IF(登録済データ!$B117<>0,登録済データ!J117,\"\")","v":""},{"$f":"IF(登録済データ!$B117<>0,登録済データ!K117,\"\")","v":""},{"$f":"IF(登録済データ!$B117<>0,登録済データ!L117,\"\")","v":""},{"$f":"IF(登録済データ!$B117<>0,登録済データ!M117,\"\")","v":""},{"$f":"IF(登録済データ!$B117<>0,登録済データ!N117,\"\")","v":""},{"$f":"IF(登録済データ!$B117<>0,登録済データ!O117,\"\")","v":""},{"$f":"IF(登録済データ!$B117<>0,登録済データ!P117,\"\")","v":""},{"$f":"IF(登録済データ!$B117<>0,登録済データ!Q117,\"\")","v":""},{"$f":"IF(登録済データ!$B117<>0,登録済データ!R117,\"\")","v":""},{"$f":"IF(登録済データ!$B117<>0,登録済データ!S117,\"\")","v":""},{"$f":"IF(登録済データ!$B117<>0,登録済データ!T117,\"\")","v":""},{"$f":"IF(登録済データ!$B117<>0,登録済データ!U117,\"\")","v":""},{"$f":"IF(登録済データ!$B117<>0,登録済データ!V117,\"\")","v":""},{"$f":"IF(登録済データ!$B117<>0,登録済データ!W117,\"\")","v":""},{"$f":"IF(登録済データ!$B117<>0,登録済データ!X117,\"\")","v":""},{"$f":"IF($F114<>\"\",登録済データ!$C$4,\"\")","v":""}]
[null,{"$f":"IF($F115<>\"\",登録済データ!$C$2,\"\")","v":""},{"$f":"IF($F115<>\"\",IF($I$1=\"企業コード3桁\",LEFT(登録済データ!$C$3,3),LEFT(登録済データ!$C$3,6)),\"\")","v":""},null,{"$f":"IF(登録済データ!$B118<>0,登録済データ!C118,\"\")","v":""},{"$f":"IF(登録済データ!$B118<>0,登録済データ!D118,\"\")","v":""},{"$f":"IF(登録済データ!$B118<>0,登録済データ!E118,\"\")","v":""},{"$f":"IF(登録済データ!$B118<>0,IF(登録済データ!F118<>\"\",登録済データ!F118,\"\"),\"\")","v":""},{"$f":"IF(登録済データ!$B118<>0,IF(登録済データ!G118<>\"\",登録済データ!G118,\"\"),\"\")","v":""},{"$f":"IF(登録済データ!$B118<>0,IF(登録済データ!H118<>\"\",登録済データ!H118,\"\"),\"\")","v":""},{"$f":"IF(登録済データ!$B118<>0,IF(登録済データ!I118<>\"\",登録済データ!I118,\"\"),\"\")","v":""},{"$f":"IF(登録済データ!$B118<>0,登録済データ!J118,\"\")","v":""},{"$f":"IF(登録済データ!$B118<>0,登録済データ!K118,\"\")","v":""},{"$f":"IF(登録済データ!$B118<>0,登録済データ!L118,\"\")","v":""},{"$f":"IF(登録済データ!$B118<>0,登録済データ!M118,\"\")","v":""},{"$f":"IF(登録済データ!$B118<>0,登録済データ!N118,\"\")","v":""},{"$f":"IF(登録済データ!$B118<>0,登録済データ!O118,\"\")","v":""},{"$f":"IF(登録済データ!$B118<>0,登録済データ!P118,\"\")","v":""},{"$f":"IF(登録済データ!$B118<>0,登録済データ!Q118,\"\")","v":""},{"$f":"IF(登録済データ!$B118<>0,登録済データ!R118,\"\")","v":""},{"$f":"IF(登録済データ!$B118<>0,登録済データ!S118,\"\")","v":""},{"$f":"IF(登録済データ!$B118<>0,登録済データ!T118,\"\")","v":""},{"$f":"IF(登録済データ!$B118<>0,登録済データ!U118,\"\")","v":""},{"$f":"IF(登録済データ!$B118<>0,登録済データ!V118,\"\")","v":""},{"$f":"IF(登録済データ!$B118<>0,登録済データ!W118,\"\")","v":""},{"$f":"IF(登録済データ!$B118<>0,登録済データ!X118,\"\")","v":""},{"$f":"IF($F115<>\"\",登録済データ!$C$4,\"\")","v":""}]
[null,{"$f":"IF($F116<>\"\",登録済データ!$C$2,\"\")","v":""},{"$f":"IF($F116<>\"\",IF($I$1=\"企業コード3桁\",LEFT(登録済データ!$C$3,3),LEFT(登録済データ!$C$3,6)),\"\")","v":""},null,{"$f":"IF(登録済データ!$B119<>0,登録済データ!C119,\"\")","v":""},{"$f":"IF(登録済データ!$B119<>0,登録済データ!D119,\"\")","v":""},{"$f":"IF(登録済データ!$B119<>0,登録済データ!E119,\"\")","v":""},{"$f":"IF(登録済データ!$B119<>0,IF(登録済データ!F119<>\"\",登録済データ!F119,\"\"),\"\")","v":""},{"$f":"IF(登録済データ!$B119<>0,IF(登録済データ!G119<>\"\",登録済データ!G119,\"\"),\"\")","v":""},{"$f":"IF(登録済データ!$B119<>0,IF(登録済データ!H119<>\"\",登録済データ!H119,\"\"),\"\")","v":""},{"$f":"IF(登録済データ!$B119<>0,IF(登録済データ!I119<>\"\",登録済データ!I119,\"\"),\"\")","v":""},{"$f":"IF(登録済データ!$B119<>0,登録済データ!J119,\"\")","v":""},{"$f":"IF(登録済データ!$B119<>0,登録済データ!K119,\"\")","v":""},{"$f":"IF(登録済データ!$B119<>0,登録済データ!L119,\"\")","v":""},{"$f":"IF(登録済データ!$B119<>0,登録済データ!M119,\"\")","v":""},{"$f":"IF(登録済データ!$B119<>0,登録済データ!N119,\"\")","v":""},{"$f":"IF(登録済データ!$B119<>0,登録済データ!O119,\"\")","v":""},{"$f":"IF(登録済データ!$B119<>0,登録済データ!P119,\"\")","v":""},{"$f":"IF(登録済データ!$B119<>0,登録済データ!Q119,\"\")","v":""},{"$f":"IF(登録済データ!$B119<>0,登録済データ!R119,\"\")","v":""},{"$f":"IF(登録済データ!$B119<>0,登録済データ!S119,\"\")","v":""},{"$f":"IF(登録済データ!$B119<>0,登録済データ!T119,\"\")","v":""},{"$f":"IF(登録済データ!$B119<>0,登録済データ!U119,\"\")","v":""},{"$f":"IF(登録済データ!$B119<>0,登録済データ!V119,\"\")","v":""},{"$f":"IF(登録済データ!$B119<>0,登録済データ!W119,\"\")","v":""},{"$f":"IF(登録済データ!$B119<>0,登録済データ!X119,\"\")","v":""},{"$f":"IF($F116<>\"\",登録済データ!$C$4,\"\")","v":""}]
[null,{"$f":"IF($F117<>\"\",登録済データ!$C$2,\"\")","v":""},{"$f":"IF($F117<>\"\",IF($I$1=\"企業コード3桁\",LEFT(登録済データ!$C$3,3),LEFT(登録済データ!$C$3,6)),\"\")","v":""},null,{"$f":"IF(登録済データ!$B120<>0,登録済データ!C120,\"\")","v":""},{"$f":"IF(登録済データ!$B120<>0,登録済データ!D120,\"\")","v":""},{"$f":"IF(登録済データ!$B120<>0,登録済データ!E120,\"\")","v":""},{"$f":"IF(登録済データ!$B120<>0,IF(登録済データ!F120<>\"\",登録済データ!F120,\"\"),\"\")","v":""},{"$f":"IF(登録済データ!$B120<>0,IF(登録済データ!G120<>\"\",登録済データ!G120,\"\"),\"\")","v":""},{"$f":"IF(登録済データ!$B120<>0,IF(登録済データ!H120<>\"\",登録済データ!H120,\"\"),\"\")","v":""},{"$f":"IF(登録済データ!$B120<>0,IF(登録済データ!I120<>\"\",登録済データ!I120,\"\"),\"\")","v":""},{"$f":"IF(登録済データ!$B120<>0,登録済データ!J120,\"\")","v":""},{"$f":"IF(登録済データ!$B120<>0,登録済データ!K120,\"\")","v":""},{"$f":"IF(登録済データ!$B120<>0,登録済データ!L120,\"\")","v":""},{"$f":"IF(登録済データ!$B120<>0,登録済データ!M120,\"\")","v":""},{"$f":"IF(登録済データ!$B120<>0,登録済データ!N120,\"\")","v":""},{"$f":"IF(登録済データ!$B120<>0,登録済データ!O120,\"\")","v":""},{"$f":"IF(登録済データ!$B120<>0,登録済データ!P120,\"\")","v":""},{"$f":"IF(登録済データ!$B120<>0,登録済データ!Q120,\"\")","v":""},{"$f":"IF(登録済データ!$B120<>0,登録済データ!R120,\"\")","v":""},{"$f":"IF(登録済データ!$B120<>0,登録済データ!S120,\"\")","v":""},{"$f":"IF(登録済データ!$B120<>0,登録済データ!T120,\"\")","v":""},{"$f":"IF(登録済データ!$B120<>0,登録済データ!U120,\"\")","v":""},{"$f":"IF(登録済データ!$B120<>0,登録済データ!V120,\"\")","v":""},{"$f":"IF(登録済データ!$B120<>0,登録済データ!W120,\"\")","v":""},{"$f":"IF(登録済データ!$B120<>0,登録済データ!X120,\"\")","v":""},{"$f":"IF($F117<>\"\",登録済データ!$C$4,\"\")","v":""}]
[null,{"$f":"IF($F118<>\"\",登録済データ!$C$2,\"\")","v":""},{"$f":"IF($F118<>\"\",IF($I$1=\"企業コード3桁\",LEFT(登録済データ!$C$3,3),LEFT(登録済データ!$C$3,6)),\"\")","v":""},null,{"$f":"IF(登録済データ!$B121<>0,登録済データ!C121,\"\")","v":""},{"$f":"IF(登録済データ!$B121<>0,登録済データ!D121,\"\")","v":""},{"$f":"IF(登録済データ!$B121<>0,登録済データ!E121,\"\")","v":""},{"$f":"IF(登録済データ!$B121<>0,IF(登録済データ!F121<>\"\",登録済データ!F121,\"\"),\"\")","v":""},{"$f":"IF(登録済データ!$B121<>0,IF(登録済データ!G121<>\"\",登録済データ!G121,\"\"),\"\")","v":""},{"$f":"IF(登録済データ!$B121<>0,IF(登録済データ!H121<>\"\",登録済データ!H121,\"\"),\"\")","v":""},{"$f":"IF(登録済データ!$B121<>0,IF(登録済データ!I121<>\"\",登録済データ!I121,\"\"),\"\")","v":""},{"$f":"IF(登録済データ!$B121<>0,登録済データ!J121,\"\")","v":""},{"$f":"IF(登録済データ!$B121<>0,登録済データ!K121,\"\")","v":""},{"$f":"IF(登録済データ!$B121<>0,登録済データ!L121,\"\")","v":""},{"$f":"IF(登録済データ!$B121<>0,登録済データ!M121,\"\")","v":""},{"$f":"IF(登録済データ!$B121<>0,登録済データ!N121,\"\")","v":""},{"$f":"IF(登録済データ!$B121<>0,登録済データ!O121,\"\")","v":""},{"$f":"IF(登録済データ!$B121<>0,登録済データ!P121,\"\")","v":""},{"$f":"IF(登録済データ!$B121<>0,登録済データ!Q121,\"\")","v":""},{"$f":"IF(登録済データ!$B121<>0,登録済データ!R121,\"\")","v":""},{"$f":"IF(登録済データ!$B121<>0,登録済データ!S121,\"\")","v":""},{"$f":"IF(登録済データ!$B121<>0,登録済データ!T121,\"\")","v":""},{"$f":"IF(登録済データ!$B121<>0,登録済データ!U121,\"\")","v":""},{"$f":"IF(登録済データ!$B121<>0,登録済データ!V121,\"\")","v":""},{"$f":"IF(登録済データ!$B121<>0,登録済データ!W121,\"\")","v":""},{"$f":"IF(登録済データ!$B121<>0,登録済データ!X121,\"\")","v":""},{"$f":"IF($F118<>\"\",登録済データ!$C$4,\"\")","v":""}]
[null,{"$f":"IF($F119<>\"\",登録済データ!$C$2,\"\")","v":""},{"$f":"IF($F119<>\"\",IF($I$1=\"企業コード3桁\",LEFT(登録済データ!$C$3,3),LEFT(登録済データ!$C$3,6)),\"\")","v":""},null,{"$f":"IF(登録済データ!$B122<>0,登録済データ!C122,\"\")","v":""},{"$f":"IF(登録済データ!$B122<>0,登録済データ!D122,\"\")","v":""},{"$f":"IF(登録済データ!$B122<>0,登録済データ!E122,\"\")","v":""},{"$f":"IF(登録済データ!$B122<>0,IF(登録済データ!F122<>\"\",登録済データ!F122,\"\"),\"\")","v":""},{"$f":"IF(登録済データ!$B122<>0,IF(登録済データ!G122<>\"\",登録済データ!G122,\"\"),\"\")","v":""},{"$f":"IF(登録済データ!$B122<>0,IF(登録済データ!H122<>\"\",登録済データ!H122,\"\"),\"\")","v":""},{"$f":"IF(登録済データ!$B122<>0,IF(登録済データ!I122<>\"\",登録済データ!I122,\"\"),\"\")","v":""},{"$f":"IF(登録済データ!$B122<>0,登録済データ!J122,\"\")","v":""},{"$f":"IF(登録済データ!$B122<>0,登録済データ!K122,\"\")","v":""},{"$f":"IF(登録済データ!$B122<>0,登録済データ!L122,\"\")","v":""},{"$f":"IF(登録済データ!$B122<>0,登録済データ!M122,\"\")","v":""},{"$f":"IF(登録済データ!$B122<>0,登録済データ!N122,\"\")","v":""},{"$f":"IF(登録済データ!$B122<>0,登録済データ!O122,\"\")","v":""},{"$f":"IF(登録済データ!$B122<>0,登録済データ!P122,\"\")","v":""},{"$f":"IF(登録済データ!$B122<>0,登録済データ!Q122,\"\")","v":""},{"$f":"IF(登録済データ!$B122<>0,登録済データ!R122,\"\")","v":""},{"$f":"IF(登録済データ!$B122<>0,登録済データ!S122,\"\")","v":""},{"$f":"IF(登録済データ!$B122<>0,登録済データ!T122,\"\")","v":""},{"$f":"IF(登録済データ!$B122<>0,登録済データ!U122,\"\")","v":""},{"$f":"IF(登録済データ!$B122<>0,登録済データ!V122,\"\")","v":""},{"$f":"IF(登録済データ!$B122<>0,登録済データ!W122,\"\")","v":""},{"$f":"IF(登録済データ!$B122<>0,登録済データ!X122,\"\")","v":""},{"$f":"IF($F119<>\"\",登録済データ!$C$4,\"\")","v":""}]
[null,{"$f":"IF($F120<>\"\",登録済データ!$C$2,\"\")","v":""},{"$f":"IF($F120<>\"\",IF($I$1=\"企業コード3桁\",LEFT(登録済データ!$C$3,3),LEFT(登録済データ!$C$3,6)),\"\")","v":""},null,{"$f":"IF(登録済データ!$B123<>0,登録済データ!C123,\"\")","v":""},{"$f":"IF(登録済データ!$B123<>0,登録済データ!D123,\"\")","v":""},{"$f":"IF(登録済データ!$B123<>0,登録済データ!E123,\"\")","v":""},{"$f":"IF(登録済データ!$B123<>0,IF(登録済データ!F123<>\"\",登録済データ!F123,\"\"),\"\")","v":""},{"$f":"IF(登録済データ!$B123<>0,IF(登録済データ!G123<>\"\",登録済データ!G123,\"\"),\"\")","v":""},{"$f":"IF(登録済データ!$B123<>0,IF(登録済データ!H123<>\"\",登録済データ!H123,\"\"),\"\")","v":""},{"$f":"IF(登録済データ!$B123<>0,IF(登録済データ!I123<>\"\",登録済データ!I123,\"\"),\"\")","v":""},{"$f":"IF(登録済データ!$B123<>0,登録済データ!J123,\"\")","v":""},{"$f":"IF(登録済データ!$B123<>0,登録済データ!K123,\"\")","v":""},{"$f":"IF(登録済データ!$B123<>0,登録済データ!L123,\"\")","v":""},{"$f":"IF(登録済データ!$B123<>0,登録済データ!M123,\"\")","v":""},{"$f":"IF(登録済データ!$B123<>0,登録済データ!N123,\"\")","v":""},{"$f":"IF(登録済データ!$B123<>0,登録済データ!O123,\"\")","v":""},{"$f":"IF(登録済データ!$B123<>0,登録済データ!P123,\"\")","v":""},{"$f":"IF(登録済データ!$B123<>0,登録済データ!Q123,\"\")","v":""},{"$f":"IF(登録済データ!$B123<>0,登録済データ!R123,\"\")","v":""},{"$f":"IF(登録済データ!$B123<>0,登録済データ!S123,\"\")","v":""},{"$f":"IF(登録済データ!$B123<>0,登録済データ!T123,\"\")","v":""},{"$f":"IF(登録済データ!$B123<>0,登録済データ!U123,\"\")","v":""},{"$f":"IF(登録済データ!$B123<>0,登録済データ!V123,\"\")","v":""},{"$f":"IF(登録済データ!$B123<>0,登録済データ!W123,\"\")","v":""},{"$f":"IF(登録済データ!$B123<>0,登録済データ!X123,\"\")","v":""},{"$f":"IF($F120<>\"\",登録済データ!$C$4,\"\")","v":""}]
[null,{"$f":"IF($F121<>\"\",登録済データ!$C$2,\"\")","v":""},{"$f":"IF($F121<>\"\",IF($I$1=\"企業コード3桁\",LEFT(登録済データ!$C$3,3),LEFT(登録済データ!$C$3,6)),\"\")","v":""},null,{"$f":"IF(登録済データ!$B124<>0,登録済データ!C124,\"\")","v":""},{"$f":"IF(登録済データ!$B124<>0,登録済データ!D124,\"\")","v":""},{"$f":"IF(登録済データ!$B124<>0,登録済データ!E124,\"\")","v":""},{"$f":"IF(登録済データ!$B124<>0,IF(登録済データ!F124<>\"\",登録済データ!F124,\"\"),\"\")","v":""},{"$f":"IF(登録済データ!$B124<>0,IF(登録済データ!G124<>\"\",登録済データ!G124,\"\"),\"\")","v":""},{"$f":"IF(登録済データ!$B124<>0,IF(登録済データ!H124<>\"\",登録済データ!H124,\"\"),\"\")","v":""},{"$f":"IF(登録済データ!$B124<>0,IF(登録済データ!I124<>\"\",登録済データ!I124,\"\"),\"\")","v":""},{"$f":"IF(登録済データ!$B124<>0,登録済データ!J124,\"\")","v":""},{"$f":"IF(登録済データ!$B124<>0,登録済データ!K124,\"\")","v":""},{"$f":"IF(登録済データ!$B124<>0,登録済データ!L124,\"\")","v":""},{"$f":"IF(登録済データ!$B124<>0,登録済データ!M124,\"\")","v":""},{"$f":"IF(登録済データ!$B124<>0,登録済データ!N124,\"\")","v":""},{"$f":"IF(登録済データ!$B124<>0,登録済データ!O124,\"\")","v":""},{"$f":"IF(登録済データ!$B124<>0,登録済データ!P124,\"\")","v":""},{"$f":"IF(登録済データ!$B124<>0,登録済データ!Q124,\"\")","v":""},{"$f":"IF(登録済データ!$B124<>0,登録済データ!R124,\"\")","v":""},{"$f":"IF(登録済データ!$B124<>0,登録済データ!S124,\"\")","v":""},{"$f":"IF(登録済データ!$B124<>0,登録済データ!T124,\"\")","v":""},{"$f":"IF(登録済データ!$B124<>0,登録済データ!U124,\"\")","v":""},{"$f":"IF(登録済データ!$B124<>0,登録済データ!V124,\"\")","v":""},{"$f":"IF(登録済データ!$B124<>0,登録済データ!W124,\"\")","v":""},{"$f":"IF(登録済データ!$B124<>0,登録済データ!X124,\"\")","v":""},{"$f":"IF($F121<>\"\",登録済データ!$C$4,\"\")","v":""}]
[null,{"$f":"IF($F122<>\"\",登録済データ!$C$2,\"\")","v":""},{"$f":"IF($F122<>\"\",IF($I$1=\"企業コード3桁\",LEFT(登録済データ!$C$3,3),LEFT(登録済データ!$C$3,6)),\"\")","v":""},null,{"$f":"IF(登録済データ!$B125<>0,登録済データ!C125,\"\")","v":""},{"$f":"IF(登録済データ!$B125<>0,登録済データ!D125,\"\")","v":""},{"$f":"IF(登録済データ!$B125<>0,登録済データ!E125,\"\")","v":""},{"$f":"IF(登録済データ!$B125<>0,IF(登録済データ!F125<>\"\",登録済データ!F125,\"\"),\"\")","v":""},{"$f":"IF(登録済データ!$B125<>0,IF(登録済データ!G125<>\"\",登録済データ!G125,\"\"),\"\")","v":""},{"$f":"IF(登録済データ!$B125<>0,IF(登録済データ!H125<>\"\",登録済データ!H125,\"\"),\"\")","v":""},{"$f":"IF(登録済データ!$B125<>0,IF(登録済データ!I125<>\"\",登録済データ!I125,\"\"),\"\")","v":""},{"$f":"IF(登録済データ!$B125<>0,登録済データ!J125,\"\")","v":""},{"$f":"IF(登録済データ!$B125<>0,登録済データ!K125,\"\")","v":""},{"$f":"IF(登録済データ!$B125<>0,登録済データ!L125,\"\")","v":""},{"$f":"IF(登録済データ!$B125<>0,登録済データ!M125,\"\")","v":""},{"$f":"IF(登録済データ!$B125<>0,登録済データ!N125,\"\")","v":""},{"$f":"IF(登録済データ!$B125<>0,登録済データ!O125,\"\")","v":""},{"$f":"IF(登録済データ!$B125<>0,登録済データ!P125,\"\")","v":""},{"$f":"IF(登録済データ!$B125<>0,登録済データ!Q125,\"\")","v":""},{"$f":"IF(登録済データ!$B125<>0,登録済データ!R125,\"\")","v":""},{"$f":"IF(登録済データ!$B125<>0,登録済データ!S125,\"\")","v":""},{"$f":"IF(登録済データ!$B125<>0,登録済データ!T125,\"\")","v":""},{"$f":"IF(登録済データ!$B125<>0,登録済データ!U125,\"\")","v":""},{"$f":"IF(登録済データ!$B125<>0,登録済データ!V125,\"\")","v":""},{"$f":"IF(登録済データ!$B125<>0,登録済データ!W125,\"\")","v":""},{"$f":"IF(登録済データ!$B125<>0,登録済データ!X125,\"\")","v":""},{"$f":"IF($F122<>\"\",登録済データ!$C$4,\"\")","v":""}]
[null,{"$f":"IF($F123<>\"\",登録済データ!$C$2,\"\")","v":""},{"$f":"IF($F123<>\"\",IF($I$1=\"企業コード3桁\",LEFT(登録済データ!$C$3,3),LEFT(登録済データ!$C$3,6)),\"\")","v":""},null,{"$f":"IF(登録済データ!$B126<>0,登録済データ!C126,\"\")","v":""},{"$f":"IF(登録済データ!$B126<>0,登録済データ!D126,\"\")","v":""},{"$f":"IF(登録済データ!$B126<>0,登録済データ!E126,\"\")","v":""},{"$f":"IF(登録済データ!$B126<>0,IF(登録済データ!F126<>\"\",登録済データ!F126,\"\"),\"\")","v":""},{"$f":"IF(登録済データ!$B126<>0,IF(登録済データ!G126<>\"\",登録済データ!G126,\"\"),\"\")","v":""},{"$f":"IF(登録済データ!$B126<>0,IF(登録済データ!H126<>\"\",登録済データ!H126,\"\"),\"\")","v":""},{"$f":"IF(登録済データ!$B126<>0,IF(登録済データ!I126<>\"\",登録済データ!I126,\"\"),\"\")","v":""},{"$f":"IF(登録済データ!$B126<>0,登録済データ!J126,\"\")","v":""},{"$f":"IF(登録済データ!$B126<>0,登録済データ!K126,\"\")","v":""},{"$f":"IF(登録済データ!$B126<>0,登録済データ!L126,\"\")","v":""},{"$f":"IF(登録済データ!$B126<>0,登録済データ!M126,\"\")","v":""},{"$f":"IF(登録済データ!$B126<>0,登録済データ!N126,\"\")","v":""},{"$f":"IF(登録済データ!$B126<>0,登録済データ!O126,\"\")","v":""},{"$f":"IF(登録済データ!$B126<>0,登録済データ!P126,\"\")","v":""},{"$f":"IF(登録済データ!$B126<>0,登録済データ!Q126,\"\")","v":""},{"$f":"IF(登録済データ!$B126<>0,登録済データ!R126,\"\")","v":""},{"$f":"IF(登録済データ!$B126<>0,登録済データ!S126,\"\")","v":""},{"$f":"IF(登録済データ!$B126<>0,登録済データ!T126,\"\")","v":""},{"$f":"IF(登録済データ!$B126<>0,登録済データ!U126,\"\")","v":""},{"$f":"IF(登録済データ!$B126<>0,登録済データ!V126,\"\")","v":""},{"$f":"IF(登録済データ!$B126<>0,登録済データ!W126,\"\")","v":""},{"$f":"IF(登録済データ!$B126<>0,登録済データ!X126,\"\")","v":""},{"$f":"IF($F123<>\"\",登録済データ!$C$4,\"\")","v":""}]
[null,{"$f":"IF($F124<>\"\",登録済データ!$C$2,\"\")","v":""},{"$f":"IF($F124<>\"\",IF($I$1=\"企業コード3桁\",LEFT(登録済データ!$C$3,3),LEFT(登録済データ!$C$3,6)),\"\")","v":""},null,{"$f":"IF(登録済データ!$B127<>0,登録済データ!C127,\"\")","v":""},{"$f":"IF(登録済データ!$B127<>0,登録済データ!D127,\"\")","v":""},{"$f":"IF(登録済データ!$B127<>0,登録済データ!E127,\"\")","v":""},{"$f":"IF(登録済データ!$B127<>0,IF(登録済データ!F127<>\"\",登録済データ!F127,\"\"),\"\")","v":""},{"$f":"IF(登録済データ!$B127<>0,IF(登録済データ!G127<>\"\",登録済データ!G127,\"\"),\"\")","v":""},{"$f":"IF(登録済データ!$B127<>0,IF(登録済データ!H127<>\"\",登録済データ!H127,\"\"),\"\")","v":""},{"$f":"IF(登録済データ!$B127<>0,IF(登録済データ!I127<>\"\",登録済データ!I127,\"\"),\"\")","v":""},{"$f":"IF(登録済データ!$B127<>0,登録済データ!J127,\"\")","v":""},{"$f":"IF(登録済データ!$B127<>0,登録済データ!K127,\"\")","v":""},{"$f":"IF(登録済データ!$B127<>0,登録済データ!L127,\"\")","v":""},{"$f":"IF(登録済データ!$B127<>0,登録済データ!M127,\"\")","v":""},{"$f":"IF(登録済データ!$B127<>0,登録済データ!N127,\"\")","v":""},{"$f":"IF(登録済データ!$B127<>0,登録済データ!O127,\"\")","v":""},{"$f":"IF(登録済データ!$B127<>0,登録済データ!P127,\"\")","v":""},{"$f":"IF(登録済データ!$B127<>0,登録済データ!Q127,\"\")","v":""},{"$f":"IF(登録済データ!$B127<>0,登録済データ!R127,\"\")","v":""},{"$f":"IF(登録済データ!$B127<>0,登録済データ!S127,\"\")","v":""},{"$f":"IF(登録済データ!$B127<>0,登録済データ!T127,\"\")","v":""},{"$f":"IF(登録済データ!$B127<>0,登録済データ!U127,\"\")","v":""},{"$f":"IF(登録済データ!$B127<>0,登録済データ!V127,\"\")","v":""},{"$f":"IF(登録済データ!$B127<>0,登録済データ!W127,\"\")","v":""},{"$f":"IF(登録済データ!$B127<>0,登録済データ!X127,\"\")","v":""},{"$f":"IF($F124<>\"\",登録済データ!$C$4,\"\")","v":""}]
[null,{"$f":"IF($F125<>\"\",登録済データ!$C$2,\"\")","v":""},{"$f":"IF($F125<>\"\",IF($I$1=\"企業コード3桁\",LEFT(登録済データ!$C$3,3),LEFT(登録済データ!$C$3,6)),\"\")","v":""},null,{"$f":"IF(登録済データ!$B128<>0,登録済データ!C128,\"\")","v":""},{"$f":"IF(登録済データ!$B128<>0,登録済データ!D128,\"\")","v":""},{"$f":"IF(登録済データ!$B128<>0,登録済データ!E128,\"\")","v":""},{"$f":"IF(登録済データ!$B128<>0,IF(登録済データ!F128<>\"\",登録済データ!F128,\"\"),\"\")","v":""},{"$f":"IF(登録済データ!$B128<>0,IF(登録済データ!G128<>\"\",登録済データ!G128,\"\"),\"\")","v":""},{"$f":"IF(登録済データ!$B128<>0,IF(登録済データ!H128<>\"\",登録済データ!H128,\"\"),\"\")","v":""},{"$f":"IF(登録済データ!$B128<>0,IF(登録済データ!I128<>\"\",登録済データ!I128,\"\"),\"\")","v":""},{"$f":"IF(登録済データ!$B128<>0,登録済データ!J128,\"\")","v":""},{"$f":"IF(登録済データ!$B128<>0,登録済データ!K128,\"\")","v":""},{"$f":"IF(登録済データ!$B128<>0,登録済データ!L128,\"\")","v":""},{"$f":"IF(登録済データ!$B128<>0,登録済データ!M128,\"\")","v":""},{"$f":"IF(登録済データ!$B128<>0,登録済データ!N128,\"\")","v":""},{"$f":"IF(登録済データ!$B128<>0,登録済データ!O128,\"\")","v":""},{"$f":"IF(登録済データ!$B128<>0,登録済データ!P128,\"\")","v":""},{"$f":"IF(登録済データ!$B128<>0,登録済データ!Q128,\"\")","v":""},{"$f":"IF(登録済データ!$B128<>0,登録済データ!R128,\"\")","v":""},{"$f":"IF(登録済データ!$B128<>0,登録済データ!S128,\"\")","v":""},{"$f":"IF(登録済データ!$B128<>0,登録済データ!T128,\"\")","v":""},{"$f":"IF(登録済データ!$B128<>0,登録済データ!U128,\"\")","v":""},{"$f":"IF(登録済データ!$B128<>0,登録済データ!V128,\"\")","v":""},{"$f":"IF(登録済データ!$B128<>0,登録済データ!W128,\"\")","v":""},{"$f":"IF(登録済データ!$B128<>0,登録済データ!X128,\"\")","v":""},{"$f":"IF($F125<>\"\",登録済データ!$C$4,\"\")","v":""}]
[null,{"$f":"IF($F126<>\"\",登録済データ!$C$2,\"\")","v":""},{"$f":"IF($F126<>\"\",IF($I$1=\"企業コード3桁\",LEFT(登録済データ!$C$3,3),LEFT(登録済データ!$C$3,6)),\"\")","v":""},null,{"$f":"IF(登録済データ!$B129<>0,登録済データ!C129,\"\")","v":""},{"$f":"IF(登録済データ!$B129<>0,登録済データ!D129,\"\")","v":""},{"$f":"IF(登録済データ!$B129<>0,登録済データ!E129,\"\")","v":""},{"$f":"IF(登録済データ!$B129<>0,IF(登録済データ!F129<>\"\",登録済データ!F129,\"\"),\"\")","v":""},{"$f":"IF(登録済データ!$B129<>0,IF(登録済データ!G129<>\"\",登録済データ!G129,\"\"),\"\")","v":""},{"$f":"IF(登録済データ!$B129<>0,IF(登録済データ!H129<>\"\",登録済データ!H129,\"\"),\"\")","v":""},{"$f":"IF(登録済データ!$B129<>0,IF(登録済データ!I129<>\"\",登録済データ!I129,\"\"),\"\")","v":""},{"$f":"IF(登録済データ!$B129<>0,登録済データ!J129,\"\")","v":""},{"$f":"IF(登録済データ!$B129<>0,登録済データ!K129,\"\")","v":""},{"$f":"IF(登録済データ!$B129<>0,登録済データ!L129,\"\")","v":""},{"$f":"IF(登録済データ!$B129<>0,登録済データ!M129,\"\")","v":""},{"$f":"IF(登録済データ!$B129<>0,登録済データ!N129,\"\")","v":""},{"$f":"IF(登録済データ!$B129<>0,登録済データ!O129,\"\")","v":""},{"$f":"IF(登録済データ!$B129<>0,登録済データ!P129,\"\")","v":""},{"$f":"IF(登録済データ!$B129<>0,登録済データ!Q129,\"\")","v":""},{"$f":"IF(登録済データ!$B129<>0,登録済データ!R129,\"\")","v":""},{"$f":"IF(登録済データ!$B129<>0,登録済データ!S129,\"\")","v":""},{"$f":"IF(登録済データ!$B129<>0,登録済データ!T129,\"\")","v":""},{"$f":"IF(登録済データ!$B129<>0,登録済データ!U129,\"\")","v":""},{"$f":"IF(登録済データ!$B129<>0,登録済データ!V129,\"\")","v":""},{"$f":"IF(登録済データ!$B129<>0,登録済データ!W129,\"\")","v":""},{"$f":"IF(登録済データ!$B129<>0,登録済データ!X129,\"\")","v":""},{"$f":"IF($F126<>\"\",登録済データ!$C$4,\"\")","v":""}]
[null,{"$f":"IF($F127<>\"\",登録済データ!$C$2,\"\")","v":""},{"$f":"IF($F127<>\"\",IF($I$1=\"企業コード3桁\",LEFT(登録済データ!$C$3,3),LEFT(登録済データ!$C$3,6)),\"\")","v":""},null,{"$f":"IF(登録済データ!$B130<>0,登録済データ!C130,\"\")","v":""},{"$f":"IF(登録済データ!$B130<>0,登録済データ!D130,\"\")","v":""},{"$f":"IF(登録済データ!$B130<>0,登録済データ!E130,\"\")","v":""},{"$f":"IF(登録済データ!$B130<>0,IF(登録済データ!F130<>\"\",登録済データ!F130,\"\"),\"\")","v":""},{"$f":"IF(登録済データ!$B130<>0,IF(登録済データ!G130<>\"\",登録済データ!G130,\"\"),\"\")","v":""},{"$f":"IF(登録済データ!$B130<>0,IF(登録済データ!H130<>\"\",登録済データ!H130,\"\"),\"\")","v":""},{"$f":"IF(登録済データ!$B130<>0,IF(登録済データ!I130<>\"\",登録済データ!I130,\"\"),\"\")","v":""},{"$f":"IF(登録済データ!$B130<>0,登録済データ!J130,\"\")","v":""},{"$f":"IF(登録済データ!$B130<>0,登録済データ!K130,\"\")","v":""},{"$f":"IF(登録済データ!$B130<>0,登録済データ!L130,\"\")","v":""},{"$f":"IF(登録済データ!$B130<>0,登録済データ!M130,\"\")","v":""},{"$f":"IF(登録済データ!$B130<>0,登録済データ!N130,\"\")","v":""},{"$f":"IF(登録済データ!$B130<>0,登録済データ!O130,\"\")","v":""},{"$f":"IF(登録済データ!$B130<>0,登録済データ!P130,\"\")","v":""},{"$f":"IF(登録済データ!$B130<>0,登録済データ!Q130,\"\")","v":""},{"$f":"IF(登録済データ!$B130<>0,登録済データ!R130,\"\")","v":""},{"$f":"IF(登録済データ!$B130<>0,登録済データ!S130,\"\")","v":""},{"$f":"IF(登録済データ!$B130<>0,登録済データ!T130,\"\")","v":""},{"$f":"IF(登録済データ!$B130<>0,登録済データ!U130,\"\")","v":""},{"$f":"IF(登録済データ!$B130<>0,登録済データ!V130,\"\")","v":""},{"$f":"IF(登録済データ!$B130<>0,登録済データ!W130,\"\")","v":""},{"$f":"IF(登録済データ!$B130<>0,登録済データ!X130,\"\")","v":""},{"$f":"IF($F127<>\"\",登録済データ!$C$4,\"\")","v":""}]
[null,{"$f":"IF($F128<>\"\",登録済データ!$C$2,\"\")","v":""},{"$f":"IF($F128<>\"\",IF($I$1=\"企業コード3桁\",LEFT(登録済データ!$C$3,3),LEFT(登録済データ!$C$3,6)),\"\")","v":""},null,{"$f":"IF(登録済データ!$B131<>0,登録済データ!C131,\"\")","v":""},{"$f":"IF(登録済データ!$B131<>0,登録済データ!D131,\"\")","v":""},{"$f":"IF(登録済データ!$B131<>0,登録済データ!E131,\"\")","v":""},{"$f":"IF(登録済データ!$B131<>0,IF(登録済データ!F131<>\"\",登録済データ!F131,\"\"),\"\")","v":""},{"$f":"IF(登録済データ!$B131<>0,IF(登録済データ!G131<>\"\",登録済データ!G131,\"\"),\"\")","v":""},{"$f":"IF(登録済データ!$B131<>0,IF(登録済データ!H131<>\"\",登録済データ!H131,\"\"),\"\")","v":""},{"$f":"IF(登録済データ!$B131<>0,IF(登録済データ!I131<>\"\",登録済データ!I131,\"\"),\"\")","v":""},{"$f":"IF(登録済データ!$B131<>0,登録済データ!J131,\"\")","v":""},{"$f":"IF(登録済データ!$B131<>0,登録済データ!K131,\"\")","v":""},{"$f":"IF(登録済データ!$B131<>0,登録済データ!L131,\"\")","v":""},{"$f":"IF(登録済データ!$B131<>0,登録済データ!M131,\"\")","v":""},{"$f":"IF(登録済データ!$B131<>0,登録済データ!N131,\"\")","v":""},{"$f":"IF(登録済データ!$B131<>0,登録済データ!O131,\"\")","v":""},{"$f":"IF(登録済データ!$B131<>0,登録済データ!P131,\"\")","v":""},{"$f":"IF(登録済データ!$B131<>0,登録済データ!Q131,\"\")","v":""},{"$f":"IF(登録済データ!$B131<>0,登録済データ!R131,\"\")","v":""},{"$f":"IF(登録済データ!$B131<>0,登録済データ!S131,\"\")","v":""},{"$f":"IF(登録済データ!$B131<>0,登録済データ!T131,\"\")","v":""},{"$f":"IF(登録済データ!$B131<>0,登録済データ!U131,\"\")","v":""},{"$f":"IF(登録済データ!$B131<>0,登録済データ!V131,\"\")","v":""},{"$f":"IF(登録済データ!$B131<>0,登録済データ!W131,\"\")","v":""},{"$f":"IF(登録済データ!$B131<>0,登録済データ!X131,\"\")","v":""},{"$f":"IF($F128<>\"\",登録済データ!$C$4,\"\")","v":""}]
[null,{"$f":"IF($F129<>\"\",登録済データ!$C$2,\"\")","v":""},{"$f":"IF($F129<>\"\",IF($I$1=\"企業コード3桁\",LEFT(登録済データ!$C$3,3),LEFT(登録済データ!$C$3,6)),\"\")","v":""},null,{"$f":"IF(登録済データ!$B132<>0,登録済データ!C132,\"\")","v":""},{"$f":"IF(登録済データ!$B132<>0,登録済データ!D132,\"\")","v":""},{"$f":"IF(登録済データ!$B132<>0,登録済データ!E132,\"\")","v":""},{"$f":"IF(登録済データ!$B132<>0,IF(登録済データ!F132<>\"\",登録済データ!F132,\"\"),\"\")","v":""},{"$f":"IF(登録済データ!$B132<>0,IF(登録済データ!G132<>\"\",登録済データ!G132,\"\"),\"\")","v":""},{"$f":"IF(登録済データ!$B132<>0,IF(登録済データ!H132<>\"\",登録済データ!H132,\"\"),\"\")","v":""},{"$f":"IF(登録済データ!$B132<>0,IF(登録済データ!I132<>\"\",登録済データ!I132,\"\"),\"\")","v":""},{"$f":"IF(登録済データ!$B132<>0,登録済データ!J132,\"\")","v":""},{"$f":"IF(登録済データ!$B132<>0,登録済データ!K132,\"\")","v":""},{"$f":"IF(登録済データ!$B132<>0,登録済データ!L132,\"\")","v":""},{"$f":"IF(登録済データ!$B132<>0,登録済データ!M132,\"\")","v":""},{"$f":"IF(登録済データ!$B132<>0,登録済データ!N132,\"\")","v":""},{"$f":"IF(登録済データ!$B132<>0,登録済データ!O132,\"\")","v":""},{"$f":"IF(登録済データ!$B132<>0,登録済データ!P132,\"\")","v":""},{"$f":"IF(登録済データ!$B132<>0,登録済データ!Q132,\"\")","v":""},{"$f":"IF(登録済データ!$B132<>0,登録済データ!R132,\"\")","v":""},{"$f":"IF(登録済データ!$B132<>0,登録済データ!S132,\"\")","v":""},{"$f":"IF(登録済データ!$B132<>0,登録済データ!T132,\"\")","v":""},{"$f":"IF(登録済データ!$B132<>0,登録済データ!U132,\"\")","v":""},{"$f":"IF(登録済データ!$B132<>0,登録済データ!V132,\"\")","v":""},{"$f":"IF(登録済データ!$B132<>0,登録済データ!W132,\"\")","v":""},{"$f":"IF(登録済データ!$B132<>0,登録済データ!X132,\"\")","v":""},{"$f":"IF($F129<>\"\",登録済データ!$C$4,\"\")","v":""}]
[null,{"$f":"IF($F130<>\"\",登録済データ!$C$2,\"\")","v":""},{"$f":"IF($F130<>\"\",IF($I$1=\"企業コード3桁\",LEFT(登録済データ!$C$3,3),LEFT(登録済データ!$C$3,6)),\"\")","v":""},null,{"$f":"IF(登録済データ!$B133<>0,登録済データ!C133,\"\")","v":""},{"$f":"IF(登録済データ!$B133<>0,登録済データ!D133,\"\")","v":""},{"$f":"IF(登録済データ!$B133<>0,登録済データ!E133,\"\")","v":""},{"$f":"IF(登録済データ!$B133<>0,IF(登録済データ!F133<>\"\",登録済データ!F133,\"\"),\"\")","v":""},{"$f":"IF(登録済データ!$B133<>0,IF(登録済データ!G133<>\"\",登録済データ!G133,\"\"),\"\")","v":""},{"$f":"IF(登録済データ!$B133<>0,IF(登録済データ!H133<>\"\",登録済データ!H133,\"\"),\"\")","v":""},{"$f":"IF(登録済データ!$B133<>0,IF(登録済データ!I133<>\"\",登録済データ!I133,\"\"),\"\")","v":""},{"$f":"IF(登録済データ!$B133<>0,登録済データ!J133,\"\")","v":""},{"$f":"IF(登録済データ!$B133<>0,登録済データ!K133,\"\")","v":""},{"$f":"IF(登録済データ!$B133<>0,登録済データ!L133,\"\")","v":""},{"$f":"IF(登録済データ!$B133<>0,登録済データ!M133,\"\")","v":""},{"$f":"IF(登録済データ!$B133<>0,登録済データ!N133,\"\")","v":""},{"$f":"IF(登録済データ!$B133<>0,登録済データ!O133,\"\")","v":""},{"$f":"IF(登録済データ!$B133<>0,登録済データ!P133,\"\")","v":""},{"$f":"IF(登録済データ!$B133<>0,登録済データ!Q133,\"\")","v":""},{"$f":"IF(登録済データ!$B133<>0,登録済データ!R133,\"\")","v":""},{"$f":"IF(登録済データ!$B133<>0,登録済データ!S133,\"\")","v":""},{"$f":"IF(登録済データ!$B133<>0,登録済データ!T133,\"\")","v":""},{"$f":"IF(登録済データ!$B133<>0,登録済データ!U133,\"\")","v":""},{"$f":"IF(登録済データ!$B133<>0,登録済データ!V133,\"\")","v":""},{"$f":"IF(登録済データ!$B133<>0,登録済データ!W133,\"\")","v":""},{"$f":"IF(登録済データ!$B133<>0,登録済データ!X133,\"\")","v":""},{"$f":"IF($F130<>\"\",登録済データ!$C$4,\"\")","v":""}]
[null,{"$f":"IF($F131<>\"\",登録済データ!$C$2,\"\")","v":""},{"$f":"IF($F131<>\"\",IF($I$1=\"企業コード3桁\",LEFT(登録済データ!$C$3,3),LEFT(登録済データ!$C$3,6)),\"\")","v":""},null,{"$f":"IF(登録済データ!$B134<>0,登録済データ!C134,\"\")","v":""},{"$f":"IF(登録済データ!$B134<>0,登録済データ!D134,\"\")","v":""},{"$f":"IF(登録済データ!$B134<>0,登録済データ!E134,\"\")","v":""},{"$f":"IF(登録済データ!$B134<>0,IF(登録済データ!F134<>\"\",登録済データ!F134,\"\"),\"\")","v":""},{"$f":"IF(登録済データ!$B134<>0,IF(登録済データ!G134<>\"\",登録済データ!G134,\"\"),\"\")","v":""},{"$f":"IF(登録済データ!$B134<>0,IF(登録済データ!H134<>\"\",登録済データ!H134,\"\"),\"\")","v":""},{"$f":"IF(登録済データ!$B134<>0,IF(登録済データ!I134<>\"\",登録済データ!I134,\"\"),\"\")","v":""},{"$f":"IF(登録済データ!$B134<>0,登録済データ!J134,\"\")","v":""},{"$f":"IF(登録済データ!$B134<>0,登録済データ!K134,\"\")","v":""},{"$f":"IF(登録済データ!$B134<>0,登録済データ!L134,\"\")","v":""},{"$f":"IF(登録済データ!$B134<>0,登録済データ!M134,\"\")","v":""},{"$f":"IF(登録済データ!$B134<>0,登録済データ!N134,\"\")","v":""},{"$f":"IF(登録済データ!$B134<>0,登録済データ!O134,\"\")","v":""},{"$f":"IF(登録済データ!$B134<>0,登録済データ!P134,\"\")","v":""},{"$f":"IF(登録済データ!$B134<>0,登録済データ!Q134,\"\")","v":""},{"$f":"IF(登録済データ!$B134<>0,登録済データ!R134,\"\")","v":""},{"$f":"IF(登録済データ!$B134<>0,登録済データ!S134,\"\")","v":""},{"$f":"IF(登録済データ!$B134<>0,登録済データ!T134,\"\")","v":""},{"$f":"IF(登録済データ!$B134<>0,登録済データ!U134,\"\")","v":""},{"$f":"IF(登録済データ!$B134<>0,登録済データ!V134,\"\")","v":""},{"$f":"IF(登録済データ!$B134<>0,登録済データ!W134,\"\")","v":""},{"$f":"IF(登録済データ!$B134<>0,登録済データ!X134,\"\")","v":""},{"$f":"IF($F131<>\"\",登録済データ!$C$4,\"\")","v":""}]
[null,{"$f":"IF($F132<>\"\",登録済データ!$C$2,\"\")","v":""},{"$f":"IF($F132<>\"\",IF($I$1=\"企業コード3桁\",LEFT(登録済データ!$C$3,3),LEFT(登録済データ!$C$3,6)),\"\")","v":""},null,{"$f":"IF(登録済データ!$B135<>0,登録済データ!C135,\"\")","v":""},{"$f":"IF(登録済データ!$B135<>0,登録済データ!D135,\"\")","v":""},{"$f":"IF(登録済データ!$B135<>0,登録済データ!E135,\"\")","v":""},{"$f":"IF(登録済データ!$B135<>0,IF(登録済データ!F135<>\"\",登録済データ!F135,\"\"),\"\")","v":""},{"$f":"IF(登録済データ!$B135<>0,IF(登録済データ!G135<>\"\",登録済データ!G135,\"\"),\"\")","v":""},{"$f":"IF(登録済データ!$B135<>0,IF(登録済データ!H135<>\"\",登録済データ!H135,\"\"),\"\")","v":""},{"$f":"IF(登録済データ!$B135<>0,IF(登録済データ!I135<>\"\",登録済データ!I135,\"\"),\"\")","v":""},{"$f":"IF(登録済データ!$B135<>0,登録済データ!J135,\"\")","v":""},{"$f":"IF(登録済データ!$B135<>0,登録済データ!K135,\"\")","v":""},{"$f":"IF(登録済データ!$B135<>0,登録済データ!L135,\"\")","v":""},{"$f":"IF(登録済データ!$B135<>0,登録済データ!M135,\"\")","v":""},{"$f":"IF(登録済データ!$B135<>0,登録済データ!N135,\"\")","v":""},{"$f":"IF(登録済データ!$B135<>0,登録済データ!O135,\"\")","v":""},{"$f":"IF(登録済データ!$B135<>0,登録済データ!P135,\"\")","v":""},{"$f":"IF(登録済データ!$B135<>0,登録済データ!Q135,\"\")","v":""},{"$f":"IF(登録済データ!$B135<>0,登録済データ!R135,\"\")","v":""},{"$f":"IF(登録済データ!$B135<>0,登録済データ!S135,\"\")","v":""},{"$f":"IF(登録済データ!$B135<>0,登録済データ!T135,\"\")","v":""},{"$f":"IF(登録済データ!$B135<>0,登録済データ!U135,\"\")","v":""},{"$f":"IF(登録済データ!$B135<>0,登録済データ!V135,\"\")","v":""},{"$f":"IF(登録済データ!$B135<>0,登録済データ!W135,\"\")","v":""},{"$f":"IF(登録済データ!$B135<>0,登録済データ!X135,\"\")","v":""},{"$f":"IF($F132<>\"\",登録済データ!$C$4,\"\")","v":""}]
[null,{"$f":"IF($F133<>\"\",登録済データ!$C$2,\"\")","v":""},{"$f":"IF($F133<>\"\",IF($I$1=\"企業コード3桁\",LEFT(登録済データ!$C$3,3),LEFT(登録済データ!$C$3,6)),\"\")","v":""},null,{"$f":"IF(登録済データ!$B136<>0,登録済データ!C136,\"\")","v":""},{"$f":"IF(登録済データ!$B136<>0,登録済データ!D136,\"\")","v":""},{"$f":"IF(登録済データ!$B136<>0,登録済データ!E136,\"\")","v":""},{"$f":"IF(登録済データ!$B136<>0,IF(登録済データ!F136<>\"\",登録済データ!F136,\"\"),\"\")","v":""},{"$f":"IF(登録済データ!$B136<>0,IF(登録済データ!G136<>\"\",登録済データ!G136,\"\"),\"\")","v":""},{"$f":"IF(登録済データ!$B136<>0,IF(登録済データ!H136<>\"\",登録済データ!H136,\"\"),\"\")","v":""},{"$f":"IF(登録済データ!$B136<>0,IF(登録済データ!I136<>\"\",登録済データ!I136,\"\"),\"\")","v":""},{"$f":"IF(登録済データ!$B136<>0,登録済データ!J136,\"\")","v":""},{"$f":"IF(登録済データ!$B136<>0,登録済データ!K136,\"\")","v":""},{"$f":"IF(登録済データ!$B136<>0,登録済データ!L136,\"\")","v":""},{"$f":"IF(登録済データ!$B136<>0,登録済データ!M136,\"\")","v":""},{"$f":"IF(登録済データ!$B136<>0,登録済データ!N136,\"\")","v":""},{"$f":"IF(登録済データ!$B136<>0,登録済データ!O136,\"\")","v":""},{"$f":"IF(登録済データ!$B136<>0,登録済データ!P136,\"\")","v":""},{"$f":"IF(登録済データ!$B136<>0,登録済データ!Q136,\"\")","v":""},{"$f":"IF(登録済データ!$B136<>0,登録済データ!R136,\"\")","v":""},{"$f":"IF(登録済データ!$B136<>0,登録済データ!S136,\"\")","v":""},{"$f":"IF(登録済データ!$B136<>0,登録済データ!T136,\"\")","v":""},{"$f":"IF(登録済データ!$B136<>0,登録済データ!U136,\"\")","v":""},{"$f":"IF(登録済データ!$B136<>0,登録済データ!V136,\"\")","v":""},{"$f":"IF(登録済データ!$B136<>0,登録済データ!W136,\"\")","v":""},{"$f":"IF(登録済データ!$B136<>0,登録済データ!X136,\"\")","v":""},{"$f":"IF($F133<>\"\",登録済データ!$C$4,\"\")","v":""}]
[null,{"$f":"IF($F134<>\"\",登録済データ!$C$2,\"\")","v":""},{"$f":"IF($F134<>\"\",IF($I$1=\"企業コード3桁\",LEFT(登録済データ!$C$3,3),LEFT(登録済データ!$C$3,6)),\"\")","v":""},null,{"$f":"IF(登録済データ!$B137<>0,登録済データ!C137,\"\")","v":""},{"$f":"IF(登録済データ!$B137<>0,登録済データ!D137,\"\")","v":""},{"$f":"IF(登録済データ!$B137<>0,登録済データ!E137,\"\")","v":""},{"$f":"IF(登録済データ!$B137<>0,IF(登録済データ!F137<>\"\",登録済データ!F137,\"\"),\"\")","v":""},{"$f":"IF(登録済データ!$B137<>0,IF(登録済データ!G137<>\"\",登録済データ!G137,\"\"),\"\")","v":""},{"$f":"IF(登録済データ!$B137<>0,IF(登録済データ!H137<>\"\",登録済データ!H137,\"\"),\"\")","v":""},{"$f":"IF(登録済データ!$B137<>0,IF(登録済データ!I137<>\"\",登録済データ!I137,\"\"),\"\")","v":""},{"$f":"IF(登録済データ!$B137<>0,登録済データ!J137,\"\")","v":""},{"$f":"IF(登録済データ!$B137<>0,登録済データ!K137,\"\")","v":""},{"$f":"IF(登録済データ!$B137<>0,登録済データ!L137,\"\")","v":""},{"$f":"IF(登録済データ!$B137<>0,登録済データ!M137,\"\")","v":""},{"$f":"IF(登録済データ!$B137<>0,登録済データ!N137,\"\")","v":""},{"$f":"IF(登録済データ!$B137<>0,登録済データ!O137,\"\")","v":""},{"$f":"IF(登録済データ!$B137<>0,登録済データ!P137,\"\")","v":""},{"$f":"IF(登録済データ!$B137<>0,登録済データ!Q137,\"\")","v":""},{"$f":"IF(登録済データ!$B137<>0,登録済データ!R137,\"\")","v":""},{"$f":"IF(登録済データ!$B137<>0,登録済データ!S137,\"\")","v":""},{"$f":"IF(登録済データ!$B137<>0,登録済データ!T137,\"\")","v":""},{"$f":"IF(登録済データ!$B137<>0,登録済データ!U137,\"\")","v":""},{"$f":"IF(登録済データ!$B137<>0,登録済データ!V137,\"\")","v":""},{"$f":"IF(登録済データ!$B137<>0,登録済データ!W137,\"\")","v":""},{"$f":"IF(登録済データ!$B137<>0,登録済データ!X137,\"\")","v":""},{"$f":"IF($F134<>\"\",登録済データ!$C$4,\"\")","v":""}]
[null,{"$f":"IF($F135<>\"\",登録済データ!$C$2,\"\")","v":""},{"$f":"IF($F135<>\"\",IF($I$1=\"企業コード3桁\",LEFT(登録済データ!$C$3,3),LEFT(登録済データ!$C$3,6)),\"\")","v":""},null,{"$f":"IF(登録済データ!$B138<>0,登録済データ!C138,\"\")","v":""},{"$f":"IF(登録済データ!$B138<>0,登録済データ!D138,\"\")","v":""},{"$f":"IF(登録済データ!$B138<>0,登録済データ!E138,\"\")","v":""},{"$f":"IF(登録済データ!$B138<>0,IF(登録済データ!F138<>\"\",登録済データ!F138,\"\"),\"\")","v":""},{"$f":"IF(登録済データ!$B138<>0,IF(登録済データ!G138<>\"\",登録済データ!G138,\"\"),\"\")","v":""},{"$f":"IF(登録済データ!$B138<>0,IF(登録済データ!H138<>\"\",登録済データ!H138,\"\"),\"\")","v":""},{"$f":"IF(登録済データ!$B138<>0,IF(登録済データ!I138<>\"\",登録済データ!I138,\"\"),\"\")","v":""},{"$f":"IF(登録済データ!$B138<>0,登録済データ!J138,\"\")","v":""},{"$f":"IF(登録済データ!$B138<>0,登録済データ!K138,\"\")","v":""},{"$f":"IF(登録済データ!$B138<>0,登録済データ!L138,\"\")","v":""},{"$f":"IF(登録済データ!$B138<>0,登録済データ!M138,\"\")","v":""},{"$f":"IF(登録済データ!$B138<>0,登録済データ!N138,\"\")","v":""},{"$f":"IF(登録済データ!$B138<>0,登録済データ!O138,\"\")","v":""},{"$f":"IF(登録済データ!$B138<>0,登録済データ!P138,\"\")","v":""},{"$f":"IF(登録済データ!$B138<>0,登録済データ!Q138,\"\")","v":""},{"$f":"IF(登録済データ!$B138<>0,登録済データ!R138,\"\")","v":""},{"$f":"IF(登録済データ!$B138<>0,登録済データ!S138,\"\")","v":""},{"$f":"IF(登録済データ!$B138<>0,登録済データ!T138,\"\")","v":""},{"$f":"IF(登録済データ!$B138<>0,登録済データ!U138,\"\")","v":""},{"$f":"IF(登録済データ!$B138<>0,登録済データ!V138,\"\")","v":""},{"$f":"IF(登録済データ!$B138<>0,登録済データ!W138,\"\")","v":""},{"$f":"IF(登録済データ!$B138<>0,登録済データ!X138,\"\")","v":""},{"$f":"IF($F135<>\"\",登録済データ!$C$4,\"\")","v":""}]
[null,{"$f":"IF($F136<>\"\",登録済データ!$C$2,\"\")","v":""},{"$f":"IF($F136<>\"\",IF($I$1=\"企業コード3桁\",LEFT(登録済データ!$C$3,3),LEFT(登録済データ!$C$3,6)),\"\")","v":""},null,{"$f":"IF(登録済データ!$B139<>0,登録済データ!C139,\"\")","v":""},{"$f":"IF(登録済データ!$B139<>0,登録済データ!D139,\"\")","v":""},{"$f":"IF(登録済データ!$B139<>0,登録済データ!E139,\"\")","v":""},{"$f":"IF(登録済データ!$B139<>0,IF(登録済データ!F139<>\"\",登録済データ!F139,\"\"),\"\")","v":""},{"$f":"IF(登録済データ!$B139<>0,IF(登録済データ!G139<>\"\",登録済データ!G139,\"\"),\"\")","v":""},{"$f":"IF(登録済データ!$B139<>0,IF(登録済データ!H139<>\"\",登録済データ!H139,\"\"),\"\")","v":""},{"$f":"IF(登録済データ!$B139<>0,IF(登録済データ!I139<>\"\",登録済データ!I139,\"\"),\"\")","v":""},{"$f":"IF(登録済データ!$B139<>0,登録済データ!J139,\"\")","v":""},{"$f":"IF(登録済データ!$B139<>0,登録済データ!K139,\"\")","v":""},{"$f":"IF(登録済データ!$B139<>0,登録済データ!L139,\"\")","v":""},{"$f":"IF(登録済データ!$B139<>0,登録済データ!M139,\"\")","v":""},{"$f":"IF(登録済データ!$B139<>0,登録済データ!N139,\"\")","v":""},{"$f":"IF(登録済データ!$B139<>0,登録済データ!O139,\"\")","v":""},{"$f":"IF(登録済データ!$B139<>0,登録済データ!P139,\"\")","v":""},{"$f":"IF(登録済データ!$B139<>0,登録済データ!Q139,\"\")","v":""},{"$f":"IF(登録済データ!$B139<>0,登録済データ!R139,\"\")","v":""},{"$f":"IF(登録済データ!$B139<>0,登録済データ!S139,\"\")","v":""},{"$f":"IF(登録済データ!$B139<>0,登録済データ!T139,\"\")","v":""},{"$f":"IF(登録済データ!$B139<>0,登録済データ!U139,\"\")","v":""},{"$f":"IF(登録済データ!$B139<>0,登録済データ!V139,\"\")","v":""},{"$f":"IF(登録済データ!$B139<>0,登録済データ!W139,\"\")","v":""},{"$f":"IF(登録済データ!$B139<>0,登録済データ!X139,\"\")","v":""},{"$f":"IF($F136<>\"\",登録済データ!$C$4,\"\")","v":""}]
[null,{"$f":"IF($F137<>\"\",登録済データ!$C$2,\"\")","v":""},{"$f":"IF($F137<>\"\",IF($I$1=\"企業コード3桁\",LEFT(登録済データ!$C$3,3),LEFT(登録済データ!$C$3,6)),\"\")","v":""},null,{"$f":"IF(登録済データ!$B140<>0,登録済データ!C140,\"\")","v":""},{"$f":"IF(登録済データ!$B140<>0,登録済データ!D140,\"\")","v":""},{"$f":"IF(登録済データ!$B140<>0,登録済データ!E140,\"\")","v":""},{"$f":"IF(登録済データ!$B140<>0,IF(登録済データ!F140<>\"\",登録済データ!F140,\"\"),\"\")","v":""},{"$f":"IF(登録済データ!$B140<>0,IF(登録済データ!G140<>\"\",登録済データ!G140,\"\"),\"\")","v":""},{"$f":"IF(登録済データ!$B140<>0,IF(登録済データ!H140<>\"\",登録済データ!H140,\"\"),\"\")","v":""},{"$f":"IF(登録済データ!$B140<>0,IF(登録済データ!I140<>\"\",登録済データ!I140,\"\"),\"\")","v":""},{"$f":"IF(登録済データ!$B140<>0,登録済データ!J140,\"\")","v":""},{"$f":"IF(登録済データ!$B140<>0,登録済データ!K140,\"\")","v":""},{"$f":"IF(登録済データ!$B140<>0,登録済データ!L140,\"\")","v":""},{"$f":"IF(登録済データ!$B140<>0,登録済データ!M140,\"\")","v":""},{"$f":"IF(登録済データ!$B140<>0,登録済データ!N140,\"\")","v":""},{"$f":"IF(登録済データ!$B140<>0,登録済データ!O140,\"\")","v":""},{"$f":"IF(登録済データ!$B140<>0,登録済データ!P140,\"\")","v":""},{"$f":"IF(登録済データ!$B140<>0,登録済データ!Q140,\"\")","v":""},{"$f":"IF(登録済データ!$B140<>0,登録済データ!R140,\"\")","v":""},{"$f":"IF(登録済データ!$B140<>0,登録済データ!S140,\"\")","v":""},{"$f":"IF(登録済データ!$B140<>0,登録済データ!T140,\"\")","v":""},{"$f":"IF(登録済データ!$B140<>0,登録済データ!U140,\"\")","v":""},{"$f":"IF(登録済データ!$B140<>0,登録済データ!V140,\"\")","v":""},{"$f":"IF(登録済データ!$B140<>0,登録済データ!W140,\"\")","v":""},{"$f":"IF(登録済データ!$B140<>0,登録済データ!X140,\"\")","v":""},{"$f":"IF($F137<>\"\",登録済データ!$C$4,\"\")","v":""}]
[null,{"$f":"IF($F138<>\"\",登録済データ!$C$2,\"\")","v":""},{"$f":"IF($F138<>\"\",IF($I$1=\"企業コード3桁\",LEFT(登録済データ!$C$3,3),LEFT(登録済データ!$C$3,6)),\"\")","v":""},null,{"$f":"IF(登録済データ!$B141<>0,登録済データ!C141,\"\")","v":""},{"$f":"IF(登録済データ!$B141<>0,登録済データ!D141,\"\")","v":""},{"$f":"IF(登録済データ!$B141<>0,登録済データ!E141,\"\")","v":""},{"$f":"IF(登録済データ!$B141<>0,IF(登録済データ!F141<>\"\",登録済データ!F141,\"\"),\"\")","v":""},{"$f":"IF(登録済データ!$B141<>0,IF(登録済データ!G141<>\"\",登録済データ!G141,\"\"),\"\")","v":""},{"$f":"IF(登録済データ!$B141<>0,IF(登録済データ!H141<>\"\",登録済データ!H141,\"\"),\"\")","v":""},{"$f":"IF(登録済データ!$B141<>0,IF(登録済データ!I141<>\"\",登録済データ!I141,\"\"),\"\")","v":""},{"$f":"IF(登録済データ!$B141<>0,登録済データ!J141,\"\")","v":""},{"$f":"IF(登録済データ!$B141<>0,登録済データ!K141,\"\")","v":""},{"$f":"IF(登録済データ!$B141<>0,登録済データ!L141,\"\")","v":""},{"$f":"IF(登録済データ!$B141<>0,登録済データ!M141,\"\")","v":""},{"$f":"IF(登録済データ!$B141<>0,登録済データ!N141,\"\")","v":""},{"$f":"IF(登録済データ!$B141<>0,登録済データ!O141,\"\")","v":""},{"$f":"IF(登録済データ!$B141<>0,登録済データ!P141,\"\")","v":""},{"$f":"IF(登録済データ!$B141<>0,登録済データ!Q141,\"\")","v":""},{"$f":"IF(登録済データ!$B141<>0,登録済データ!R141,\"\")","v":""},{"$f":"IF(登録済データ!$B141<>0,登録済データ!S141,\"\")","v":""},{"$f":"IF(登録済データ!$B141<>0,登録済データ!T141,\"\")","v":""},{"$f":"IF(登録済データ!$B141<>0,登録済データ!U141,\"\")","v":""},{"$f":"IF(登録済データ!$B141<>0,登録済データ!V141,\"\")","v":""},{"$f":"IF(登録済データ!$B141<>0,登録済データ!W141,\"\")","v":""},{"$f":"IF(登録済データ!$B141<>0,登録済データ!X141,\"\")","v":""},{"$f":"IF($F138<>\"\",登録済データ!$C$4,\"\")","v":""}]
[null,{"$f":"IF($F139<>\"\",登録済データ!$C$2,\"\")","v":""},{"$f":"IF($F139<>\"\",IF($I$1=\"企業コード3桁\",LEFT(登録済データ!$C$3,3),LEFT(登録済データ!$C$3,6)),\"\")","v":""},null,{"$f":"IF(登録済データ!$B142<>0,登録済データ!C142,\"\")","v":""},{"$f":"IF(登録済データ!$B142<>0,登録済データ!D142,\"\")","v":""},{"$f":"IF(登録済データ!$B142<>0,登録済データ!E142,\"\")","v":""},{"$f":"IF(登録済データ!$B142<>0,IF(登録済データ!F142<>\"\",登録済データ!F142,\"\"),\"\")","v":""},{"$f":"IF(登録済データ!$B142<>0,IF(登録済データ!G142<>\"\",登録済データ!G142,\"\"),\"\")","v":""},{"$f":"IF(登録済データ!$B142<>0,IF(登録済データ!H142<>\"\",登録済データ!H142,\"\"),\"\")","v":""},{"$f":"IF(登録済データ!$B142<>0,IF(登録済データ!I142<>\"\",登録済データ!I142,\"\"),\"\")","v":""},{"$f":"IF(登録済データ!$B142<>0,登録済データ!J142,\"\")","v":""},{"$f":"IF(登録済データ!$B142<>0,登録済データ!K142,\"\")","v":""},{"$f":"IF(登録済データ!$B142<>0,登録済データ!L142,\"\")","v":""},{"$f":"IF(登録済データ!$B142<>0,登録済データ!M142,\"\")","v":""},{"$f":"IF(登録済データ!$B142<>0,登録済データ!N142,\"\")","v":""},{"$f":"IF(登録済データ!$B142<>0,登録済データ!O142,\"\")","v":""},{"$f":"IF(登録済データ!$B142<>0,登録済データ!P142,\"\")","v":""},{"$f":"IF(登録済データ!$B142<>0,登録済データ!Q142,\"\")","v":""},{"$f":"IF(登録済データ!$B142<>0,登録済データ!R142,\"\")","v":""},{"$f":"IF(登録済データ!$B142<>0,登録済データ!S142,\"\")","v":""},{"$f":"IF(登録済データ!$B142<>0,登録済データ!T142,\"\")","v":""},{"$f":"IF(登録済データ!$B142<>0,登録済データ!U142,\"\")","v":""},{"$f":"IF(登録済データ!$B142<>0,登録済データ!V142,\"\")","v":""},{"$f":"IF(登録済データ!$B142<>0,登録済データ!W142,\"\")","v":""},{"$f":"IF(登録済データ!$B142<>0,登録済データ!X142,\"\")","v":""},{"$f":"IF($F139<>\"\",登録済データ!$C$4,\"\")","v":""}]
[null,{"$f":"IF($F140<>\"\",登録済データ!$C$2,\"\")","v":""},{"$f":"IF($F140<>\"\",IF($I$1=\"企業コード3桁\",LEFT(登録済データ!$C$3,3),LEFT(登録済データ!$C$3,6)),\"\")","v":""},null,{"$f":"IF(登録済データ!$B143<>0,登録済データ!C143,\"\")","v":""},{"$f":"IF(登録済データ!$B143<>0,登録済データ!D143,\"\")","v":""},{"$f":"IF(登録済データ!$B143<>0,登録済データ!E143,\"\")","v":""},{"$f":"IF(登録済データ!$B143<>0,IF(登録済データ!F143<>\"\",登録済データ!F143,\"\"),\"\")","v":""},{"$f":"IF(登録済データ!$B143<>0,IF(登録済データ!G143<>\"\",登録済データ!G143,\"\"),\"\")","v":""},{"$f":"IF(登録済データ!$B143<>0,IF(登録済データ!H143<>\"\",登録済データ!H143,\"\"),\"\")","v":""},{"$f":"IF(登録済データ!$B143<>0,IF(登録済データ!I143<>\"\",登録済データ!I143,\"\"),\"\")","v":""},{"$f":"IF(登録済データ!$B143<>0,登録済データ!J143,\"\")","v":""},{"$f":"IF(登録済データ!$B143<>0,登録済データ!K143,\"\")","v":""},{"$f":"IF(登録済データ!$B143<>0,登録済データ!L143,\"\")","v":""},{"$f":"IF(登録済データ!$B143<>0,登録済データ!M143,\"\")","v":""},{"$f":"IF(登録済データ!$B143<>0,登録済データ!N143,\"\")","v":""},{"$f":"IF(登録済データ!$B143<>0,登録済データ!O143,\"\")","v":""},{"$f":"IF(登録済データ!$B143<>0,登録済データ!P143,\"\")","v":""},{"$f":"IF(登録済データ!$B143<>0,登録済データ!Q143,\"\")","v":""},{"$f":"IF(登録済データ!$B143<>0,登録済データ!R143,\"\")","v":""},{"$f":"IF(登録済データ!$B143<>0,登録済データ!S143,\"\")","v":""},{"$f":"IF(登録済データ!$B143<>0,登録済データ!T143,\"\")","v":""},{"$f":"IF(登録済データ!$B143<>0,登録済データ!U143,\"\")","v":""},{"$f":"IF(登録済データ!$B143<>0,登録済データ!V143,\"\")","v":""},{"$f":"IF(登録済データ!$B143<>0,登録済データ!W143,\"\")","v":""},{"$f":"IF(登録済データ!$B143<>0,登録済データ!X143,\"\")","v":""},{"$f":"IF($F140<>\"\",登録済データ!$C$4,\"\")","v":""}]
[null,{"$f":"IF($F141<>\"\",登録済データ!$C$2,\"\")","v":""},{"$f":"IF($F141<>\"\",IF($I$1=\"企業コード3桁\",LEFT(登録済データ!$C$3,3),LEFT(登録済データ!$C$3,6)),\"\")","v":""},null,{"$f":"IF(登録済データ!$B144<>0,登録済データ!C144,\"\")","v":""},{"$f":"IF(登録済データ!$B144<>0,登録済データ!D144,\"\")","v":""},{"$f":"IF(登録済データ!$B144<>0,登録済データ!E144,\"\")","v":""},{"$f":"IF(登録済データ!$B144<>0,IF(登録済データ!F144<>\"\",登録済データ!F144,\"\"),\"\")","v":""},{"$f":"IF(登録済データ!$B144<>0,IF(登録済データ!G144<>\"\",登録済データ!G144,\"\"),\"\")","v":""},{"$f":"IF(登録済データ!$B144<>0,IF(登録済データ!H144<>\"\",登録済データ!H144,\"\"),\"\")","v":""},{"$f":"IF(登録済データ!$B144<>0,IF(登録済データ!I144<>\"\",登録済データ!I144,\"\"),\"\")","v":""},{"$f":"IF(登録済データ!$B144<>0,登録済データ!J144,\"\")","v":""},{"$f":"IF(登録済データ!$B144<>0,登録済データ!K144,\"\")","v":""},{"$f":"IF(登録済データ!$B144<>0,登録済データ!L144,\"\")","v":""},{"$f":"IF(登録済データ!$B144<>0,登録済データ!M144,\"\")","v":""},{"$f":"IF(登録済データ!$B144<>0,登録済データ!N144,\"\")","v":""},{"$f":"IF(登録済データ!$B144<>0,登録済データ!O144,\"\")","v":""},{"$f":"IF(登録済データ!$B144<>0,登録済データ!P144,\"\")","v":""},{"$f":"IF(登録済データ!$B144<>0,登録済データ!Q144,\"\")","v":""},{"$f":"IF(登録済データ!$B144<>0,登録済データ!R144,\"\")","v":""},{"$f":"IF(登録済データ!$B144<>0,登録済データ!S144,\"\")","v":""},{"$f":"IF(登録済データ!$B144<>0,登録済データ!T144,\"\")","v":""},{"$f":"IF(登録済データ!$B144<>0,登録済データ!U144,\"\")","v":""},{"$f":"IF(登録済データ!$B144<>0,登録済データ!V144,\"\")","v":""},{"$f":"IF(登録済データ!$B144<>0,登録済データ!W144,\"\")","v":""},{"$f":"IF(登録済データ!$B144<>0,登録済データ!X144,\"\")","v":""},{"$f":"IF($F141<>\"\",登録済データ!$C$4,\"\")","v":""}]
[null,{"$f":"IF($F142<>\"\",登録済データ!$C$2,\"\")","v":""},{"$f":"IF($F142<>\"\",IF($I$1=\"企業コード3桁\",LEFT(登録済データ!$C$3,3),LEFT(登録済データ!$C$3,6)),\"\")","v":""},null,{"$f":"IF(登録済データ!$B145<>0,登録済データ!C145,\"\")","v":""},{"$f":"IF(登録済データ!$B145<>0,登録済データ!D145,\"\")","v":""},{"$f":"IF(登録済データ!$B145<>0,登録済データ!E145,\"\")","v":""},{"$f":"IF(登録済データ!$B145<>0,IF(登録済データ!F145<>\"\",登録済データ!F145,\"\"),\"\")","v":""},{"$f":"IF(登録済データ!$B145<>0,IF(登録済データ!G145<>\"\",登録済データ!G145,\"\"),\"\")","v":""},{"$f":"IF(登録済データ!$B145<>0,IF(登録済データ!H145<>\"\",登録済データ!H145,\"\"),\"\")","v":""},{"$f":"IF(登録済データ!$B145<>0,IF(登録済データ!I145<>\"\",登録済データ!I145,\"\"),\"\")","v":""},{"$f":"IF(登録済データ!$B145<>0,登録済データ!J145,\"\")","v":""},{"$f":"IF(登録済データ!$B145<>0,登録済データ!K145,\"\")","v":""},{"$f":"IF(登録済データ!$B145<>0,登録済データ!L145,\"\")","v":""},{"$f":"IF(登録済データ!$B145<>0,登録済データ!M145,\"\")","v":""},{"$f":"IF(登録済データ!$B145<>0,登録済データ!N145,\"\")","v":""},{"$f":"IF(登録済データ!$B145<>0,登録済データ!O145,\"\")","v":""},{"$f":"IF(登録済データ!$B145<>0,登録済データ!P145,\"\")","v":""},{"$f":"IF(登録済データ!$B145<>0,登録済データ!Q145,\"\")","v":""},{"$f":"IF(登録済データ!$B145<>0,登録済データ!R145,\"\")","v":""},{"$f":"IF(登録済データ!$B145<>0,登録済データ!S145,\"\")","v":""},{"$f":"IF(登録済データ!$B145<>0,登録済データ!T145,\"\")","v":""},{"$f":"IF(登録済データ!$B145<>0,登録済データ!U145,\"\")","v":""},{"$f":"IF(登録済データ!$B145<>0,登録済データ!V145,\"\")","v":""},{"$f":"IF(登録済データ!$B145<>0,登録済データ!W145,\"\")","v":""},{"$f":"IF(登録済データ!$B145<>0,登録済データ!X145,\"\")","v":""},{"$f":"IF($F142<>\"\",登録済データ!$C$4,\"\")","v":""}]
[null,{"$f":"IF($F143<>\"\",登録済データ!$C$2,\"\")","v":""},{"$f":"IF($F143<>\"\",IF($I$1=\"企業コード3桁\",LEFT(登録済データ!$C$3,3),LEFT(登録済データ!$C$3,6)),\"\")","v":""},null,{"$f":"IF(登録済データ!$B146<>0,登録済データ!C146,\"\")","v":""},{"$f":"IF(登録済データ!$B146<>0,登録済データ!D146,\"\")","v":""},{"$f":"IF(登録済データ!$B146<>0,登録済データ!E146,\"\")","v":""},{"$f":"IF(登録済データ!$B146<>0,IF(登録済データ!F146<>\"\",登録済データ!F146,\"\"),\"\")","v":""},{"$f":"IF(登録済データ!$B146<>0,IF(登録済データ!G146<>\"\",登録済データ!G146,\"\"),\"\")","v":""},{"$f":"IF(登録済データ!$B146<>0,IF(登録済データ!H146<>\"\",登録済データ!H146,\"\"),\"\")","v":""},{"$f":"IF(登録済データ!$B146<>0,IF(登録済データ!I146<>\"\",登録済データ!I146,\"\"),\"\")","v":""},{"$f":"IF(登録済データ!$B146<>0,登録済データ!J146,\"\")","v":""},{"$f":"IF(登録済データ!$B146<>0,登録済データ!K146,\"\")","v":""},{"$f":"IF(登録済データ!$B146<>0,登録済データ!L146,\"\")","v":""},{"$f":"IF(登録済データ!$B146<>0,登録済データ!M146,\"\")","v":""},{"$f":"IF(登録済データ!$B146<>0,登録済データ!N146,\"\")","v":""},{"$f":"IF(登録済データ!$B146<>0,登録済データ!O146,\"\")","v":""},{"$f":"IF(登録済データ!$B146<>0,登録済データ!P146,\"\")","v":""},{"$f":"IF(登録済データ!$B146<>0,登録済データ!Q146,\"\")","v":""},{"$f":"IF(登録済データ!$B146<>0,登録済データ!R146,\"\")","v":""},{"$f":"IF(登録済データ!$B146<>0,登録済データ!S146,\"\")","v":""},{"$f":"IF(登録済データ!$B146<>0,登録済データ!T146,\"\")","v":""},{"$f":"IF(登録済データ!$B146<>0,登録済データ!U146,\"\")","v":""},{"$f":"IF(登録済データ!$B146<>0,登録済データ!V146,\"\")","v":""},{"$f":"IF(登録済データ!$B146<>0,登録済データ!W146,\"\")","v":""},{"$f":"IF(登録済データ!$B146<>0,登録済データ!X146,\"\")","v":""},{"$f":"IF($F143<>\"\",登録済データ!$C$4,\"\")","v":""}]
[null,{"$f":"IF($F144<>\"\",登録済データ!$C$2,\"\")","v":""},{"$f":"IF($F144<>\"\",IF($I$1=\"企業コード3桁\",LEFT(登録済データ!$C$3,3),LEFT(登録済データ!$C$3,6)),\"\")","v":""},null,{"$f":"IF(登録済データ!$B147<>0,登録済データ!C147,\"\")","v":""},{"$f":"IF(登録済データ!$B147<>0,登録済データ!D147,\"\")","v":""},{"$f":"IF(登録済データ!$B147<>0,登録済データ!E147,\"\")","v":""},{"$f":"IF(登録済データ!$B147<>0,IF(登録済データ!F147<>\"\",登録済データ!F147,\"\"),\"\")","v":""},{"$f":"IF(登録済データ!$B147<>0,IF(登録済データ!G147<>\"\",登録済データ!G147,\"\"),\"\")","v":""},{"$f":"IF(登録済データ!$B147<>0,IF(登録済データ!H147<>\"\",登録済データ!H147,\"\"),\"\")","v":""},{"$f":"IF(登録済データ!$B147<>0,IF(登録済データ!I147<>\"\",登録済データ!I147,\"\"),\"\")","v":""},{"$f":"IF(登録済データ!$B147<>0,登録済データ!J147,\"\")","v":""},{"$f":"IF(登録済データ!$B147<>0,登録済データ!K147,\"\")","v":""},{"$f":"IF(登録済データ!$B147<>0,登録済データ!L147,\"\")","v":""},{"$f":"IF(登録済データ!$B147<>0,登録済データ!M147,\"\")","v":""},{"$f":"IF(登録済データ!$B147<>0,登録済データ!N147,\"\")","v":""},{"$f":"IF(登録済データ!$B147<>0,登録済データ!O147,\"\")","v":""},{"$f":"IF(登録済データ!$B147<>0,登録済データ!P147,\"\")","v":""},{"$f":"IF(登録済データ!$B147<>0,登録済データ!Q147,\"\")","v":""},{"$f":"IF(登録済データ!$B147<>0,登録済データ!R147,\"\")","v":""},{"$f":"IF(登録済データ!$B147<>0,登録済データ!S147,\"\")","v":""},{"$f":"IF(登録済データ!$B147<>0,登録済データ!T147,\"\")","v":""},{"$f":"IF(登録済データ!$B147<>0,登録済データ!U147,\"\")","v":""},{"$f":"IF(登録済データ!$B147<>0,登録済データ!V147,\"\")","v":""},{"$f":"IF(登録済データ!$B147<>0,登録済データ!W147,\"\")","v":""},{"$f":"IF(登録済データ!$B147<>0,登録済データ!X147,\"\")","v":""},{"$f":"IF($F144<>\"\",登録済データ!$C$4,\"\")","v":""}]
[null,{"$f":"IF($F145<>\"\",登録済データ!$C$2,\"\")","v":""},{"$f":"IF($F145<>\"\",IF($I$1=\"企業コード3桁\",LEFT(登録済データ!$C$3,3),LEFT(登録済データ!$C$3,6)),\"\")","v":""},null,{"$f":"IF(登録済データ!$B148<>0,登録済データ!C148,\"\")","v":""},{"$f":"IF(登録済データ!$B148<>0,登録済データ!D148,\"\")","v":""},{"$f":"IF(登録済データ!$B148<>0,登録済データ!E148,\"\")","v":""},{"$f":"IF(登録済データ!$B148<>0,IF(登録済データ!F148<>\"\",登録済データ!F148,\"\"),\"\")","v":""},{"$f":"IF(登録済データ!$B148<>0,IF(登録済データ!G148<>\"\",登録済データ!G148,\"\"),\"\")","v":""},{"$f":"IF(登録済データ!$B148<>0,IF(登録済データ!H148<>\"\",登録済データ!H148,\"\"),\"\")","v":""},{"$f":"IF(登録済データ!$B148<>0,IF(登録済データ!I148<>\"\",登録済データ!I148,\"\"),\"\")","v":""},{"$f":"IF(登録済データ!$B148<>0,登録済データ!J148,\"\")","v":""},{"$f":"IF(登録済データ!$B148<>0,登録済データ!K148,\"\")","v":""},{"$f":"IF(登録済データ!$B148<>0,登録済データ!L148,\"\")","v":""},{"$f":"IF(登録済データ!$B148<>0,登録済データ!M148,\"\")","v":""},{"$f":"IF(登録済データ!$B148<>0,登録済データ!N148,\"\")","v":""},{"$f":"IF(登録済データ!$B148<>0,登録済データ!O148,\"\")","v":""},{"$f":"IF(登録済データ!$B148<>0,登録済データ!P148,\"\")","v":""},{"$f":"IF(登録済データ!$B148<>0,登録済データ!Q148,\"\")","v":""},{"$f":"IF(登録済データ!$B148<>0,登録済データ!R148,\"\")","v":""},{"$f":"IF(登録済データ!$B148<>0,登録済データ!S148,\"\")","v":""},{"$f":"IF(登録済データ!$B148<>0,登録済データ!T148,\"\")","v":""},{"$f":"IF(登録済データ!$B148<>0,登録済データ!U148,\"\")","v":""},{"$f":"IF(登録済データ!$B148<>0,登録済データ!V148,\"\")","v":""},{"$f":"IF(登録済データ!$B148<>0,登録済データ!W148,\"\")","v":""},{"$f":"IF(登録済データ!$B148<>0,登録済データ!X148,\"\")","v":""},{"$f":"IF($F145<>\"\",登録済データ!$C$4,\"\")","v":""}]
[null,{"$f":"IF($F146<>\"\",登録済データ!$C$2,\"\")","v":""},{"$f":"IF($F146<>\"\",IF($I$1=\"企業コード3桁\",LEFT(登録済データ!$C$3,3),LEFT(登録済データ!$C$3,6)),\"\")","v":""},null,{"$f":"IF(登録済データ!$B149<>0,登録済データ!C149,\"\")","v":""},{"$f":"IF(登録済データ!$B149<>0,登録済データ!D149,\"\")","v":""},{"$f":"IF(登録済データ!$B149<>0,登録済データ!E149,\"\")","v":""},{"$f":"IF(登録済データ!$B149<>0,IF(登録済データ!F149<>\"\",登録済データ!F149,\"\"),\"\")","v":""},{"$f":"IF(登録済データ!$B149<>0,IF(登録済データ!G149<>\"\",登録済データ!G149,\"\"),\"\")","v":""},{"$f":"IF(登録済データ!$B149<>0,IF(登録済データ!H149<>\"\",登録済データ!H149,\"\"),\"\")","v":""},{"$f":"IF(登録済データ!$B149<>0,IF(登録済データ!I149<>\"\",登録済データ!I149,\"\"),\"\")","v":""},{"$f":"IF(登録済データ!$B149<>0,登録済データ!J149,\"\")","v":""},{"$f":"IF(登録済データ!$B149<>0,登録済データ!K149,\"\")","v":""},{"$f":"IF(登録済データ!$B149<>0,登録済データ!L149,\"\")","v":""},{"$f":"IF(登録済データ!$B149<>0,登録済データ!M149,\"\")","v":""},{"$f":"IF(登録済データ!$B149<>0,登録済データ!N149,\"\")","v":""},{"$f":"IF(登録済データ!$B149<>0,登録済データ!O149,\"\")","v":""},{"$f":"IF(登録済データ!$B149<>0,登録済データ!P149,\"\")","v":""},{"$f":"IF(登録済データ!$B149<>0,登録済データ!Q149,\"\")","v":""},{"$f":"IF(登録済データ!$B149<>0,登録済データ!R149,\"\")","v":""},{"$f":"IF(登録済データ!$B149<>0,登録済データ!S149,\"\")","v":""},{"$f":"IF(登録済データ!$B149<>0,登録済データ!T149,\"\")","v":""},{"$f":"IF(登録済データ!$B149<>0,登録済データ!U149,\"\")","v":""},{"$f":"IF(登録済データ!$B149<>0,登録済データ!V149,\"\")","v":""},{"$f":"IF(登録済データ!$B149<>0,登録済データ!W149,\"\")","v":""},{"$f":"IF(登録済データ!$B149<>0,登録済データ!X149,\"\")","v":""},{"$f":"IF($F146<>\"\",登録済データ!$C$4,\"\")","v":""}]
[null,{"$f":"IF($F147<>\"\",登録済データ!$C$2,\"\")","v":""},{"$f":"IF($F147<>\"\",IF($I$1=\"企業コード3桁\",LEFT(登録済データ!$C$3,3),LEFT(登録済データ!$C$3,6)),\"\")","v":""},null,{"$f":"IF(登録済データ!$B150<>0,登録済データ!C150,\"\")","v":""},{"$f":"IF(登録済データ!$B150<>0,登録済データ!D150,\"\")","v":""},{"$f":"IF(登録済データ!$B150<>0,登録済データ!E150,\"\")","v":""},{"$f":"IF(登録済データ!$B150<>0,IF(登録済データ!F150<>\"\",登録済データ!F150,\"\"),\"\")","v":""},{"$f":"IF(登録済データ!$B150<>0,IF(登録済データ!G150<>\"\",登録済データ!G150,\"\"),\"\")","v":""},{"$f":"IF(登録済データ!$B150<>0,IF(登録済データ!H150<>\"\",登録済データ!H150,\"\"),\"\")","v":""},{"$f":"IF(登録済データ!$B150<>0,IF(登録済データ!I150<>\"\",登録済データ!I150,\"\"),\"\")","v":""},{"$f":"IF(登録済データ!$B150<>0,登録済データ!J150,\"\")","v":""},{"$f":"IF(登録済データ!$B150<>0,登録済データ!K150,\"\")","v":""},{"$f":"IF(登録済データ!$B150<>0,登録済データ!L150,\"\")","v":""},{"$f":"IF(登録済データ!$B150<>0,登録済データ!M150,\"\")","v":""},{"$f":"IF(登録済データ!$B150<>0,登録済データ!N150,\"\")","v":""},{"$f":"IF(登録済データ!$B150<>0,登録済データ!O150,\"\")","v":""},{"$f":"IF(登録済データ!$B150<>0,登録済データ!P150,\"\")","v":""},{"$f":"IF(登録済データ!$B150<>0,登録済データ!Q150,\"\")","v":""},{"$f":"IF(登録済データ!$B150<>0,登録済データ!R150,\"\")","v":""},{"$f":"IF(登録済データ!$B150<>0,登録済データ!S150,\"\")","v":""},{"$f":"IF(登録済データ!$B150<>0,登録済データ!T150,\"\")","v":""},{"$f":"IF(登録済データ!$B150<>0,登録済データ!U150,\"\")","v":""},{"$f":"IF(登録済データ!$B150<>0,登録済データ!V150,\"\")","v":""},{"$f":"IF(登録済データ!$B150<>0,登録済データ!W150,\"\")","v":""},{"$f":"IF(登録済データ!$B150<>0,登録済データ!X150,\"\")","v":""},{"$f":"IF($F147<>\"\",登録済データ!$C$4,\"\")","v":""}]
[null,{"$f":"IF($F148<>\"\",登録済データ!$C$2,\"\")","v":""},{"$f":"IF($F148<>\"\",IF($I$1=\"企業コード3桁\",LEFT(登録済データ!$C$3,3),LEFT(登録済データ!$C$3,6)),\"\")","v":""},null,{"$f":"IF(登録済データ!$B151<>0,登録済データ!C151,\"\")","v":""},{"$f":"IF(登録済データ!$B151<>0,登録済データ!D151,\"\")","v":""},{"$f":"IF(登録済データ!$B151<>0,登録済データ!E151,\"\")","v":""},{"$f":"IF(登録済データ!$B151<>0,IF(登録済データ!F151<>\"\",登録済データ!F151,\"\"),\"\")","v":""},{"$f":"IF(登録済データ!$B151<>0,IF(登録済データ!G151<>\"\",登録済データ!G151,\"\"),\"\")","v":""},{"$f":"IF(登録済データ!$B151<>0,IF(登録済データ!H151<>\"\",登録済データ!H151,\"\"),\"\")","v":""},{"$f":"IF(登録済データ!$B151<>0,IF(登録済データ!I151<>\"\",登録済データ!I151,\"\"),\"\")","v":""},{"$f":"IF(登録済データ!$B151<>0,登録済データ!J151,\"\")","v":""},{"$f":"IF(登録済データ!$B151<>0,登録済データ!K151,\"\")","v":""},{"$f":"IF(登録済データ!$B151<>0,登録済データ!L151,\"\")","v":""},{"$f":"IF(登録済データ!$B151<>0,登録済データ!M151,\"\")","v":""},{"$f":"IF(登録済データ!$B151<>0,登録済データ!N151,\"\")","v":""},{"$f":"IF(登録済データ!$B151<>0,登録済データ!O151,\"\")","v":""},{"$f":"IF(登録済データ!$B151<>0,登録済データ!P151,\"\")","v":""},{"$f":"IF(登録済データ!$B151<>0,登録済データ!Q151,\"\")","v":""},{"$f":"IF(登録済データ!$B151<>0,登録済データ!R151,\"\")","v":""},{"$f":"IF(登録済データ!$B151<>0,登録済データ!S151,\"\")","v":""},{"$f":"IF(登録済データ!$B151<>0,登録済データ!T151,\"\")","v":""},{"$f":"IF(登録済データ!$B151<>0,登録済データ!U151,\"\")","v":""},{"$f":"IF(登録済データ!$B151<>0,登録済データ!V151,\"\")","v":""},{"$f":"IF(登録済データ!$B151<>0,登録済データ!W151,\"\")","v":""},{"$f":"IF(登録済データ!$B151<>0,登録済データ!X151,\"\")","v":""},{"$f":"IF($F148<>\"\",登録済データ!$C$4,\"\")","v":""}]
[null,{"$f":"IF($F149<>\"\",登録済データ!$C$2,\"\")","v":""},{"$f":"IF($F149<>\"\",IF($I$1=\"企業コード3桁\",LEFT(登録済データ!$C$3,3),LEFT(登録済データ!$C$3,6)),\"\")","v":""},null,{"$f":"IF(登録済データ!$B152<>0,登録済データ!C152,\"\")","v":""},{"$f":"IF(登録済データ!$B152<>0,登録済データ!D152,\"\")","v":""},{"$f":"IF(登録済データ!$B152<>0,登録済データ!E152,\"\")","v":""},{"$f":"IF(登録済データ!$B152<>0,IF(登録済データ!F152<>\"\",登録済データ!F152,\"\"),\"\")","v":""},{"$f":"IF(登録済データ!$B152<>0,IF(登録済データ!G152<>\"\",登録済データ!G152,\"\"),\"\")","v":""},{"$f":"IF(登録済データ!$B152<>0,IF(登録済データ!H152<>\"\",登録済データ!H152,\"\"),\"\")","v":""},{"$f":"IF(登録済データ!$B152<>0,IF(登録済データ!I152<>\"\",登録済データ!I152,\"\"),\"\")","v":""},{"$f":"IF(登録済データ!$B152<>0,登録済データ!J152,\"\")","v":""},{"$f":"IF(登録済データ!$B152<>0,登録済データ!K152,\"\")","v":""},{"$f":"IF(登録済データ!$B152<>0,登録済データ!L152,\"\")","v":""},{"$f":"IF(登録済データ!$B152<>0,登録済データ!M152,\"\")","v":""},{"$f":"IF(登録済データ!$B152<>0,登録済データ!N152,\"\")","v":""},{"$f":"IF(登録済データ!$B152<>0,登録済データ!O152,\"\")","v":""},{"$f":"IF(登録済データ!$B152<>0,登録済データ!P152,\"\")","v":""},{"$f":"IF(登録済データ!$B152<>0,登録済データ!Q152,\"\")","v":""},{"$f":"IF(登録済データ!$B152<>0,登録済データ!R152,\"\")","v":""},{"$f":"IF(登録済データ!$B152<>0,登録済データ!S152,\"\")","v":""},{"$f":"IF(登録済データ!$B152<>0,登録済データ!T152,\"\")","v":""},{"$f":"IF(登録済データ!$B152<>0,登録済データ!U152,\"\")","v":""},{"$f":"IF(登録済データ!$B152<>0,登録済データ!V152,\"\")","v":""},{"$f":"IF(登録済データ!$B152<>0,登録済データ!W152,\"\")","v":""},{"$f":"IF(登録済データ!$B152<>0,登録済データ!X152,\"\")","v":""},{"$f":"IF($F149<>\"\",登録済データ!$C$4,\"\")","v":""}]
[null,{"$f":"IF($F150<>\"\",登録済データ!$C$2,\"\")","v":""},{"$f":"IF($F150<>\"\",IF($I$1=\"企業コード3桁\",LEFT(登録済データ!$C$3,3),LEFT(登録済データ!$C$3,6)),\"\")","v":""},null,{"$f":"IF(登録済データ!$B153<>0,登録済データ!C153,\"\")","v":""},{"$f":"IF(登録済データ!$B153<>0,登録済データ!D153,\"\")","v":""},{"$f":"IF(登録済データ!$B153<>0,登録済データ!E153,\"\")","v":""},{"$f":"IF(登録済データ!$B153<>0,IF(登録済データ!F153<>\"\",登録済データ!F153,\"\"),\"\")","v":""},{"$f":"IF(登録済データ!$B153<>0,IF(登録済データ!G153<>\"\",登録済データ!G153,\"\"),\"\")","v":""},{"$f":"IF(登録済データ!$B153<>0,IF(登録済データ!H153<>\"\",登録済データ!H153,\"\"),\"\")","v":""},{"$f":"IF(登録済データ!$B153<>0,IF(登録済データ!I153<>\"\",登録済データ!I153,\"\"),\"\")","v":""},{"$f":"IF(登録済データ!$B153<>0,登録済データ!J153,\"\")","v":""},{"$f":"IF(登録済データ!$B153<>0,登録済データ!K153,\"\")","v":""},{"$f":"IF(登録済データ!$B153<>0,登録済データ!L153,\"\")","v":""},{"$f":"IF(登録済データ!$B153<>0,登録済データ!M153,\"\")","v":""},{"$f":"IF(登録済データ!$B153<>0,登録済データ!N153,\"\")","v":""},{"$f":"IF(登録済データ!$B153<>0,登録済データ!O153,\"\")","v":""},{"$f":"IF(登録済データ!$B153<>0,登録済データ!P153,\"\")","v":""},{"$f":"IF(登録済データ!$B153<>0,登録済データ!Q153,\"\")","v":""},{"$f":"IF(登録済データ!$B153<>0,登録済データ!R153,\"\")","v":""},{"$f":"IF(登録済データ!$B153<>0,登録済データ!S153,\"\")","v":""},{"$f":"IF(登録済データ!$B153<>0,登録済データ!T153,\"\")","v":""},{"$f":"IF(登録済データ!$B153<>0,登録済データ!U153,\"\")","v":""},{"$f":"IF(登録済データ!$B153<>0,登録済データ!V153,\"\")","v":""},{"$f":"IF(登録済データ!$B153<>0,登録済データ!W153,\"\")","v":""},{"$f":"IF(登録済データ!$B153<>0,登録済データ!X153,\"\")","v":""},{"$f":"IF($F150<>\"\",登録済データ!$C$4,\"\")","v":""}]
[null,{"$f":"IF($F151<>\"\",登録済データ!$C$2,\"\")","v":""},{"$f":"IF($F151<>\"\",IF($I$1=\"企業コード3桁\",LEFT(登録済データ!$C$3,3),LEFT(登録済データ!$C$3,6)),\"\")","v":""},null,{"$f":"IF(登録済データ!$B154<>0,登録済データ!C154,\"\")","v":""},{"$f":"IF(登録済データ!$B154<>0,登録済データ!D154,\"\")","v":""},{"$f":"IF(登録済データ!$B154<>0,登録済データ!E154,\"\")","v":""},{"$f":"IF(登録済データ!$B154<>0,IF(登録済データ!F154<>\"\",登録済データ!F154,\"\"),\"\")","v":""},{"$f":"IF(登録済データ!$B154<>0,IF(登録済データ!G154<>\"\",登録済データ!G154,\"\"),\"\")","v":""},{"$f":"IF(登録済データ!$B154<>0,IF(登録済データ!H154<>\"\",登録済データ!H154,\"\"),\"\")","v":""},{"$f":"IF(登録済データ!$B154<>0,IF(登録済データ!I154<>\"\",登録済データ!I154,\"\"),\"\")","v":""},{"$f":"IF(登録済データ!$B154<>0,登録済データ!J154,\"\")","v":""},{"$f":"IF(登録済データ!$B154<>0,登録済データ!K154,\"\")","v":""},{"$f":"IF(登録済データ!$B154<>0,登録済データ!L154,\"\")","v":""},{"$f":"IF(登録済データ!$B154<>0,登録済データ!M154,\"\")","v":""},{"$f":"IF(登録済データ!$B154<>0,登録済データ!N154,\"\")","v":""},{"$f":"IF(登録済データ!$B154<>0,登録済データ!O154,\"\")","v":""},{"$f":"IF(登録済データ!$B154<>0,登録済データ!P154,\"\")","v":""},{"$f":"IF(登録済データ!$B154<>0,登録済データ!Q154,\"\")","v":""},{"$f":"IF(登録済データ!$B154<>0,登録済データ!R154,\"\")","v":""},{"$f":"IF(登録済データ!$B154<>0,登録済データ!S154,\"\")","v":""},{"$f":"IF(登録済データ!$B154<>0,登録済データ!T154,\"\")","v":""},{"$f":"IF(登録済データ!$B154<>0,登録済データ!U154,\"\")","v":""},{"$f":"IF(登録済データ!$B154<>0,登録済データ!V154,\"\")","v":""},{"$f":"IF(登録済データ!$B154<>0,登録済データ!W154,\"\")","v":""},{"$f":"IF(登録済データ!$B154<>0,登録済データ!X154,\"\")","v":""},{"$f":"IF($F151<>\"\",登録済データ!$C$4,\"\")","v":""}]
[null,{"$f":"IF($F152<>\"\",登録済データ!$C$2,\"\")","v":""},{"$f":"IF($F152<>\"\",IF($I$1=\"企業コード3桁\",LEFT(登録済データ!$C$3,3),LEFT(登録済データ!$C$3,6)),\"\")","v":""},null,{"$f":"IF(登録済データ!$B155<>0,登録済データ!C155,\"\")","v":""},{"$f":"IF(登録済データ!$B155<>0,登録済データ!D155,\"\")","v":""},{"$f":"IF(登録済データ!$B155<>0,登録済データ!E155,\"\")","v":""},{"$f":"IF(登録済データ!$B155<>0,IF(登録済データ!F155<>\"\",登録済データ!F155,\"\"),\"\")","v":""},{"$f":"IF(登録済データ!$B155<>0,IF(登録済データ!G155<>\"\",登録済データ!G155,\"\"),\"\")","v":""},{"$f":"IF(登録済データ!$B155<>0,IF(登録済データ!H155<>\"\",登録済データ!H155,\"\"),\"\")","v":""},{"$f":"IF(登録済データ!$B155<>0,IF(登録済データ!I155<>\"\",登録済データ!I155,\"\"),\"\")","v":""},{"$f":"IF(登録済データ!$B155<>0,登録済データ!J155,\"\")","v":""},{"$f":"IF(登録済データ!$B155<>0,登録済データ!K155,\"\")","v":""},{"$f":"IF(登録済データ!$B155<>0,登録済データ!L155,\"\")","v":""},{"$f":"IF(登録済データ!$B155<>0,登録済データ!M155,\"\")","v":""},{"$f":"IF(登録済データ!$B155<>0,登録済データ!N155,\"\")","v":""},{"$f":"IF(登録済データ!$B155<>0,登録済データ!O155,\"\")","v":""},{"$f":"IF(登録済データ!$B155<>0,登録済データ!P155,\"\")","v":""},{"$f":"IF(登録済データ!$B155<>0,登録済データ!Q155,\"\")","v":""},{"$f":"IF(登録済データ!$B155<>0,登録済データ!R155,\"\")","v":""},{"$f":"IF(登録済データ!$B155<>0,登録済データ!S155,\"\")","v":""},{"$f":"IF(登録済データ!$B155<>0,登録済データ!T155,\"\")","v":""},{"$f":"IF(登録済データ!$B155<>0,登録済データ!U155,\"\")","v":""},{"$f":"IF(登録済データ!$B155<>0,登録済データ!V155,\"\")","v":""},{"$f":"IF(登録済データ!$B155<>0,登録済データ!W155,\"\")","v":""},{"$f":"IF(登録済データ!$B155<>0,登録済データ!X155,\"\")","v":""},{"$f":"IF($F152<>\"\",登録済データ!$C$4,\"\")","v":""}]
[null,{"$f":"IF($F153<>\"\",登録済データ!$C$2,\"\")","v":""},{"$f":"IF($F153<>\"\",IF($I$1=\"企業コード3桁\",LEFT(登録済データ!$C$3,3),LEFT(登録済データ!$C$3,6)),\"\")","v":""},null,{"$f":"IF(登録済データ!$B156<>0,登録済データ!C156,\"\")","v":""},{"$f":"IF(登録済データ!$B156<>0,登録済データ!D156,\"\")","v":""},{"$f":"IF(登録済データ!$B156<>0,登録済データ!E156,\"\")","v":""},{"$f":"IF(登録済データ!$B156<>0,IF(登録済データ!F156<>\"\",登録済データ!F156,\"\"),\"\")","v":""},{"$f":"IF(登録済データ!$B156<>0,IF(登録済データ!G156<>\"\",登録済データ!G156,\"\"),\"\")","v":""},{"$f":"IF(登録済データ!$B156<>0,IF(登録済データ!H156<>\"\",登録済データ!H156,\"\"),\"\")","v":""},{"$f":"IF(登録済データ!$B156<>0,IF(登録済データ!I156<>\"\",登録済データ!I156,\"\"),\"\")","v":""},{"$f":"IF(登録済データ!$B156<>0,登録済データ!J156,\"\")","v":""},{"$f":"IF(登録済データ!$B156<>0,登録済データ!K156,\"\")","v":""},{"$f":"IF(登録済データ!$B156<>0,登録済データ!L156,\"\")","v":""},{"$f":"IF(登録済データ!$B156<>0,登録済データ!M156,\"\")","v":""},{"$f":"IF(登録済データ!$B156<>0,登録済データ!N156,\"\")","v":""},{"$f":"IF(登録済データ!$B156<>0,登録済データ!O156,\"\")","v":""},{"$f":"IF(登録済データ!$B156<>0,登録済データ!P156,\"\")","v":""},{"$f":"IF(登録済データ!$B156<>0,登録済データ!Q156,\"\")","v":""},{"$f":"IF(登録済データ!$B156<>0,登録済データ!R156,\"\")","v":""},{"$f":"IF(登録済データ!$B156<>0,登録済データ!S156,\"\")","v":""},{"$f":"IF(登録済データ!$B156<>0,登録済データ!T156,\"\")","v":""},{"$f":"IF(登録済データ!$B156<>0,登録済データ!U156,\"\")","v":""},{"$f":"IF(登録済データ!$B156<>0,登録済データ!V156,\"\")","v":""},{"$f":"IF(登録済データ!$B156<>0,登録済データ!W156,\"\")","v":""},{"$f":"IF(登録済データ!$B156<>0,登録済データ!X156,\"\")","v":""},{"$f":"IF($F153<>\"\",登録済データ!$C$4,\"\")","v":""}]
[null,{"$f":"IF($F154<>\"\",登録済データ!$C$2,\"\")","v":""},{"$f":"IF($F154<>\"\",IF($I$1=\"企業コード3桁\",LEFT(登録済データ!$C$3,3),LEFT(登録済データ!$C$3,6)),\"\")","v":""},null,{"$f":"IF(登録済データ!$B157<>0,登録済データ!C157,\"\")","v":""},{"$f":"IF(登録済データ!$B157<>0,登録済データ!D157,\"\")","v":""},{"$f":"IF(登録済データ!$B157<>0,登録済データ!E157,\"\")","v":""},{"$f":"IF(登録済データ!$B157<>0,IF(登録済データ!F157<>\"\",登録済データ!F157,\"\"),\"\")","v":""},{"$f":"IF(登録済データ!$B157<>0,IF(登録済データ!G157<>\"\",登録済データ!G157,\"\"),\"\")","v":""},{"$f":"IF(登録済データ!$B157<>0,IF(登録済データ!H157<>\"\",登録済データ!H157,\"\"),\"\")","v":""},{"$f":"IF(登録済データ!$B157<>0,IF(登録済データ!I157<>\"\",登録済データ!I157,\"\"),\"\")","v":""},{"$f":"IF(登録済データ!$B157<>0,登録済データ!J157,\"\")","v":""},{"$f":"IF(登録済データ!$B157<>0,登録済データ!K157,\"\")","v":""},{"$f":"IF(登録済データ!$B157<>0,登録済データ!L157,\"\")","v":""},{"$f":"IF(登録済データ!$B157<>0,登録済データ!M157,\"\")","v":""},{"$f":"IF(登録済データ!$B157<>0,登録済データ!N157,\"\")","v":""},{"$f":"IF(登録済データ!$B157<>0,登録済データ!O157,\"\")","v":""},{"$f":"IF(登録済データ!$B157<>0,登録済データ!P157,\"\")","v":""},{"$f":"IF(登録済データ!$B157<>0,登録済データ!Q157,\"\")","v":""},{"$f":"IF(登録済データ!$B157<>0,登録済データ!R157,\"\")","v":""},{"$f":"IF(登録済データ!$B157<>0,登録済データ!S157,\"\")","v":""},{"$f":"IF(登録済データ!$B157<>0,登録済データ!T157,\"\")","v":""},{"$f":"IF(登録済データ!$B157<>0,登録済データ!U157,\"\")","v":""},{"$f":"IF(登録済データ!$B157<>0,登録済データ!V157,\"\")","v":""},{"$f":"IF(登録済データ!$B157<>0,登録済データ!W157,\"\")","v":""},{"$f":"IF(登録済データ!$B157<>0,登録済データ!X157,\"\")","v":""},{"$f":"IF($F154<>\"\",登録済データ!$C$4,\"\")","v":""}]
[null,{"$f":"IF($F155<>\"\",登録済データ!$C$2,\"\")","v":""},{"$f":"IF($F155<>\"\",IF($I$1=\"企業コード3桁\",LEFT(登録済データ!$C$3,3),LEFT(登録済データ!$C$3,6)),\"\")","v":""},null,{"$f":"IF(登録済データ!$B158<>0,登録済データ!C158,\"\")","v":""},{"$f":"IF(登録済データ!$B158<>0,登録済データ!D158,\"\")","v":""},{"$f":"IF(登録済データ!$B158<>0,登録済データ!E158,\"\")","v":""},{"$f":"IF(登録済データ!$B158<>0,IF(登録済データ!F158<>\"\",登録済データ!F158,\"\"),\"\")","v":""},{"$f":"IF(登録済データ!$B158<>0,IF(登録済データ!G158<>\"\",登録済データ!G158,\"\"),\"\")","v":""},{"$f":"IF(登録済データ!$B158<>0,IF(登録済データ!H158<>\"\",登録済データ!H158,\"\"),\"\")","v":""},{"$f":"IF(登録済データ!$B158<>0,IF(登録済データ!I158<>\"\",登録済データ!I158,\"\"),\"\")","v":""},{"$f":"IF(登録済データ!$B158<>0,登録済データ!J158,\"\")","v":""},{"$f":"IF(登録済データ!$B158<>0,登録済データ!K158,\"\")","v":""},{"$f":"IF(登録済データ!$B158<>0,登録済データ!L158,\"\")","v":""},{"$f":"IF(登録済データ!$B158<>0,登録済データ!M158,\"\")","v":""},{"$f":"IF(登録済データ!$B158<>0,登録済データ!N158,\"\")","v":""},{"$f":"IF(登録済データ!$B158<>0,登録済データ!O158,\"\")","v":""},{"$f":"IF(登録済データ!$B158<>0,登録済データ!P158,\"\")","v":""},{"$f":"IF(登録済データ!$B158<>0,登録済データ!Q158,\"\")","v":""},{"$f":"IF(登録済データ!$B158<>0,登録済データ!R158,\"\")","v":""},{"$f":"IF(登録済データ!$B158<>0,登録済データ!S158,\"\")","v":""},{"$f":"IF(登録済データ!$B158<>0,登録済データ!T158,\"\")","v":""},{"$f":"IF(登録済データ!$B158<>0,登録済データ!U158,\"\")","v":""},{"$f":"IF(登録済データ!$B158<>0,登録済データ!V158,\"\")","v":""},{"$f":"IF(登録済データ!$B158<>0,登録済データ!W158,\"\")","v":""},{"$f":"IF(登録済データ!$B158<>0,登録済データ!X158,\"\")","v":""},{"$f":"IF($F155<>\"\",登録済データ!$C$4,\"\")","v":""}]
[null,{"$f":"IF($F156<>\"\",登録済データ!$C$2,\"\")","v":""},{"$f":"IF($F156<>\"\",IF($I$1=\"企業コード3桁\",LEFT(登録済データ!$C$3,3),LEFT(登録済データ!$C$3,6)),\"\")","v":""},null,{"$f":"IF(登録済データ!$B159<>0,登録済データ!C159,\"\")","v":""},{"$f":"IF(登録済データ!$B159<>0,登録済データ!D159,\"\")","v":""},{"$f":"IF(登録済データ!$B159<>0,登録済データ!E159,\"\")","v":""},{"$f":"IF(登録済データ!$B159<>0,IF(登録済データ!F159<>\"\",登録済データ!F159,\"\"),\"\")","v":""},{"$f":"IF(登録済データ!$B159<>0,IF(登録済データ!G159<>\"\",登録済データ!G159,\"\"),\"\")","v":""},{"$f":"IF(登録済データ!$B159<>0,IF(登録済データ!H159<>\"\",登録済データ!H159,\"\"),\"\")","v":""},{"$f":"IF(登録済データ!$B159<>0,IF(登録済データ!I159<>\"\",登録済データ!I159,\"\"),\"\")","v":""},{"$f":"IF(登録済データ!$B159<>0,登録済データ!J159,\"\")","v":""},{"$f":"IF(登録済データ!$B159<>0,登録済データ!K159,\"\")","v":""},{"$f":"IF(登録済データ!$B159<>0,登録済データ!L159,\"\")","v":""},{"$f":"IF(登録済データ!$B159<>0,登録済データ!M159,\"\")","v":""},{"$f":"IF(登録済データ!$B159<>0,登録済データ!N159,\"\")","v":""},{"$f":"IF(登録済データ!$B159<>0,登録済データ!O159,\"\")","v":""},{"$f":"IF(登録済データ!$B159<>0,登録済データ!P159,\"\")","v":""},{"$f":"IF(登録済データ!$B159<>0,登録済データ!Q159,\"\")","v":""},{"$f":"IF(登録済データ!$B159<>0,登録済データ!R159,\"\")","v":""},{"$f":"IF(登録済データ!$B159<>0,登録済データ!S159,\"\")","v":""},{"$f":"IF(登録済データ!$B159<>0,登録済データ!T159,\"\")","v":""},{"$f":"IF(登録済データ!$B159<>0,登録済データ!U159,\"\")","v":""},{"$f":"IF(登録済データ!$B159<>0,登録済データ!V159,\"\")","v":""},{"$f":"IF(登録済データ!$B159<>0,登録済データ!W159,\"\")","v":""},{"$f":"IF(登録済データ!$B159<>0,登録済データ!X159,\"\")","v":""},{"$f":"IF($F156<>\"\",登録済データ!$C$4,\"\")","v":""}]
[null,{"$f":"IF($F157<>\"\",登録済データ!$C$2,\"\")","v":""},{"$f":"IF($F157<>\"\",IF($I$1=\"企業コード3桁\",LEFT(登録済データ!$C$3,3),LEFT(登録済データ!$C$3,6)),\"\")","v":""},null,{"$f":"IF(登録済データ!$B160<>0,登録済データ!C160,\"\")","v":""},{"$f":"IF(登録済データ!$B160<>0,登録済データ!D160,\"\")","v":""},{"$f":"IF(登録済データ!$B160<>0,登録済データ!E160,\"\")","v":""},{"$f":"IF(登録済データ!$B160<>0,IF(登録済データ!F160<>\"\",登録済データ!F160,\"\"),\"\")","v":""},{"$f":"IF(登録済データ!$B160<>0,IF(登録済データ!G160<>\"\",登録済データ!G160,\"\"),\"\")","v":""},{"$f":"IF(登録済データ!$B160<>0,IF(登録済データ!H160<>\"\",登録済データ!H160,\"\"),\"\")","v":""},{"$f":"IF(登録済データ!$B160<>0,IF(登録済データ!I160<>\"\",登録済データ!I160,\"\"),\"\")","v":""},{"$f":"IF(登録済データ!$B160<>0,登録済データ!J160,\"\")","v":""},{"$f":"IF(登録済データ!$B160<>0,登録済データ!K160,\"\")","v":""},{"$f":"IF(登録済データ!$B160<>0,登録済データ!L160,\"\")","v":""},{"$f":"IF(登録済データ!$B160<>0,登録済データ!M160,\"\")","v":""},{"$f":"IF(登録済データ!$B160<>0,登録済データ!N160,\"\")","v":""},{"$f":"IF(登録済データ!$B160<>0,登録済データ!O160,\"\")","v":""},{"$f":"IF(登録済データ!$B160<>0,登録済データ!P160,\"\")","v":""},{"$f":"IF(登録済データ!$B160<>0,登録済データ!Q160,\"\")","v":""},{"$f":"IF(登録済データ!$B160<>0,登録済データ!R160,\"\")","v":""},{"$f":"IF(登録済データ!$B160<>0,登録済データ!S160,\"\")","v":""},{"$f":"IF(登録済データ!$B160<>0,登録済データ!T160,\"\")","v":""},{"$f":"IF(登録済データ!$B160<>0,登録済データ!U160,\"\")","v":""},{"$f":"IF(登録済データ!$B160<>0,登録済データ!V160,\"\")","v":""},{"$f":"IF(登録済データ!$B160<>0,登録済データ!W160,\"\")","v":""},{"$f":"IF(登録済データ!$B160<>0,登録済データ!X160,\"\")","v":""},{"$f":"IF($F157<>\"\",登録済データ!$C$4,\"\")","v":""}]
[null,{"$f":"IF($F158<>\"\",登録済データ!$C$2,\"\")","v":""},{"$f":"IF($F158<>\"\",IF($I$1=\"企業コード3桁\",LEFT(登録済データ!$C$3,3),LEFT(登録済データ!$C$3,6)),\"\")","v":""},null,{"$f":"IF(登録済データ!$B161<>0,登録済データ!C161,\"\")","v":""},{"$f":"IF(登録済データ!$B161<>0,登録済データ!D161,\"\")","v":""},{"$f":"IF(登録済データ!$B161<>0,登録済データ!E161,\"\")","v":""},{"$f":"IF(登録済データ!$B161<>0,IF(登録済データ!F161<>\"\",登録済データ!F161,\"\"),\"\")","v":""},{"$f":"IF(登録済データ!$B161<>0,IF(登録済データ!G161<>\"\",登録済データ!G161,\"\"),\"\")","v":""},{"$f":"IF(登録済データ!$B161<>0,IF(登録済データ!H161<>\"\",登録済データ!H161,\"\"),\"\")","v":""},{"$f":"IF(登録済データ!$B161<>0,IF(登録済データ!I161<>\"\",登録済データ!I161,\"\"),\"\")","v":""},{"$f":"IF(登録済データ!$B161<>0,登録済データ!J161,\"\")","v":""},{"$f":"IF(登録済データ!$B161<>0,登録済データ!K161,\"\")","v":""},{"$f":"IF(登録済データ!$B161<>0,登録済データ!L161,\"\")","v":""},{"$f":"IF(登録済データ!$B161<>0,登録済データ!M161,\"\")","v":""},{"$f":"IF(登録済データ!$B161<>0,登録済データ!N161,\"\")","v":""},{"$f":"IF(登録済データ!$B161<>0,登録済データ!O161,\"\")","v":""},{"$f":"IF(登録済データ!$B161<>0,登録済データ!P161,\"\")","v":""},{"$f":"IF(登録済データ!$B161<>0,登録済データ!Q161,\"\")","v":""},{"$f":"IF(登録済データ!$B161<>0,登録済データ!R161,\"\")","v":""},{"$f":"IF(登録済データ!$B161<>0,登録済データ!S161,\"\")","v":""},{"$f":"IF(登録済データ!$B161<>0,登録済データ!T161,\"\")","v":""},{"$f":"IF(登録済データ!$B161<>0,登録済データ!U161,\"\")","v":""},{"$f":"IF(登録済データ!$B161<>0,登録済データ!V161,\"\")","v":""},{"$f":"IF(登録済データ!$B161<>0,登録済データ!W161,\"\")","v":""},{"$f":"IF(登録済データ!$B161<>0,登録済データ!X161,\"\")","v":""},{"$f":"IF($F158<>\"\",登録済データ!$C$4,\"\")","v":""}]
[null,{"$f":"IF($F159<>\"\",登録済データ!$C$2,\"\")","v":""},{"$f":"IF($F159<>\"\",IF($I$1=\"企業コード3桁\",LEFT(登録済データ!$C$3,3),LEFT(登録済データ!$C$3,6)),\"\")","v":""},null,{"$f":"IF(登録済データ!$B162<>0,登録済データ!C162,\"\")","v":""},{"$f":"IF(登録済データ!$B162<>0,登録済データ!D162,\"\")","v":""},{"$f":"IF(登録済データ!$B162<>0,登録済データ!E162,\"\")","v":""},{"$f":"IF(登録済データ!$B162<>0,IF(登録済データ!F162<>\"\",登録済データ!F162,\"\"),\"\")","v":""},{"$f":"IF(登録済データ!$B162<>0,IF(登録済データ!G162<>\"\",登録済データ!G162,\"\"),\"\")","v":""},{"$f":"IF(登録済データ!$B162<>0,IF(登録済データ!H162<>\"\",登録済データ!H162,\"\"),\"\")","v":""},{"$f":"IF(登録済データ!$B162<>0,IF(登録済データ!I162<>\"\",登録済データ!I162,\"\"),\"\")","v":""},{"$f":"IF(登録済データ!$B162<>0,登録済データ!J162,\"\")","v":""},{"$f":"IF(登録済データ!$B162<>0,登録済データ!K162,\"\")","v":""},{"$f":"IF(登録済データ!$B162<>0,登録済データ!L162,\"\")","v":""},{"$f":"IF(登録済データ!$B162<>0,登録済データ!M162,\"\")","v":""},{"$f":"IF(登録済データ!$B162<>0,登録済データ!N162,\"\")","v":""},{"$f":"IF(登録済データ!$B162<>0,登録済データ!O162,\"\")","v":""},{"$f":"IF(登録済データ!$B162<>0,登録済データ!P162,\"\")","v":""},{"$f":"IF(登録済データ!$B162<>0,登録済データ!Q162,\"\")","v":""},{"$f":"IF(登録済データ!$B162<>0,登録済データ!R162,\"\")","v":""},{"$f":"IF(登録済データ!$B162<>0,登録済データ!S162,\"\")","v":""},{"$f":"IF(登録済データ!$B162<>0,登録済データ!T162,\"\")","v":""},{"$f":"IF(登録済データ!$B162<>0,登録済データ!U162,\"\")","v":""},{"$f":"IF(登録済データ!$B162<>0,登録済データ!V162,\"\")","v":""},{"$f":"IF(登録済データ!$B162<>0,登録済データ!W162,\"\")","v":""},{"$f":"IF(登録済データ!$B162<>0,登録済データ!X162,\"\")","v":""},{"$f":"IF($F159<>\"\",登録済データ!$C$4,\"\")","v":""}]
[null,{"$f":"IF($F160<>\"\",登録済データ!$C$2,\"\")","v":""},{"$f":"IF($F160<>\"\",IF($I$1=\"企業コード3桁\",LEFT(登録済データ!$C$3,3),LEFT(登録済データ!$C$3,6)),\"\")","v":""},null,{"$f":"IF(登録済データ!$B163<>0,登録済データ!C163,\"\")","v":""},{"$f":"IF(登録済データ!$B163<>0,登録済データ!D163,\"\")","v":""},{"$f":"IF(登録済データ!$B163<>0,登録済データ!E163,\"\")","v":""},{"$f":"IF(登録済データ!$B163<>0,IF(登録済データ!F163<>\"\",登録済データ!F163,\"\"),\"\")","v":""},{"$f":"IF(登録済データ!$B163<>0,IF(登録済データ!G163<>\"\",登録済データ!G163,\"\"),\"\")","v":""},{"$f":"IF(登録済データ!$B163<>0,IF(登録済データ!H163<>\"\",登録済データ!H163,\"\"),\"\")","v":""},{"$f":"IF(登録済データ!$B163<>0,IF(登録済データ!I163<>\"\",登録済データ!I163,\"\"),\"\")","v":""},{"$f":"IF(登録済データ!$B163<>0,登録済データ!J163,\"\")","v":""},{"$f":"IF(登録済データ!$B163<>0,登録済データ!K163,\"\")","v":""},{"$f":"IF(登録済データ!$B163<>0,登録済データ!L163,\"\")","v":""},{"$f":"IF(登録済データ!$B163<>0,登録済データ!M163,\"\")","v":""},{"$f":"IF(登録済データ!$B163<>0,登録済データ!N163,\"\")","v":""},{"$f":"IF(登録済データ!$B163<>0,登録済データ!O163,\"\")","v":""},{"$f":"IF(登録済データ!$B163<>0,登録済データ!P163,\"\")","v":""},{"$f":"IF(登録済データ!$B163<>0,登録済データ!Q163,\"\")","v":""},{"$f":"IF(登録済データ!$B163<>0,登録済データ!R163,\"\")","v":""},{"$f":"IF(登録済データ!$B163<>0,登録済データ!S163,\"\")","v":""},{"$f":"IF(登録済データ!$B163<>0,登録済データ!T163,\"\")","v":""},{"$f":"IF(登録済データ!$B163<>0,登録済データ!U163,\"\")","v":""},{"$f":"IF(登録済データ!$B163<>0,登録済データ!V163,\"\")","v":""},{"$f":"IF(登録済データ!$B163<>0,登録済データ!W163,\"\")","v":""},{"$f":"IF(登録済データ!$B163<>0,登録済データ!X163,\"\")","v":""},{"$f":"IF($F160<>\"\",登録済データ!$C$4,\"\")","v":""}]
[null,{"$f":"IF($F161<>\"\",登録済データ!$C$2,\"\")","v":""},{"$f":"IF($F161<>\"\",IF($I$1=\"企業コード3桁\",LEFT(登録済データ!$C$3,3),LEFT(登録済データ!$C$3,6)),\"\")","v":""},null,{"$f":"IF(登録済データ!$B164<>0,登録済データ!C164,\"\")","v":""},{"$f":"IF(登録済データ!$B164<>0,登録済データ!D164,\"\")","v":""},{"$f":"IF(登録済データ!$B164<>0,登録済データ!E164,\"\")","v":""},{"$f":"IF(登録済データ!$B164<>0,IF(登録済データ!F164<>\"\",登録済データ!F164,\"\"),\"\")","v":""},{"$f":"IF(登録済データ!$B164<>0,IF(登録済データ!G164<>\"\",登録済データ!G164,\"\"),\"\")","v":""},{"$f":"IF(登録済データ!$B164<>0,IF(登録済データ!H164<>\"\",登録済データ!H164,\"\"),\"\")","v":""},{"$f":"IF(登録済データ!$B164<>0,IF(登録済データ!I164<>\"\",登録済データ!I164,\"\"),\"\")","v":""},{"$f":"IF(登録済データ!$B164<>0,登録済データ!J164,\"\")","v":""},{"$f":"IF(登録済データ!$B164<>0,登録済データ!K164,\"\")","v":""},{"$f":"IF(登録済データ!$B164<>0,登録済データ!L164,\"\")","v":""},{"$f":"IF(登録済データ!$B164<>0,登録済データ!M164,\"\")","v":""},{"$f":"IF(登録済データ!$B164<>0,登録済データ!N164,\"\")","v":""},{"$f":"IF(登録済データ!$B164<>0,登録済データ!O164,\"\")","v":""},{"$f":"IF(登録済データ!$B164<>0,登録済データ!P164,\"\")","v":""},{"$f":"IF(登録済データ!$B164<>0,登録済データ!Q164,\"\")","v":""},{"$f":"IF(登録済データ!$B164<>0,登録済データ!R164,\"\")","v":""},{"$f":"IF(登録済データ!$B164<>0,登録済データ!S164,\"\")","v":""},{"$f":"IF(登録済データ!$B164<>0,登録済データ!T164,\"\")","v":""},{"$f":"IF(登録済データ!$B164<>0,登録済データ!U164,\"\")","v":""},{"$f":"IF(登録済データ!$B164<>0,登録済データ!V164,\"\")","v":""},{"$f":"IF(登録済データ!$B164<>0,登録済データ!W164,\"\")","v":""},{"$f":"IF(登録済データ!$B164<>0,登録済データ!X164,\"\")","v":""},{"$f":"IF($F161<>\"\",登録済データ!$C$4,\"\")","v":""}]
[null,{"$f":"IF($F162<>\"\",登録済データ!$C$2,\"\")","v":""},{"$f":"IF($F162<>\"\",IF($I$1=\"企業コード3桁\",LEFT(登録済データ!$C$3,3),LEFT(登録済データ!$C$3,6)),\"\")","v":""},null,{"$f":"IF(登録済データ!$B165<>0,登録済データ!C165,\"\")","v":""},{"$f":"IF(登録済データ!$B165<>0,登録済データ!D165,\"\")","v":""},{"$f":"IF(登録済データ!$B165<>0,登録済データ!E165,\"\")","v":""},{"$f":"IF(登録済データ!$B165<>0,IF(登録済データ!F165<>\"\",登録済データ!F165,\"\"),\"\")","v":""},{"$f":"IF(登録済データ!$B165<>0,IF(登録済データ!G165<>\"\",登録済データ!G165,\"\"),\"\")","v":""},{"$f":"IF(登録済データ!$B165<>0,IF(登録済データ!H165<>\"\",登録済データ!H165,\"\"),\"\")","v":""},{"$f":"IF(登録済データ!$B165<>0,IF(登録済データ!I165<>\"\",登録済データ!I165,\"\"),\"\")","v":""},{"$f":"IF(登録済データ!$B165<>0,登録済データ!J165,\"\")","v":""},{"$f":"IF(登録済データ!$B165<>0,登録済データ!K165,\"\")","v":""},{"$f":"IF(登録済データ!$B165<>0,登録済データ!L165,\"\")","v":""},{"$f":"IF(登録済データ!$B165<>0,登録済データ!M165,\"\")","v":""},{"$f":"IF(登録済データ!$B165<>0,登録済データ!N165,\"\")","v":""},{"$f":"IF(登録済データ!$B165<>0,登録済データ!O165,\"\")","v":""},{"$f":"IF(登録済データ!$B165<>0,登録済データ!P165,\"\")","v":""},{"$f":"IF(登録済データ!$B165<>0,登録済データ!Q165,\"\")","v":""},{"$f":"IF(登録済データ!$B165<>0,登録済データ!R165,\"\")","v":""},{"$f":"IF(登録済データ!$B165<>0,登録済データ!S165,\"\")","v":""},{"$f":"IF(登録済データ!$B165<>0,登録済データ!T165,\"\")","v":""},{"$f":"IF(登録済データ!$B165<>0,登録済データ!U165,\"\")","v":""},{"$f":"IF(登録済データ!$B165<>0,登録済データ!V165,\"\")","v":""},{"$f":"IF(登録済データ!$B165<>0,登録済データ!W165,\"\")","v":""},{"$f":"IF(登録済データ!$B165<>0,登録済データ!X165,\"\")","v":""},{"$f":"IF($F162<>\"\",登録済データ!$C$4,\"\")","v":""}]
[null,{"$f":"IF($F163<>\"\",登録済データ!$C$2,\"\")","v":""},{"$f":"IF($F163<>\"\",IF($I$1=\"企業コード3桁\",LEFT(登録済データ!$C$3,3),LEFT(登録済データ!$C$3,6)),\"\")","v":""},null,{"$f":"IF(登録済データ!$B166<>0,登録済データ!C166,\"\")","v":""},{"$f":"IF(登録済データ!$B166<>0,登録済データ!D166,\"\")","v":""},{"$f":"IF(登録済データ!$B166<>0,登録済データ!E166,\"\")","v":""},{"$f":"IF(登録済データ!$B166<>0,IF(登録済データ!F166<>\"\",登録済データ!F166,\"\"),\"\")","v":""},{"$f":"IF(登録済データ!$B166<>0,IF(登録済データ!G166<>\"\",登録済データ!G166,\"\"),\"\")","v":""},{"$f":"IF(登録済データ!$B166<>0,IF(登録済データ!H166<>\"\",登録済データ!H166,\"\"),\"\")","v":""},{"$f":"IF(登録済データ!$B166<>0,IF(登録済データ!I166<>\"\",登録済データ!I166,\"\"),\"\")","v":""},{"$f":"IF(登録済データ!$B166<>0,登録済データ!J166,\"\")","v":""},{"$f":"IF(登録済データ!$B166<>0,登録済データ!K166,\"\")","v":""},{"$f":"IF(登録済データ!$B166<>0,登録済データ!L166,\"\")","v":""},{"$f":"IF(登録済データ!$B166<>0,登録済データ!M166,\"\")","v":""},{"$f":"IF(登録済データ!$B166<>0,登録済データ!N166,\"\")","v":""},{"$f":"IF(登録済データ!$B166<>0,登録済データ!O166,\"\")","v":""},{"$f":"IF(登録済データ!$B166<>0,登録済データ!P166,\"\")","v":""},{"$f":"IF(登録済データ!$B166<>0,登録済データ!Q166,\"\")","v":""},{"$f":"IF(登録済データ!$B166<>0,登録済データ!R166,\"\")","v":""},{"$f":"IF(登録済データ!$B166<>0,登録済データ!S166,\"\")","v":""},{"$f":"IF(登録済データ!$B166<>0,登録済データ!T166,\"\")","v":""},{"$f":"IF(登録済データ!$B166<>0,登録済データ!U166,\"\")","v":""},{"$f":"IF(登録済データ!$B166<>0,登録済データ!V166,\"\")","v":""},{"$f":"IF(登録済データ!$B166<>0,登録済データ!W166,\"\")","v":""},{"$f":"IF(登録済データ!$B166<>0,登録済データ!X166,\"\")","v":""},{"$f":"IF($F163<>\"\",登録済データ!$C$4,\"\")","v":""}]
[null,{"$f":"IF($F164<>\"\",登録済データ!$C$2,\"\")","v":""},{"$f":"IF($F164<>\"\",IF($I$1=\"企業コード3桁\",LEFT(登録済データ!$C$3,3),LEFT(登録済データ!$C$3,6)),\"\")","v":""},null,{"$f":"IF(登録済データ!$B167<>0,登録済データ!C167,\"\")","v":""},{"$f":"IF(登録済データ!$B167<>0,登録済データ!D167,\"\")","v":""},{"$f":"IF(登録済データ!$B167<>0,登録済データ!E167,\"\")","v":""},{"$f":"IF(登録済データ!$B167<>0,IF(登録済データ!F167<>\"\",登録済データ!F167,\"\"),\"\")","v":""},{"$f":"IF(登録済データ!$B167<>0,IF(登録済データ!G167<>\"\",登録済データ!G167,\"\"),\"\")","v":""},{"$f":"IF(登録済データ!$B167<>0,IF(登録済データ!H167<>\"\",登録済データ!H167,\"\"),\"\")","v":""},{"$f":"IF(登録済データ!$B167<>0,IF(登録済データ!I167<>\"\",登録済データ!I167,\"\"),\"\")","v":""},{"$f":"IF(登録済データ!$B167<>0,登録済データ!J167,\"\")","v":""},{"$f":"IF(登録済データ!$B167<>0,登録済データ!K167,\"\")","v":""},{"$f":"IF(登録済データ!$B167<>0,登録済データ!L167,\"\")","v":""},{"$f":"IF(登録済データ!$B167<>0,登録済データ!M167,\"\")","v":""},{"$f":"IF(登録済データ!$B167<>0,登録済データ!N167,\"\")","v":""},{"$f":"IF(登録済データ!$B167<>0,登録済データ!O167,\"\")","v":""},{"$f":"IF(登録済データ!$B167<>0,登録済データ!P167,\"\")","v":""},{"$f":"IF(登録済データ!$B167<>0,登録済データ!Q167,\"\")","v":""},{"$f":"IF(登録済データ!$B167<>0,登録済データ!R167,\"\")","v":""},{"$f":"IF(登録済データ!$B167<>0,登録済データ!S167,\"\")","v":""},{"$f":"IF(登録済データ!$B167<>0,登録済データ!T167,\"\")","v":""},{"$f":"IF(登録済データ!$B167<>0,登録済データ!U167,\"\")","v":""},{"$f":"IF(登録済データ!$B167<>0,登録済データ!V167,\"\")","v":""},{"$f":"IF(登録済データ!$B167<>0,登録済データ!W167,\"\")","v":""},{"$f":"IF(登録済データ!$B167<>0,登録済データ!X167,\"\")","v":""},{"$f":"IF($F164<>\"\",登録済データ!$C$4,\"\")","v":""}]
[null,{"$f":"IF($F165<>\"\",登録済データ!$C$2,\"\")","v":""},{"$f":"IF($F165<>\"\",IF($I$1=\"企業コード3桁\",LEFT(登録済データ!$C$3,3),LEFT(登録済データ!$C$3,6)),\"\")","v":""},null,{"$f":"IF(登録済データ!$B168<>0,登録済データ!C168,\"\")","v":""},{"$f":"IF(登録済データ!$B168<>0,登録済データ!D168,\"\")","v":""},{"$f":"IF(登録済データ!$B168<>0,登録済データ!E168,\"\")","v":""},{"$f":"IF(登録済データ!$B168<>0,IF(登録済データ!F168<>\"\",登録済データ!F168,\"\"),\"\")","v":""},{"$f":"IF(登録済データ!$B168<>0,IF(登録済データ!G168<>\"\",登録済データ!G168,\"\"),\"\")","v":""},{"$f":"IF(登録済データ!$B168<>0,IF(登録済データ!H168<>\"\",登録済データ!H168,\"\"),\"\")","v":""},{"$f":"IF(登録済データ!$B168<>0,IF(登録済データ!I168<>\"\",登録済データ!I168,\"\"),\"\")","v":""},{"$f":"IF(登録済データ!$B168<>0,登録済データ!J168,\"\")","v":""},{"$f":"IF(登録済データ!$B168<>0,登録済データ!K168,\"\")","v":""},{"$f":"IF(登録済データ!$B168<>0,登録済データ!L168,\"\")","v":""},{"$f":"IF(登録済データ!$B168<>0,登録済データ!M168,\"\")","v":""},{"$f":"IF(登録済データ!$B168<>0,登録済データ!N168,\"\")","v":""},{"$f":"IF(登録済データ!$B168<>0,登録済データ!O168,\"\")","v":""},{"$f":"IF(登録済データ!$B168<>0,登録済データ!P168,\"\")","v":""},{"$f":"IF(登録済データ!$B168<>0,登録済データ!Q168,\"\")","v":""},{"$f":"IF(登録済データ!$B168<>0,登録済データ!R168,\"\")","v":""},{"$f":"IF(登録済データ!$B168<>0,登録済データ!S168,\"\")","v":""},{"$f":"IF(登録済データ!$B168<>0,登録済データ!T168,\"\")","v":""},{"$f":"IF(登録済データ!$B168<>0,登録済データ!U168,\"\")","v":""},{"$f":"IF(登録済データ!$B168<>0,登録済データ!V168,\"\")","v":""},{"$f":"IF(登録済データ!$B168<>0,登録済データ!W168,\"\")","v":""},{"$f":"IF(登録済データ!$B168<>0,登録済データ!X168,\"\")","v":""},{"$f":"IF($F165<>\"\",登録済データ!$C$4,\"\")","v":""}]
[null,{"$f":"IF($F166<>\"\",登録済データ!$C$2,\"\")","v":""},{"$f":"IF($F166<>\"\",IF($I$1=\"企業コード3桁\",LEFT(登録済データ!$C$3,3),LEFT(登録済データ!$C$3,6)),\"\")","v":""},null,{"$f":"IF(登録済データ!$B169<>0,登録済データ!C169,\"\")","v":""},{"$f":"IF(登録済データ!$B169<>0,登録済データ!D169,\"\")","v":""},{"$f":"IF(登録済データ!$B169<>0,登録済データ!E169,\"\")","v":""},{"$f":"IF(登録済データ!$B169<>0,IF(登録済データ!F169<>\"\",登録済データ!F169,\"\"),\"\")","v":""},{"$f":"IF(登録済データ!$B169<>0,IF(登録済データ!G169<>\"\",登録済データ!G169,\"\"),\"\")","v":""},{"$f":"IF(登録済データ!$B169<>0,IF(登録済データ!H169<>\"\",登録済データ!H169,\"\"),\"\")","v":""},{"$f":"IF(登録済データ!$B169<>0,IF(登録済データ!I169<>\"\",登録済データ!I169,\"\"),\"\")","v":""},{"$f":"IF(登録済データ!$B169<>0,登録済データ!J169,\"\")","v":""},{"$f":"IF(登録済データ!$B169<>0,登録済データ!K169,\"\")","v":""},{"$f":"IF(登録済データ!$B169<>0,登録済データ!L169,\"\")","v":""},{"$f":"IF(登録済データ!$B169<>0,登録済データ!M169,\"\")","v":""},{"$f":"IF(登録済データ!$B169<>0,登録済データ!N169,\"\")","v":""},{"$f":"IF(登録済データ!$B169<>0,登録済データ!O169,\"\")","v":""},{"$f":"IF(登録済データ!$B169<>0,登録済データ!P169,\"\")","v":""},{"$f":"IF(登録済データ!$B169<>0,登録済データ!Q169,\"\")","v":""},{"$f":"IF(登録済データ!$B169<>0,登録済データ!R169,\"\")","v":""},{"$f":"IF(登録済データ!$B169<>0,登録済データ!S169,\"\")","v":""},{"$f":"IF(登録済データ!$B169<>0,登録済データ!T169,\"\")","v":""},{"$f":"IF(登録済データ!$B169<>0,登録済データ!U169,\"\")","v":""},{"$f":"IF(登録済データ!$B169<>0,登録済データ!V169,\"\")","v":""},{"$f":"IF(登録済データ!$B169<>0,登録済データ!W169,\"\")","v":""},{"$f":"IF(登録済データ!$B169<>0,登録済データ!X169,\"\")","v":""},{"$f":"IF($F166<>\"\",登録済データ!$C$4,\"\")","v":""}]
[null,{"$f":"IF($F167<>\"\",登録済データ!$C$2,\"\")","v":""},{"$f":"IF($F167<>\"\",IF($I$1=\"企業コード3桁\",LEFT(登録済データ!$C$3,3),LEFT(登録済データ!$C$3,6)),\"\")","v":""},null,{"$f":"IF(登録済データ!$B170<>0,登録済データ!C170,\"\")","v":""},{"$f":"IF(登録済データ!$B170<>0,登録済データ!D170,\"\")","v":""},{"$f":"IF(登録済データ!$B170<>0,登録済データ!E170,\"\")","v":""},{"$f":"IF(登録済データ!$B170<>0,IF(登録済データ!F170<>\"\",登録済データ!F170,\"\"),\"\")","v":""},{"$f":"IF(登録済データ!$B170<>0,IF(登録済データ!G170<>\"\",登録済データ!G170,\"\"),\"\")","v":""},{"$f":"IF(登録済データ!$B170<>0,IF(登録済データ!H170<>\"\",登録済データ!H170,\"\"),\"\")","v":""},{"$f":"IF(登録済データ!$B170<>0,IF(登録済データ!I170<>\"\",登録済データ!I170,\"\"),\"\")","v":""},{"$f":"IF(登録済データ!$B170<>0,登録済データ!J170,\"\")","v":""},{"$f":"IF(登録済データ!$B170<>0,登録済データ!K170,\"\")","v":""},{"$f":"IF(登録済データ!$B170<>0,登録済データ!L170,\"\")","v":""},{"$f":"IF(登録済データ!$B170<>0,登録済データ!M170,\"\")","v":""},{"$f":"IF(登録済データ!$B170<>0,登録済データ!N170,\"\")","v":""},{"$f":"IF(登録済データ!$B170<>0,登録済データ!O170,\"\")","v":""},{"$f":"IF(登録済データ!$B170<>0,登録済データ!P170,\"\")","v":""},{"$f":"IF(登録済データ!$B170<>0,登録済データ!Q170,\"\")","v":""},{"$f":"IF(登録済データ!$B170<>0,登録済データ!R170,\"\")","v":""},{"$f":"IF(登録済データ!$B170<>0,登録済データ!S170,\"\")","v":""},{"$f":"IF(登録済データ!$B170<>0,登録済データ!T170,\"\")","v":""},{"$f":"IF(登録済データ!$B170<>0,登録済データ!U170,\"\")","v":""},{"$f":"IF(登録済データ!$B170<>0,登録済データ!V170,\"\")","v":""},{"$f":"IF(登録済データ!$B170<>0,登録済データ!W170,\"\")","v":""},{"$f":"IF(登録済データ!$B170<>0,登録済データ!X170,\"\")","v":""},{"$f":"IF($F167<>\"\",登録済データ!$C$4,\"\")","v":""}]
[null,{"$f":"IF($F168<>\"\",登録済データ!$C$2,\"\")","v":""},{"$f":"IF($F168<>\"\",IF($I$1=\"企業コード3桁\",LEFT(登録済データ!$C$3,3),LEFT(登録済データ!$C$3,6)),\"\")","v":""},null,{"$f":"IF(登録済データ!$B171<>0,登録済データ!C171,\"\")","v":""},{"$f":"IF(登録済データ!$B171<>0,登録済データ!D171,\"\")","v":""},{"$f":"IF(登録済データ!$B171<>0,登録済データ!E171,\"\")","v":""},{"$f":"IF(登録済データ!$B171<>0,IF(登録済データ!F171<>\"\",登録済データ!F171,\"\"),\"\")","v":""},{"$f":"IF(登録済データ!$B171<>0,IF(登録済データ!G171<>\"\",登録済データ!G171,\"\"),\"\")","v":""},{"$f":"IF(登録済データ!$B171<>0,IF(登録済データ!H171<>\"\",登録済データ!H171,\"\"),\"\")","v":""},{"$f":"IF(登録済データ!$B171<>0,IF(登録済データ!I171<>\"\",登録済データ!I171,\"\"),\"\")","v":""},{"$f":"IF(登録済データ!$B171<>0,登録済データ!J171,\"\")","v":""},{"$f":"IF(登録済データ!$B171<>0,登録済データ!K171,\"\")","v":""},{"$f":"IF(登録済データ!$B171<>0,登録済データ!L171,\"\")","v":""},{"$f":"IF(登録済データ!$B171<>0,登録済データ!M171,\"\")","v":""},{"$f":"IF(登録済データ!$B171<>0,登録済データ!N171,\"\")","v":""},{"$f":"IF(登録済データ!$B171<>0,登録済データ!O171,\"\")","v":""},{"$f":"IF(登録済データ!$B171<>0,登録済データ!P171,\"\")","v":""},{"$f":"IF(登録済データ!$B171<>0,登録済データ!Q171,\"\")","v":""},{"$f":"IF(登録済データ!$B171<>0,登録済データ!R171,\"\")","v":""},{"$f":"IF(登録済データ!$B171<>0,登録済データ!S171,\"\")","v":""},{"$f":"IF(登録済データ!$B171<>0,登録済データ!T171,\"\")","v":""},{"$f":"IF(登録済データ!$B171<>0,登録済データ!U171,\"\")","v":""},{"$f":"IF(登録済データ!$B171<>0,登録済データ!V171,\"\")","v":""},{"$f":"IF(登録済データ!$B171<>0,登録済データ!W171,\"\")","v":""},{"$f":"IF(登録済データ!$B171<>0,登録済データ!X171,\"\")","v":""},{"$f":"IF($F168<>\"\",登録済データ!$C$4,\"\")","v":""}]
[null,{"$f":"IF($F169<>\"\",登録済データ!$C$2,\"\")","v":""},{"$f":"IF($F169<>\"\",IF($I$1=\"企業コード3桁\",LEFT(登録済データ!$C$3,3),LEFT(登録済データ!$C$3,6)),\"\")","v":""},null,{"$f":"IF(登録済データ!$B172<>0,登録済データ!C172,\"\")","v":""},{"$f":"IF(登録済データ!$B172<>0,登録済データ!D172,\"\")","v":""},{"$f":"IF(登録済データ!$B172<>0,登録済データ!E172,\"\")","v":""},{"$f":"IF(登録済データ!$B172<>0,IF(登録済データ!F172<>\"\",登録済データ!F172,\"\"),\"\")","v":""},{"$f":"IF(登録済データ!$B172<>0,IF(登録済データ!G172<>\"\",登録済データ!G172,\"\"),\"\")","v":""},{"$f":"IF(登録済データ!$B172<>0,IF(登録済データ!H172<>\"\",登録済データ!H172,\"\"),\"\")","v":""},{"$f":"IF(登録済データ!$B172<>0,IF(登録済データ!I172<>\"\",登録済データ!I172,\"\"),\"\")","v":""},{"$f":"IF(登録済データ!$B172<>0,登録済データ!J172,\"\")","v":""},{"$f":"IF(登録済データ!$B172<>0,登録済データ!K172,\"\")","v":""},{"$f":"IF(登録済データ!$B172<>0,登録済データ!L172,\"\")","v":""},{"$f":"IF(登録済データ!$B172<>0,登録済データ!M172,\"\")","v":""},{"$f":"IF(登録済データ!$B172<>0,登録済データ!N172,\"\")","v":""},{"$f":"IF(登録済データ!$B172<>0,登録済データ!O172,\"\")","v":""},{"$f":"IF(登録済データ!$B172<>0,登録済データ!P172,\"\")","v":""},{"$f":"IF(登録済データ!$B172<>0,登録済データ!Q172,\"\")","v":""},{"$f":"IF(登録済データ!$B172<>0,登録済データ!R172,\"\")","v":""},{"$f":"IF(登録済データ!$B172<>0,登録済データ!S172,\"\")","v":""},{"$f":"IF(登録済データ!$B172<>0,登録済データ!T172,\"\")","v":""},{"$f":"IF(登録済データ!$B172<>0,登録済データ!U172,\"\")","v":""},{"$f":"IF(登録済データ!$B172<>0,登録済データ!V172,\"\")","v":""},{"$f":"IF(登録済データ!$B172<>0,登録済データ!W172,\"\")","v":""},{"$f":"IF(登録済データ!$B172<>0,登録済データ!X172,\"\")","v":""},{"$f":"IF($F169<>\"\",登録済データ!$C$4,\"\")","v":""}]
[null,{"$f":"IF($F170<>\"\",登録済データ!$C$2,\"\")","v":""},{"$f":"IF($F170<>\"\",IF($I$1=\"企業コード3桁\",LEFT(登録済データ!$C$3,3),LEFT(登録済データ!$C$3,6)),\"\")","v":""},null,{"$f":"IF(登録済データ!$B173<>0,登録済データ!C173,\"\")","v":""},{"$f":"IF(登録済データ!$B173<>0,登録済データ!D173,\"\")","v":""},{"$f":"IF(登録済データ!$B173<>0,登録済データ!E173,\"\")","v":""},{"$f":"IF(登録済データ!$B173<>0,IF(登録済データ!F173<>\"\",登録済データ!F173,\"\"),\"\")","v":""},{"$f":"IF(登録済データ!$B173<>0,IF(登録済データ!G173<>\"\",登録済データ!G173,\"\"),\"\")","v":""},{"$f":"IF(登録済データ!$B173<>0,IF(登録済データ!H173<>\"\",登録済データ!H173,\"\"),\"\")","v":""},{"$f":"IF(登録済データ!$B173<>0,IF(登録済データ!I173<>\"\",登録済データ!I173,\"\"),\"\")","v":""},{"$f":"IF(登録済データ!$B173<>0,登録済データ!J173,\"\")","v":""},{"$f":"IF(登録済データ!$B173<>0,登録済データ!K173,\"\")","v":""},{"$f":"IF(登録済データ!$B173<>0,登録済データ!L173,\"\")","v":""},{"$f":"IF(登録済データ!$B173<>0,登録済データ!M173,\"\")","v":""},{"$f":"IF(登録済データ!$B173<>0,登録済データ!N173,\"\")","v":""},{"$f":"IF(登録済データ!$B173<>0,登録済データ!O173,\"\")","v":""},{"$f":"IF(登録済データ!$B173<>0,登録済データ!P173,\"\")","v":""},{"$f":"IF(登録済データ!$B173<>0,登録済データ!Q173,\"\")","v":""},{"$f":"IF(登録済データ!$B173<>0,登録済データ!R173,\"\")","v":""},{"$f":"IF(登録済データ!$B173<>0,登録済データ!S173,\"\")","v":""},{"$f":"IF(登録済データ!$B173<>0,登録済データ!T173,\"\")","v":""},{"$f":"IF(登録済データ!$B173<>0,登録済データ!U173,\"\")","v":""},{"$f":"IF(登録済データ!$B173<>0,登録済データ!V173,\"\")","v":""},{"$f":"IF(登録済データ!$B173<>0,登録済データ!W173,\"\")","v":""},{"$f":"IF(登録済データ!$B173<>0,登録済データ!X173,\"\")","v":""},{"$f":"IF($F170<>\"\",登録済データ!$C$4,\"\")","v":""}]
[null,{"$f":"IF($F171<>\"\",登録済データ!$C$2,\"\")","v":""},{"$f":"IF($F171<>\"\",IF($I$1=\"企業コード3桁\",LEFT(登録済データ!$C$3,3),LEFT(登録済データ!$C$3,6)),\"\")","v":""},null,{"$f":"IF(登録済データ!$B174<>0,登録済データ!C174,\"\")","v":""},{"$f":"IF(登録済データ!$B174<>0,登録済データ!D174,\"\")","v":""},{"$f":"IF(登録済データ!$B174<>0,登録済データ!E174,\"\")","v":""},{"$f":"IF(登録済データ!$B174<>0,IF(登録済データ!F174<>\"\",登録済データ!F174,\"\"),\"\")","v":""},{"$f":"IF(登録済データ!$B174<>0,IF(登録済データ!G174<>\"\",登録済データ!G174,\"\"),\"\")","v":""},{"$f":"IF(登録済データ!$B174<>0,IF(登録済データ!H174<>\"\",登録済データ!H174,\"\"),\"\")","v":""},{"$f":"IF(登録済データ!$B174<>0,IF(登録済データ!I174<>\"\",登録済データ!I174,\"\"),\"\")","v":""},{"$f":"IF(登録済データ!$B174<>0,登録済データ!J174,\"\")","v":""},{"$f":"IF(登録済データ!$B174<>0,登録済データ!K174,\"\")","v":""},{"$f":"IF(登録済データ!$B174<>0,登録済データ!L174,\"\")","v":""},{"$f":"IF(登録済データ!$B174<>0,登録済データ!M174,\"\")","v":""},{"$f":"IF(登録済データ!$B174<>0,登録済データ!N174,\"\")","v":""},{"$f":"IF(登録済データ!$B174<>0,登録済データ!O174,\"\")","v":""},{"$f":"IF(登録済データ!$B174<>0,登録済データ!P174,\"\")","v":""},{"$f":"IF(登録済データ!$B174<>0,登録済データ!Q174,\"\")","v":""},{"$f":"IF(登録済データ!$B174<>0,登録済データ!R174,\"\")","v":""},{"$f":"IF(登録済データ!$B174<>0,登録済データ!S174,\"\")","v":""},{"$f":"IF(登録済データ!$B174<>0,登録済データ!T174,\"\")","v":""},{"$f":"IF(登録済データ!$B174<>0,登録済データ!U174,\"\")","v":""},{"$f":"IF(登録済データ!$B174<>0,登録済データ!V174,\"\")","v":""},{"$f":"IF(登録済データ!$B174<>0,登録済データ!W174,\"\")","v":""},{"$f":"IF(登録済データ!$B174<>0,登録済データ!X174,\"\")","v":""},{"$f":"IF($F171<>\"\",登録済データ!$C$4,\"\")","v":""}]
[null,{"$f":"IF($F172<>\"\",登録済データ!$C$2,\"\")","v":""},{"$f":"IF($F172<>\"\",IF($I$1=\"企業コード3桁\",LEFT(登録済データ!$C$3,3),LEFT(登録済データ!$C$3,6)),\"\")","v":""},null,{"$f":"IF(登録済データ!$B175<>0,登録済データ!C175,\"\")","v":""},{"$f":"IF(登録済データ!$B175<>0,登録済データ!D175,\"\")","v":""},{"$f":"IF(登録済データ!$B175<>0,登録済データ!E175,\"\")","v":""},{"$f":"IF(登録済データ!$B175<>0,IF(登録済データ!F175<>\"\",登録済データ!F175,\"\"),\"\")","v":""},{"$f":"IF(登録済データ!$B175<>0,IF(登録済データ!G175<>\"\",登録済データ!G175,\"\"),\"\")","v":""},{"$f":"IF(登録済データ!$B175<>0,IF(登録済データ!H175<>\"\",登録済データ!H175,\"\"),\"\")","v":""},{"$f":"IF(登録済データ!$B175<>0,IF(登録済データ!I175<>\"\",登録済データ!I175,\"\"),\"\")","v":""},{"$f":"IF(登録済データ!$B175<>0,登録済データ!J175,\"\")","v":""},{"$f":"IF(登録済データ!$B175<>0,登録済データ!K175,\"\")","v":""},{"$f":"IF(登録済データ!$B175<>0,登録済データ!L175,\"\")","v":""},{"$f":"IF(登録済データ!$B175<>0,登録済データ!M175,\"\")","v":""},{"$f":"IF(登録済データ!$B175<>0,登録済データ!N175,\"\")","v":""},{"$f":"IF(登録済データ!$B175<>0,登録済データ!O175,\"\")","v":""},{"$f":"IF(登録済データ!$B175<>0,登録済データ!P175,\"\")","v":""},{"$f":"IF(登録済データ!$B175<>0,登録済データ!Q175,\"\")","v":""},{"$f":"IF(登録済データ!$B175<>0,登録済データ!R175,\"\")","v":""},{"$f":"IF(登録済データ!$B175<>0,登録済データ!S175,\"\")","v":""},{"$f":"IF(登録済データ!$B175<>0,登録済データ!T175,\"\")","v":""},{"$f":"IF(登録済データ!$B175<>0,登録済データ!U175,\"\")","v":""},{"$f":"IF(登録済データ!$B175<>0,登録済データ!V175,\"\")","v":""},{"$f":"IF(登録済データ!$B175<>0,登録済データ!W175,\"\")","v":""},{"$f":"IF(登録済データ!$B175<>0,登録済データ!X175,\"\")","v":""},{"$f":"IF($F172<>\"\",登録済データ!$C$4,\"\")","v":""}]
[null,{"$f":"IF($F173<>\"\",登録済データ!$C$2,\"\")","v":""},{"$f":"IF($F173<>\"\",IF($I$1=\"企業コード3桁\",LEFT(登録済データ!$C$3,3),LEFT(登録済データ!$C$3,6)),\"\")","v":""},null,{"$f":"IF(登録済データ!$B176<>0,登録済データ!C176,\"\")","v":""},{"$f":"IF(登録済データ!$B176<>0,登録済データ!D176,\"\")","v":""},{"$f":"IF(登録済データ!$B176<>0,登録済データ!E176,\"\")","v":""},{"$f":"IF(登録済データ!$B176<>0,IF(登録済データ!F176<>\"\",登録済データ!F176,\"\"),\"\")","v":""},{"$f":"IF(登録済データ!$B176<>0,IF(登録済データ!G176<>\"\",登録済データ!G176,\"\"),\"\")","v":""},{"$f":"IF(登録済データ!$B176<>0,IF(登録済データ!H176<>\"\",登録済データ!H176,\"\"),\"\")","v":""},{"$f":"IF(登録済データ!$B176<>0,IF(登録済データ!I176<>\"\",登録済データ!I176,\"\"),\"\")","v":""},{"$f":"IF(登録済データ!$B176<>0,登録済データ!J176,\"\")","v":""},{"$f":"IF(登録済データ!$B176<>0,登録済データ!K176,\"\")","v":""},{"$f":"IF(登録済データ!$B176<>0,登録済データ!L176,\"\")","v":""},{"$f":"IF(登録済データ!$B176<>0,登録済データ!M176,\"\")","v":""},{"$f":"IF(登録済データ!$B176<>0,登録済データ!N176,\"\")","v":""},{"$f":"IF(登録済データ!$B176<>0,登録済データ!O176,\"\")","v":""},{"$f":"IF(登録済データ!$B176<>0,登録済データ!P176,\"\")","v":""},{"$f":"IF(登録済データ!$B176<>0,登録済データ!Q176,\"\")","v":""},{"$f":"IF(登録済データ!$B176<>0,登録済データ!R176,\"\")","v":""},{"$f":"IF(登録済データ!$B176<>0,登録済データ!S176,\"\")","v":""},{"$f":"IF(登録済データ!$B176<>0,登録済データ!T176,\"\")","v":""},{"$f":"IF(登録済データ!$B176<>0,登録済データ!U176,\"\")","v":""},{"$f":"IF(登録済データ!$B176<>0,登録済データ!V176,\"\")","v":""},{"$f":"IF(登録済データ!$B176<>0,登録済データ!W176,\"\")","v":""},{"$f":"IF(登録済データ!$B176<>0,登録済データ!X176,\"\")","v":""},{"$f":"IF($F173<>\"\",登録済データ!$C$4,\"\")","v":""}]
[null,{"$f":"IF($F174<>\"\",登録済データ!$C$2,\"\")","v":""},{"$f":"IF($F174<>\"\",IF($I$1=\"企業コード3桁\",LEFT(登録済データ!$C$3,3),LEFT(登録済データ!$C$3,6)),\"\")","v":""},null,{"$f":"IF(登録済データ!$B177<>0,登録済データ!C177,\"\")","v":""},{"$f":"IF(登録済データ!$B177<>0,登録済データ!D177,\"\")","v":""},{"$f":"IF(登録済データ!$B177<>0,登録済データ!E177,\"\")","v":""},{"$f":"IF(登録済データ!$B177<>0,IF(登録済データ!F177<>\"\",登録済データ!F177,\"\"),\"\")","v":""},{"$f":"IF(登録済データ!$B177<>0,IF(登録済データ!G177<>\"\",登録済データ!G177,\"\"),\"\")","v":""},{"$f":"IF(登録済データ!$B177<>0,IF(登録済データ!H177<>\"\",登録済データ!H177,\"\"),\"\")","v":""},{"$f":"IF(登録済データ!$B177<>0,IF(登録済データ!I177<>\"\",登録済データ!I177,\"\"),\"\")","v":""},{"$f":"IF(登録済データ!$B177<>0,登録済データ!J177,\"\")","v":""},{"$f":"IF(登録済データ!$B177<>0,登録済データ!K177,\"\")","v":""},{"$f":"IF(登録済データ!$B177<>0,登録済データ!L177,\"\")","v":""},{"$f":"IF(登録済データ!$B177<>0,登録済データ!M177,\"\")","v":""},{"$f":"IF(登録済データ!$B177<>0,登録済データ!N177,\"\")","v":""},{"$f":"IF(登録済データ!$B177<>0,登録済データ!O177,\"\")","v":""},{"$f":"IF(登録済データ!$B177<>0,登録済データ!P177,\"\")","v":""},{"$f":"IF(登録済データ!$B177<>0,登録済データ!Q177,\"\")","v":""},{"$f":"IF(登録済データ!$B177<>0,登録済データ!R177,\"\")","v":""},{"$f":"IF(登録済データ!$B177<>0,登録済データ!S177,\"\")","v":""},{"$f":"IF(登録済データ!$B177<>0,登録済データ!T177,\"\")","v":""},{"$f":"IF(登録済データ!$B177<>0,登録済データ!U177,\"\")","v":""},{"$f":"IF(登録済データ!$B177<>0,登録済データ!V177,\"\")","v":""},{"$f":"IF(登録済データ!$B177<>0,登録済データ!W177,\"\")","v":""},{"$f":"IF(登録済データ!$B177<>0,登録済データ!X177,\"\")","v":""},{"$f":"IF($F174<>\"\",登録済データ!$C$4,\"\")","v":""}]
[null,{"$f":"IF($F175<>\"\",登録済データ!$C$2,\"\")","v":""},{"$f":"IF($F175<>\"\",IF($I$1=\"企業コード3桁\",LEFT(登録済データ!$C$3,3),LEFT(登録済データ!$C$3,6)),\"\")","v":""},null,{"$f":"IF(登録済データ!$B178<>0,登録済データ!C178,\"\")","v":""},{"$f":"IF(登録済データ!$B178<>0,登録済データ!D178,\"\")","v":""},{"$f":"IF(登録済データ!$B178<>0,登録済データ!E178,\"\")","v":""},{"$f":"IF(登録済データ!$B178<>0,IF(登録済データ!F178<>\"\",登録済データ!F178,\"\"),\"\")","v":""},{"$f":"IF(登録済データ!$B178<>0,IF(登録済データ!G178<>\"\",登録済データ!G178,\"\"),\"\")","v":""},{"$f":"IF(登録済データ!$B178<>0,IF(登録済データ!H178<>\"\",登録済データ!H178,\"\"),\"\")","v":""},{"$f":"IF(登録済データ!$B178<>0,IF(登録済データ!I178<>\"\",登録済データ!I178,\"\"),\"\")","v":""},{"$f":"IF(登録済データ!$B178<>0,登録済データ!J178,\"\")","v":""},{"$f":"IF(登録済データ!$B178<>0,登録済データ!K178,\"\")","v":""},{"$f":"IF(登録済データ!$B178<>0,登録済データ!L178,\"\")","v":""},{"$f":"IF(登録済データ!$B178<>0,登録済データ!M178,\"\")","v":""},{"$f":"IF(登録済データ!$B178<>0,登録済データ!N178,\"\")","v":""},{"$f":"IF(登録済データ!$B178<>0,登録済データ!O178,\"\")","v":""},{"$f":"IF(登録済データ!$B178<>0,登録済データ!P178,\"\")","v":""},{"$f":"IF(登録済データ!$B178<>0,登録済データ!Q178,\"\")","v":""},{"$f":"IF(登録済データ!$B178<>0,登録済データ!R178,\"\")","v":""},{"$f":"IF(登録済データ!$B178<>0,登録済データ!S178,\"\")","v":""},{"$f":"IF(登録済データ!$B178<>0,登録済データ!T178,\"\")","v":""},{"$f":"IF(登録済データ!$B178<>0,登録済データ!U178,\"\")","v":""},{"$f":"IF(登録済データ!$B178<>0,登録済データ!V178,\"\")","v":""},{"$f":"IF(登録済データ!$B178<>0,登録済データ!W178,\"\")","v":""},{"$f":"IF(登録済データ!$B178<>0,登録済データ!X178,\"\")","v":""},{"$f":"IF($F175<>\"\",登録済データ!$C$4,\"\")","v":""}]
[null,{"$f":"IF($F176<>\"\",登録済データ!$C$2,\"\")","v":""},{"$f":"IF($F176<>\"\",IF($I$1=\"企業コード3桁\",LEFT(登録済データ!$C$3,3),LEFT(登録済データ!$C$3,6)),\"\")","v":""},null,{"$f":"IF(登録済データ!$B179<>0,登録済データ!C179,\"\")","v":""},{"$f":"IF(登録済データ!$B179<>0,登録済データ!D179,\"\")","v":""},{"$f":"IF(登録済データ!$B179<>0,登録済データ!E179,\"\")","v":""},{"$f":"IF(登録済データ!$B179<>0,IF(登録済データ!F179<>\"\",登録済データ!F179,\"\"),\"\")","v":""},{"$f":"IF(登録済データ!$B179<>0,IF(登録済データ!G179<>\"\",登録済データ!G179,\"\"),\"\")","v":""},{"$f":"IF(登録済データ!$B179<>0,IF(登録済データ!H179<>\"\",登録済データ!H179,\"\"),\"\")","v":""},{"$f":"IF(登録済データ!$B179<>0,IF(登録済データ!I179<>\"\",登録済データ!I179,\"\"),\"\")","v":""},{"$f":"IF(登録済データ!$B179<>0,登録済データ!J179,\"\")","v":""},{"$f":"IF(登録済データ!$B179<>0,登録済データ!K179,\"\")","v":""},{"$f":"IF(登録済データ!$B179<>0,登録済データ!L179,\"\")","v":""},{"$f":"IF(登録済データ!$B179<>0,登録済データ!M179,\"\")","v":""},{"$f":"IF(登録済データ!$B179<>0,登録済データ!N179,\"\")","v":""},{"$f":"IF(登録済データ!$B179<>0,登録済データ!O179,\"\")","v":""},{"$f":"IF(登録済データ!$B179<>0,登録済データ!P179,\"\")","v":""},{"$f":"IF(登録済データ!$B179<>0,登録済データ!Q179,\"\")","v":""},{"$f":"IF(登録済データ!$B179<>0,登録済データ!R179,\"\")","v":""},{"$f":"IF(登録済データ!$B179<>0,登録済データ!S179,\"\")","v":""},{"$f":"IF(登録済データ!$B179<>0,登録済データ!T179,\"\")","v":""},{"$f":"IF(登録済データ!$B179<>0,登録済データ!U179,\"\")","v":""},{"$f":"IF(登録済データ!$B179<>0,登録済データ!V179,\"\")","v":""},{"$f":"IF(登録済データ!$B179<>0,登録済データ!W179,\"\")","v":""},{"$f":"IF(登録済データ!$B179<>0,登録済データ!X179,\"\")","v":""},{"$f":"IF($F176<>\"\",登録済データ!$C$4,\"\")","v":""}]
[null,{"$f":"IF($F177<>\"\",登録済データ!$C$2,\"\")","v":""},{"$f":"IF($F177<>\"\",IF($I$1=\"企業コード3桁\",LEFT(登録済データ!$C$3,3),LEFT(登録済データ!$C$3,6)),\"\")","v":""},null,{"$f":"IF(登録済データ!$B180<>0,登録済データ!C180,\"\")","v":""},{"$f":"IF(登録済データ!$B180<>0,登録済データ!D180,\"\")","v":""},{"$f":"IF(登録済データ!$B180<>0,登録済データ!E180,\"\")","v":""},{"$f":"IF(登録済データ!$B180<>0,IF(登録済データ!F180<>\"\",登録済データ!F180,\"\"),\"\")","v":""},{"$f":"IF(登録済データ!$B180<>0,IF(登録済データ!G180<>\"\",登録済データ!G180,\"\"),\"\")","v":""},{"$f":"IF(登録済データ!$B180<>0,IF(登録済データ!H180<>\"\",登録済データ!H180,\"\"),\"\")","v":""},{"$f":"IF(登録済データ!$B180<>0,IF(登録済データ!I180<>\"\",登録済データ!I180,\"\"),\"\")","v":""},{"$f":"IF(登録済データ!$B180<>0,登録済データ!J180,\"\")","v":""},{"$f":"IF(登録済データ!$B180<>0,登録済データ!K180,\"\")","v":""},{"$f":"IF(登録済データ!$B180<>0,登録済データ!L180,\"\")","v":""},{"$f":"IF(登録済データ!$B180<>0,登録済データ!M180,\"\")","v":""},{"$f":"IF(登録済データ!$B180<>0,登録済データ!N180,\"\")","v":""},{"$f":"IF(登録済データ!$B180<>0,登録済データ!O180,\"\")","v":""},{"$f":"IF(登録済データ!$B180<>0,登録済データ!P180,\"\")","v":""},{"$f":"IF(登録済データ!$B180<>0,登録済データ!Q180,\"\")","v":""},{"$f":"IF(登録済データ!$B180<>0,登録済データ!R180,\"\")","v":""},{"$f":"IF(登録済データ!$B180<>0,登録済データ!S180,\"\")","v":""},{"$f":"IF(登録済データ!$B180<>0,登録済データ!T180,\"\")","v":""},{"$f":"IF(登録済データ!$B180<>0,登録済データ!U180,\"\")","v":""},{"$f":"IF(登録済データ!$B180<>0,登録済データ!V180,\"\")","v":""},{"$f":"IF(登録済データ!$B180<>0,登録済データ!W180,\"\")","v":""},{"$f":"IF(登録済データ!$B180<>0,登録済データ!X180,\"\")","v":""},{"$f":"IF($F177<>\"\",登録済データ!$C$4,\"\")","v":""}]
[null,{"$f":"IF($F178<>\"\",登録済データ!$C$2,\"\")","v":""},{"$f":"IF($F178<>\"\",IF($I$1=\"企業コード3桁\",LEFT(登録済データ!$C$3,3),LEFT(登録済データ!$C$3,6)),\"\")","v":""},null,{"$f":"IF(登録済データ!$B181<>0,登録済データ!C181,\"\")","v":""},{"$f":"IF(登録済データ!$B181<>0,登録済データ!D181,\"\")","v":""},{"$f":"IF(登録済データ!$B181<>0,登録済データ!E181,\"\")","v":""},{"$f":"IF(登録済データ!$B181<>0,IF(登録済データ!F181<>\"\",登録済データ!F181,\"\"),\"\")","v":""},{"$f":"IF(登録済データ!$B181<>0,IF(登録済データ!G181<>\"\",登録済データ!G181,\"\"),\"\")","v":""},{"$f":"IF(登録済データ!$B181<>0,IF(登録済データ!H181<>\"\",登録済データ!H181,\"\"),\"\")","v":""},{"$f":"IF(登録済データ!$B181<>0,IF(登録済データ!I181<>\"\",登録済データ!I181,\"\"),\"\")","v":""},{"$f":"IF(登録済データ!$B181<>0,登録済データ!J181,\"\")","v":""},{"$f":"IF(登録済データ!$B181<>0,登録済データ!K181,\"\")","v":""},{"$f":"IF(登録済データ!$B181<>0,登録済データ!L181,\"\")","v":""},{"$f":"IF(登録済データ!$B181<>0,登録済データ!M181,\"\")","v":""},{"$f":"IF(登録済データ!$B181<>0,登録済データ!N181,\"\")","v":""},{"$f":"IF(登録済データ!$B181<>0,登録済データ!O181,\"\")","v":""},{"$f":"IF(登録済データ!$B181<>0,登録済データ!P181,\"\")","v":""},{"$f":"IF(登録済データ!$B181<>0,登録済データ!Q181,\"\")","v":""},{"$f":"IF(登録済データ!$B181<>0,登録済データ!R181,\"\")","v":""},{"$f":"IF(登録済データ!$B181<>0,登録済データ!S181,\"\")","v":""},{"$f":"IF(登録済データ!$B181<>0,登録済データ!T181,\"\")","v":""},{"$f":"IF(登録済データ!$B181<>0,登録済データ!U181,\"\")","v":""},{"$f":"IF(登録済データ!$B181<>0,登録済データ!V181,\"\")","v":""},{"$f":"IF(登録済データ!$B181<>0,登録済データ!W181,\"\")","v":""},{"$f":"IF(登録済データ!$B181<>0,登録済データ!X181,\"\")","v":""},{"$f":"IF($F178<>\"\",登録済データ!$C$4,\"\")","v":""}]
[null,{"$f":"IF($F179<>\"\",登録済データ!$C$2,\"\")","v":""},{"$f":"IF($F179<>\"\",IF($I$1=\"企業コード3桁\",LEFT(登録済データ!$C$3,3),LEFT(登録済データ!$C$3,6)),\"\")","v":""},null,{"$f":"IF(登録済データ!$B182<>0,登録済データ!C182,\"\")","v":""},{"$f":"IF(登録済データ!$B182<>0,登録済データ!D182,\"\")","v":""},{"$f":"IF(登録済データ!$B182<>0,登録済データ!E182,\"\")","v":""},{"$f":"IF(登録済データ!$B182<>0,IF(登録済データ!F182<>\"\",登録済データ!F182,\"\"),\"\")","v":""},{"$f":"IF(登録済データ!$B182<>0,IF(登録済データ!G182<>\"\",登録済データ!G182,\"\"),\"\")","v":""},{"$f":"IF(登録済データ!$B182<>0,IF(登録済データ!H182<>\"\",登録済データ!H182,\"\"),\"\")","v":""},{"$f":"IF(登録済データ!$B182<>0,IF(登録済データ!I182<>\"\",登録済データ!I182,\"\"),\"\")","v":""},{"$f":"IF(登録済データ!$B182<>0,登録済データ!J182,\"\")","v":""},{"$f":"IF(登録済データ!$B182<>0,登録済データ!K182,\"\")","v":""},{"$f":"IF(登録済データ!$B182<>0,登録済データ!L182,\"\")","v":""},{"$f":"IF(登録済データ!$B182<>0,登録済データ!M182,\"\")","v":""},{"$f":"IF(登録済データ!$B182<>0,登録済データ!N182,\"\")","v":""},{"$f":"IF(登録済データ!$B182<>0,登録済データ!O182,\"\")","v":""},{"$f":"IF(登録済データ!$B182<>0,登録済データ!P182,\"\")","v":""},{"$f":"IF(登録済データ!$B182<>0,登録済データ!Q182,\"\")","v":""},{"$f":"IF(登録済データ!$B182<>0,登録済データ!R182,\"\")","v":""},{"$f":"IF(登録済データ!$B182<>0,登録済データ!S182,\"\")","v":""},{"$f":"IF(登録済データ!$B182<>0,登録済データ!T182,\"\")","v":""},{"$f":"IF(登録済データ!$B182<>0,登録済データ!U182,\"\")","v":""},{"$f":"IF(登録済データ!$B182<>0,登録済データ!V182,\"\")","v":""},{"$f":"IF(登録済データ!$B182<>0,登録済データ!W182,\"\")","v":""},{"$f":"IF(登録済データ!$B182<>0,登録済データ!X182,\"\")","v":""},{"$f":"IF($F179<>\"\",登録済データ!$C$4,\"\")","v":""}]
[null,{"$f":"IF($F180<>\"\",登録済データ!$C$2,\"\")","v":""},{"$f":"IF($F180<>\"\",IF($I$1=\"企業コード3桁\",LEFT(登録済データ!$C$3,3),LEFT(登録済データ!$C$3,6)),\"\")","v":""},null,{"$f":"IF(登録済データ!$B183<>0,登録済データ!C183,\"\")","v":""},{"$f":"IF(登録済データ!$B183<>0,登録済データ!D183,\"\")","v":""},{"$f":"IF(登録済データ!$B183<>0,登録済データ!E183,\"\")","v":""},{"$f":"IF(登録済データ!$B183<>0,IF(登録済データ!F183<>\"\",登録済データ!F183,\"\"),\"\")","v":""},{"$f":"IF(登録済データ!$B183<>0,IF(登録済データ!G183<>\"\",登録済データ!G183,\"\"),\"\")","v":""},{"$f":"IF(登録済データ!$B183<>0,IF(登録済データ!H183<>\"\",登録済データ!H183,\"\"),\"\")","v":""},{"$f":"IF(登録済データ!$B183<>0,IF(登録済データ!I183<>\"\",登録済データ!I183,\"\"),\"\")","v":""},{"$f":"IF(登録済データ!$B183<>0,登録済データ!J183,\"\")","v":""},{"$f":"IF(登録済データ!$B183<>0,登録済データ!K183,\"\")","v":""},{"$f":"IF(登録済データ!$B183<>0,登録済データ!L183,\"\")","v":""},{"$f":"IF(登録済データ!$B183<>0,登録済データ!M183,\"\")","v":""},{"$f":"IF(登録済データ!$B183<>0,登録済データ!N183,\"\")","v":""},{"$f":"IF(登録済データ!$B183<>0,登録済データ!O183,\"\")","v":""},{"$f":"IF(登録済データ!$B183<>0,登録済データ!P183,\"\")","v":""},{"$f":"IF(登録済データ!$B183<>0,登録済データ!Q183,\"\")","v":""},{"$f":"IF(登録済データ!$B183<>0,登録済データ!R183,\"\")","v":""},{"$f":"IF(登録済データ!$B183<>0,登録済データ!S183,\"\")","v":""},{"$f":"IF(登録済データ!$B183<>0,登録済データ!T183,\"\")","v":""},{"$f":"IF(登録済データ!$B183<>0,登録済データ!U183,\"\")","v":""},{"$f":"IF(登録済データ!$B183<>0,登録済データ!V183,\"\")","v":""},{"$f":"IF(登録済データ!$B183<>0,登録済データ!W183,\"\")","v":""},{"$f":"IF(登録済データ!$B183<>0,登録済データ!X183,\"\")","v":""},{"$f":"IF($F180<>\"\",登録済データ!$C$4,\"\")","v":""}]
[null,{"$f":"IF($F181<>\"\",登録済データ!$C$2,\"\")","v":""},{"$f":"IF($F181<>\"\",IF($I$1=\"企業コード3桁\",LEFT(登録済データ!$C$3,3),LEFT(登録済データ!$C$3,6)),\"\")","v":""},null,{"$f":"IF(登録済データ!$B184<>0,登録済データ!C184,\"\")","v":""},{"$f":"IF(登録済データ!$B184<>0,登録済データ!D184,\"\")","v":""},{"$f":"IF(登録済データ!$B184<>0,登録済データ!E184,\"\")","v":""},{"$f":"IF(登録済データ!$B184<>0,IF(登録済データ!F184<>\"\",登録済データ!F184,\"\"),\"\")","v":""},{"$f":"IF(登録済データ!$B184<>0,IF(登録済データ!G184<>\"\",登録済データ!G184,\"\"),\"\")","v":""},{"$f":"IF(登録済データ!$B184<>0,IF(登録済データ!H184<>\"\",登録済データ!H184,\"\"),\"\")","v":""},{"$f":"IF(登録済データ!$B184<>0,IF(登録済データ!I184<>\"\",登録済データ!I184,\"\"),\"\")","v":""},{"$f":"IF(登録済データ!$B184<>0,登録済データ!J184,\"\")","v":""},{"$f":"IF(登録済データ!$B184<>0,登録済データ!K184,\"\")","v":""},{"$f":"IF(登録済データ!$B184<>0,登録済データ!L184,\"\")","v":""},{"$f":"IF(登録済データ!$B184<>0,登録済データ!M184,\"\")","v":""},{"$f":"IF(登録済データ!$B184<>0,登録済データ!N184,\"\")","v":""},{"$f":"IF(登録済データ!$B184<>0,登録済データ!O184,\"\")","v":""},{"$f":"IF(登録済データ!$B184<>0,登録済データ!P184,\"\")","v":""},{"$f":"IF(登録済データ!$B184<>0,登録済データ!Q184,\"\")","v":""},{"$f":"IF(登録済データ!$B184<>0,登録済データ!R184,\"\")","v":""},{"$f":"IF(登録済データ!$B184<>0,登録済データ!S184,\"\")","v":""},{"$f":"IF(登録済データ!$B184<>0,登録済データ!T184,\"\")","v":""},{"$f":"IF(登録済データ!$B184<>0,登録済データ!U184,\"\")","v":""},{"$f":"IF(登録済データ!$B184<>0,登録済データ!V184,\"\")","v":""},{"$f":"IF(登録済データ!$B184<>0,登録済データ!W184,\"\")","v":""},{"$f":"IF(登録済データ!$B184<>0,登録済データ!X184,\"\")","v":""},{"$f":"IF($F181<>\"\",登録済データ!$C$4,\"\")","v":""}]
[null,{"$f":"IF($F182<>\"\",登録済データ!$C$2,\"\")","v":""},{"$f":"IF($F182<>\"\",IF($I$1=\"企業コード3桁\",LEFT(登録済データ!$C$3,3),LEFT(登録済データ!$C$3,6)),\"\")","v":""},null,{"$f":"IF(登録済データ!$B185<>0,登録済データ!C185,\"\")","v":""},{"$f":"IF(登録済データ!$B185<>0,登録済データ!D185,\"\")","v":""},{"$f":"IF(登録済データ!$B185<>0,登録済データ!E185,\"\")","v":""},{"$f":"IF(登録済データ!$B185<>0,IF(登録済データ!F185<>\"\",登録済データ!F185,\"\"),\"\")","v":""},{"$f":"IF(登録済データ!$B185<>0,IF(登録済データ!G185<>\"\",登録済データ!G185,\"\"),\"\")","v":""},{"$f":"IF(登録済データ!$B185<>0,IF(登録済データ!H185<>\"\",登録済データ!H185,\"\"),\"\")","v":""},{"$f":"IF(登録済データ!$B185<>0,IF(登録済データ!I185<>\"\",登録済データ!I185,\"\"),\"\")","v":""},{"$f":"IF(登録済データ!$B185<>0,登録済データ!J185,\"\")","v":""},{"$f":"IF(登録済データ!$B185<>0,登録済データ!K185,\"\")","v":""},{"$f":"IF(登録済データ!$B185<>0,登録済データ!L185,\"\")","v":""},{"$f":"IF(登録済データ!$B185<>0,登録済データ!M185,\"\")","v":""},{"$f":"IF(登録済データ!$B185<>0,登録済データ!N185,\"\")","v":""},{"$f":"IF(登録済データ!$B185<>0,登録済データ!O185,\"\")","v":""},{"$f":"IF(登録済データ!$B185<>0,登録済データ!P185,\"\")","v":""},{"$f":"IF(登録済データ!$B185<>0,登録済データ!Q185,\"\")","v":""},{"$f":"IF(登録済データ!$B185<>0,登録済データ!R185,\"\")","v":""},{"$f":"IF(登録済データ!$B185<>0,登録済データ!S185,\"\")","v":""},{"$f":"IF(登録済データ!$B185<>0,登録済データ!T185,\"\")","v":""},{"$f":"IF(登録済データ!$B185<>0,登録済データ!U185,\"\")","v":""},{"$f":"IF(登録済データ!$B185<>0,登録済データ!V185,\"\")","v":""},{"$f":"IF(登録済データ!$B185<>0,登録済データ!W185,\"\")","v":""},{"$f":"IF(登録済データ!$B185<>0,登録済データ!X185,\"\")","v":""},{"$f":"IF($F182<>\"\",登録済データ!$C$4,\"\")","v":""}]
[null,{"$f":"IF($F183<>\"\",登録済データ!$C$2,\"\")","v":""},{"$f":"IF($F183<>\"\",IF($I$1=\"企業コード3桁\",LEFT(登録済データ!$C$3,3),LEFT(登録済データ!$C$3,6)),\"\")","v":""},null,{"$f":"IF(登録済データ!$B186<>0,登録済データ!C186,\"\")","v":""},{"$f":"IF(登録済データ!$B186<>0,登録済データ!D186,\"\")","v":""},{"$f":"IF(登録済データ!$B186<>0,登録済データ!E186,\"\")","v":""},{"$f":"IF(登録済データ!$B186<>0,IF(登録済データ!F186<>\"\",登録済データ!F186,\"\"),\"\")","v":""},{"$f":"IF(登録済データ!$B186<>0,IF(登録済データ!G186<>\"\",登録済データ!G186,\"\"),\"\")","v":""},{"$f":"IF(登録済データ!$B186<>0,IF(登録済データ!H186<>\"\",登録済データ!H186,\"\"),\"\")","v":""},{"$f":"IF(登録済データ!$B186<>0,IF(登録済データ!I186<>\"\",登録済データ!I186,\"\"),\"\")","v":""},{"$f":"IF(登録済データ!$B186<>0,登録済データ!J186,\"\")","v":""},{"$f":"IF(登録済データ!$B186<>0,登録済データ!K186,\"\")","v":""},{"$f":"IF(登録済データ!$B186<>0,登録済データ!L186,\"\")","v":""},{"$f":"IF(登録済データ!$B186<>0,登録済データ!M186,\"\")","v":""},{"$f":"IF(登録済データ!$B186<>0,登録済データ!N186,\"\")","v":""},{"$f":"IF(登録済データ!$B186<>0,登録済データ!O186,\"\")","v":""},{"$f":"IF(登録済データ!$B186<>0,登録済データ!P186,\"\")","v":""},{"$f":"IF(登録済データ!$B186<>0,登録済データ!Q186,\"\")","v":""},{"$f":"IF(登録済データ!$B186<>0,登録済データ!R186,\"\")","v":""},{"$f":"IF(登録済データ!$B186<>0,登録済データ!S186,\"\")","v":""},{"$f":"IF(登録済データ!$B186<>0,登録済データ!T186,\"\")","v":""},{"$f":"IF(登録済データ!$B186<>0,登録済データ!U186,\"\")","v":""},{"$f":"IF(登録済データ!$B186<>0,登録済データ!V186,\"\")","v":""},{"$f":"IF(登録済データ!$B186<>0,登録済データ!W186,\"\")","v":""},{"$f":"IF(登録済データ!$B186<>0,登録済データ!X186,\"\")","v":""},{"$f":"IF($F183<>\"\",登録済データ!$C$4,\"\")","v":""}]
[null,{"$f":"IF($F184<>\"\",登録済データ!$C$2,\"\")","v":""},{"$f":"IF($F184<>\"\",IF($I$1=\"企業コード3桁\",LEFT(登録済データ!$C$3,3),LEFT(登録済データ!$C$3,6)),\"\")","v":""},null,{"$f":"IF(登録済データ!$B187<>0,登録済データ!C187,\"\")","v":""},{"$f":"IF(登録済データ!$B187<>0,登録済データ!D187,\"\")","v":""},{"$f":"IF(登録済データ!$B187<>0,登録済データ!E187,\"\")","v":""},{"$f":"IF(登録済データ!$B187<>0,IF(登録済データ!F187<>\"\",登録済データ!F187,\"\"),\"\")","v":""},{"$f":"IF(登録済データ!$B187<>0,IF(登録済データ!G187<>\"\",登録済データ!G187,\"\"),\"\")","v":""},{"$f":"IF(登録済データ!$B187<>0,IF(登録済データ!H187<>\"\",登録済データ!H187,\"\"),\"\")","v":""},{"$f":"IF(登録済データ!$B187<>0,IF(登録済データ!I187<>\"\",登録済データ!I187,\"\"),\"\")","v":""},{"$f":"IF(登録済データ!$B187<>0,登録済データ!J187,\"\")","v":""},{"$f":"IF(登録済データ!$B187<>0,登録済データ!K187,\"\")","v":""},{"$f":"IF(登録済データ!$B187<>0,登録済データ!L187,\"\")","v":""},{"$f":"IF(登録済データ!$B187<>0,登録済データ!M187,\"\")","v":""},{"$f":"IF(登録済データ!$B187<>0,登録済データ!N187,\"\")","v":""},{"$f":"IF(登録済データ!$B187<>0,登録済データ!O187,\"\")","v":""},{"$f":"IF(登録済データ!$B187<>0,登録済データ!P187,\"\")","v":""},{"$f":"IF(登録済データ!$B187<>0,登録済データ!Q187,\"\")","v":""},{"$f":"IF(登録済データ!$B187<>0,登録済データ!R187,\"\")","v":""},{"$f":"IF(登録済データ!$B187<>0,登録済データ!S187,\"\")","v":""},{"$f":"IF(登録済データ!$B187<>0,登録済データ!T187,\"\")","v":""},{"$f":"IF(登録済データ!$B187<>0,登録済データ!U187,\"\")","v":""},{"$f":"IF(登録済データ!$B187<>0,登録済データ!V187,\"\")","v":""},{"$f":"IF(登録済データ!$B187<>0,登録済データ!W187,\"\")","v":""},{"$f":"IF(登録済データ!$B187<>0,登録済データ!X187,\"\")","v":""},{"$f":"IF($F184<>\"\",登録済データ!$C$4,\"\")","v":""}]
[null,{"$f":"IF($F185<>\"\",登録済データ!$C$2,\"\")","v":""},{"$f":"IF($F185<>\"\",IF($I$1=\"企業コード3桁\",LEFT(登録済データ!$C$3,3),LEFT(登録済データ!$C$3,6)),\"\")","v":""},null,{"$f":"IF(登録済データ!$B188<>0,登録済データ!C188,\"\")","v":""},{"$f":"IF(登録済データ!$B188<>0,登録済データ!D188,\"\")","v":""},{"$f":"IF(登録済データ!$B188<>0,登録済データ!E188,\"\")","v":""},{"$f":"IF(登録済データ!$B188<>0,IF(登録済データ!F188<>\"\",登録済データ!F188,\"\"),\"\")","v":""},{"$f":"IF(登録済データ!$B188<>0,IF(登録済データ!G188<>\"\",登録済データ!G188,\"\"),\"\")","v":""},{"$f":"IF(登録済データ!$B188<>0,IF(登録済データ!H188<>\"\",登録済データ!H188,\"\"),\"\")","v":""},{"$f":"IF(登録済データ!$B188<>0,IF(登録済データ!I188<>\"\",登録済データ!I188,\"\"),\"\")","v":""},{"$f":"IF(登録済データ!$B188<>0,登録済データ!J188,\"\")","v":""},{"$f":"IF(登録済データ!$B188<>0,登録済データ!K188,\"\")","v":""},{"$f":"IF(登録済データ!$B188<>0,登録済データ!L188,\"\")","v":""},{"$f":"IF(登録済データ!$B188<>0,登録済データ!M188,\"\")","v":""},{"$f":"IF(登録済データ!$B188<>0,登録済データ!N188,\"\")","v":""},{"$f":"IF(登録済データ!$B188<>0,登録済データ!O188,\"\")","v":""},{"$f":"IF(登録済データ!$B188<>0,登録済データ!P188,\"\")","v":""},{"$f":"IF(登録済データ!$B188<>0,登録済データ!Q188,\"\")","v":""},{"$f":"IF(登録済データ!$B188<>0,登録済データ!R188,\"\")","v":""},{"$f":"IF(登録済データ!$B188<>0,登録済データ!S188,\"\")","v":""},{"$f":"IF(登録済データ!$B188<>0,登録済データ!T188,\"\")","v":""},{"$f":"IF(登録済データ!$B188<>0,登録済データ!U188,\"\")","v":""},{"$f":"IF(登録済データ!$B188<>0,登録済データ!V188,\"\")","v":""},{"$f":"IF(登録済データ!$B188<>0,登録済データ!W188,\"\")","v":""},{"$f":"IF(登録済データ!$B188<>0,登録済データ!X188,\"\")","v":""},{"$f":"IF($F185<>\"\",登録済データ!$C$4,\"\")","v":""}]
[null,{"$f":"IF($F186<>\"\",登録済データ!$C$2,\"\")","v":""},{"$f":"IF($F186<>\"\",IF($I$1=\"企業コード3桁\",LEFT(登録済データ!$C$3,3),LEFT(登録済データ!$C$3,6)),\"\")","v":""},null,{"$f":"IF(登録済データ!$B189<>0,登録済データ!C189,\"\")","v":""},{"$f":"IF(登録済データ!$B189<>0,登録済データ!D189,\"\")","v":""},{"$f":"IF(登録済データ!$B189<>0,登録済データ!E189,\"\")","v":""},{"$f":"IF(登録済データ!$B189<>0,IF(登録済データ!F189<>\"\",登録済データ!F189,\"\"),\"\")","v":""},{"$f":"IF(登録済データ!$B189<>0,IF(登録済データ!G189<>\"\",登録済データ!G189,\"\"),\"\")","v":""},{"$f":"IF(登録済データ!$B189<>0,IF(登録済データ!H189<>\"\",登録済データ!H189,\"\"),\"\")","v":""},{"$f":"IF(登録済データ!$B189<>0,IF(登録済データ!I189<>\"\",登録済データ!I189,\"\"),\"\")","v":""},{"$f":"IF(登録済データ!$B189<>0,登録済データ!J189,\"\")","v":""},{"$f":"IF(登録済データ!$B189<>0,登録済データ!K189,\"\")","v":""},{"$f":"IF(登録済データ!$B189<>0,登録済データ!L189,\"\")","v":""},{"$f":"IF(登録済データ!$B189<>0,登録済データ!M189,\"\")","v":""},{"$f":"IF(登録済データ!$B189<>0,登録済データ!N189,\"\")","v":""},{"$f":"IF(登録済データ!$B189<>0,登録済データ!O189,\"\")","v":""},{"$f":"IF(登録済データ!$B189<>0,登録済データ!P189,\"\")","v":""},{"$f":"IF(登録済データ!$B189<>0,登録済データ!Q189,\"\")","v":""},{"$f":"IF(登録済データ!$B189<>0,登録済データ!R189,\"\")","v":""},{"$f":"IF(登録済データ!$B189<>0,登録済データ!S189,\"\")","v":""},{"$f":"IF(登録済データ!$B189<>0,登録済データ!T189,\"\")","v":""},{"$f":"IF(登録済データ!$B189<>0,登録済データ!U189,\"\")","v":""},{"$f":"IF(登録済データ!$B189<>0,登録済データ!V189,\"\")","v":""},{"$f":"IF(登録済データ!$B189<>0,登録済データ!W189,\"\")","v":""},{"$f":"IF(登録済データ!$B189<>0,登録済データ!X189,\"\")","v":""},{"$f":"IF($F186<>\"\",登録済データ!$C$4,\"\")","v":""}]
[null,{"$f":"IF($F187<>\"\",登録済データ!$C$2,\"\")","v":""},{"$f":"IF($F187<>\"\",IF($I$1=\"企業コード3桁\",LEFT(登録済データ!$C$3,3),LEFT(登録済データ!$C$3,6)),\"\")","v":""},null,{"$f":"IF(登録済データ!$B190<>0,登録済データ!C190,\"\")","v":""},{"$f":"IF(登録済データ!$B190<>0,登録済データ!D190,\"\")","v":""},{"$f":"IF(登録済データ!$B190<>0,登録済データ!E190,\"\")","v":""},{"$f":"IF(登録済データ!$B190<>0,IF(登録済データ!F190<>\"\",登録済データ!F190,\"\"),\"\")","v":""},{"$f":"IF(登録済データ!$B190<>0,IF(登録済データ!G190<>\"\",登録済データ!G190,\"\"),\"\")","v":""},{"$f":"IF(登録済データ!$B190<>0,IF(登録済データ!H190<>\"\",登録済データ!H190,\"\"),\"\")","v":""},{"$f":"IF(登録済データ!$B190<>0,IF(登録済データ!I190<>\"\",登録済データ!I190,\"\"),\"\")","v":""},{"$f":"IF(登録済データ!$B190<>0,登録済データ!J190,\"\")","v":""},{"$f":"IF(登録済データ!$B190<>0,登録済データ!K190,\"\")","v":""},{"$f":"IF(登録済データ!$B190<>0,登録済データ!L190,\"\")","v":""},{"$f":"IF(登録済データ!$B190<>0,登録済データ!M190,\"\")","v":""},{"$f":"IF(登録済データ!$B190<>0,登録済データ!N190,\"\")","v":""},{"$f":"IF(登録済データ!$B190<>0,登録済データ!O190,\"\")","v":""},{"$f":"IF(登録済データ!$B190<>0,登録済データ!P190,\"\")","v":""},{"$f":"IF(登録済データ!$B190<>0,登録済データ!Q190,\"\")","v":""},{"$f":"IF(登録済データ!$B190<>0,登録済データ!R190,\"\")","v":""},{"$f":"IF(登録済データ!$B190<>0,登録済データ!S190,\"\")","v":""},{"$f":"IF(登録済データ!$B190<>0,登録済データ!T190,\"\")","v":""},{"$f":"IF(登録済データ!$B190<>0,登録済データ!U190,\"\")","v":""},{"$f":"IF(登録済データ!$B190<>0,登録済データ!V190,\"\")","v":""},{"$f":"IF(登録済データ!$B190<>0,登録済データ!W190,\"\")","v":""},{"$f":"IF(登録済データ!$B190<>0,登録済データ!X190,\"\")","v":""},{"$f":"IF($F187<>\"\",登録済データ!$C$4,\"\")","v":""}]
[null,{"$f":"IF($F188<>\"\",登録済データ!$C$2,\"\")","v":""},{"$f":"IF($F188<>\"\",IF($I$1=\"企業コード3桁\",LEFT(登録済データ!$C$3,3),LEFT(登録済データ!$C$3,6)),\"\")","v":""},null,{"$f":"IF(登録済データ!$B191<>0,登録済データ!C191,\"\")","v":""},{"$f":"IF(登録済データ!$B191<>0,登録済データ!D191,\"\")","v":""},{"$f":"IF(登録済データ!$B191<>0,登録済データ!E191,\"\")","v":""},{"$f":"IF(登録済データ!$B191<>0,IF(登録済データ!F191<>\"\",登録済データ!F191,\"\"),\"\")","v":""},{"$f":"IF(登録済データ!$B191<>0,IF(登録済データ!G191<>\"\",登録済データ!G191,\"\"),\"\")","v":""},{"$f":"IF(登録済データ!$B191<>0,IF(登録済データ!H191<>\"\",登録済データ!H191,\"\"),\"\")","v":""},{"$f":"IF(登録済データ!$B191<>0,IF(登録済データ!I191<>\"\",登録済データ!I191,\"\"),\"\")","v":""},{"$f":"IF(登録済データ!$B191<>0,登録済データ!J191,\"\")","v":""},{"$f":"IF(登録済データ!$B191<>0,登録済データ!K191,\"\")","v":""},{"$f":"IF(登録済データ!$B191<>0,登録済データ!L191,\"\")","v":""},{"$f":"IF(登録済データ!$B191<>0,登録済データ!M191,\"\")","v":""},{"$f":"IF(登録済データ!$B191<>0,登録済データ!N191,\"\")","v":""},{"$f":"IF(登録済データ!$B191<>0,登録済データ!O191,\"\")","v":""},{"$f":"IF(登録済データ!$B191<>0,登録済データ!P191,\"\")","v":""},{"$f":"IF(登録済データ!$B191<>0,登録済データ!Q191,\"\")","v":""},{"$f":"IF(登録済データ!$B191<>0,登録済データ!R191,\"\")","v":""},{"$f":"IF(登録済データ!$B191<>0,登録済データ!S191,\"\")","v":""},{"$f":"IF(登録済データ!$B191<>0,登録済データ!T191,\"\")","v":""},{"$f":"IF(登録済データ!$B191<>0,登録済データ!U191,\"\")","v":""},{"$f":"IF(登録済データ!$B191<>0,登録済データ!V191,\"\")","v":""},{"$f":"IF(登録済データ!$B191<>0,登録済データ!W191,\"\")","v":""},{"$f":"IF(登録済データ!$B191<>0,登録済データ!X191,\"\")","v":""},{"$f":"IF($F188<>\"\",登録済データ!$C$4,\"\")","v":""}]
[null,{"$f":"IF($F189<>\"\",登録済データ!$C$2,\"\")","v":""},{"$f":"IF($F189<>\"\",IF($I$1=\"企業コード3桁\",LEFT(登録済データ!$C$3,3),LEFT(登録済データ!$C$3,6)),\"\")","v":""},null,{"$f":"IF(登録済データ!$B192<>0,登録済データ!C192,\"\")","v":""},{"$f":"IF(登録済データ!$B192<>0,登録済データ!D192,\"\")","v":""},{"$f":"IF(登録済データ!$B192<>0,登録済データ!E192,\"\")","v":""},{"$f":"IF(登録済データ!$B192<>0,IF(登録済データ!F192<>\"\",登録済データ!F192,\"\"),\"\")","v":""},{"$f":"IF(登録済データ!$B192<>0,IF(登録済データ!G192<>\"\",登録済データ!G192,\"\"),\"\")","v":""},{"$f":"IF(登録済データ!$B192<>0,IF(登録済データ!H192<>\"\",登録済データ!H192,\"\"),\"\")","v":""},{"$f":"IF(登録済データ!$B192<>0,IF(登録済データ!I192<>\"\",登録済データ!I192,\"\"),\"\")","v":""},{"$f":"IF(登録済データ!$B192<>0,登録済データ!J192,\"\")","v":""},{"$f":"IF(登録済データ!$B192<>0,登録済データ!K192,\"\")","v":""},{"$f":"IF(登録済データ!$B192<>0,登録済データ!L192,\"\")","v":""},{"$f":"IF(登録済データ!$B192<>0,登録済データ!M192,\"\")","v":""},{"$f":"IF(登録済データ!$B192<>0,登録済データ!N192,\"\")","v":""},{"$f":"IF(登録済データ!$B192<>0,登録済データ!O192,\"\")","v":""},{"$f":"IF(登録済データ!$B192<>0,登録済データ!P192,\"\")","v":""},{"$f":"IF(登録済データ!$B192<>0,登録済データ!Q192,\"\")","v":""},{"$f":"IF(登録済データ!$B192<>0,登録済データ!R192,\"\")","v":""},{"$f":"IF(登録済データ!$B192<>0,登録済データ!S192,\"\")","v":""},{"$f":"IF(登録済データ!$B192<>0,登録済データ!T192,\"\")","v":""},{"$f":"IF(登録済データ!$B192<>0,登録済データ!U192,\"\")","v":""},{"$f":"IF(登録済データ!$B192<>0,登録済データ!V192,\"\")","v":""},{"$f":"IF(登録済データ!$B192<>0,登録済データ!W192,\"\")","v":""},{"$f":"IF(登録済データ!$B192<>0,登録済データ!X192,\"\")","v":""},{"$f":"IF($F189<>\"\",登録済データ!$C$4,\"\")","v":""}]
[null,{"$f":"IF($F190<>\"\",登録済データ!$C$2,\"\")","v":""},{"$f":"IF($F190<>\"\",IF($I$1=\"企業コード3桁\",LEFT(登録済データ!$C$3,3),LEFT(登録済データ!$C$3,6)),\"\")","v":""},null,{"$f":"IF(登録済データ!$B193<>0,登録済データ!C193,\"\")","v":""},{"$f":"IF(登録済データ!$B193<>0,登録済データ!D193,\"\")","v":""},{"$f":"IF(登録済データ!$B193<>0,登録済データ!E193,\"\")","v":""},{"$f":"IF(登録済データ!$B193<>0,IF(登録済データ!F193<>\"\",登録済データ!F193,\"\"),\"\")","v":""},{"$f":"IF(登録済データ!$B193<>0,IF(登録済データ!G193<>\"\",登録済データ!G193,\"\"),\"\")","v":""},{"$f":"IF(登録済データ!$B193<>0,IF(登録済データ!H193<>\"\",登録済データ!H193,\"\"),\"\")","v":""},{"$f":"IF(登録済データ!$B193<>0,IF(登録済データ!I193<>\"\",登録済データ!I193,\"\"),\"\")","v":""},{"$f":"IF(登録済データ!$B193<>0,登録済データ!J193,\"\")","v":""},{"$f":"IF(登録済データ!$B193<>0,登録済データ!K193,\"\")","v":""},{"$f":"IF(登録済データ!$B193<>0,登録済データ!L193,\"\")","v":""},{"$f":"IF(登録済データ!$B193<>0,登録済データ!M193,\"\")","v":""},{"$f":"IF(登録済データ!$B193<>0,登録済データ!N193,\"\")","v":""},{"$f":"IF(登録済データ!$B193<>0,登録済データ!O193,\"\")","v":""},{"$f":"IF(登録済データ!$B193<>0,登録済データ!P193,\"\")","v":""},{"$f":"IF(登録済データ!$B193<>0,登録済データ!Q193,\"\")","v":""},{"$f":"IF(登録済データ!$B193<>0,登録済データ!R193,\"\")","v":""},{"$f":"IF(登録済データ!$B193<>0,登録済データ!S193,\"\")","v":""},{"$f":"IF(登録済データ!$B193<>0,登録済データ!T193,\"\")","v":""},{"$f":"IF(登録済データ!$B193<>0,登録済データ!U193,\"\")","v":""},{"$f":"IF(登録済データ!$B193<>0,登録済データ!V193,\"\")","v":""},{"$f":"IF(登録済データ!$B193<>0,登録済データ!W193,\"\")","v":""},{"$f":"IF(登録済データ!$B193<>0,登録済データ!X193,\"\")","v":""},{"$f":"IF($F190<>\"\",登録済データ!$C$4,\"\")","v":""}]
[null,{"$f":"IF($F191<>\"\",登録済データ!$C$2,\"\")","v":""},{"$f":"IF($F191<>\"\",IF($I$1=\"企業コード3桁\",LEFT(登録済データ!$C$3,3),LEFT(登録済データ!$C$3,6)),\"\")","v":""},null,{"$f":"IF(登録済データ!$B194<>0,登録済データ!C194,\"\")","v":""},{"$f":"IF(登録済データ!$B194<>0,登録済データ!D194,\"\")","v":""},{"$f":"IF(登録済データ!$B194<>0,登録済データ!E194,\"\")","v":""},{"$f":"IF(登録済データ!$B194<>0,IF(登録済データ!F194<>\"\",登録済データ!F194,\"\"),\"\")","v":""},{"$f":"IF(登録済データ!$B194<>0,IF(登録済データ!G194<>\"\",登録済データ!G194,\"\"),\"\")","v":""},{"$f":"IF(登録済データ!$B194<>0,IF(登録済データ!H194<>\"\",登録済データ!H194,\"\"),\"\")","v":""},{"$f":"IF(登録済データ!$B194<>0,IF(登録済データ!I194<>\"\",登録済データ!I194,\"\"),\"\")","v":""},{"$f":"IF(登録済データ!$B194<>0,登録済データ!J194,\"\")","v":""},{"$f":"IF(登録済データ!$B194<>0,登録済データ!K194,\"\")","v":""},{"$f":"IF(登録済データ!$B194<>0,登録済データ!L194,\"\")","v":""},{"$f":"IF(登録済データ!$B194<>0,登録済データ!M194,\"\")","v":""},{"$f":"IF(登録済データ!$B194<>0,登録済データ!N194,\"\")","v":""},{"$f":"IF(登録済データ!$B194<>0,登録済データ!O194,\"\")","v":""},{"$f":"IF(登録済データ!$B194<>0,登録済データ!P194,\"\")","v":""},{"$f":"IF(登録済データ!$B194<>0,登録済データ!Q194,\"\")","v":""},{"$f":"IF(登録済データ!$B194<>0,登録済データ!R194,\"\")","v":""},{"$f":"IF(登録済データ!$B194<>0,登録済データ!S194,\"\")","v":""},{"$f":"IF(登録済データ!$B194<>0,登録済データ!T194,\"\")","v":""},{"$f":"IF(登録済データ!$B194<>0,登録済データ!U194,\"\")","v":""},{"$f":"IF(登録済データ!$B194<>0,登録済データ!V194,\"\")","v":""},{"$f":"IF(登録済データ!$B194<>0,登録済データ!W194,\"\")","v":""},{"$f":"IF(登録済データ!$B194<>0,登録済データ!X194,\"\")","v":""},{"$f":"IF($F191<>\"\",登録済データ!$C$4,\"\")","v":""}]
[null,{"$f":"IF($F192<>\"\",登録済データ!$C$2,\"\")","v":""},{"$f":"IF($F192<>\"\",IF($I$1=\"企業コード3桁\",LEFT(登録済データ!$C$3,3),LEFT(登録済データ!$C$3,6)),\"\")","v":""},null,{"$f":"IF(登録済データ!$B195<>0,登録済データ!C195,\"\")","v":""},{"$f":"IF(登録済データ!$B195<>0,登録済データ!D195,\"\")","v":""},{"$f":"IF(登録済データ!$B195<>0,登録済データ!E195,\"\")","v":""},{"$f":"IF(登録済データ!$B195<>0,IF(登録済データ!F195<>\"\",登録済データ!F195,\"\"),\"\")","v":""},{"$f":"IF(登録済データ!$B195<>0,IF(登録済データ!G195<>\"\",登録済データ!G195,\"\"),\"\")","v":""},{"$f":"IF(登録済データ!$B195<>0,IF(登録済データ!H195<>\"\",登録済データ!H195,\"\"),\"\")","v":""},{"$f":"IF(登録済データ!$B195<>0,IF(登録済データ!I195<>\"\",登録済データ!I195,\"\"),\"\")","v":""},{"$f":"IF(登録済データ!$B195<>0,登録済データ!J195,\"\")","v":""},{"$f":"IF(登録済データ!$B195<>0,登録済データ!K195,\"\")","v":""},{"$f":"IF(登録済データ!$B195<>0,登録済データ!L195,\"\")","v":""},{"$f":"IF(登録済データ!$B195<>0,登録済データ!M195,\"\")","v":""},{"$f":"IF(登録済データ!$B195<>0,登録済データ!N195,\"\")","v":""},{"$f":"IF(登録済データ!$B195<>0,登録済データ!O195,\"\")","v":""},{"$f":"IF(登録済データ!$B195<>0,登録済データ!P195,\"\")","v":""},{"$f":"IF(登録済データ!$B195<>0,登録済データ!Q195,\"\")","v":""},{"$f":"IF(登録済データ!$B195<>0,登録済データ!R195,\"\")","v":""},{"$f":"IF(登録済データ!$B195<>0,登録済データ!S195,\"\")","v":""},{"$f":"IF(登録済データ!$B195<>0,登録済データ!T195,\"\")","v":""},{"$f":"IF(登録済データ!$B195<>0,登録済データ!U195,\"\")","v":""},{"$f":"IF(登録済データ!$B195<>0,登録済データ!V195,\"\")","v":""},{"$f":"IF(登録済データ!$B195<>0,登録済データ!W195,\"\")","v":""},{"$f":"IF(登録済データ!$B195<>0,登録済データ!X195,\"\")","v":""},{"$f":"IF($F192<>\"\",登録済データ!$C$4,\"\")","v":""}]
[null,{"$f":"IF($F193<>\"\",登録済データ!$C$2,\"\")","v":""},{"$f":"IF($F193<>\"\",IF($I$1=\"企業コード3桁\",LEFT(登録済データ!$C$3,3),LEFT(登録済データ!$C$3,6)),\"\")","v":""},null,{"$f":"IF(登録済データ!$B196<>0,登録済データ!C196,\"\")","v":""},{"$f":"IF(登録済データ!$B196<>0,登録済データ!D196,\"\")","v":""},{"$f":"IF(登録済データ!$B196<>0,登録済データ!E196,\"\")","v":""},{"$f":"IF(登録済データ!$B196<>0,IF(登録済データ!F196<>\"\",登録済データ!F196,\"\"),\"\")","v":""},{"$f":"IF(登録済データ!$B196<>0,IF(登録済データ!G196<>\"\",登録済データ!G196,\"\"),\"\")","v":""},{"$f":"IF(登録済データ!$B196<>0,IF(登録済データ!H196<>\"\",登録済データ!H196,\"\"),\"\")","v":""},{"$f":"IF(登録済データ!$B196<>0,IF(登録済データ!I196<>\"\",登録済データ!I196,\"\"),\"\")","v":""},{"$f":"IF(登録済データ!$B196<>0,登録済データ!J196,\"\")","v":""},{"$f":"IF(登録済データ!$B196<>0,登録済データ!K196,\"\")","v":""},{"$f":"IF(登録済データ!$B196<>0,登録済データ!L196,\"\")","v":""},{"$f":"IF(登録済データ!$B196<>0,登録済データ!M196,\"\")","v":""},{"$f":"IF(登録済データ!$B196<>0,登録済データ!N196,\"\")","v":""},{"$f":"IF(登録済データ!$B196<>0,登録済データ!O196,\"\")","v":""},{"$f":"IF(登録済データ!$B196<>0,登録済データ!P196,\"\")","v":""},{"$f":"IF(登録済データ!$B196<>0,登録済データ!Q196,\"\")","v":""},{"$f":"IF(登録済データ!$B196<>0,登録済データ!R196,\"\")","v":""},{"$f":"IF(登録済データ!$B196<>0,登録済データ!S196,\"\")","v":""},{"$f":"IF(登録済データ!$B196<>0,登録済データ!T196,\"\")","v":""},{"$f":"IF(登録済データ!$B196<>0,登録済データ!U196,\"\")","v":""},{"$f":"IF(登録済データ!$B196<>0,登録済データ!V196,\"\")","v":""},{"$f":"IF(登録済データ!$B196<>0,登録済データ!W196,\"\")","v":""},{"$f":"IF(登録済データ!$B196<>0,登録済データ!X196,\"\")","v":""},{"$f":"IF($F193<>\"\",登録済データ!$C$4,\"\")","v":""}]
[null,{"$f":"IF($F194<>\"\",登録済データ!$C$2,\"\")","v":""},{"$f":"IF($F194<>\"\",IF($I$1=\"企業コード3桁\",LEFT(登録済データ!$C$3,3),LEFT(登録済データ!$C$3,6)),\"\")","v":""},null,{"$f":"IF(登録済データ!$B197<>0,登録済データ!C197,\"\")","v":""},{"$f":"IF(登録済データ!$B197<>0,登録済データ!D197,\"\")","v":""},{"$f":"IF(登録済データ!$B197<>0,登録済データ!E197,\"\")","v":""},{"$f":"IF(登録済データ!$B197<>0,IF(登録済データ!F197<>\"\",登録済データ!F197,\"\"),\"\")","v":""},{"$f":"IF(登録済データ!$B197<>0,IF(登録済データ!G197<>\"\",登録済データ!G197,\"\"),\"\")","v":""},{"$f":"IF(登録済データ!$B197<>0,IF(登録済データ!H197<>\"\",登録済データ!H197,\"\"),\"\")","v":""},{"$f":"IF(登録済データ!$B197<>0,IF(登録済データ!I197<>\"\",登録済データ!I197,\"\"),\"\")","v":""},{"$f":"IF(登録済データ!$B197<>0,登録済データ!J197,\"\")","v":""},{"$f":"IF(登録済データ!$B197<>0,登録済データ!K197,\"\")","v":""},{"$f":"IF(登録済データ!$B197<>0,登録済データ!L197,\"\")","v":""},{"$f":"IF(登録済データ!$B197<>0,登録済データ!M197,\"\")","v":""},{"$f":"IF(登録済データ!$B197<>0,登録済データ!N197,\"\")","v":""},{"$f":"IF(登録済データ!$B197<>0,登録済データ!O197,\"\")","v":""},{"$f":"IF(登録済データ!$B197<>0,登録済データ!P197,\"\")","v":""},{"$f":"IF(登録済データ!$B197<>0,登録済データ!Q197,\"\")","v":""},{"$f":"IF(登録済データ!$B197<>0,登録済データ!R197,\"\")","v":""},{"$f":"IF(登録済データ!$B197<>0,登録済データ!S197,\"\")","v":""},{"$f":"IF(登録済データ!$B197<>0,登録済データ!T197,\"\")","v":""},{"$f":"IF(登録済データ!$B197<>0,登録済データ!U197,\"\")","v":""},{"$f":"IF(登録済データ!$B197<>0,登録済データ!V197,\"\")","v":""},{"$f":"IF(登録済データ!$B197<>0,登録済データ!W197,\"\")","v":""},{"$f":"IF(登録済データ!$B197<>0,登録済データ!X197,\"\")","v":""},{"$f":"IF($F194<>\"\",登録済データ!$C$4,\"\")","v":""}]
[null,{"$f":"IF($F195<>\"\",登録済データ!$C$2,\"\")","v":""},{"$f":"IF($F195<>\"\",IF($I$1=\"企業コード3桁\",LEFT(登録済データ!$C$3,3),LEFT(登録済データ!$C$3,6)),\"\")","v":""},null,{"$f":"IF(登録済データ!$B198<>0,登録済データ!C198,\"\")","v":""},{"$f":"IF(登録済データ!$B198<>0,登録済データ!D198,\"\")","v":""},{"$f":"IF(登録済データ!$B198<>0,登録済データ!E198,\"\")","v":""},{"$f":"IF(登録済データ!$B198<>0,IF(登録済データ!F198<>\"\",登録済データ!F198,\"\"),\"\")","v":""},{"$f":"IF(登録済データ!$B198<>0,IF(登録済データ!G198<>\"\",登録済データ!G198,\"\"),\"\")","v":""},{"$f":"IF(登録済データ!$B198<>0,IF(登録済データ!H198<>\"\",登録済データ!H198,\"\"),\"\")","v":""},{"$f":"IF(登録済データ!$B198<>0,IF(登録済データ!I198<>\"\",登録済データ!I198,\"\"),\"\")","v":""},{"$f":"IF(登録済データ!$B198<>0,登録済データ!J198,\"\")","v":""},{"$f":"IF(登録済データ!$B198<>0,登録済データ!K198,\"\")","v":""},{"$f":"IF(登録済データ!$B198<>0,登録済データ!L198,\"\")","v":""},{"$f":"IF(登録済データ!$B198<>0,登録済データ!M198,\"\")","v":""},{"$f":"IF(登録済データ!$B198<>0,登録済データ!N198,\"\")","v":""},{"$f":"IF(登録済データ!$B198<>0,登録済データ!O198,\"\")","v":""},{"$f":"IF(登録済データ!$B198<>0,登録済データ!P198,\"\")","v":""},{"$f":"IF(登録済データ!$B198<>0,登録済データ!Q198,\"\")","v":""},{"$f":"IF(登録済データ!$B198<>0,登録済データ!R198,\"\")","v":""},{"$f":"IF(登録済データ!$B198<>0,登録済データ!S198,\"\")","v":""},{"$f":"IF(登録済データ!$B198<>0,登録済データ!T198,\"\")","v":""},{"$f":"IF(登録済データ!$B198<>0,登録済データ!U198,\"\")","v":""},{"$f":"IF(登録済データ!$B198<>0,登録済データ!V198,\"\")","v":""},{"$f":"IF(登録済データ!$B198<>0,登録済データ!W198,\"\")","v":""},{"$f":"IF(登録済データ!$B198<>0,登録済データ!X198,\"\")","v":""},{"$f":"IF($F195<>\"\",登録済データ!$C$4,\"\")","v":""}]
[null,{"$f":"IF($F196<>\"\",登録済データ!$C$2,\"\")","v":""},{"$f":"IF($F196<>\"\",IF($I$1=\"企業コード3桁\",LEFT(登録済データ!$C$3,3),LEFT(登録済データ!$C$3,6)),\"\")","v":""},null,{"$f":"IF(登録済データ!$B199<>0,登録済データ!C199,\"\")","v":""},{"$f":"IF(登録済データ!$B199<>0,登録済データ!D199,\"\")","v":""},{"$f":"IF(登録済データ!$B199<>0,登録済データ!E199,\"\")","v":""},{"$f":"IF(登録済データ!$B199<>0,IF(登録済データ!F199<>\"\",登録済データ!F199,\"\"),\"\")","v":""},{"$f":"IF(登録済データ!$B199<>0,IF(登録済データ!G199<>\"\",登録済データ!G199,\"\"),\"\")","v":""},{"$f":"IF(登録済データ!$B199<>0,IF(登録済データ!H199<>\"\",登録済データ!H199,\"\"),\"\")","v":""},{"$f":"IF(登録済データ!$B199<>0,IF(登録済データ!I199<>\"\",登録済データ!I199,\"\"),\"\")","v":""},{"$f":"IF(登録済データ!$B199<>0,登録済データ!J199,\"\")","v":""},{"$f":"IF(登録済データ!$B199<>0,登録済データ!K199,\"\")","v":""},{"$f":"IF(登録済データ!$B199<>0,登録済データ!L199,\"\")","v":""},{"$f":"IF(登録済データ!$B199<>0,登録済データ!M199,\"\")","v":""},{"$f":"IF(登録済データ!$B199<>0,登録済データ!N199,\"\")","v":""},{"$f":"IF(登録済データ!$B199<>0,登録済データ!O199,\"\")","v":""},{"$f":"IF(登録済データ!$B199<>0,登録済データ!P199,\"\")","v":""},{"$f":"IF(登録済データ!$B199<>0,登録済データ!Q199,\"\")","v":""},{"$f":"IF(登録済データ!$B199<>0,登録済データ!R199,\"\")","v":""},{"$f":"IF(登録済データ!$B199<>0,登録済データ!S199,\"\")","v":""},{"$f":"IF(登録済データ!$B199<>0,登録済データ!T199,\"\")","v":""},{"$f":"IF(登録済データ!$B199<>0,登録済データ!U199,\"\")","v":""},{"$f":"IF(登録済データ!$B199<>0,登録済データ!V199,\"\")","v":""},{"$f":"IF(登録済データ!$B199<>0,登録済データ!W199,\"\")","v":""},{"$f":"IF(登録済データ!$B199<>0,登録済データ!X199,\"\")","v":""},{"$f":"IF($F196<>\"\",登録済データ!$C$4,\"\")","v":""}]
[null,{"$f":"IF($F197<>\"\",登録済データ!$C$2,\"\")","v":""},{"$f":"IF($F197<>\"\",IF($I$1=\"企業コード3桁\",LEFT(登録済データ!$C$3,3),LEFT(登録済データ!$C$3,6)),\"\")","v":""},null,{"$f":"IF(登録済データ!$B200<>0,登録済データ!C200,\"\")","v":""},{"$f":"IF(登録済データ!$B200<>0,登録済データ!D200,\"\")","v":""},{"$f":"IF(登録済データ!$B200<>0,登録済データ!E200,\"\")","v":""},{"$f":"IF(登録済データ!$B200<>0,IF(登録済データ!F200<>\"\",登録済データ!F200,\"\"),\"\")","v":""},{"$f":"IF(登録済データ!$B200<>0,IF(登録済データ!G200<>\"\",登録済データ!G200,\"\"),\"\")","v":""},{"$f":"IF(登録済データ!$B200<>0,IF(登録済データ!H200<>\"\",登録済データ!H200,\"\"),\"\")","v":""},{"$f":"IF(登録済データ!$B200<>0,IF(登録済データ!I200<>\"\",登録済データ!I200,\"\"),\"\")","v":""},{"$f":"IF(登録済データ!$B200<>0,登録済データ!J200,\"\")","v":""},{"$f":"IF(登録済データ!$B200<>0,登録済データ!K200,\"\")","v":""},{"$f":"IF(登録済データ!$B200<>0,登録済データ!L200,\"\")","v":""},{"$f":"IF(登録済データ!$B200<>0,登録済データ!M200,\"\")","v":""},{"$f":"IF(登録済データ!$B200<>0,登録済データ!N200,\"\")","v":""},{"$f":"IF(登録済データ!$B200<>0,登録済データ!O200,\"\")","v":""},{"$f":"IF(登録済データ!$B200<>0,登録済データ!P200,\"\")","v":""},{"$f":"IF(登録済データ!$B200<>0,登録済データ!Q200,\"\")","v":""},{"$f":"IF(登録済データ!$B200<>0,登録済データ!R200,\"\")","v":""},{"$f":"IF(登録済データ!$B200<>0,登録済データ!S200,\"\")","v":""},{"$f":"IF(登録済データ!$B200<>0,登録済データ!T200,\"\")","v":""},{"$f":"IF(登録済データ!$B200<>0,登録済データ!U200,\"\")","v":""},{"$f":"IF(登録済データ!$B200<>0,登録済データ!V200,\"\")","v":""},{"$f":"IF(登録済データ!$B200<>0,登録済データ!W200,\"\")","v":""},{"$f":"IF(登録済データ!$B200<>0,登録済データ!X200,\"\")","v":""},{"$f":"IF($F197<>\"\",登録済データ!$C$4,\"\")","v":""}]
[null,{"$f":"IF($F198<>\"\",登録済データ!$C$2,\"\")","v":""},{"$f":"IF($F198<>\"\",IF($I$1=\"企業コード3桁\",LEFT(登録済データ!$C$3,3),LEFT(登録済データ!$C$3,6)),\"\")","v":""},null,{"$f":"IF(登録済データ!$B201<>0,登録済データ!C201,\"\")","v":""},{"$f":"IF(登録済データ!$B201<>0,登録済データ!D201,\"\")","v":""},{"$f":"IF(登録済データ!$B201<>0,登録済データ!E201,\"\")","v":""},{"$f":"IF(登録済データ!$B201<>0,IF(登録済データ!F201<>\"\",登録済データ!F201,\"\"),\"\")","v":""},{"$f":"IF(登録済データ!$B201<>0,IF(登録済データ!G201<>\"\",登録済データ!G201,\"\"),\"\")","v":""},{"$f":"IF(登録済データ!$B201<>0,IF(登録済データ!H201<>\"\",登録済データ!H201,\"\"),\"\")","v":""},{"$f":"IF(登録済データ!$B201<>0,IF(登録済データ!I201<>\"\",登録済データ!I201,\"\"),\"\")","v":""},{"$f":"IF(登録済データ!$B201<>0,登録済データ!J201,\"\")","v":""},{"$f":"IF(登録済データ!$B201<>0,登録済データ!K201,\"\")","v":""},{"$f":"IF(登録済データ!$B201<>0,登録済データ!L201,\"\")","v":""},{"$f":"IF(登録済データ!$B201<>0,登録済データ!M201,\"\")","v":""},{"$f":"IF(登録済データ!$B201<>0,登録済データ!N201,\"\")","v":""},{"$f":"IF(登録済データ!$B201<>0,登録済データ!O201,\"\")","v":""},{"$f":"IF(登録済データ!$B201<>0,登録済データ!P201,\"\")","v":""},{"$f":"IF(登録済データ!$B201<>0,登録済データ!Q201,\"\")","v":""},{"$f":"IF(登録済データ!$B201<>0,登録済データ!R201,\"\")","v":""},{"$f":"IF(登録済データ!$B201<>0,登録済データ!S201,\"\")","v":""},{"$f":"IF(登録済データ!$B201<>0,登録済データ!T201,\"\")","v":""},{"$f":"IF(登録済データ!$B201<>0,登録済データ!U201,\"\")","v":""},{"$f":"IF(登録済データ!$B201<>0,登録済データ!V201,\"\")","v":""},{"$f":"IF(登録済データ!$B201<>0,登録済データ!W201,\"\")","v":""},{"$f":"IF(登録済データ!$B201<>0,登録済データ!X201,\"\")","v":""},{"$f":"IF($F198<>\"\",登録済データ!$C$4,\"\")","v":""}]
[null,{"$f":"IF($F199<>\"\",登録済データ!$C$2,\"\")","v":""},{"$f":"IF($F199<>\"\",IF($I$1=\"企業コード3桁\",LEFT(登録済データ!$C$3,3),LEFT(登録済データ!$C$3,6)),\"\")","v":""},null,{"$f":"IF(登録済データ!$B202<>0,登録済データ!C202,\"\")","v":""},{"$f":"IF(登録済データ!$B202<>0,登録済データ!D202,\"\")","v":""},{"$f":"IF(登録済データ!$B202<>0,登録済データ!E202,\"\")","v":""},{"$f":"IF(登録済データ!$B202<>0,IF(登録済データ!F202<>\"\",登録済データ!F202,\"\"),\"\")","v":""},{"$f":"IF(登録済データ!$B202<>0,IF(登録済データ!G202<>\"\",登録済データ!G202,\"\"),\"\")","v":""},{"$f":"IF(登録済データ!$B202<>0,IF(登録済データ!H202<>\"\",登録済データ!H202,\"\"),\"\")","v":""},{"$f":"IF(登録済データ!$B202<>0,IF(登録済データ!I202<>\"\",登録済データ!I202,\"\"),\"\")","v":""},{"$f":"IF(登録済データ!$B202<>0,登録済データ!J202,\"\")","v":""},{"$f":"IF(登録済データ!$B202<>0,登録済データ!K202,\"\")","v":""},{"$f":"IF(登録済データ!$B202<>0,登録済データ!L202,\"\")","v":""},{"$f":"IF(登録済データ!$B202<>0,登録済データ!M202,\"\")","v":""},{"$f":"IF(登録済データ!$B202<>0,登録済データ!N202,\"\")","v":""},{"$f":"IF(登録済データ!$B202<>0,登録済データ!O202,\"\")","v":""},{"$f":"IF(登録済データ!$B202<>0,登録済データ!P202,\"\")","v":""},{"$f":"IF(登録済データ!$B202<>0,登録済データ!Q202,\"\")","v":""},{"$f":"IF(登録済データ!$B202<>0,登録済データ!R202,\"\")","v":""},{"$f":"IF(登録済データ!$B202<>0,登録済データ!S202,\"\")","v":""},{"$f":"IF(登録済データ!$B202<>0,登録済データ!T202,\"\")","v":""},{"$f":"IF(登録済データ!$B202<>0,登録済データ!U202,\"\")","v":""},{"$f":"IF(登録済データ!$B202<>0,登録済データ!V202,\"\")","v":""},{"$f":"IF(登録済データ!$B202<>0,登録済データ!W202,\"\")","v":""},{"$f":"IF(登録済データ!$B202<>0,登録済データ!X202,\"\")","v":""},{"$f":"IF($F199<>\"\",登録済データ!$C$4,\"\")","v":""}]
[null,{"$f":"IF($F200<>\"\",登録済データ!$C$2,\"\")","v":""},{"$f":"IF($F200<>\"\",IF($I$1=\"企業コード3桁\",LEFT(登録済データ!$C$3,3),LEFT(登録済データ!$C$3,6)),\"\")","v":""},null,{"$f":"IF(登録済データ!$B203<>0,登録済データ!C203,\"\")","v":""},{"$f":"IF(登録済データ!$B203<>0,登録済データ!D203,\"\")","v":""},{"$f":"IF(登録済データ!$B203<>0,登録済データ!E203,\"\")","v":""},{"$f":"IF(登録済データ!$B203<>0,IF(登録済データ!F203<>\"\",登録済データ!F203,\"\"),\"\")","v":""},{"$f":"IF(登録済データ!$B203<>0,IF(登録済データ!G203<>\"\",登録済データ!G203,\"\"),\"\")","v":""},{"$f":"IF(登録済データ!$B203<>0,IF(登録済データ!H203<>\"\",登録済データ!H203,\"\"),\"\")","v":""},{"$f":"IF(登録済データ!$B203<>0,IF(登録済データ!I203<>\"\",登録済データ!I203,\"\"),\"\")","v":""},{"$f":"IF(登録済データ!$B203<>0,登録済データ!J203,\"\")","v":""},{"$f":"IF(登録済データ!$B203<>0,登録済データ!K203,\"\")","v":""},{"$f":"IF(登録済データ!$B203<>0,登録済データ!L203,\"\")","v":""},{"$f":"IF(登録済データ!$B203<>0,登録済データ!M203,\"\")","v":""},{"$f":"IF(登録済データ!$B203<>0,登録済データ!N203,\"\")","v":""},{"$f":"IF(登録済データ!$B203<>0,登録済データ!O203,\"\")","v":""},{"$f":"IF(登録済データ!$B203<>0,登録済データ!P203,\"\")","v":""},{"$f":"IF(登録済データ!$B203<>0,登録済データ!Q203,\"\")","v":""},{"$f":"IF(登録済データ!$B203<>0,登録済データ!R203,\"\")","v":""},{"$f":"IF(登録済データ!$B203<>0,登録済データ!S203,\"\")","v":""},{"$f":"IF(登録済データ!$B203<>0,登録済データ!T203,\"\")","v":""},{"$f":"IF(登録済データ!$B203<>0,登録済データ!U203,\"\")","v":""},{"$f":"IF(登録済データ!$B203<>0,登録済データ!V203,\"\")","v":""},{"$f":"IF(登録済データ!$B203<>0,登録済データ!W203,\"\")","v":""},{"$f":"IF(登録済データ!$B203<>0,登録済データ!X203,\"\")","v":""},{"$f":"IF($F200<>\"\",登録済データ!$C$4,\"\")","v":""}]
[null,{"$f":"IF($F201<>\"\",登録済データ!$C$2,\"\")","v":""},{"$f":"IF($F201<>\"\",IF($I$1=\"企業コード3桁\",LEFT(登録済データ!$C$3,3),LEFT(登録済データ!$C$3,6)),\"\")","v":""},null,{"$f":"IF(登録済データ!$B204<>0,登録済データ!C204,\"\")","v":""},{"$f":"IF(登録済データ!$B204<>0,登録済データ!D204,\"\")","v":""},{"$f":"IF(登録済データ!$B204<>0,登録済データ!E204,\"\")","v":""},{"$f":"IF(登録済データ!$B204<>0,IF(登録済データ!F204<>\"\",登録済データ!F204,\"\"),\"\")","v":""},{"$f":"IF(登録済データ!$B204<>0,IF(登録済データ!G204<>\"\",登録済データ!G204,\"\"),\"\")","v":""},{"$f":"IF(登録済データ!$B204<>0,IF(登録済データ!H204<>\"\",登録済データ!H204,\"\"),\"\")","v":""},{"$f":"IF(登録済データ!$B204<>0,IF(登録済データ!I204<>\"\",登録済データ!I204,\"\"),\"\")","v":""},{"$f":"IF(登録済データ!$B204<>0,登録済データ!J204,\"\")","v":""},{"$f":"IF(登録済データ!$B204<>0,登録済データ!K204,\"\")","v":""},{"$f":"IF(登録済データ!$B204<>0,登録済データ!L204,\"\")","v":""},{"$f":"IF(登録済データ!$B204<>0,登録済データ!M204,\"\")","v":""},{"$f":"IF(登録済データ!$B204<>0,登録済データ!N204,\"\")","v":""},{"$f":"IF(登録済データ!$B204<>0,登録済データ!O204,\"\")","v":""},{"$f":"IF(登録済データ!$B204<>0,登録済データ!P204,\"\")","v":""},{"$f":"IF(登録済データ!$B204<>0,登録済データ!Q204,\"\")","v":""},{"$f":"IF(登録済データ!$B204<>0,登録済データ!R204,\"\")","v":""},{"$f":"IF(登録済データ!$B204<>0,登録済データ!S204,\"\")","v":""},{"$f":"IF(登録済データ!$B204<>0,登録済データ!T204,\"\")","v":""},{"$f":"IF(登録済データ!$B204<>0,登録済データ!U204,\"\")","v":""},{"$f":"IF(登録済データ!$B204<>0,登録済データ!V204,\"\")","v":""},{"$f":"IF(登録済データ!$B204<>0,登録済データ!W204,\"\")","v":""},{"$f":"IF(登録済データ!$B204<>0,登録済データ!X204,\"\")","v":""},{"$f":"IF($F201<>\"\",登録済データ!$C$4,\"\")","v":""}]
[null,{"$f":"IF($F202<>\"\",登録済データ!$C$2,\"\")","v":""},{"$f":"IF($F202<>\"\",IF($I$1=\"企業コード3桁\",LEFT(登録済データ!$C$3,3),LEFT(登録済データ!$C$3,6)),\"\")","v":""},null,{"$f":"IF(登録済データ!$B205<>0,登録済データ!C205,\"\")","v":""},{"$f":"IF(登録済データ!$B205<>0,登録済データ!D205,\"\")","v":""},{"$f":"IF(登録済データ!$B205<>0,登録済データ!E205,\"\")","v":""},{"$f":"IF(登録済データ!$B205<>0,IF(登録済データ!F205<>\"\",登録済データ!F205,\"\"),\"\")","v":""},{"$f":"IF(登録済データ!$B205<>0,IF(登録済データ!G205<>\"\",登録済データ!G205,\"\"),\"\")","v":""},{"$f":"IF(登録済データ!$B205<>0,IF(登録済データ!H205<>\"\",登録済データ!H205,\"\"),\"\")","v":""},{"$f":"IF(登録済データ!$B205<>0,IF(登録済データ!I205<>\"\",登録済データ!I205,\"\"),\"\")","v":""},{"$f":"IF(登録済データ!$B205<>0,登録済データ!J205,\"\")","v":""},{"$f":"IF(登録済データ!$B205<>0,登録済データ!K205,\"\")","v":""},{"$f":"IF(登録済データ!$B205<>0,登録済データ!L205,\"\")","v":""},{"$f":"IF(登録済データ!$B205<>0,登録済データ!M205,\"\")","v":""},{"$f":"IF(登録済データ!$B205<>0,登録済データ!N205,\"\")","v":""},{"$f":"IF(登録済データ!$B205<>0,登録済データ!O205,\"\")","v":""},{"$f":"IF(登録済データ!$B205<>0,登録済データ!P205,\"\")","v":""},{"$f":"IF(登録済データ!$B205<>0,登録済データ!Q205,\"\")","v":""},{"$f":"IF(登録済データ!$B205<>0,登録済データ!R205,\"\")","v":""},{"$f":"IF(登録済データ!$B205<>0,登録済データ!S205,\"\")","v":""},{"$f":"IF(登録済データ!$B205<>0,登録済データ!T205,\"\")","v":""},{"$f":"IF(登録済データ!$B205<>0,登録済データ!U205,\"\")","v":""},{"$f":"IF(登録済データ!$B205<>0,登録済データ!V205,\"\")","v":""},{"$f":"IF(登録済データ!$B205<>0,登録済データ!W205,\"\")","v":""},{"$f":"IF(登録済データ!$B205<>0,登録済データ!X205,\"\")","v":""},{"$f":"IF($F202<>\"\",登録済データ!$C$4,\"\")","v":""}]
[null,{"$f":"IF($F203<>\"\",登録済データ!$C$2,\"\")","v":""},{"$f":"IF($F203<>\"\",IF($I$1=\"企業コード3桁\",LEFT(登録済データ!$C$3,3),LEFT(登録済データ!$C$3,6)),\"\")","v":""},null,{"$f":"IF(登録済データ!$B206<>0,登録済データ!C206,\"\")","v":""},{"$f":"IF(登録済データ!$B206<>0,登録済データ!D206,\"\")","v":""},{"$f":"IF(登録済データ!$B206<>0,登録済データ!E206,\"\")","v":""},{"$f":"IF(登録済データ!$B206<>0,IF(登録済データ!F206<>\"\",登録済データ!F206,\"\"),\"\")","v":""},{"$f":"IF(登録済データ!$B206<>0,IF(登録済データ!G206<>\"\",登録済データ!G206,\"\"),\"\")","v":""},{"$f":"IF(登録済データ!$B206<>0,IF(登録済データ!H206<>\"\",登録済データ!H206,\"\"),\"\")","v":""},{"$f":"IF(登録済データ!$B206<>0,IF(登録済データ!I206<>\"\",登録済データ!I206,\"\"),\"\")","v":""},{"$f":"IF(登録済データ!$B206<>0,登録済データ!J206,\"\")","v":""},{"$f":"IF(登録済データ!$B206<>0,登録済データ!K206,\"\")","v":""},{"$f":"IF(登録済データ!$B206<>0,登録済データ!L206,\"\")","v":""},{"$f":"IF(登録済データ!$B206<>0,登録済データ!M206,\"\")","v":""},{"$f":"IF(登録済データ!$B206<>0,登録済データ!N206,\"\")","v":""},{"$f":"IF(登録済データ!$B206<>0,登録済データ!O206,\"\")","v":""},{"$f":"IF(登録済データ!$B206<>0,登録済データ!P206,\"\")","v":""},{"$f":"IF(登録済データ!$B206<>0,登録済データ!Q206,\"\")","v":""},{"$f":"IF(登録済データ!$B206<>0,登録済データ!R206,\"\")","v":""},{"$f":"IF(登録済データ!$B206<>0,登録済データ!S206,\"\")","v":""},{"$f":"IF(登録済データ!$B206<>0,登録済データ!T206,\"\")","v":""},{"$f":"IF(登録済データ!$B206<>0,登録済データ!U206,\"\")","v":""},{"$f":"IF(登録済データ!$B206<>0,登録済データ!V206,\"\")","v":""},{"$f":"IF(登録済データ!$B206<>0,登録済データ!W206,\"\")","v":""},{"$f":"IF(登録済データ!$B206<>0,登録済データ!X206,\"\")","v":""},{"$f":"IF($F203<>\"\",登録済データ!$C$4,\"\")","v":""}]
[null,{"$f":"IF($F204<>\"\",登録済データ!$C$2,\"\")","v":""},{"$f":"IF($F204<>\"\",IF($I$1=\"企業コード3桁\",LEFT(登録済データ!$C$3,3),LEFT(登録済データ!$C$3,6)),\"\")","v":""},null,{"$f":"IF(登録済データ!$B207<>0,登録済データ!C207,\"\")","v":""},{"$f":"IF(登録済データ!$B207<>0,登録済データ!D207,\"\")","v":""},{"$f":"IF(登録済データ!$B207<>0,登録済データ!E207,\"\")","v":""},{"$f":"IF(登録済データ!$B207<>0,IF(登録済データ!F207<>\"\",登録済データ!F207,\"\"),\"\")","v":""},{"$f":"IF(登録済データ!$B207<>0,IF(登録済データ!G207<>\"\",登録済データ!G207,\"\"),\"\")","v":""},{"$f":"IF(登録済データ!$B207<>0,IF(登録済データ!H207<>\"\",登録済データ!H207,\"\"),\"\")","v":""},{"$f":"IF(登録済データ!$B207<>0,IF(登録済データ!I207<>\"\",登録済データ!I207,\"\"),\"\")","v":""},{"$f":"IF(登録済データ!$B207<>0,登録済データ!J207,\"\")","v":""},{"$f":"IF(登録済データ!$B207<>0,登録済データ!K207,\"\")","v":""},{"$f":"IF(登録済データ!$B207<>0,登録済データ!L207,\"\")","v":""},{"$f":"IF(登録済データ!$B207<>0,登録済データ!M207,\"\")","v":""},{"$f":"IF(登録済データ!$B207<>0,登録済データ!N207,\"\")","v":""},{"$f":"IF(登録済データ!$B207<>0,登録済データ!O207,\"\")","v":""},{"$f":"IF(登録済データ!$B207<>0,登録済データ!P207,\"\")","v":""},{"$f":"IF(登録済データ!$B207<>0,登録済データ!Q207,\"\")","v":""},{"$f":"IF(登録済データ!$B207<>0,登録済データ!R207,\"\")","v":""},{"$f":"IF(登録済データ!$B207<>0,登録済データ!S207,\"\")","v":""},{"$f":"IF(登録済データ!$B207<>0,登録済データ!T207,\"\")","v":""},{"$f":"IF(登録済データ!$B207<>0,登録済データ!U207,\"\")","v":""},{"$f":"IF(登録済データ!$B207<>0,登録済データ!V207,\"\")","v":""},{"$f":"IF(登録済データ!$B207<>0,登録済データ!W207,\"\")","v":""},{"$f":"IF(登録済データ!$B207<>0,登録済データ!X207,\"\")","v":""},{"$f":"IF($F204<>\"\",登録済データ!$C$4,\"\")","v":""}]
[null,{"$f":"IF($F205<>\"\",登録済データ!$C$2,\"\")","v":""},{"$f":"IF($F205<>\"\",IF($I$1=\"企業コード3桁\",LEFT(登録済データ!$C$3,3),LEFT(登録済データ!$C$3,6)),\"\")","v":""},null,{"$f":"IF(登録済データ!$B208<>0,登録済データ!C208,\"\")","v":""},{"$f":"IF(登録済データ!$B208<>0,登録済データ!D208,\"\")","v":""},{"$f":"IF(登録済データ!$B208<>0,登録済データ!E208,\"\")","v":""},{"$f":"IF(登録済データ!$B208<>0,IF(登録済データ!F208<>\"\",登録済データ!F208,\"\"),\"\")","v":""},{"$f":"IF(登録済データ!$B208<>0,IF(登録済データ!G208<>\"\",登録済データ!G208,\"\"),\"\")","v":""},{"$f":"IF(登録済データ!$B208<>0,IF(登録済データ!H208<>\"\",登録済データ!H208,\"\"),\"\")","v":""},{"$f":"IF(登録済データ!$B208<>0,IF(登録済データ!I208<>\"\",登録済データ!I208,\"\"),\"\")","v":""},{"$f":"IF(登録済データ!$B208<>0,登録済データ!J208,\"\")","v":""},{"$f":"IF(登録済データ!$B208<>0,登録済データ!K208,\"\")","v":""},{"$f":"IF(登録済データ!$B208<>0,登録済データ!L208,\"\")","v":""},{"$f":"IF(登録済データ!$B208<>0,登録済データ!M208,\"\")","v":""},{"$f":"IF(登録済データ!$B208<>0,登録済データ!N208,\"\")","v":""},{"$f":"IF(登録済データ!$B208<>0,登録済データ!O208,\"\")","v":""},{"$f":"IF(登録済データ!$B208<>0,登録済データ!P208,\"\")","v":""},{"$f":"IF(登録済データ!$B208<>0,登録済データ!Q208,\"\")","v":""},{"$f":"IF(登録済データ!$B208<>0,登録済データ!R208,\"\")","v":""},{"$f":"IF(登録済データ!$B208<>0,登録済データ!S208,\"\")","v":""},{"$f":"IF(登録済データ!$B208<>0,登録済データ!T208,\"\")","v":""},{"$f":"IF(登録済データ!$B208<>0,登録済データ!U208,\"\")","v":""},{"$f":"IF(登録済データ!$B208<>0,登録済データ!V208,\"\")","v":""},{"$f":"IF(登録済データ!$B208<>0,登録済データ!W208,\"\")","v":""},{"$f":"IF(登録済データ!$B208<>0,登録済データ!X208,\"\")","v":""},{"$f":"IF($F205<>\"\",登録済データ!$C$4,\"\")","v":""}]
[null,{"$f":"IF($F206<>\"\",登録済データ!$C$2,\"\")","v":""},{"$f":"IF($F206<>\"\",IF($I$1=\"企業コード3桁\",LEFT(登録済データ!$C$3,3),LEFT(登録済データ!$C$3,6)),\"\")","v":""},null,{"$f":"IF(登録済データ!$B209<>0,登録済データ!C209,\"\")","v":""},{"$f":"IF(登録済データ!$B209<>0,登録済データ!D209,\"\")","v":""},{"$f":"IF(登録済データ!$B209<>0,登録済データ!E209,\"\")","v":""},{"$f":"IF(登録済データ!$B209<>0,IF(登録済データ!F209<>\"\",登録済データ!F209,\"\"),\"\")","v":""},{"$f":"IF(登録済データ!$B209<>0,IF(登録済データ!G209<>\"\",登録済データ!G209,\"\"),\"\")","v":""},{"$f":"IF(登録済データ!$B209<>0,IF(登録済データ!H209<>\"\",登録済データ!H209,\"\"),\"\")","v":""},{"$f":"IF(登録済データ!$B209<>0,IF(登録済データ!I209<>\"\",登録済データ!I209,\"\"),\"\")","v":""},{"$f":"IF(登録済データ!$B209<>0,登録済データ!J209,\"\")","v":""},{"$f":"IF(登録済データ!$B209<>0,登録済データ!K209,\"\")","v":""},{"$f":"IF(登録済データ!$B209<>0,登録済データ!L209,\"\")","v":""},{"$f":"IF(登録済データ!$B209<>0,登録済データ!M209,\"\")","v":""},{"$f":"IF(登録済データ!$B209<>0,登録済データ!N209,\"\")","v":""},{"$f":"IF(登録済データ!$B209<>0,登録済データ!O209,\"\")","v":""},{"$f":"IF(登録済データ!$B209<>0,登録済データ!P209,\"\")","v":""},{"$f":"IF(登録済データ!$B209<>0,登録済データ!Q209,\"\")","v":""},{"$f":"IF(登録済データ!$B209<>0,登録済データ!R209,\"\")","v":""},{"$f":"IF(登録済データ!$B209<>0,登録済データ!S209,\"\")","v":""},{"$f":"IF(登録済データ!$B209<>0,登録済データ!T209,\"\")","v":""},{"$f":"IF(登録済データ!$B209<>0,登録済データ!U209,\"\")","v":""},{"$f":"IF(登録済データ!$B209<>0,登録済データ!V209,\"\")","v":""},{"$f":"IF(登録済データ!$B209<>0,登録済データ!W209,\"\")","v":""},{"$f":"IF(登録済データ!$B209<>0,登録済データ!X209,\"\")","v":""},{"$f":"IF($F206<>\"\",登録済データ!$C$4,\"\")","v":""}]
[null,{"$f":"IF($F207<>\"\",登録済データ!$C$2,\"\")","v":""},{"$f":"IF($F207<>\"\",IF($I$1=\"企業コード3桁\",LEFT(登録済データ!$C$3,3),LEFT(登録済データ!$C$3,6)),\"\")","v":""},null,{"$f":"IF(登録済データ!$B210<>0,登録済データ!C210,\"\")","v":""},{"$f":"IF(登録済データ!$B210<>0,登録済データ!D210,\"\")","v":""},{"$f":"IF(登録済データ!$B210<>0,登録済データ!E210,\"\")","v":""},{"$f":"IF(登録済データ!$B210<>0,IF(登録済データ!F210<>\"\",登録済データ!F210,\"\"),\"\")","v":""},{"$f":"IF(登録済データ!$B210<>0,IF(登録済データ!G210<>\"\",登録済データ!G210,\"\"),\"\")","v":""},{"$f":"IF(登録済データ!$B210<>0,IF(登録済データ!H210<>\"\",登録済データ!H210,\"\"),\"\")","v":""},{"$f":"IF(登録済データ!$B210<>0,IF(登録済データ!I210<>\"\",登録済データ!I210,\"\"),\"\")","v":""},{"$f":"IF(登録済データ!$B210<>0,登録済データ!J210,\"\")","v":""},{"$f":"IF(登録済データ!$B210<>0,登録済データ!K210,\"\")","v":""},{"$f":"IF(登録済データ!$B210<>0,登録済データ!L210,\"\")","v":""},{"$f":"IF(登録済データ!$B210<>0,登録済データ!M210,\"\")","v":""},{"$f":"IF(登録済データ!$B210<>0,登録済データ!N210,\"\")","v":""},{"$f":"IF(登録済データ!$B210<>0,登録済データ!O210,\"\")","v":""},{"$f":"IF(登録済データ!$B210<>0,登録済データ!P210,\"\")","v":""},{"$f":"IF(登録済データ!$B210<>0,登録済データ!Q210,\"\")","v":""},{"$f":"IF(登録済データ!$B210<>0,登録済データ!R210,\"\")","v":""},{"$f":"IF(登録済データ!$B210<>0,登録済データ!S210,\"\")","v":""},{"$f":"IF(登録済データ!$B210<>0,登録済データ!T210,\"\")","v":""},{"$f":"IF(登録済データ!$B210<>0,登録済データ!U210,\"\")","v":""},{"$f":"IF(登録済データ!$B210<>0,登録済データ!V210,\"\")","v":""},{"$f":"IF(登録済データ!$B210<>0,登録済データ!W210,\"\")","v":""},{"$f":"IF(登録済データ!$B210<>0,登録済データ!X210,\"\")","v":""},{"$f":"IF($F207<>\"\",登録済データ!$C$4,\"\")","v":""}]
[null,{"$f":"IF($F208<>\"\",登録済データ!$C$2,\"\")","v":""},{"$f":"IF($F208<>\"\",IF($I$1=\"企業コード3桁\",LEFT(登録済データ!$C$3,3),LEFT(登録済データ!$C$3,6)),\"\")","v":""},null,{"$f":"IF(登録済データ!$B211<>0,登録済データ!C211,\"\")","v":""},{"$f":"IF(登録済データ!$B211<>0,登録済データ!D211,\"\")","v":""},{"$f":"IF(登録済データ!$B211<>0,登録済データ!E211,\"\")","v":""},{"$f":"IF(登録済データ!$B211<>0,IF(登録済データ!F211<>\"\",登録済データ!F211,\"\"),\"\")","v":""},{"$f":"IF(登録済データ!$B211<>0,IF(登録済データ!G211<>\"\",登録済データ!G211,\"\"),\"\")","v":""},{"$f":"IF(登録済データ!$B211<>0,IF(登録済データ!H211<>\"\",登録済データ!H211,\"\"),\"\")","v":""},{"$f":"IF(登録済データ!$B211<>0,IF(登録済データ!I211<>\"\",登録済データ!I211,\"\"),\"\")","v":""},{"$f":"IF(登録済データ!$B211<>0,登録済データ!J211,\"\")","v":""},{"$f":"IF(登録済データ!$B211<>0,登録済データ!K211,\"\")","v":""},{"$f":"IF(登録済データ!$B211<>0,登録済データ!L211,\"\")","v":""},{"$f":"IF(登録済データ!$B211<>0,登録済データ!M211,\"\")","v":""},{"$f":"IF(登録済データ!$B211<>0,登録済データ!N211,\"\")","v":""},{"$f":"IF(登録済データ!$B211<>0,登録済データ!O211,\"\")","v":""},{"$f":"IF(登録済データ!$B211<>0,登録済データ!P211,\"\")","v":""},{"$f":"IF(登録済データ!$B211<>0,登録済データ!Q211,\"\")","v":""},{"$f":"IF(登録済データ!$B211<>0,登録済データ!R211,\"\")","v":""},{"$f":"IF(登録済データ!$B211<>0,登録済データ!S211,\"\")","v":""},{"$f":"IF(登録済データ!$B211<>0,登録済データ!T211,\"\")","v":""},{"$f":"IF(登録済データ!$B211<>0,登録済データ!U211,\"\")","v":""},{"$f":"IF(登録済データ!$B211<>0,登録済データ!V211,\"\")","v":""},{"$f":"IF(登録済データ!$B211<>0,登録済データ!W211,\"\")","v":""},{"$f":"IF(登録済データ!$B211<>0,登録済データ!X211,\"\")","v":""},{"$f":"IF($F208<>\"\",登録済データ!$C$4,\"\")","v":""}]
[null,{"$f":"IF($F209<>\"\",登録済データ!$C$2,\"\")","v":""},{"$f":"IF($F209<>\"\",IF($I$1=\"企業コード3桁\",LEFT(登録済データ!$C$3,3),LEFT(登録済データ!$C$3,6)),\"\")","v":""},null,{"$f":"IF(登録済データ!$B212<>0,登録済データ!C212,\"\")","v":""},{"$f":"IF(登録済データ!$B212<>0,登録済データ!D212,\"\")","v":""},{"$f":"IF(登録済データ!$B212<>0,登録済データ!E212,\"\")","v":""},{"$f":"IF(登録済データ!$B212<>0,IF(登録済データ!F212<>\"\",登録済データ!F212,\"\"),\"\")","v":""},{"$f":"IF(登録済データ!$B212<>0,IF(登録済データ!G212<>\"\",登録済データ!G212,\"\"),\"\")","v":""},{"$f":"IF(登録済データ!$B212<>0,IF(登録済データ!H212<>\"\",登録済データ!H212,\"\"),\"\")","v":""},{"$f":"IF(登録済データ!$B212<>0,IF(登録済データ!I212<>\"\",登録済データ!I212,\"\"),\"\")","v":""},{"$f":"IF(登録済データ!$B212<>0,登録済データ!J212,\"\")","v":""},{"$f":"IF(登録済データ!$B212<>0,登録済データ!K212,\"\")","v":""},{"$f":"IF(登録済データ!$B212<>0,登録済データ!L212,\"\")","v":""},{"$f":"IF(登録済データ!$B212<>0,登録済データ!M212,\"\")","v":""},{"$f":"IF(登録済データ!$B212<>0,登録済データ!N212,\"\")","v":""},{"$f":"IF(登録済データ!$B212<>0,登録済データ!O212,\"\")","v":""},{"$f":"IF(登録済データ!$B212<>0,登録済データ!P212,\"\")","v":""},{"$f":"IF(登録済データ!$B212<>0,登録済データ!Q212,\"\")","v":""},{"$f":"IF(登録済データ!$B212<>0,登録済データ!R212,\"\")","v":""},{"$f":"IF(登録済データ!$B212<>0,登録済データ!S212,\"\")","v":""},{"$f":"IF(登録済データ!$B212<>0,登録済データ!T212,\"\")","v":""},{"$f":"IF(登録済データ!$B212<>0,登録済データ!U212,\"\")","v":""},{"$f":"IF(登録済データ!$B212<>0,登録済データ!V212,\"\")","v":""},{"$f":"IF(登録済データ!$B212<>0,登録済データ!W212,\"\")","v":""},{"$f":"IF(登録済データ!$B212<>0,登録済データ!X212,\"\")","v":""},{"$f":"IF($F209<>\"\",登録済データ!$C$4,\"\")","v":""}]
[null,{"$f":"IF($F210<>\"\",登録済データ!$C$2,\"\")","v":""},{"$f":"IF($F210<>\"\",IF($I$1=\"企業コード3桁\",LEFT(登録済データ!$C$3,3),LEFT(登録済データ!$C$3,6)),\"\")","v":""},null,{"$f":"IF(登録済データ!$B213<>0,登録済データ!C213,\"\")","v":""},{"$f":"IF(登録済データ!$B213<>0,登録済データ!D213,\"\")","v":""},{"$f":"IF(登録済データ!$B213<>0,登録済データ!E213,\"\")","v":""},{"$f":"IF(登録済データ!$B213<>0,IF(登録済データ!F213<>\"\",登録済データ!F213,\"\"),\"\")","v":""},{"$f":"IF(登録済データ!$B213<>0,IF(登録済データ!G213<>\"\",登録済データ!G213,\"\"),\"\")","v":""},{"$f":"IF(登録済データ!$B213<>0,IF(登録済データ!H213<>\"\",登録済データ!H213,\"\"),\"\")","v":""},{"$f":"IF(登録済データ!$B213<>0,IF(登録済データ!I213<>\"\",登録済データ!I213,\"\"),\"\")","v":""},{"$f":"IF(登録済データ!$B213<>0,登録済データ!J213,\"\")","v":""},{"$f":"IF(登録済データ!$B213<>0,登録済データ!K213,\"\")","v":""},{"$f":"IF(登録済データ!$B213<>0,登録済データ!L213,\"\")","v":""},{"$f":"IF(登録済データ!$B213<>0,登録済データ!M213,\"\")","v":""},{"$f":"IF(登録済データ!$B213<>0,登録済データ!N213,\"\")","v":""},{"$f":"IF(登録済データ!$B213<>0,登録済データ!O213,\"\")","v":""},{"$f":"IF(登録済データ!$B213<>0,登録済データ!P213,\"\")","v":""},{"$f":"IF(登録済データ!$B213<>0,登録済データ!Q213,\"\")","v":""},{"$f":"IF(登録済データ!$B213<>0,登録済データ!R213,\"\")","v":""},{"$f":"IF(登録済データ!$B213<>0,登録済データ!S213,\"\")","v":""},{"$f":"IF(登録済データ!$B213<>0,登録済データ!T213,\"\")","v":""},{"$f":"IF(登録済データ!$B213<>0,登録済データ!U213,\"\")","v":""},{"$f":"IF(登録済データ!$B213<>0,登録済データ!V213,\"\")","v":""},{"$f":"IF(登録済データ!$B213<>0,登録済データ!W213,\"\")","v":""},{"$f":"IF(登録済データ!$B213<>0,登録済データ!X213,\"\")","v":""},{"$f":"IF($F210<>\"\",登録済データ!$C$4,\"\")","v":""}]
[null,{"$f":"IF($F211<>\"\",登録済データ!$C$2,\"\")","v":""},{"$f":"IF($F211<>\"\",IF($I$1=\"企業コード3桁\",LEFT(登録済データ!$C$3,3),LEFT(登録済データ!$C$3,6)),\"\")","v":""},null,{"$f":"IF(登録済データ!$B214<>0,登録済データ!C214,\"\")","v":""},{"$f":"IF(登録済データ!$B214<>0,登録済データ!D214,\"\")","v":""},{"$f":"IF(登録済データ!$B214<>0,登録済データ!E214,\"\")","v":""},{"$f":"IF(登録済データ!$B214<>0,IF(登録済データ!F214<>\"\",登録済データ!F214,\"\"),\"\")","v":""},{"$f":"IF(登録済データ!$B214<>0,IF(登録済データ!G214<>\"\",登録済データ!G214,\"\"),\"\")","v":""},{"$f":"IF(登録済データ!$B214<>0,IF(登録済データ!H214<>\"\",登録済データ!H214,\"\"),\"\")","v":""},{"$f":"IF(登録済データ!$B214<>0,IF(登録済データ!I214<>\"\",登録済データ!I214,\"\"),\"\")","v":""},{"$f":"IF(登録済データ!$B214<>0,登録済データ!J214,\"\")","v":""},{"$f":"IF(登録済データ!$B214<>0,登録済データ!K214,\"\")","v":""},{"$f":"IF(登録済データ!$B214<>0,登録済データ!L214,\"\")","v":""},{"$f":"IF(登録済データ!$B214<>0,登録済データ!M214,\"\")","v":""},{"$f":"IF(登録済データ!$B214<>0,登録済データ!N214,\"\")","v":""},{"$f":"IF(登録済データ!$B214<>0,登録済データ!O214,\"\")","v":""},{"$f":"IF(登録済データ!$B214<>0,登録済データ!P214,\"\")","v":""},{"$f":"IF(登録済データ!$B214<>0,登録済データ!Q214,\"\")","v":""},{"$f":"IF(登録済データ!$B214<>0,登録済データ!R214,\"\")","v":""},{"$f":"IF(登録済データ!$B214<>0,登録済データ!S214,\"\")","v":""},{"$f":"IF(登録済データ!$B214<>0,登録済データ!T214,\"\")","v":""},{"$f":"IF(登録済データ!$B214<>0,登録済データ!U214,\"\")","v":""},{"$f":"IF(登録済データ!$B214<>0,登録済データ!V214,\"\")","v":""},{"$f":"IF(登録済データ!$B214<>0,登録済データ!W214,\"\")","v":""},{"$f":"IF(登録済データ!$B214<>0,登録済データ!X214,\"\")","v":""},{"$f":"IF($F211<>\"\",登録済データ!$C$4,\"\")","v":""}]
[null,{"$f":"IF($F212<>\"\",登録済データ!$C$2,\"\")","v":""},{"$f":"IF($F212<>\"\",IF($I$1=\"企業コード3桁\",LEFT(登録済データ!$C$3,3),LEFT(登録済データ!$C$3,6)),\"\")","v":""},null,{"$f":"IF(登録済データ!$B215<>0,登録済データ!C215,\"\")","v":""},{"$f":"IF(登録済データ!$B215<>0,登録済データ!D215,\"\")","v":""},{"$f":"IF(登録済データ!$B215<>0,登録済データ!E215,\"\")","v":""},{"$f":"IF(登録済データ!$B215<>0,IF(登録済データ!F215<>\"\",登録済データ!F215,\"\"),\"\")","v":""},{"$f":"IF(登録済データ!$B215<>0,IF(登録済データ!G215<>\"\",登録済データ!G215,\"\"),\"\")","v":""},{"$f":"IF(登録済データ!$B215<>0,IF(登録済データ!H215<>\"\",登録済データ!H215,\"\"),\"\")","v":""},{"$f":"IF(登録済データ!$B215<>0,IF(登録済データ!I215<>\"\",登録済データ!I215,\"\"),\"\")","v":""},{"$f":"IF(登録済データ!$B215<>0,登録済データ!J215,\"\")","v":""},{"$f":"IF(登録済データ!$B215<>0,登録済データ!K215,\"\")","v":""},{"$f":"IF(登録済データ!$B215<>0,登録済データ!L215,\"\")","v":""},{"$f":"IF(登録済データ!$B215<>0,登録済データ!M215,\"\")","v":""},{"$f":"IF(登録済データ!$B215<>0,登録済データ!N215,\"\")","v":""},{"$f":"IF(登録済データ!$B215<>0,登録済データ!O215,\"\")","v":""},{"$f":"IF(登録済データ!$B215<>0,登録済データ!P215,\"\")","v":""},{"$f":"IF(登録済データ!$B215<>0,登録済データ!Q215,\"\")","v":""},{"$f":"IF(登録済データ!$B215<>0,登録済データ!R215,\"\")","v":""},{"$f":"IF(登録済データ!$B215<>0,登録済データ!S215,\"\")","v":""},{"$f":"IF(登録済データ!$B215<>0,登録済データ!T215,\"\")","v":""},{"$f":"IF(登録済データ!$B215<>0,登録済データ!U215,\"\")","v":""},{"$f":"IF(登録済データ!$B215<>0,登録済データ!V215,\"\")","v":""},{"$f":"IF(登録済データ!$B215<>0,登録済データ!W215,\"\")","v":""},{"$f":"IF(登録済データ!$B215<>0,登録済データ!X215,\"\")","v":""},{"$f":"IF($F212<>\"\",登録済データ!$C$4,\"\")","v":""}]
[null,{"$f":"IF($F213<>\"\",登録済データ!$C$2,\"\")","v":""},{"$f":"IF($F213<>\"\",IF($I$1=\"企業コード3桁\",LEFT(登録済データ!$C$3,3),LEFT(登録済データ!$C$3,6)),\"\")","v":""},null,{"$f":"IF(登録済データ!$B216<>0,登録済データ!C216,\"\")","v":""},{"$f":"IF(登録済データ!$B216<>0,登録済データ!D216,\"\")","v":""},{"$f":"IF(登録済データ!$B216<>0,登録済データ!E216,\"\")","v":""},{"$f":"IF(登録済データ!$B216<>0,IF(登録済データ!F216<>\"\",登録済データ!F216,\"\"),\"\")","v":""},{"$f":"IF(登録済データ!$B216<>0,IF(登録済データ!G216<>\"\",登録済データ!G216,\"\"),\"\")","v":""},{"$f":"IF(登録済データ!$B216<>0,IF(登録済データ!H216<>\"\",登録済データ!H216,\"\"),\"\")","v":""},{"$f":"IF(登録済データ!$B216<>0,IF(登録済データ!I216<>\"\",登録済データ!I216,\"\"),\"\")","v":""},{"$f":"IF(登録済データ!$B216<>0,登録済データ!J216,\"\")","v":""},{"$f":"IF(登録済データ!$B216<>0,登録済データ!K216,\"\")","v":""},{"$f":"IF(登録済データ!$B216<>0,登録済データ!L216,\"\")","v":""},{"$f":"IF(登録済データ!$B216<>0,登録済データ!M216,\"\")","v":""},{"$f":"IF(登録済データ!$B216<>0,登録済データ!N216,\"\")","v":""},{"$f":"IF(登録済データ!$B216<>0,登録済データ!O216,\"\")","v":""},{"$f":"IF(登録済データ!$B216<>0,登録済データ!P216,\"\")","v":""},{"$f":"IF(登録済データ!$B216<>0,登録済データ!Q216,\"\")","v":""},{"$f":"IF(登録済データ!$B216<>0,登録済データ!R216,\"\")","v":""},{"$f":"IF(登録済データ!$B216<>0,登録済データ!S216,\"\")","v":""},{"$f":"IF(登録済データ!$B216<>0,登録済データ!T216,\"\")","v":""},{"$f":"IF(登録済データ!$B216<>0,登録済データ!U216,\"\")","v":""},{"$f":"IF(登録済データ!$B216<>0,登録済データ!V216,\"\")","v":""},{"$f":"IF(登録済データ!$B216<>0,登録済データ!W216,\"\")","v":""},{"$f":"IF(登録済データ!$B216<>0,登録済データ!X216,\"\")","v":""},{"$f":"IF($F213<>\"\",登録済データ!$C$4,\"\")","v":""}]
[null,{"$f":"IF($F214<>\"\",登録済データ!$C$2,\"\")","v":""},{"$f":"IF($F214<>\"\",IF($I$1=\"企業コード3桁\",LEFT(登録済データ!$C$3,3),LEFT(登録済データ!$C$3,6)),\"\")","v":""},null,{"$f":"IF(登録済データ!$B217<>0,登録済データ!C217,\"\")","v":""},{"$f":"IF(登録済データ!$B217<>0,登録済データ!D217,\"\")","v":""},{"$f":"IF(登録済データ!$B217<>0,登録済データ!E217,\"\")","v":""},{"$f":"IF(登録済データ!$B217<>0,IF(登録済データ!F217<>\"\",登録済データ!F217,\"\"),\"\")","v":""},{"$f":"IF(登録済データ!$B217<>0,IF(登録済データ!G217<>\"\",登録済データ!G217,\"\"),\"\")","v":""},{"$f":"IF(登録済データ!$B217<>0,IF(登録済データ!H217<>\"\",登録済データ!H217,\"\"),\"\")","v":""},{"$f":"IF(登録済データ!$B217<>0,IF(登録済データ!I217<>\"\",登録済データ!I217,\"\"),\"\")","v":""},{"$f":"IF(登録済データ!$B217<>0,登録済データ!J217,\"\")","v":""},{"$f":"IF(登録済データ!$B217<>0,登録済データ!K217,\"\")","v":""},{"$f":"IF(登録済データ!$B217<>0,登録済データ!L217,\"\")","v":""},{"$f":"IF(登録済データ!$B217<>0,登録済データ!M217,\"\")","v":""},{"$f":"IF(登録済データ!$B217<>0,登録済データ!N217,\"\")","v":""},{"$f":"IF(登録済データ!$B217<>0,登録済データ!O217,\"\")","v":""},{"$f":"IF(登録済データ!$B217<>0,登録済データ!P217,\"\")","v":""},{"$f":"IF(登録済データ!$B217<>0,登録済データ!Q217,\"\")","v":""},{"$f":"IF(登録済データ!$B217<>0,登録済データ!R217,\"\")","v":""},{"$f":"IF(登録済データ!$B217<>0,登録済データ!S217,\"\")","v":""},{"$f":"IF(登録済データ!$B217<>0,登録済データ!T217,\"\")","v":""},{"$f":"IF(登録済データ!$B217<>0,登録済データ!U217,\"\")","v":""},{"$f":"IF(登録済データ!$B217<>0,登録済データ!V217,\"\")","v":""},{"$f":"IF(登録済データ!$B217<>0,登録済データ!W217,\"\")","v":""},{"$f":"IF(登録済データ!$B217<>0,登録済データ!X217,\"\")","v":""},{"$f":"IF($F214<>\"\",登録済データ!$C$4,\"\")","v":""}]
[null,{"$f":"IF($F215<>\"\",登録済データ!$C$2,\"\")","v":""},{"$f":"IF($F215<>\"\",IF($I$1=\"企業コード3桁\",LEFT(登録済データ!$C$3,3),LEFT(登録済データ!$C$3,6)),\"\")","v":""},null,{"$f":"IF(登録済データ!$B218<>0,登録済データ!C218,\"\")","v":""},{"$f":"IF(登録済データ!$B218<>0,登録済データ!D218,\"\")","v":""},{"$f":"IF(登録済データ!$B218<>0,登録済データ!E218,\"\")","v":""},{"$f":"IF(登録済データ!$B218<>0,IF(登録済データ!F218<>\"\",登録済データ!F218,\"\"),\"\")","v":""},{"$f":"IF(登録済データ!$B218<>0,IF(登録済データ!G218<>\"\",登録済データ!G218,\"\"),\"\")","v":""},{"$f":"IF(登録済データ!$B218<>0,IF(登録済データ!H218<>\"\",登録済データ!H218,\"\"),\"\")","v":""},{"$f":"IF(登録済データ!$B218<>0,IF(登録済データ!I218<>\"\",登録済データ!I218,\"\"),\"\")","v":""},{"$f":"IF(登録済データ!$B218<>0,登録済データ!J218,\"\")","v":""},{"$f":"IF(登録済データ!$B218<>0,登録済データ!K218,\"\")","v":""},{"$f":"IF(登録済データ!$B218<>0,登録済データ!L218,\"\")","v":""},{"$f":"IF(登録済データ!$B218<>0,登録済データ!M218,\"\")","v":""},{"$f":"IF(登録済データ!$B218<>0,登録済データ!N218,\"\")","v":""},{"$f":"IF(登録済データ!$B218<>0,登録済データ!O218,\"\")","v":""},{"$f":"IF(登録済データ!$B218<>0,登録済データ!P218,\"\")","v":""},{"$f":"IF(登録済データ!$B218<>0,登録済データ!Q218,\"\")","v":""},{"$f":"IF(登録済データ!$B218<>0,登録済データ!R218,\"\")","v":""},{"$f":"IF(登録済データ!$B218<>0,登録済データ!S218,\"\")","v":""},{"$f":"IF(登録済データ!$B218<>0,登録済データ!T218,\"\")","v":""},{"$f":"IF(登録済データ!$B218<>0,登録済データ!U218,\"\")","v":""},{"$f":"IF(登録済データ!$B218<>0,登録済データ!V218,\"\")","v":""},{"$f":"IF(登録済データ!$B218<>0,登録済データ!W218,\"\")","v":""},{"$f":"IF(登録済データ!$B218<>0,登録済データ!X218,\"\")","v":""},{"$f":"IF($F215<>\"\",登録済データ!$C$4,\"\")","v":""}]
[null,{"$f":"IF($F216<>\"\",登録済データ!$C$2,\"\")","v":""},{"$f":"IF($F216<>\"\",IF($I$1=\"企業コード3桁\",LEFT(登録済データ!$C$3,3),LEFT(登録済データ!$C$3,6)),\"\")","v":""},null,{"$f":"IF(登録済データ!$B219<>0,登録済データ!C219,\"\")","v":""},{"$f":"IF(登録済データ!$B219<>0,登録済データ!D219,\"\")","v":""},{"$f":"IF(登録済データ!$B219<>0,登録済データ!E219,\"\")","v":""},{"$f":"IF(登録済データ!$B219<>0,IF(登録済データ!F219<>\"\",登録済データ!F219,\"\"),\"\")","v":""},{"$f":"IF(登録済データ!$B219<>0,IF(登録済データ!G219<>\"\",登録済データ!G219,\"\"),\"\")","v":""},{"$f":"IF(登録済データ!$B219<>0,IF(登録済データ!H219<>\"\",登録済データ!H219,\"\"),\"\")","v":""},{"$f":"IF(登録済データ!$B219<>0,IF(登録済データ!I219<>\"\",登録済データ!I219,\"\"),\"\")","v":""},{"$f":"IF(登録済データ!$B219<>0,登録済データ!J219,\"\")","v":""},{"$f":"IF(登録済データ!$B219<>0,登録済データ!K219,\"\")","v":""},{"$f":"IF(登録済データ!$B219<>0,登録済データ!L219,\"\")","v":""},{"$f":"IF(登録済データ!$B219<>0,登録済データ!M219,\"\")","v":""},{"$f":"IF(登録済データ!$B219<>0,登録済データ!N219,\"\")","v":""},{"$f":"IF(登録済データ!$B219<>0,登録済データ!O219,\"\")","v":""},{"$f":"IF(登録済データ!$B219<>0,登録済データ!P219,\"\")","v":""},{"$f":"IF(登録済データ!$B219<>0,登録済データ!Q219,\"\")","v":""},{"$f":"IF(登録済データ!$B219<>0,登録済データ!R219,\"\")","v":""},{"$f":"IF(登録済データ!$B219<>0,登録済データ!S219,\"\")","v":""},{"$f":"IF(登録済データ!$B219<>0,登録済データ!T219,\"\")","v":""},{"$f":"IF(登録済データ!$B219<>0,登録済データ!U219,\"\")","v":""},{"$f":"IF(登録済データ!$B219<>0,登録済データ!V219,\"\")","v":""},{"$f":"IF(登録済データ!$B219<>0,登録済データ!W219,\"\")","v":""},{"$f":"IF(登録済データ!$B219<>0,登録済データ!X219,\"\")","v":""},{"$f":"IF($F216<>\"\",登録済データ!$C$4,\"\")","v":""}]
[null,{"$f":"IF($F217<>\"\",登録済データ!$C$2,\"\")","v":""},{"$f":"IF($F217<>\"\",IF($I$1=\"企業コード3桁\",LEFT(登録済データ!$C$3,3),LEFT(登録済データ!$C$3,6)),\"\")","v":""},null,{"$f":"IF(登録済データ!$B220<>0,登録済データ!C220,\"\")","v":""},{"$f":"IF(登録済データ!$B220<>0,登録済データ!D220,\"\")","v":""},{"$f":"IF(登録済データ!$B220<>0,登録済データ!E220,\"\")","v":""},{"$f":"IF(登録済データ!$B220<>0,IF(登録済データ!F220<>\"\",登録済データ!F220,\"\"),\"\")","v":""},{"$f":"IF(登録済データ!$B220<>0,IF(登録済データ!G220<>\"\",登録済データ!G220,\"\"),\"\")","v":""},{"$f":"IF(登録済データ!$B220<>0,IF(登録済データ!H220<>\"\",登録済データ!H220,\"\"),\"\")","v":""},{"$f":"IF(登録済データ!$B220<>0,IF(登録済データ!I220<>\"\",登録済データ!I220,\"\"),\"\")","v":""},{"$f":"IF(登録済データ!$B220<>0,登録済データ!J220,\"\")","v":""},{"$f":"IF(登録済データ!$B220<>0,登録済データ!K220,\"\")","v":""},{"$f":"IF(登録済データ!$B220<>0,登録済データ!L220,\"\")","v":""},{"$f":"IF(登録済データ!$B220<>0,登録済データ!M220,\"\")","v":""},{"$f":"IF(登録済データ!$B220<>0,登録済データ!N220,\"\")","v":""},{"$f":"IF(登録済データ!$B220<>0,登録済データ!O220,\"\")","v":""},{"$f":"IF(登録済データ!$B220<>0,登録済データ!P220,\"\")","v":""},{"$f":"IF(登録済データ!$B220<>0,登録済データ!Q220,\"\")","v":""},{"$f":"IF(登録済データ!$B220<>0,登録済データ!R220,\"\")","v":""},{"$f":"IF(登録済データ!$B220<>0,登録済データ!S220,\"\")","v":""},{"$f":"IF(登録済データ!$B220<>0,登録済データ!T220,\"\")","v":""},{"$f":"IF(登録済データ!$B220<>0,登録済データ!U220,\"\")","v":""},{"$f":"IF(登録済データ!$B220<>0,登録済データ!V220,\"\")","v":""},{"$f":"IF(登録済データ!$B220<>0,登録済データ!W220,\"\")","v":""},{"$f":"IF(登録済データ!$B220<>0,登録済データ!X220,\"\")","v":""},{"$f":"IF($F217<>\"\",登録済データ!$C$4,\"\")","v":""}]
[null,{"$f":"IF($F218<>\"\",登録済データ!$C$2,\"\")","v":""},{"$f":"IF($F218<>\"\",IF($I$1=\"企業コード3桁\",LEFT(登録済データ!$C$3,3),LEFT(登録済データ!$C$3,6)),\"\")","v":""},null,{"$f":"IF(登録済データ!$B221<>0,登録済データ!C221,\"\")","v":""},{"$f":"IF(登録済データ!$B221<>0,登録済データ!D221,\"\")","v":""},{"$f":"IF(登録済データ!$B221<>0,登録済データ!E221,\"\")","v":""},{"$f":"IF(登録済データ!$B221<>0,IF(登録済データ!F221<>\"\",登録済データ!F221,\"\"),\"\")","v":""},{"$f":"IF(登録済データ!$B221<>0,IF(登録済データ!G221<>\"\",登録済データ!G221,\"\"),\"\")","v":""},{"$f":"IF(登録済データ!$B221<>0,IF(登録済データ!H221<>\"\",登録済データ!H221,\"\"),\"\")","v":""},{"$f":"IF(登録済データ!$B221<>0,IF(登録済データ!I221<>\"\",登録済データ!I221,\"\"),\"\")","v":""},{"$f":"IF(登録済データ!$B221<>0,登録済データ!J221,\"\")","v":""},{"$f":"IF(登録済データ!$B221<>0,登録済データ!K221,\"\")","v":""},{"$f":"IF(登録済データ!$B221<>0,登録済データ!L221,\"\")","v":""},{"$f":"IF(登録済データ!$B221<>0,登録済データ!M221,\"\")","v":""},{"$f":"IF(登録済データ!$B221<>0,登録済データ!N221,\"\")","v":""},{"$f":"IF(登録済データ!$B221<>0,登録済データ!O221,\"\")","v":""},{"$f":"IF(登録済データ!$B221<>0,登録済データ!P221,\"\")","v":""},{"$f":"IF(登録済データ!$B221<>0,登録済データ!Q221,\"\")","v":""},{"$f":"IF(登録済データ!$B221<>0,登録済データ!R221,\"\")","v":""},{"$f":"IF(登録済データ!$B221<>0,登録済データ!S221,\"\")","v":""},{"$f":"IF(登録済データ!$B221<>0,登録済データ!T221,\"\")","v":""},{"$f":"IF(登録済データ!$B221<>0,登録済データ!U221,\"\")","v":""},{"$f":"IF(登録済データ!$B221<>0,登録済データ!V221,\"\")","v":""},{"$f":"IF(登録済データ!$B221<>0,登録済データ!W221,\"\")","v":""},{"$f":"IF(登録済データ!$B221<>0,登録済データ!X221,\"\")","v":""},{"$f":"IF($F218<>\"\",登録済データ!$C$4,\"\")","v":""}]
[null,{"$f":"IF($F219<>\"\",登録済データ!$C$2,\"\")","v":""},{"$f":"IF($F219<>\"\",IF($I$1=\"企業コード3桁\",LEFT(登録済データ!$C$3,3),LEFT(登録済データ!$C$3,6)),\"\")","v":""},null,{"$f":"IF(登録済データ!$B222<>0,登録済データ!C222,\"\")","v":""},{"$f":"IF(登録済データ!$B222<>0,登録済データ!D222,\"\")","v":""},{"$f":"IF(登録済データ!$B222<>0,登録済データ!E222,\"\")","v":""},{"$f":"IF(登録済データ!$B222<>0,IF(登録済データ!F222<>\"\",登録済データ!F222,\"\"),\"\")","v":""},{"$f":"IF(登録済データ!$B222<>0,IF(登録済データ!G222<>\"\",登録済データ!G222,\"\"),\"\")","v":""},{"$f":"IF(登録済データ!$B222<>0,IF(登録済データ!H222<>\"\",登録済データ!H222,\"\"),\"\")","v":""},{"$f":"IF(登録済データ!$B222<>0,IF(登録済データ!I222<>\"\",登録済データ!I222,\"\"),\"\")","v":""},{"$f":"IF(登録済データ!$B222<>0,登録済データ!J222,\"\")","v":""},{"$f":"IF(登録済データ!$B222<>0,登録済データ!K222,\"\")","v":""},{"$f":"IF(登録済データ!$B222<>0,登録済データ!L222,\"\")","v":""},{"$f":"IF(登録済データ!$B222<>0,登録済データ!M222,\"\")","v":""},{"$f":"IF(登録済データ!$B222<>0,登録済データ!N222,\"\")","v":""},{"$f":"IF(登録済データ!$B222<>0,登録済データ!O222,\"\")","v":""},{"$f":"IF(登録済データ!$B222<>0,登録済データ!P222,\"\")","v":""},{"$f":"IF(登録済データ!$B222<>0,登録済データ!Q222,\"\")","v":""},{"$f":"IF(登録済データ!$B222<>0,登録済データ!R222,\"\")","v":""},{"$f":"IF(登録済データ!$B222<>0,登録済データ!S222,\"\")","v":""},{"$f":"IF(登録済データ!$B222<>0,登録済データ!T222,\"\")","v":""},{"$f":"IF(登録済データ!$B222<>0,登録済データ!U222,\"\")","v":""},{"$f":"IF(登録済データ!$B222<>0,登録済データ!V222,\"\")","v":""},{"$f":"IF(登録済データ!$B222<>0,登録済データ!W222,\"\")","v":""},{"$f":"IF(登録済データ!$B222<>0,登録済データ!X222,\"\")","v":""},{"$f":"IF($F219<>\"\",登録済データ!$C$4,\"\")","v":""}]
[null,{"$f":"IF($F220<>\"\",登録済データ!$C$2,\"\")","v":""},{"$f":"IF($F220<>\"\",IF($I$1=\"企業コード3桁\",LEFT(登録済データ!$C$3,3),LEFT(登録済データ!$C$3,6)),\"\")","v":""},null,{"$f":"IF(登録済データ!$B223<>0,登録済データ!C223,\"\")","v":""},{"$f":"IF(登録済データ!$B223<>0,登録済データ!D223,\"\")","v":""},{"$f":"IF(登録済データ!$B223<>0,登録済データ!E223,\"\")","v":""},{"$f":"IF(登録済データ!$B223<>0,IF(登録済データ!F223<>\"\",登録済データ!F223,\"\"),\"\")","v":""},{"$f":"IF(登録済データ!$B223<>0,IF(登録済データ!G223<>\"\",登録済データ!G223,\"\"),\"\")","v":""},{"$f":"IF(登録済データ!$B223<>0,IF(登録済データ!H223<>\"\",登録済データ!H223,\"\"),\"\")","v":""},{"$f":"IF(登録済データ!$B223<>0,IF(登録済データ!I223<>\"\",登録済データ!I223,\"\"),\"\")","v":""},{"$f":"IF(登録済データ!$B223<>0,登録済データ!J223,\"\")","v":""},{"$f":"IF(登録済データ!$B223<>0,登録済データ!K223,\"\")","v":""},{"$f":"IF(登録済データ!$B223<>0,登録済データ!L223,\"\")","v":""},{"$f":"IF(登録済データ!$B223<>0,登録済データ!M223,\"\")","v":""},{"$f":"IF(登録済データ!$B223<>0,登録済データ!N223,\"\")","v":""},{"$f":"IF(登録済データ!$B223<>0,登録済データ!O223,\"\")","v":""},{"$f":"IF(登録済データ!$B223<>0,登録済データ!P223,\"\")","v":""},{"$f":"IF(登録済データ!$B223<>0,登録済データ!Q223,\"\")","v":""},{"$f":"IF(登録済データ!$B223<>0,登録済データ!R223,\"\")","v":""},{"$f":"IF(登録済データ!$B223<>0,登録済データ!S223,\"\")","v":""},{"$f":"IF(登録済データ!$B223<>0,登録済データ!T223,\"\")","v":""},{"$f":"IF(登録済データ!$B223<>0,登録済データ!U223,\"\")","v":""},{"$f":"IF(登録済データ!$B223<>0,登録済データ!V223,\"\")","v":""},{"$f":"IF(登録済データ!$B223<>0,登録済データ!W223,\"\")","v":""},{"$f":"IF(登録済データ!$B223<>0,登録済データ!X223,\"\")","v":""},{"$f":"IF($F220<>\"\",登録済データ!$C$4,\"\")","v":""}]
[null,{"$f":"IF($F221<>\"\",登録済データ!$C$2,\"\")","v":""},{"$f":"IF($F221<>\"\",IF($I$1=\"企業コード3桁\",LEFT(登録済データ!$C$3,3),LEFT(登録済データ!$C$3,6)),\"\")","v":""},null,{"$f":"IF(登録済データ!$B224<>0,登録済データ!C224,\"\")","v":""},{"$f":"IF(登録済データ!$B224<>0,登録済データ!D224,\"\")","v":""},{"$f":"IF(登録済データ!$B224<>0,登録済データ!E224,\"\")","v":""},{"$f":"IF(登録済データ!$B224<>0,IF(登録済データ!F224<>\"\",登録済データ!F224,\"\"),\"\")","v":""},{"$f":"IF(登録済データ!$B224<>0,IF(登録済データ!G224<>\"\",登録済データ!G224,\"\"),\"\")","v":""},{"$f":"IF(登録済データ!$B224<>0,IF(登録済データ!H224<>\"\",登録済データ!H224,\"\"),\"\")","v":""},{"$f":"IF(登録済データ!$B224<>0,IF(登録済データ!I224<>\"\",登録済データ!I224,\"\"),\"\")","v":""},{"$f":"IF(登録済データ!$B224<>0,登録済データ!J224,\"\")","v":""},{"$f":"IF(登録済データ!$B224<>0,登録済データ!K224,\"\")","v":""},{"$f":"IF(登録済データ!$B224<>0,登録済データ!L224,\"\")","v":""},{"$f":"IF(登録済データ!$B224<>0,登録済データ!M224,\"\")","v":""},{"$f":"IF(登録済データ!$B224<>0,登録済データ!N224,\"\")","v":""},{"$f":"IF(登録済データ!$B224<>0,登録済データ!O224,\"\")","v":""},{"$f":"IF(登録済データ!$B224<>0,登録済データ!P224,\"\")","v":""},{"$f":"IF(登録済データ!$B224<>0,登録済データ!Q224,\"\")","v":""},{"$f":"IF(登録済データ!$B224<>0,登録済データ!R224,\"\")","v":""},{"$f":"IF(登録済データ!$B224<>0,登録済データ!S224,\"\")","v":""},{"$f":"IF(登録済データ!$B224<>0,登録済データ!T224,\"\")","v":""},{"$f":"IF(登録済データ!$B224<>0,登録済データ!U224,\"\")","v":""},{"$f":"IF(登録済データ!$B224<>0,登録済データ!V224,\"\")","v":""},{"$f":"IF(登録済データ!$B224<>0,登録済データ!W224,\"\")","v":""},{"$f":"IF(登録済データ!$B224<>0,登録済データ!X224,\"\")","v":""},{"$f":"IF($F221<>\"\",登録済データ!$C$4,\"\")","v":""}]
[null,{"$f":"IF($F222<>\"\",登録済データ!$C$2,\"\")","v":""},{"$f":"IF($F222<>\"\",IF($I$1=\"企業コード3桁\",LEFT(登録済データ!$C$3,3),LEFT(登録済データ!$C$3,6)),\"\")","v":""},null,{"$f":"IF(登録済データ!$B225<>0,登録済データ!C225,\"\")","v":""},{"$f":"IF(登録済データ!$B225<>0,登録済データ!D225,\"\")","v":""},{"$f":"IF(登録済データ!$B225<>0,登録済データ!E225,\"\")","v":""},{"$f":"IF(登録済データ!$B225<>0,IF(登録済データ!F225<>\"\",登録済データ!F225,\"\"),\"\")","v":""},{"$f":"IF(登録済データ!$B225<>0,IF(登録済データ!G225<>\"\",登録済データ!G225,\"\"),\"\")","v":""},{"$f":"IF(登録済データ!$B225<>0,IF(登録済データ!H225<>\"\",登録済データ!H225,\"\"),\"\")","v":""},{"$f":"IF(登録済データ!$B225<>0,IF(登録済データ!I225<>\"\",登録済データ!I225,\"\"),\"\")","v":""},{"$f":"IF(登録済データ!$B225<>0,登録済データ!J225,\"\")","v":""},{"$f":"IF(登録済データ!$B225<>0,登録済データ!K225,\"\")","v":""},{"$f":"IF(登録済データ!$B225<>0,登録済データ!L225,\"\")","v":""},{"$f":"IF(登録済データ!$B225<>0,登録済データ!M225,\"\")","v":""},{"$f":"IF(登録済データ!$B225<>0,登録済データ!N225,\"\")","v":""},{"$f":"IF(登録済データ!$B225<>0,登録済データ!O225,\"\")","v":""},{"$f":"IF(登録済データ!$B225<>0,登録済データ!P225,\"\")","v":""},{"$f":"IF(登録済データ!$B225<>0,登録済データ!Q225,\"\")","v":""},{"$f":"IF(登録済データ!$B225<>0,登録済データ!R225,\"\")","v":""},{"$f":"IF(登録済データ!$B225<>0,登録済データ!S225,\"\")","v":""},{"$f":"IF(登録済データ!$B225<>0,登録済データ!T225,\"\")","v":""},{"$f":"IF(登録済データ!$B225<>0,登録済データ!U225,\"\")","v":""},{"$f":"IF(登録済データ!$B225<>0,登録済データ!V225,\"\")","v":""},{"$f":"IF(登録済データ!$B225<>0,登録済データ!W225,\"\")","v":""},{"$f":"IF(登録済データ!$B225<>0,登録済データ!X225,\"\")","v":""},{"$f":"IF($F222<>\"\",登録済データ!$C$4,\"\")","v":""}]
[null,{"$f":"IF($F223<>\"\",登録済データ!$C$2,\"\")","v":""},{"$f":"IF($F223<>\"\",IF($I$1=\"企業コード3桁\",LEFT(登録済データ!$C$3,3),LEFT(登録済データ!$C$3,6)),\"\")","v":""},null,{"$f":"IF(登録済データ!$B226<>0,登録済データ!C226,\"\")","v":""},{"$f":"IF(登録済データ!$B226<>0,登録済データ!D226,\"\")","v":""},{"$f":"IF(登録済データ!$B226<>0,登録済データ!E226,\"\")","v":""},{"$f":"IF(登録済データ!$B226<>0,IF(登録済データ!F226<>\"\",登録済データ!F226,\"\"),\"\")","v":""},{"$f":"IF(登録済データ!$B226<>0,IF(登録済データ!G226<>\"\",登録済データ!G226,\"\"),\"\")","v":""},{"$f":"IF(登録済データ!$B226<>0,IF(登録済データ!H226<>\"\",登録済データ!H226,\"\"),\"\")","v":""},{"$f":"IF(登録済データ!$B226<>0,IF(登録済データ!I226<>\"\",登録済データ!I226,\"\"),\"\")","v":""},{"$f":"IF(登録済データ!$B226<>0,登録済データ!J226,\"\")","v":""},{"$f":"IF(登録済データ!$B226<>0,登録済データ!K226,\"\")","v":""},{"$f":"IF(登録済データ!$B226<>0,登録済データ!L226,\"\")","v":""},{"$f":"IF(登録済データ!$B226<>0,登録済データ!M226,\"\")","v":""},{"$f":"IF(登録済データ!$B226<>0,登録済データ!N226,\"\")","v":""},{"$f":"IF(登録済データ!$B226<>0,登録済データ!O226,\"\")","v":""},{"$f":"IF(登録済データ!$B226<>0,登録済データ!P226,\"\")","v":""},{"$f":"IF(登録済データ!$B226<>0,登録済データ!Q226,\"\")","v":""},{"$f":"IF(登録済データ!$B226<>0,登録済データ!R226,\"\")","v":""},{"$f":"IF(登録済データ!$B226<>0,登録済データ!S226,\"\")","v":""},{"$f":"IF(登録済データ!$B226<>0,登録済データ!T226,\"\")","v":""},{"$f":"IF(登録済データ!$B226<>0,登録済データ!U226,\"\")","v":""},{"$f":"IF(登録済データ!$B226<>0,登録済データ!V226,\"\")","v":""},{"$f":"IF(登録済データ!$B226<>0,登録済データ!W226,\"\")","v":""},{"$f":"IF(登録済データ!$B226<>0,登録済データ!X226,\"\")","v":""},{"$f":"IF($F223<>\"\",登録済データ!$C$4,\"\")","v":""}]
[null,{"$f":"IF($F224<>\"\",登録済データ!$C$2,\"\")","v":""},{"$f":"IF($F224<>\"\",IF($I$1=\"企業コード3桁\",LEFT(登録済データ!$C$3,3),LEFT(登録済データ!$C$3,6)),\"\")","v":""},null,{"$f":"IF(登録済データ!$B227<>0,登録済データ!C227,\"\")","v":""},{"$f":"IF(登録済データ!$B227<>0,登録済データ!D227,\"\")","v":""},{"$f":"IF(登録済データ!$B227<>0,登録済データ!E227,\"\")","v":""},{"$f":"IF(登録済データ!$B227<>0,IF(登録済データ!F227<>\"\",登録済データ!F227,\"\"),\"\")","v":""},{"$f":"IF(登録済データ!$B227<>0,IF(登録済データ!G227<>\"\",登録済データ!G227,\"\"),\"\")","v":""},{"$f":"IF(登録済データ!$B227<>0,IF(登録済データ!H227<>\"\",登録済データ!H227,\"\"),\"\")","v":""},{"$f":"IF(登録済データ!$B227<>0,IF(登録済データ!I227<>\"\",登録済データ!I227,\"\"),\"\")","v":""},{"$f":"IF(登録済データ!$B227<>0,登録済データ!J227,\"\")","v":""},{"$f":"IF(登録済データ!$B227<>0,登録済データ!K227,\"\")","v":""},{"$f":"IF(登録済データ!$B227<>0,登録済データ!L227,\"\")","v":""},{"$f":"IF(登録済データ!$B227<>0,登録済データ!M227,\"\")","v":""},{"$f":"IF(登録済データ!$B227<>0,登録済データ!N227,\"\")","v":""},{"$f":"IF(登録済データ!$B227<>0,登録済データ!O227,\"\")","v":""},{"$f":"IF(登録済データ!$B227<>0,登録済データ!P227,\"\")","v":""},{"$f":"IF(登録済データ!$B227<>0,登録済データ!Q227,\"\")","v":""},{"$f":"IF(登録済データ!$B227<>0,登録済データ!R227,\"\")","v":""},{"$f":"IF(登録済データ!$B227<>0,登録済データ!S227,\"\")","v":""},{"$f":"IF(登録済データ!$B227<>0,登録済データ!T227,\"\")","v":""},{"$f":"IF(登録済データ!$B227<>0,登録済データ!U227,\"\")","v":""},{"$f":"IF(登録済データ!$B227<>0,登録済データ!V227,\"\")","v":""},{"$f":"IF(登録済データ!$B227<>0,登録済データ!W227,\"\")","v":""},{"$f":"IF(登録済データ!$B227<>0,登録済データ!X227,\"\")","v":""},{"$f":"IF($F224<>\"\",登録済データ!$C$4,\"\")","v":""}]
[null,{"$f":"IF($F225<>\"\",登録済データ!$C$2,\"\")","v":""},{"$f":"IF($F225<>\"\",IF($I$1=\"企業コード3桁\",LEFT(登録済データ!$C$3,3),LEFT(登録済データ!$C$3,6)),\"\")","v":""},null,{"$f":"IF(登録済データ!$B228<>0,登録済データ!C228,\"\")","v":""},{"$f":"IF(登録済データ!$B228<>0,登録済データ!D228,\"\")","v":""},{"$f":"IF(登録済データ!$B228<>0,登録済データ!E228,\"\")","v":""},{"$f":"IF(登録済データ!$B228<>0,IF(登録済データ!F228<>\"\",登録済データ!F228,\"\"),\"\")","v":""},{"$f":"IF(登録済データ!$B228<>0,IF(登録済データ!G228<>\"\",登録済データ!G228,\"\"),\"\")","v":""},{"$f":"IF(登録済データ!$B228<>0,IF(登録済データ!H228<>\"\",登録済データ!H228,\"\"),\"\")","v":""},{"$f":"IF(登録済データ!$B228<>0,IF(登録済データ!I228<>\"\",登録済データ!I228,\"\"),\"\")","v":""},{"$f":"IF(登録済データ!$B228<>0,登録済データ!J228,\"\")","v":""},{"$f":"IF(登録済データ!$B228<>0,登録済データ!K228,\"\")","v":""},{"$f":"IF(登録済データ!$B228<>0,登録済データ!L228,\"\")","v":""},{"$f":"IF(登録済データ!$B228<>0,登録済データ!M228,\"\")","v":""},{"$f":"IF(登録済データ!$B228<>0,登録済データ!N228,\"\")","v":""},{"$f":"IF(登録済データ!$B228<>0,登録済データ!O228,\"\")","v":""},{"$f":"IF(登録済データ!$B228<>0,登録済データ!P228,\"\")","v":""},{"$f":"IF(登録済データ!$B228<>0,登録済データ!Q228,\"\")","v":""},{"$f":"IF(登録済データ!$B228<>0,登録済データ!R228,\"\")","v":""},{"$f":"IF(登録済データ!$B228<>0,登録済データ!S228,\"\")","v":""},{"$f":"IF(登録済データ!$B228<>0,登録済データ!T228,\"\")","v":""},{"$f":"IF(登録済データ!$B228<>0,登録済データ!U228,\"\")","v":""},{"$f":"IF(登録済データ!$B228<>0,登録済データ!V228,\"\")","v":""},{"$f":"IF(登録済データ!$B228<>0,登録済データ!W228,\"\")","v":""},{"$f":"IF(登録済データ!$B228<>0,登録済データ!X228,\"\")","v":""},{"$f":"IF($F225<>\"\",登録済データ!$C$4,\"\")","v":""}]
[null,{"$f":"IF($F226<>\"\",登録済データ!$C$2,\"\")","v":""},{"$f":"IF($F226<>\"\",IF($I$1=\"企業コード3桁\",LEFT(登録済データ!$C$3,3),LEFT(登録済データ!$C$3,6)),\"\")","v":""},null,{"$f":"IF(登録済データ!$B229<>0,登録済データ!C229,\"\")","v":""},{"$f":"IF(登録済データ!$B229<>0,登録済データ!D229,\"\")","v":""},{"$f":"IF(登録済データ!$B229<>0,登録済データ!E229,\"\")","v":""},{"$f":"IF(登録済データ!$B229<>0,IF(登録済データ!F229<>\"\",登録済データ!F229,\"\"),\"\")","v":""},{"$f":"IF(登録済データ!$B229<>0,IF(登録済データ!G229<>\"\",登録済データ!G229,\"\"),\"\")","v":""},{"$f":"IF(登録済データ!$B229<>0,IF(登録済データ!H229<>\"\",登録済データ!H229,\"\"),\"\")","v":""},{"$f":"IF(登録済データ!$B229<>0,IF(登録済データ!I229<>\"\",登録済データ!I229,\"\"),\"\")","v":""},{"$f":"IF(登録済データ!$B229<>0,登録済データ!J229,\"\")","v":""},{"$f":"IF(登録済データ!$B229<>0,登録済データ!K229,\"\")","v":""},{"$f":"IF(登録済データ!$B229<>0,登録済データ!L229,\"\")","v":""},{"$f":"IF(登録済データ!$B229<>0,登録済データ!M229,\"\")","v":""},{"$f":"IF(登録済データ!$B229<>0,登録済データ!N229,\"\")","v":""},{"$f":"IF(登録済データ!$B229<>0,登録済データ!O229,\"\")","v":""},{"$f":"IF(登録済データ!$B229<>0,登録済データ!P229,\"\")","v":""},{"$f":"IF(登録済データ!$B229<>0,登録済データ!Q229,\"\")","v":""},{"$f":"IF(登録済データ!$B229<>0,登録済データ!R229,\"\")","v":""},{"$f":"IF(登録済データ!$B229<>0,登録済データ!S229,\"\")","v":""},{"$f":"IF(登録済データ!$B229<>0,登録済データ!T229,\"\")","v":""},{"$f":"IF(登録済データ!$B229<>0,登録済データ!U229,\"\")","v":""},{"$f":"IF(登録済データ!$B229<>0,登録済データ!V229,\"\")","v":""},{"$f":"IF(登録済データ!$B229<>0,登録済データ!W229,\"\")","v":""},{"$f":"IF(登録済データ!$B229<>0,登録済データ!X229,\"\")","v":""},{"$f":"IF($F226<>\"\",登録済データ!$C$4,\"\")","v":""}]
[null,{"$f":"IF($F227<>\"\",登録済データ!$C$2,\"\")","v":""},{"$f":"IF($F227<>\"\",IF($I$1=\"企業コード3桁\",LEFT(登録済データ!$C$3,3),LEFT(登録済データ!$C$3,6)),\"\")","v":""},null,{"$f":"IF(登録済データ!$B230<>0,登録済データ!C230,\"\")","v":""},{"$f":"IF(登録済データ!$B230<>0,登録済データ!D230,\"\")","v":""},{"$f":"IF(登録済データ!$B230<>0,登録済データ!E230,\"\")","v":""},{"$f":"IF(登録済データ!$B230<>0,IF(登録済データ!F230<>\"\",登録済データ!F230,\"\"),\"\")","v":""},{"$f":"IF(登録済データ!$B230<>0,IF(登録済データ!G230<>\"\",登録済データ!G230,\"\"),\"\")","v":""},{"$f":"IF(登録済データ!$B230<>0,IF(登録済データ!H230<>\"\",登録済データ!H230,\"\"),\"\")","v":""},{"$f":"IF(登録済データ!$B230<>0,IF(登録済データ!I230<>\"\",登録済データ!I230,\"\"),\"\")","v":""},{"$f":"IF(登録済データ!$B230<>0,登録済データ!J230,\"\")","v":""},{"$f":"IF(登録済データ!$B230<>0,登録済データ!K230,\"\")","v":""},{"$f":"IF(登録済データ!$B230<>0,登録済データ!L230,\"\")","v":""},{"$f":"IF(登録済データ!$B230<>0,登録済データ!M230,\"\")","v":""},{"$f":"IF(登録済データ!$B230<>0,登録済データ!N230,\"\")","v":""},{"$f":"IF(登録済データ!$B230<>0,登録済データ!O230,\"\")","v":""},{"$f":"IF(登録済データ!$B230<>0,登録済データ!P230,\"\")","v":""},{"$f":"IF(登録済データ!$B230<>0,登録済データ!Q230,\"\")","v":""},{"$f":"IF(登録済データ!$B230<>0,登録済データ!R230,\"\")","v":""},{"$f":"IF(登録済データ!$B230<>0,登録済データ!S230,\"\")","v":""},{"$f":"IF(登録済データ!$B230<>0,登録済データ!T230,\"\")","v":""},{"$f":"IF(登録済データ!$B230<>0,登録済データ!U230,\"\")","v":""},{"$f":"IF(登録済データ!$B230<>0,登録済データ!V230,\"\")","v":""},{"$f":"IF(登録済データ!$B230<>0,登録済データ!W230,\"\")","v":""},{"$f":"IF(登録済データ!$B230<>0,登録済データ!X230,\"\")","v":""},{"$f":"IF($F227<>\"\",登録済データ!$C$4,\"\")","v":""}]
[null,{"$f":"IF($F228<>\"\",登録済データ!$C$2,\"\")","v":""},{"$f":"IF($F228<>\"\",IF($I$1=\"企業コード3桁\",LEFT(登録済データ!$C$3,3),LEFT(登録済データ!$C$3,6)),\"\")","v":""},null,{"$f":"IF(登録済データ!$B231<>0,登録済データ!C231,\"\")","v":""},{"$f":"IF(登録済データ!$B231<>0,登録済データ!D231,\"\")","v":""},{"$f":"IF(登録済データ!$B231<>0,登録済データ!E231,\"\")","v":""},{"$f":"IF(登録済データ!$B231<>0,IF(登録済データ!F231<>\"\",登録済データ!F231,\"\"),\"\")","v":""},{"$f":"IF(登録済データ!$B231<>0,IF(登録済データ!G231<>\"\",登録済データ!G231,\"\"),\"\")","v":""},{"$f":"IF(登録済データ!$B231<>0,IF(登録済データ!H231<>\"\",登録済データ!H231,\"\"),\"\")","v":""},{"$f":"IF(登録済データ!$B231<>0,IF(登録済データ!I231<>\"\",登録済データ!I231,\"\"),\"\")","v":""},{"$f":"IF(登録済データ!$B231<>0,登録済データ!J231,\"\")","v":""},{"$f":"IF(登録済データ!$B231<>0,登録済データ!K231,\"\")","v":""},{"$f":"IF(登録済データ!$B231<>0,登録済データ!L231,\"\")","v":""},{"$f":"IF(登録済データ!$B231<>0,登録済データ!M231,\"\")","v":""},{"$f":"IF(登録済データ!$B231<>0,登録済データ!N231,\"\")","v":""},{"$f":"IF(登録済データ!$B231<>0,登録済データ!O231,\"\")","v":""},{"$f":"IF(登録済データ!$B231<>0,登録済データ!P231,\"\")","v":""},{"$f":"IF(登録済データ!$B231<>0,登録済データ!Q231,\"\")","v":""},{"$f":"IF(登録済データ!$B231<>0,登録済データ!R231,\"\")","v":""},{"$f":"IF(登録済データ!$B231<>0,登録済データ!S231,\"\")","v":""},{"$f":"IF(登録済データ!$B231<>0,登録済データ!T231,\"\")","v":""},{"$f":"IF(登録済データ!$B231<>0,登録済データ!U231,\"\")","v":""},{"$f":"IF(登録済データ!$B231<>0,登録済データ!V231,\"\")","v":""},{"$f":"IF(登録済データ!$B231<>0,登録済データ!W231,\"\")","v":""},{"$f":"IF(登録済データ!$B231<>0,登録済データ!X231,\"\")","v":""},{"$f":"IF($F228<>\"\",登録済データ!$C$4,\"\")","v":""}]
[null,{"$f":"IF($F229<>\"\",登録済データ!$C$2,\"\")","v":""},{"$f":"IF($F229<>\"\",IF($I$1=\"企業コード3桁\",LEFT(登録済データ!$C$3,3),LEFT(登録済データ!$C$3,6)),\"\")","v":""},null,{"$f":"IF(登録済データ!$B232<>0,登録済データ!C232,\"\")","v":""},{"$f":"IF(登録済データ!$B232<>0,登録済データ!D232,\"\")","v":""},{"$f":"IF(登録済データ!$B232<>0,登録済データ!E232,\"\")","v":""},{"$f":"IF(登録済データ!$B232<>0,IF(登録済データ!F232<>\"\",登録済データ!F232,\"\"),\"\")","v":""},{"$f":"IF(登録済データ!$B232<>0,IF(登録済データ!G232<>\"\",登録済データ!G232,\"\"),\"\")","v":""},{"$f":"IF(登録済データ!$B232<>0,IF(登録済データ!H232<>\"\",登録済データ!H232,\"\"),\"\")","v":""},{"$f":"IF(登録済データ!$B232<>0,IF(登録済データ!I232<>\"\",登録済データ!I232,\"\"),\"\")","v":""},{"$f":"IF(登録済データ!$B232<>0,登録済データ!J232,\"\")","v":""},{"$f":"IF(登録済データ!$B232<>0,登録済データ!K232,\"\")","v":""},{"$f":"IF(登録済データ!$B232<>0,登録済データ!L232,\"\")","v":""},{"$f":"IF(登録済データ!$B232<>0,登録済データ!M232,\"\")","v":""},{"$f":"IF(登録済データ!$B232<>0,登録済データ!N232,\"\")","v":""},{"$f":"IF(登録済データ!$B232<>0,登録済データ!O232,\"\")","v":""},{"$f":"IF(登録済データ!$B232<>0,登録済データ!P232,\"\")","v":""},{"$f":"IF(登録済データ!$B232<>0,登録済データ!Q232,\"\")","v":""},{"$f":"IF(登録済データ!$B232<>0,登録済データ!R232,\"\")","v":""},{"$f":"IF(登録済データ!$B232<>0,登録済データ!S232,\"\")","v":""},{"$f":"IF(登録済データ!$B232<>0,登録済データ!T232,\"\")","v":""},{"$f":"IF(登録済データ!$B232<>0,登録済データ!U232,\"\")","v":""},{"$f":"IF(登録済データ!$B232<>0,登録済データ!V232,\"\")","v":""},{"$f":"IF(登録済データ!$B232<>0,登録済データ!W232,\"\")","v":""},{"$f":"IF(登録済データ!$B232<>0,登録済データ!X232,\"\")","v":""},{"$f":"IF($F229<>\"\",登録済データ!$C$4,\"\")","v":""}]
[null,{"$f":"IF($F230<>\"\",登録済データ!$C$2,\"\")","v":""},{"$f":"IF($F230<>\"\",IF($I$1=\"企業コード3桁\",LEFT(登録済データ!$C$3,3),LEFT(登録済データ!$C$3,6)),\"\")","v":""},null,{"$f":"IF(登録済データ!$B233<>0,登録済データ!C233,\"\")","v":""},{"$f":"IF(登録済データ!$B233<>0,登録済データ!D233,\"\")","v":""},{"$f":"IF(登録済データ!$B233<>0,登録済データ!E233,\"\")","v":""},{"$f":"IF(登録済データ!$B233<>0,IF(登録済データ!F233<>\"\",登録済データ!F233,\"\"),\"\")","v":""},{"$f":"IF(登録済データ!$B233<>0,IF(登録済データ!G233<>\"\",登録済データ!G233,\"\"),\"\")","v":""},{"$f":"IF(登録済データ!$B233<>0,IF(登録済データ!H233<>\"\",登録済データ!H233,\"\"),\"\")","v":""},{"$f":"IF(登録済データ!$B233<>0,IF(登録済データ!I233<>\"\",登録済データ!I233,\"\"),\"\")","v":""},{"$f":"IF(登録済データ!$B233<>0,登録済データ!J233,\"\")","v":""},{"$f":"IF(登録済データ!$B233<>0,登録済データ!K233,\"\")","v":""},{"$f":"IF(登録済データ!$B233<>0,登録済データ!L233,\"\")","v":""},{"$f":"IF(登録済データ!$B233<>0,登録済データ!M233,\"\")","v":""},{"$f":"IF(登録済データ!$B233<>0,登録済データ!N233,\"\")","v":""},{"$f":"IF(登録済データ!$B233<>0,登録済データ!O233,\"\")","v":""},{"$f":"IF(登録済データ!$B233<>0,登録済データ!P233,\"\")","v":""},{"$f":"IF(登録済データ!$B233<>0,登録済データ!Q233,\"\")","v":""},{"$f":"IF(登録済データ!$B233<>0,登録済データ!R233,\"\")","v":""},{"$f":"IF(登録済データ!$B233<>0,登録済データ!S233,\"\")","v":""},{"$f":"IF(登録済データ!$B233<>0,登録済データ!T233,\"\")","v":""},{"$f":"IF(登録済データ!$B233<>0,登録済データ!U233,\"\")","v":""},{"$f":"IF(登録済データ!$B233<>0,登録済データ!V233,\"\")","v":""},{"$f":"IF(登録済データ!$B233<>0,登録済データ!W233,\"\")","v":""},{"$f":"IF(登録済データ!$B233<>0,登録済データ!X233,\"\")","v":""},{"$f":"IF($F230<>\"\",登録済データ!$C$4,\"\")","v":""}]
[null,{"$f":"IF($F231<>\"\",登録済データ!$C$2,\"\")","v":""},{"$f":"IF($F231<>\"\",IF($I$1=\"企業コード3桁\",LEFT(登録済データ!$C$3,3),LEFT(登録済データ!$C$3,6)),\"\")","v":""},null,{"$f":"IF(登録済データ!$B234<>0,登録済データ!C234,\"\")","v":""},{"$f":"IF(登録済データ!$B234<>0,登録済データ!D234,\"\")","v":""},{"$f":"IF(登録済データ!$B234<>0,登録済データ!E234,\"\")","v":""},{"$f":"IF(登録済データ!$B234<>0,IF(登録済データ!F234<>\"\",登録済データ!F234,\"\"),\"\")","v":""},{"$f":"IF(登録済データ!$B234<>0,IF(登録済データ!G234<>\"\",登録済データ!G234,\"\"),\"\")","v":""},{"$f":"IF(登録済データ!$B234<>0,IF(登録済データ!H234<>\"\",登録済データ!H234,\"\"),\"\")","v":""},{"$f":"IF(登録済データ!$B234<>0,IF(登録済データ!I234<>\"\",登録済データ!I234,\"\"),\"\")","v":""},{"$f":"IF(登録済データ!$B234<>0,登録済データ!J234,\"\")","v":""},{"$f":"IF(登録済データ!$B234<>0,登録済データ!K234,\"\")","v":""},{"$f":"IF(登録済データ!$B234<>0,登録済データ!L234,\"\")","v":""},{"$f":"IF(登録済データ!$B234<>0,登録済データ!M234,\"\")","v":""},{"$f":"IF(登録済データ!$B234<>0,登録済データ!N234,\"\")","v":""},{"$f":"IF(登録済データ!$B234<>0,登録済データ!O234,\"\")","v":""},{"$f":"IF(登録済データ!$B234<>0,登録済データ!P234,\"\")","v":""},{"$f":"IF(登録済データ!$B234<>0,登録済データ!Q234,\"\")","v":""},{"$f":"IF(登録済データ!$B234<>0,登録済データ!R234,\"\")","v":""},{"$f":"IF(登録済データ!$B234<>0,登録済データ!S234,\"\")","v":""},{"$f":"IF(登録済データ!$B234<>0,登録済データ!T234,\"\")","v":""},{"$f":"IF(登録済データ!$B234<>0,登録済データ!U234,\"\")","v":""},{"$f":"IF(登録済データ!$B234<>0,登録済データ!V234,\"\")","v":""},{"$f":"IF(登録済データ!$B234<>0,登録済データ!W234,\"\")","v":""},{"$f":"IF(登録済データ!$B234<>0,登録済データ!X234,\"\")","v":""},{"$f":"IF($F231<>\"\",登録済データ!$C$4,\"\")","v":""}]
[null,{"$f":"IF($F232<>\"\",登録済データ!$C$2,\"\")","v":""},{"$f":"IF($F232<>\"\",IF($I$1=\"企業コード3桁\",LEFT(登録済データ!$C$3,3),LEFT(登録済データ!$C$3,6)),\"\")","v":""},null,{"$f":"IF(登録済データ!$B235<>0,登録済データ!C235,\"\")","v":""},{"$f":"IF(登録済データ!$B235<>0,登録済データ!D235,\"\")","v":""},{"$f":"IF(登録済データ!$B235<>0,登録済データ!E235,\"\")","v":""},{"$f":"IF(登録済データ!$B235<>0,IF(登録済データ!F235<>\"\",登録済データ!F235,\"\"),\"\")","v":""},{"$f":"IF(登録済データ!$B235<>0,IF(登録済データ!G235<>\"\",登録済データ!G235,\"\"),\"\")","v":""},{"$f":"IF(登録済データ!$B235<>0,IF(登録済データ!H235<>\"\",登録済データ!H235,\"\"),\"\")","v":""},{"$f":"IF(登録済データ!$B235<>0,IF(登録済データ!I235<>\"\",登録済データ!I235,\"\"),\"\")","v":""},{"$f":"IF(登録済データ!$B235<>0,登録済データ!J235,\"\")","v":""},{"$f":"IF(登録済データ!$B235<>0,登録済データ!K235,\"\")","v":""},{"$f":"IF(登録済データ!$B235<>0,登録済データ!L235,\"\")","v":""},{"$f":"IF(登録済データ!$B235<>0,登録済データ!M235,\"\")","v":""},{"$f":"IF(登録済データ!$B235<>0,登録済データ!N235,\"\")","v":""},{"$f":"IF(登録済データ!$B235<>0,登録済データ!O235,\"\")","v":""},{"$f":"IF(登録済データ!$B235<>0,登録済データ!P235,\"\")","v":""},{"$f":"IF(登録済データ!$B235<>0,登録済データ!Q235,\"\")","v":""},{"$f":"IF(登録済データ!$B235<>0,登録済データ!R235,\"\")","v":""},{"$f":"IF(登録済データ!$B235<>0,登録済データ!S235,\"\")","v":""},{"$f":"IF(登録済データ!$B235<>0,登録済データ!T235,\"\")","v":""},{"$f":"IF(登録済データ!$B235<>0,登録済データ!U235,\"\")","v":""},{"$f":"IF(登録済データ!$B235<>0,登録済データ!V235,\"\")","v":""},{"$f":"IF(登録済データ!$B235<>0,登録済データ!W235,\"\")","v":""},{"$f":"IF(登録済データ!$B235<>0,登録済データ!X235,\"\")","v":""},{"$f":"IF($F232<>\"\",登録済データ!$C$4,\"\")","v":""}]
[null,{"$f":"IF($F233<>\"\",登録済データ!$C$2,\"\")","v":""},{"$f":"IF($F233<>\"\",IF($I$1=\"企業コード3桁\",LEFT(登録済データ!$C$3,3),LEFT(登録済データ!$C$3,6)),\"\")","v":""},null,{"$f":"IF(登録済データ!$B236<>0,登録済データ!C236,\"\")","v":""},{"$f":"IF(登録済データ!$B236<>0,登録済データ!D236,\"\")","v":""},{"$f":"IF(登録済データ!$B236<>0,登録済データ!E236,\"\")","v":""},{"$f":"IF(登録済データ!$B236<>0,IF(登録済データ!F236<>\"\",登録済データ!F236,\"\"),\"\")","v":""},{"$f":"IF(登録済データ!$B236<>0,IF(登録済データ!G236<>\"\",登録済データ!G236,\"\"),\"\")","v":""},{"$f":"IF(登録済データ!$B236<>0,IF(登録済データ!H236<>\"\",登録済データ!H236,\"\"),\"\")","v":""},{"$f":"IF(登録済データ!$B236<>0,IF(登録済データ!I236<>\"\",登録済データ!I236,\"\"),\"\")","v":""},{"$f":"IF(登録済データ!$B236<>0,登録済データ!J236,\"\")","v":""},{"$f":"IF(登録済データ!$B236<>0,登録済データ!K236,\"\")","v":""},{"$f":"IF(登録済データ!$B236<>0,登録済データ!L236,\"\")","v":""},{"$f":"IF(登録済データ!$B236<>0,登録済データ!M236,\"\")","v":""},{"$f":"IF(登録済データ!$B236<>0,登録済データ!N236,\"\")","v":""},{"$f":"IF(登録済データ!$B236<>0,登録済データ!O236,\"\")","v":""},{"$f":"IF(登録済データ!$B236<>0,登録済データ!P236,\"\")","v":""},{"$f":"IF(登録済データ!$B236<>0,登録済データ!Q236,\"\")","v":""},{"$f":"IF(登録済データ!$B236<>0,登録済データ!R236,\"\")","v":""},{"$f":"IF(登録済データ!$B236<>0,登録済データ!S236,\"\")","v":""},{"$f":"IF(登録済データ!$B236<>0,登録済データ!T236,\"\")","v":""},{"$f":"IF(登録済データ!$B236<>0,登録済データ!U236,\"\")","v":""},{"$f":"IF(登録済データ!$B236<>0,登録済データ!V236,\"\")","v":""},{"$f":"IF(登録済データ!$B236<>0,登録済データ!W236,\"\")","v":""},{"$f":"IF(登録済データ!$B236<>0,登録済データ!X236,\"\")","v":""},{"$f":"IF($F233<>\"\",登録済データ!$C$4,\"\")","v":""}]
[null,{"$f":"IF($F234<>\"\",登録済データ!$C$2,\"\")","v":""},{"$f":"IF($F234<>\"\",IF($I$1=\"企業コード3桁\",LEFT(登録済データ!$C$3,3),LEFT(登録済データ!$C$3,6)),\"\")","v":""},null,{"$f":"IF(登録済データ!$B237<>0,登録済データ!C237,\"\")","v":""},{"$f":"IF(登録済データ!$B237<>0,登録済データ!D237,\"\")","v":""},{"$f":"IF(登録済データ!$B237<>0,登録済データ!E237,\"\")","v":""},{"$f":"IF(登録済データ!$B237<>0,IF(登録済データ!F237<>\"\",登録済データ!F237,\"\"),\"\")","v":""},{"$f":"IF(登録済データ!$B237<>0,IF(登録済データ!G237<>\"\",登録済データ!G237,\"\"),\"\")","v":""},{"$f":"IF(登録済データ!$B237<>0,IF(登録済データ!H237<>\"\",登録済データ!H237,\"\"),\"\")","v":""},{"$f":"IF(登録済データ!$B237<>0,IF(登録済データ!I237<>\"\",登録済データ!I237,\"\"),\"\")","v":""},{"$f":"IF(登録済データ!$B237<>0,登録済データ!J237,\"\")","v":""},{"$f":"IF(登録済データ!$B237<>0,登録済データ!K237,\"\")","v":""},{"$f":"IF(登録済データ!$B237<>0,登録済データ!L237,\"\")","v":""},{"$f":"IF(登録済データ!$B237<>0,登録済データ!M237,\"\")","v":""},{"$f":"IF(登録済データ!$B237<>0,登録済データ!N237,\"\")","v":""},{"$f":"IF(登録済データ!$B237<>0,登録済データ!O237,\"\")","v":""},{"$f":"IF(登録済データ!$B237<>0,登録済データ!P237,\"\")","v":""},{"$f":"IF(登録済データ!$B237<>0,登録済データ!Q237,\"\")","v":""},{"$f":"IF(登録済データ!$B237<>0,登録済データ!R237,\"\")","v":""},{"$f":"IF(登録済データ!$B237<>0,登録済データ!S237,\"\")","v":""},{"$f":"IF(登録済データ!$B237<>0,登録済データ!T237,\"\")","v":""},{"$f":"IF(登録済データ!$B237<>0,登録済データ!U237,\"\")","v":""},{"$f":"IF(登録済データ!$B237<>0,登録済データ!V237,\"\")","v":""},{"$f":"IF(登録済データ!$B237<>0,登録済データ!W237,\"\")","v":""},{"$f":"IF(登録済データ!$B237<>0,登録済データ!X237,\"\")","v":""},{"$f":"IF($F234<>\"\",登録済データ!$C$4,\"\")","v":""}]
[null,{"$f":"IF($F235<>\"\",登録済データ!$C$2,\"\")","v":""},{"$f":"IF($F235<>\"\",IF($I$1=\"企業コード3桁\",LEFT(登録済データ!$C$3,3),LEFT(登録済データ!$C$3,6)),\"\")","v":""},null,{"$f":"IF(登録済データ!$B238<>0,登録済データ!C238,\"\")","v":""},{"$f":"IF(登録済データ!$B238<>0,登録済データ!D238,\"\")","v":""},{"$f":"IF(登録済データ!$B238<>0,登録済データ!E238,\"\")","v":""},{"$f":"IF(登録済データ!$B238<>0,IF(登録済データ!F238<>\"\",登録済データ!F238,\"\"),\"\")","v":""},{"$f":"IF(登録済データ!$B238<>0,IF(登録済データ!G238<>\"\",登録済データ!G238,\"\"),\"\")","v":""},{"$f":"IF(登録済データ!$B238<>0,IF(登録済データ!H238<>\"\",登録済データ!H238,\"\"),\"\")","v":""},{"$f":"IF(登録済データ!$B238<>0,IF(登録済データ!I238<>\"\",登録済データ!I238,\"\"),\"\")","v":""},{"$f":"IF(登録済データ!$B238<>0,登録済データ!J238,\"\")","v":""},{"$f":"IF(登録済データ!$B238<>0,登録済データ!K238,\"\")","v":""},{"$f":"IF(登録済データ!$B238<>0,登録済データ!L238,\"\")","v":""},{"$f":"IF(登録済データ!$B238<>0,登録済データ!M238,\"\")","v":""},{"$f":"IF(登録済データ!$B238<>0,登録済データ!N238,\"\")","v":""},{"$f":"IF(登録済データ!$B238<>0,登録済データ!O238,\"\")","v":""},{"$f":"IF(登録済データ!$B238<>0,登録済データ!P238,\"\")","v":""},{"$f":"IF(登録済データ!$B238<>0,登録済データ!Q238,\"\")","v":""},{"$f":"IF(登録済データ!$B238<>0,登録済データ!R238,\"\")","v":""},{"$f":"IF(登録済データ!$B238<>0,登録済データ!S238,\"\")","v":""},{"$f":"IF(登録済データ!$B238<>0,登録済データ!T238,\"\")","v":""},{"$f":"IF(登録済データ!$B238<>0,登録済データ!U238,\"\")","v":""},{"$f":"IF(登録済データ!$B238<>0,登録済データ!V238,\"\")","v":""},{"$f":"IF(登録済データ!$B238<>0,登録済データ!W238,\"\")","v":""},{"$f":"IF(登録済データ!$B238<>0,登録済データ!X238,\"\")","v":""},{"$f":"IF($F235<>\"\",登録済データ!$C$4,\"\")","v":""}]
[null,{"$f":"IF($F236<>\"\",登録済データ!$C$2,\"\")","v":""},{"$f":"IF($F236<>\"\",IF($I$1=\"企業コード3桁\",LEFT(登録済データ!$C$3,3),LEFT(登録済データ!$C$3,6)),\"\")","v":""},null,{"$f":"IF(登録済データ!$B239<>0,登録済データ!C239,\"\")","v":""},{"$f":"IF(登録済データ!$B239<>0,登録済データ!D239,\"\")","v":""},{"$f":"IF(登録済データ!$B239<>0,登録済データ!E239,\"\")","v":""},{"$f":"IF(登録済データ!$B239<>0,IF(登録済データ!F239<>\"\",登録済データ!F239,\"\"),\"\")","v":""},{"$f":"IF(登録済データ!$B239<>0,IF(登録済データ!G239<>\"\",登録済データ!G239,\"\"),\"\")","v":""},{"$f":"IF(登録済データ!$B239<>0,IF(登録済データ!H239<>\"\",登録済データ!H239,\"\"),\"\")","v":""},{"$f":"IF(登録済データ!$B239<>0,IF(登録済データ!I239<>\"\",登録済データ!I239,\"\"),\"\")","v":""},{"$f":"IF(登録済データ!$B239<>0,登録済データ!J239,\"\")","v":""},{"$f":"IF(登録済データ!$B239<>0,登録済データ!K239,\"\")","v":""},{"$f":"IF(登録済データ!$B239<>0,登録済データ!L239,\"\")","v":""},{"$f":"IF(登録済データ!$B239<>0,登録済データ!M239,\"\")","v":""},{"$f":"IF(登録済データ!$B239<>0,登録済データ!N239,\"\")","v":""},{"$f":"IF(登録済データ!$B239<>0,登録済データ!O239,\"\")","v":""},{"$f":"IF(登録済データ!$B239<>0,登録済データ!P239,\"\")","v":""},{"$f":"IF(登録済データ!$B239<>0,登録済データ!Q239,\"\")","v":""},{"$f":"IF(登録済データ!$B239<>0,登録済データ!R239,\"\")","v":""},{"$f":"IF(登録済データ!$B239<>0,登録済データ!S239,\"\")","v":""},{"$f":"IF(登録済データ!$B239<>0,登録済データ!T239,\"\")","v":""},{"$f":"IF(登録済データ!$B239<>0,登録済データ!U239,\"\")","v":""},{"$f":"IF(登録済データ!$B239<>0,登録済データ!V239,\"\")","v":""},{"$f":"IF(登録済データ!$B239<>0,登録済データ!W239,\"\")","v":""},{"$f":"IF(登録済データ!$B239<>0,登録済データ!X239,\"\")","v":""},{"$f":"IF($F236<>\"\",登録済データ!$C$4,\"\")","v":""}]
[null,{"$f":"IF($F237<>\"\",登録済データ!$C$2,\"\")","v":""},{"$f":"IF($F237<>\"\",IF($I$1=\"企業コード3桁\",LEFT(登録済データ!$C$3,3),LEFT(登録済データ!$C$3,6)),\"\")","v":""},null,{"$f":"IF(登録済データ!$B240<>0,登録済データ!C240,\"\")","v":""},{"$f":"IF(登録済データ!$B240<>0,登録済データ!D240,\"\")","v":""},{"$f":"IF(登録済データ!$B240<>0,登録済データ!E240,\"\")","v":""},{"$f":"IF(登録済データ!$B240<>0,IF(登録済データ!F240<>\"\",登録済データ!F240,\"\"),\"\")","v":""},{"$f":"IF(登録済データ!$B240<>0,IF(登録済データ!G240<>\"\",登録済データ!G240,\"\"),\"\")","v":""},{"$f":"IF(登録済データ!$B240<>0,IF(登録済データ!H240<>\"\",登録済データ!H240,\"\"),\"\")","v":""},{"$f":"IF(登録済データ!$B240<>0,IF(登録済データ!I240<>\"\",登録済データ!I240,\"\"),\"\")","v":""},{"$f":"IF(登録済データ!$B240<>0,登録済データ!J240,\"\")","v":""},{"$f":"IF(登録済データ!$B240<>0,登録済データ!K240,\"\")","v":""},{"$f":"IF(登録済データ!$B240<>0,登録済データ!L240,\"\")","v":""},{"$f":"IF(登録済データ!$B240<>0,登録済データ!M240,\"\")","v":""},{"$f":"IF(登録済データ!$B240<>0,登録済データ!N240,\"\")","v":""},{"$f":"IF(登録済データ!$B240<>0,登録済データ!O240,\"\")","v":""},{"$f":"IF(登録済データ!$B240<>0,登録済データ!P240,\"\")","v":""},{"$f":"IF(登録済データ!$B240<>0,登録済データ!Q240,\"\")","v":""},{"$f":"IF(登録済データ!$B240<>0,登録済データ!R240,\"\")","v":""},{"$f":"IF(登録済データ!$B240<>0,登録済データ!S240,\"\")","v":""},{"$f":"IF(登録済データ!$B240<>0,登録済データ!T240,\"\")","v":""},{"$f":"IF(登録済データ!$B240<>0,登録済データ!U240,\"\")","v":""},{"$f":"IF(登録済データ!$B240<>0,登録済データ!V240,\"\")","v":""},{"$f":"IF(登録済データ!$B240<>0,登録済データ!W240,\"\")","v":""},{"$f":"IF(登録済データ!$B240<>0,登録済データ!X240,\"\")","v":""},{"$f":"IF($F237<>\"\",登録済データ!$C$4,\"\")","v":""}]
[null,{"$f":"IF($F238<>\"\",登録済データ!$C$2,\"\")","v":""},{"$f":"IF($F238<>\"\",IF($I$1=\"企業コード3桁\",LEFT(登録済データ!$C$3,3),LEFT(登録済データ!$C$3,6)),\"\")","v":""},null,{"$f":"IF(登録済データ!$B241<>0,登録済データ!C241,\"\")","v":""},{"$f":"IF(登録済データ!$B241<>0,登録済データ!D241,\"\")","v":""},{"$f":"IF(登録済データ!$B241<>0,登録済データ!E241,\"\")","v":""},{"$f":"IF(登録済データ!$B241<>0,IF(登録済データ!F241<>\"\",登録済データ!F241,\"\"),\"\")","v":""},{"$f":"IF(登録済データ!$B241<>0,IF(登録済データ!G241<>\"\",登録済データ!G241,\"\"),\"\")","v":""},{"$f":"IF(登録済データ!$B241<>0,IF(登録済データ!H241<>\"\",登録済データ!H241,\"\"),\"\")","v":""},{"$f":"IF(登録済データ!$B241<>0,IF(登録済データ!I241<>\"\",登録済データ!I241,\"\"),\"\")","v":""},{"$f":"IF(登録済データ!$B241<>0,登録済データ!J241,\"\")","v":""},{"$f":"IF(登録済データ!$B241<>0,登録済データ!K241,\"\")","v":""},{"$f":"IF(登録済データ!$B241<>0,登録済データ!L241,\"\")","v":""},{"$f":"IF(登録済データ!$B241<>0,登録済データ!M241,\"\")","v":""},{"$f":"IF(登録済データ!$B241<>0,登録済データ!N241,\"\")","v":""},{"$f":"IF(登録済データ!$B241<>0,登録済データ!O241,\"\")","v":""},{"$f":"IF(登録済データ!$B241<>0,登録済データ!P241,\"\")","v":""},{"$f":"IF(登録済データ!$B241<>0,登録済データ!Q241,\"\")","v":""},{"$f":"IF(登録済データ!$B241<>0,登録済データ!R241,\"\")","v":""},{"$f":"IF(登録済データ!$B241<>0,登録済データ!S241,\"\")","v":""},{"$f":"IF(登録済データ!$B241<>0,登録済データ!T241,\"\")","v":""},{"$f":"IF(登録済データ!$B241<>0,登録済データ!U241,\"\")","v":""},{"$f":"IF(登録済データ!$B241<>0,登録済データ!V241,\"\")","v":""},{"$f":"IF(登録済データ!$B241<>0,登録済データ!W241,\"\")","v":""},{"$f":"IF(登録済データ!$B241<>0,登録済データ!X241,\"\")","v":""},{"$f":"IF($F238<>\"\",登録済データ!$C$4,\"\")","v":""}]
[null,{"$f":"IF($F239<>\"\",登録済データ!$C$2,\"\")","v":""},{"$f":"IF($F239<>\"\",IF($I$1=\"企業コード3桁\",LEFT(登録済データ!$C$3,3),LEFT(登録済データ!$C$3,6)),\"\")","v":""},null,{"$f":"IF(登録済データ!$B242<>0,登録済データ!C242,\"\")","v":""},{"$f":"IF(登録済データ!$B242<>0,登録済データ!D242,\"\")","v":""},{"$f":"IF(登録済データ!$B242<>0,登録済データ!E242,\"\")","v":""},{"$f":"IF(登録済データ!$B242<>0,IF(登録済データ!F242<>\"\",登録済データ!F242,\"\"),\"\")","v":""},{"$f":"IF(登録済データ!$B242<>0,IF(登録済データ!G242<>\"\",登録済データ!G242,\"\"),\"\")","v":""},{"$f":"IF(登録済データ!$B242<>0,IF(登録済データ!H242<>\"\",登録済データ!H242,\"\"),\"\")","v":""},{"$f":"IF(登録済データ!$B242<>0,IF(登録済データ!I242<>\"\",登録済データ!I242,\"\"),\"\")","v":""},{"$f":"IF(登録済データ!$B242<>0,登録済データ!J242,\"\")","v":""},{"$f":"IF(登録済データ!$B242<>0,登録済データ!K242,\"\")","v":""},{"$f":"IF(登録済データ!$B242<>0,登録済データ!L242,\"\")","v":""},{"$f":"IF(登録済データ!$B242<>0,登録済データ!M242,\"\")","v":""},{"$f":"IF(登録済データ!$B242<>0,登録済データ!N242,\"\")","v":""},{"$f":"IF(登録済データ!$B242<>0,登録済データ!O242,\"\")","v":""},{"$f":"IF(登録済データ!$B242<>0,登録済データ!P242,\"\")","v":""},{"$f":"IF(登録済データ!$B242<>0,登録済データ!Q242,\"\")","v":""},{"$f":"IF(登録済データ!$B242<>0,登録済データ!R242,\"\")","v":""},{"$f":"IF(登録済データ!$B242<>0,登録済データ!S242,\"\")","v":""},{"$f":"IF(登録済データ!$B242<>0,登録済データ!T242,\"\")","v":""},{"$f":"IF(登録済データ!$B242<>0,登録済データ!U242,\"\")","v":""},{"$f":"IF(登録済データ!$B242<>0,登録済データ!V242,\"\")","v":""},{"$f":"IF(登録済データ!$B242<>0,登録済データ!W242,\"\")","v":""},{"$f":"IF(登録済データ!$B242<>0,登録済データ!X242,\"\")","v":""},{"$f":"IF($F239<>\"\",登録済データ!$C$4,\"\")","v":""}]
[null,{"$f":"IF($F240<>\"\",登録済データ!$C$2,\"\")","v":""},{"$f":"IF($F240<>\"\",IF($I$1=\"企業コード3桁\",LEFT(登録済データ!$C$3,3),LEFT(登録済データ!$C$3,6)),\"\")","v":""},null,{"$f":"IF(登録済データ!$B243<>0,登録済データ!C243,\"\")","v":""},{"$f":"IF(登録済データ!$B243<>0,登録済データ!D243,\"\")","v":""},{"$f":"IF(登録済データ!$B243<>0,登録済データ!E243,\"\")","v":""},{"$f":"IF(登録済データ!$B243<>0,IF(登録済データ!F243<>\"\",登録済データ!F243,\"\"),\"\")","v":""},{"$f":"IF(登録済データ!$B243<>0,IF(登録済データ!G243<>\"\",登録済データ!G243,\"\"),\"\")","v":""},{"$f":"IF(登録済データ!$B243<>0,IF(登録済データ!H243<>\"\",登録済データ!H243,\"\"),\"\")","v":""},{"$f":"IF(登録済データ!$B243<>0,IF(登録済データ!I243<>\"\",登録済データ!I243,\"\"),\"\")","v":""},{"$f":"IF(登録済データ!$B243<>0,登録済データ!J243,\"\")","v":""},{"$f":"IF(登録済データ!$B243<>0,登録済データ!K243,\"\")","v":""},{"$f":"IF(登録済データ!$B243<>0,登録済データ!L243,\"\")","v":""},{"$f":"IF(登録済データ!$B243<>0,登録済データ!M243,\"\")","v":""},{"$f":"IF(登録済データ!$B243<>0,登録済データ!N243,\"\")","v":""},{"$f":"IF(登録済データ!$B243<>0,登録済データ!O243,\"\")","v":""},{"$f":"IF(登録済データ!$B243<>0,登録済データ!P243,\"\")","v":""},{"$f":"IF(登録済データ!$B243<>0,登録済データ!Q243,\"\")","v":""},{"$f":"IF(登録済データ!$B243<>0,登録済データ!R243,\"\")","v":""},{"$f":"IF(登録済データ!$B243<>0,登録済データ!S243,\"\")","v":""},{"$f":"IF(登録済データ!$B243<>0,登録済データ!T243,\"\")","v":""},{"$f":"IF(登録済データ!$B243<>0,登録済データ!U243,\"\")","v":""},{"$f":"IF(登録済データ!$B243<>0,登録済データ!V243,\"\")","v":""},{"$f":"IF(登録済データ!$B243<>0,登録済データ!W243,\"\")","v":""},{"$f":"IF(登録済データ!$B243<>0,登録済データ!X243,\"\")","v":""},{"$f":"IF($F240<>\"\",登録済データ!$C$4,\"\")","v":""}]
[null,{"$f":"IF($F241<>\"\",登録済データ!$C$2,\"\")","v":""},{"$f":"IF($F241<>\"\",IF($I$1=\"企業コード3桁\",LEFT(登録済データ!$C$3,3),LEFT(登録済データ!$C$3,6)),\"\")","v":""},null,{"$f":"IF(登録済データ!$B244<>0,登録済データ!C244,\"\")","v":""},{"$f":"IF(登録済データ!$B244<>0,登録済データ!D244,\"\")","v":""},{"$f":"IF(登録済データ!$B244<>0,登録済データ!E244,\"\")","v":""},{"$f":"IF(登録済データ!$B244<>0,IF(登録済データ!F244<>\"\",登録済データ!F244,\"\"),\"\")","v":""},{"$f":"IF(登録済データ!$B244<>0,IF(登録済データ!G244<>\"\",登録済データ!G244,\"\"),\"\")","v":""},{"$f":"IF(登録済データ!$B244<>0,IF(登録済データ!H244<>\"\",登録済データ!H244,\"\"),\"\")","v":""},{"$f":"IF(登録済データ!$B244<>0,IF(登録済データ!I244<>\"\",登録済データ!I244,\"\"),\"\")","v":""},{"$f":"IF(登録済データ!$B244<>0,登録済データ!J244,\"\")","v":""},{"$f":"IF(登録済データ!$B244<>0,登録済データ!K244,\"\")","v":""},{"$f":"IF(登録済データ!$B244<>0,登録済データ!L244,\"\")","v":""},{"$f":"IF(登録済データ!$B244<>0,登録済データ!M244,\"\")","v":""},{"$f":"IF(登録済データ!$B244<>0,登録済データ!N244,\"\")","v":""},{"$f":"IF(登録済データ!$B244<>0,登録済データ!O244,\"\")","v":""},{"$f":"IF(登録済データ!$B244<>0,登録済データ!P244,\"\")","v":""},{"$f":"IF(登録済データ!$B244<>0,登録済データ!Q244,\"\")","v":""},{"$f":"IF(登録済データ!$B244<>0,登録済データ!R244,\"\")","v":""},{"$f":"IF(登録済データ!$B244<>0,登録済データ!S244,\"\")","v":""},{"$f":"IF(登録済データ!$B244<>0,登録済データ!T244,\"\")","v":""},{"$f":"IF(登録済データ!$B244<>0,登録済データ!U244,\"\")","v":""},{"$f":"IF(登録済データ!$B244<>0,登録済データ!V244,\"\")","v":""},{"$f":"IF(登録済データ!$B244<>0,登録済データ!W244,\"\")","v":""},{"$f":"IF(登録済データ!$B244<>0,登録済データ!X244,\"\")","v":""},{"$f":"IF($F241<>\"\",登録済データ!$C$4,\"\")","v":""}]
[null,{"$f":"IF($F242<>\"\",登録済データ!$C$2,\"\")","v":""},{"$f":"IF($F242<>\"\",IF($I$1=\"企業コード3桁\",LEFT(登録済データ!$C$3,3),LEFT(登録済データ!$C$3,6)),\"\")","v":""},null,{"$f":"IF(登録済データ!$B245<>0,登録済データ!C245,\"\")","v":""},{"$f":"IF(登録済データ!$B245<>0,登録済データ!D245,\"\")","v":""},{"$f":"IF(登録済データ!$B245<>0,登録済データ!E245,\"\")","v":""},{"$f":"IF(登録済データ!$B245<>0,IF(登録済データ!F245<>\"\",登録済データ!F245,\"\"),\"\")","v":""},{"$f":"IF(登録済データ!$B245<>0,IF(登録済データ!G245<>\"\",登録済データ!G245,\"\"),\"\")","v":""},{"$f":"IF(登録済データ!$B245<>0,IF(登録済データ!H245<>\"\",登録済データ!H245,\"\"),\"\")","v":""},{"$f":"IF(登録済データ!$B245<>0,IF(登録済データ!I245<>\"\",登録済データ!I245,\"\"),\"\")","v":""},{"$f":"IF(登録済データ!$B245<>0,登録済データ!J245,\"\")","v":""},{"$f":"IF(登録済データ!$B245<>0,登録済データ!K245,\"\")","v":""},{"$f":"IF(登録済データ!$B245<>0,登録済データ!L245,\"\")","v":""},{"$f":"IF(登録済データ!$B245<>0,登録済データ!M245,\"\")","v":""},{"$f":"IF(登録済データ!$B245<>0,登録済データ!N245,\"\")","v":""},{"$f":"IF(登録済データ!$B245<>0,登録済データ!O245,\"\")","v":""},{"$f":"IF(登録済データ!$B245<>0,登録済データ!P245,\"\")","v":""},{"$f":"IF(登録済データ!$B245<>0,登録済データ!Q245,\"\")","v":""},{"$f":"IF(登録済データ!$B245<>0,登録済データ!R245,\"\")","v":""},{"$f":"IF(登録済データ!$B245<>0,登録済データ!S245,\"\")","v":""},{"$f":"IF(登録済データ!$B245<>0,登録済データ!T245,\"\")","v":""},{"$f":"IF(登録済データ!$B245<>0,登録済データ!U245,\"\")","v":""},{"$f":"IF(登録済データ!$B245<>0,登録済データ!V245,\"\")","v":""},{"$f":"IF(登録済データ!$B245<>0,登録済データ!W245,\"\")","v":""},{"$f":"IF(登録済データ!$B245<>0,登録済データ!X245,\"\")","v":""},{"$f":"IF($F242<>\"\",登録済データ!$C$4,\"\")","v":""}]
[null,{"$f":"IF($F243<>\"\",登録済データ!$C$2,\"\")","v":""},{"$f":"IF($F243<>\"\",IF($I$1=\"企業コード3桁\",LEFT(登録済データ!$C$3,3),LEFT(登録済データ!$C$3,6)),\"\")","v":""},null,{"$f":"IF(登録済データ!$B246<>0,登録済データ!C246,\"\")","v":""},{"$f":"IF(登録済データ!$B246<>0,登録済データ!D246,\"\")","v":""},{"$f":"IF(登録済データ!$B246<>0,登録済データ!E246,\"\")","v":""},{"$f":"IF(登録済データ!$B246<>0,IF(登録済データ!F246<>\"\",登録済データ!F246,\"\"),\"\")","v":""},{"$f":"IF(登録済データ!$B246<>0,IF(登録済データ!G246<>\"\",登録済データ!G246,\"\"),\"\")","v":""},{"$f":"IF(登録済データ!$B246<>0,IF(登録済データ!H246<>\"\",登録済データ!H246,\"\"),\"\")","v":""},{"$f":"IF(登録済データ!$B246<>0,IF(登録済データ!I246<>\"\",登録済データ!I246,\"\"),\"\")","v":""},{"$f":"IF(登録済データ!$B246<>0,登録済データ!J246,\"\")","v":""},{"$f":"IF(登録済データ!$B246<>0,登録済データ!K246,\"\")","v":""},{"$f":"IF(登録済データ!$B246<>0,登録済データ!L246,\"\")","v":""},{"$f":"IF(登録済データ!$B246<>0,登録済データ!M246,\"\")","v":""},{"$f":"IF(登録済データ!$B246<>0,登録済データ!N246,\"\")","v":""},{"$f":"IF(登録済データ!$B246<>0,登録済データ!O246,\"\")","v":""},{"$f":"IF(登録済データ!$B246<>0,登録済データ!P246,\"\")","v":""},{"$f":"IF(登録済データ!$B246<>0,登録済データ!Q246,\"\")","v":""},{"$f":"IF(登録済データ!$B246<>0,登録済データ!R246,\"\")","v":""},{"$f":"IF(登録済データ!$B246<>0,登録済データ!S246,\"\")","v":""},{"$f":"IF(登録済データ!$B246<>0,登録済データ!T246,\"\")","v":""},{"$f":"IF(登録済データ!$B246<>0,登録済データ!U246,\"\")","v":""},{"$f":"IF(登録済データ!$B246<>0,登録済データ!V246,\"\")","v":""},{"$f":"IF(登録済データ!$B246<>0,登録済データ!W246,\"\")","v":""},{"$f":"IF(登録済データ!$B246<>0,登録済データ!X246,\"\")","v":""},{"$f":"IF($F243<>\"\",登録済データ!$C$4,\"\")","v":""}]
[null,{"$f":"IF($F244<>\"\",登録済データ!$C$2,\"\")","v":""},{"$f":"IF($F244<>\"\",IF($I$1=\"企業コード3桁\",LEFT(登録済データ!$C$3,3),LEFT(登録済データ!$C$3,6)),\"\")","v":""},null,{"$f":"IF(登録済データ!$B247<>0,登録済データ!C247,\"\")","v":""},{"$f":"IF(登録済データ!$B247<>0,登録済データ!D247,\"\")","v":""},{"$f":"IF(登録済データ!$B247<>0,登録済データ!E247,\"\")","v":""},{"$f":"IF(登録済データ!$B247<>0,IF(登録済データ!F247<>\"\",登録済データ!F247,\"\"),\"\")","v":""},{"$f":"IF(登録済データ!$B247<>0,IF(登録済データ!G247<>\"\",登録済データ!G247,\"\"),\"\")","v":""},{"$f":"IF(登録済データ!$B247<>0,IF(登録済データ!H247<>\"\",登録済データ!H247,\"\"),\"\")","v":""},{"$f":"IF(登録済データ!$B247<>0,IF(登録済データ!I247<>\"\",登録済データ!I247,\"\"),\"\")","v":""},{"$f":"IF(登録済データ!$B247<>0,登録済データ!J247,\"\")","v":""},{"$f":"IF(登録済データ!$B247<>0,登録済データ!K247,\"\")","v":""},{"$f":"IF(登録済データ!$B247<>0,登録済データ!L247,\"\")","v":""},{"$f":"IF(登録済データ!$B247<>0,登録済データ!M247,\"\")","v":""},{"$f":"IF(登録済データ!$B247<>0,登録済データ!N247,\"\")","v":""},{"$f":"IF(登録済データ!$B247<>0,登録済データ!O247,\"\")","v":""},{"$f":"IF(登録済データ!$B247<>0,登録済データ!P247,\"\")","v":""},{"$f":"IF(登録済データ!$B247<>0,登録済データ!Q247,\"\")","v":""},{"$f":"IF(登録済データ!$B247<>0,登録済データ!R247,\"\")","v":""},{"$f":"IF(登録済データ!$B247<>0,登録済データ!S247,\"\")","v":""},{"$f":"IF(登録済データ!$B247<>0,登録済データ!T247,\"\")","v":""},{"$f":"IF(登録済データ!$B247<>0,登録済データ!U247,\"\")","v":""},{"$f":"IF(登録済データ!$B247<>0,登録済データ!V247,\"\")","v":""},{"$f":"IF(登録済データ!$B247<>0,登録済データ!W247,\"\")","v":""},{"$f":"IF(登録済データ!$B247<>0,登録済データ!X247,\"\")","v":""},{"$f":"IF($F244<>\"\",登録済データ!$C$4,\"\")","v":""}]
[null,{"$f":"IF($F245<>\"\",登録済データ!$C$2,\"\")","v":""},{"$f":"IF($F245<>\"\",IF($I$1=\"企業コード3桁\",LEFT(登録済データ!$C$3,3),LEFT(登録済データ!$C$3,6)),\"\")","v":""},null,{"$f":"IF(登録済データ!$B248<>0,登録済データ!C248,\"\")","v":""},{"$f":"IF(登録済データ!$B248<>0,登録済データ!D248,\"\")","v":""},{"$f":"IF(登録済データ!$B248<>0,登録済データ!E248,\"\")","v":""},{"$f":"IF(登録済データ!$B248<>0,IF(登録済データ!F248<>\"\",登録済データ!F248,\"\"),\"\")","v":""},{"$f":"IF(登録済データ!$B248<>0,IF(登録済データ!G248<>\"\",登録済データ!G248,\"\"),\"\")","v":""},{"$f":"IF(登録済データ!$B248<>0,IF(登録済データ!H248<>\"\",登録済データ!H248,\"\"),\"\")","v":""},{"$f":"IF(登録済データ!$B248<>0,IF(登録済データ!I248<>\"\",登録済データ!I248,\"\"),\"\")","v":""},{"$f":"IF(登録済データ!$B248<>0,登録済データ!J248,\"\")","v":""},{"$f":"IF(登録済データ!$B248<>0,登録済データ!K248,\"\")","v":""},{"$f":"IF(登録済データ!$B248<>0,登録済データ!L248,\"\")","v":""},{"$f":"IF(登録済データ!$B248<>0,登録済データ!M248,\"\")","v":""},{"$f":"IF(登録済データ!$B248<>0,登録済データ!N248,\"\")","v":""},{"$f":"IF(登録済データ!$B248<>0,登録済データ!O248,\"\")","v":""},{"$f":"IF(登録済データ!$B248<>0,登録済データ!P248,\"\")","v":""},{"$f":"IF(登録済データ!$B248<>0,登録済データ!Q248,\"\")","v":""},{"$f":"IF(登録済データ!$B248<>0,登録済データ!R248,\"\")","v":""},{"$f":"IF(登録済データ!$B248<>0,登録済データ!S248,\"\")","v":""},{"$f":"IF(登録済データ!$B248<>0,登録済データ!T248,\"\")","v":""},{"$f":"IF(登録済データ!$B248<>0,登録済データ!U248,\"\")","v":""},{"$f":"IF(登録済データ!$B248<>0,登録済データ!V248,\"\")","v":""},{"$f":"IF(登録済データ!$B248<>0,登録済データ!W248,\"\")","v":""},{"$f":"IF(登録済データ!$B248<>0,登録済データ!X248,\"\")","v":""},{"$f":"IF($F245<>\"\",登録済データ!$C$4,\"\")","v":""}]
[null,{"$f":"IF($F246<>\"\",登録済データ!$C$2,\"\")","v":""},{"$f":"IF($F246<>\"\",IF($I$1=\"企業コード3桁\",LEFT(登録済データ!$C$3,3),LEFT(登録済データ!$C$3,6)),\"\")","v":""},null,{"$f":"IF(登録済データ!$B249<>0,登録済データ!C249,\"\")","v":""},{"$f":"IF(登録済データ!$B249<>0,登録済データ!D249,\"\")","v":""},{"$f":"IF(登録済データ!$B249<>0,登録済データ!E249,\"\")","v":""},{"$f":"IF(登録済データ!$B249<>0,IF(登録済データ!F249<>\"\",登録済データ!F249,\"\"),\"\")","v":""},{"$f":"IF(登録済データ!$B249<>0,IF(登録済データ!G249<>\"\",登録済データ!G249,\"\"),\"\")","v":""},{"$f":"IF(登録済データ!$B249<>0,IF(登録済データ!H249<>\"\",登録済データ!H249,\"\"),\"\")","v":""},{"$f":"IF(登録済データ!$B249<>0,IF(登録済データ!I249<>\"\",登録済データ!I249,\"\"),\"\")","v":""},{"$f":"IF(登録済データ!$B249<>0,登録済データ!J249,\"\")","v":""},{"$f":"IF(登録済データ!$B249<>0,登録済データ!K249,\"\")","v":""},{"$f":"IF(登録済データ!$B249<>0,登録済データ!L249,\"\")","v":""},{"$f":"IF(登録済データ!$B249<>0,登録済データ!M249,\"\")","v":""},{"$f":"IF(登録済データ!$B249<>0,登録済データ!N249,\"\")","v":""},{"$f":"IF(登録済データ!$B249<>0,登録済データ!O249,\"\")","v":""},{"$f":"IF(登録済データ!$B249<>0,登録済データ!P249,\"\")","v":""},{"$f":"IF(登録済データ!$B249<>0,登録済データ!Q249,\"\")","v":""},{"$f":"IF(登録済データ!$B249<>0,登録済データ!R249,\"\")","v":""},{"$f":"IF(登録済データ!$B249<>0,登録済データ!S249,\"\")","v":""},{"$f":"IF(登録済データ!$B249<>0,登録済データ!T249,\"\")","v":""},{"$f":"IF(登録済データ!$B249<>0,登録済データ!U249,\"\")","v":""},{"$f":"IF(登録済データ!$B249<>0,登録済データ!V249,\"\")","v":""},{"$f":"IF(登録済データ!$B249<>0,登録済データ!W249,\"\")","v":""},{"$f":"IF(登録済データ!$B249<>0,登録済データ!X249,\"\")","v":""},{"$f":"IF($F246<>\"\",登録済データ!$C$4,\"\")","v":""}]
[null,{"$f":"IF($F247<>\"\",登録済データ!$C$2,\"\")","v":""},{"$f":"IF($F247<>\"\",IF($I$1=\"企業コード3桁\",LEFT(登録済データ!$C$3,3),LEFT(登録済データ!$C$3,6)),\"\")","v":""},null,{"$f":"IF(登録済データ!$B250<>0,登録済データ!C250,\"\")","v":""},{"$f":"IF(登録済データ!$B250<>0,登録済データ!D250,\"\")","v":""},{"$f":"IF(登録済データ!$B250<>0,登録済データ!E250,\"\")","v":""},{"$f":"IF(登録済データ!$B250<>0,IF(登録済データ!F250<>\"\",登録済データ!F250,\"\"),\"\")","v":""},{"$f":"IF(登録済データ!$B250<>0,IF(登録済データ!G250<>\"\",登録済データ!G250,\"\"),\"\")","v":""},{"$f":"IF(登録済データ!$B250<>0,IF(登録済データ!H250<>\"\",登録済データ!H250,\"\"),\"\")","v":""},{"$f":"IF(登録済データ!$B250<>0,IF(登録済データ!I250<>\"\",登録済データ!I250,\"\"),\"\")","v":""},{"$f":"IF(登録済データ!$B250<>0,登録済データ!J250,\"\")","v":""},{"$f":"IF(登録済データ!$B250<>0,登録済データ!K250,\"\")","v":""},{"$f":"IF(登録済データ!$B250<>0,登録済データ!L250,\"\")","v":""},{"$f":"IF(登録済データ!$B250<>0,登録済データ!M250,\"\")","v":""},{"$f":"IF(登録済データ!$B250<>0,登録済データ!N250,\"\")","v":""},{"$f":"IF(登録済データ!$B250<>0,登録済データ!O250,\"\")","v":""},{"$f":"IF(登録済データ!$B250<>0,登録済データ!P250,\"\")","v":""},{"$f":"IF(登録済データ!$B250<>0,登録済データ!Q250,\"\")","v":""},{"$f":"IF(登録済データ!$B250<>0,登録済データ!R250,\"\")","v":""},{"$f":"IF(登録済データ!$B250<>0,登録済データ!S250,\"\")","v":""},{"$f":"IF(登録済データ!$B250<>0,登録済データ!T250,\"\")","v":""},{"$f":"IF(登録済データ!$B250<>0,登録済データ!U250,\"\")","v":""},{"$f":"IF(登録済データ!$B250<>0,登録済データ!V250,\"\")","v":""},{"$f":"IF(登録済データ!$B250<>0,登録済データ!W250,\"\")","v":""},{"$f":"IF(登録済データ!$B250<>0,登録済データ!X250,\"\")","v":""},{"$f":"IF($F247<>\"\",登録済データ!$C$4,\"\")","v":""}]
[null,{"$f":"IF($F248<>\"\",登録済データ!$C$2,\"\")","v":""},{"$f":"IF($F248<>\"\",IF($I$1=\"企業コード3桁\",LEFT(登録済データ!$C$3,3),LEFT(登録済データ!$C$3,6)),\"\")","v":""},null,{"$f":"IF(登録済データ!$B251<>0,登録済データ!C251,\"\")","v":""},{"$f":"IF(登録済データ!$B251<>0,登録済データ!D251,\"\")","v":""},{"$f":"IF(登録済データ!$B251<>0,登録済データ!E251,\"\")","v":""},{"$f":"IF(登録済データ!$B251<>0,IF(登録済データ!F251<>\"\",登録済データ!F251,\"\"),\"\")","v":""},{"$f":"IF(登録済データ!$B251<>0,IF(登録済データ!G251<>\"\",登録済データ!G251,\"\"),\"\")","v":""},{"$f":"IF(登録済データ!$B251<>0,IF(登録済データ!H251<>\"\",登録済データ!H251,\"\"),\"\")","v":""},{"$f":"IF(登録済データ!$B251<>0,IF(登録済データ!I251<>\"\",登録済データ!I251,\"\"),\"\")","v":""},{"$f":"IF(登録済データ!$B251<>0,登録済データ!J251,\"\")","v":""},{"$f":"IF(登録済データ!$B251<>0,登録済データ!K251,\"\")","v":""},{"$f":"IF(登録済データ!$B251<>0,登録済データ!L251,\"\")","v":""},{"$f":"IF(登録済データ!$B251<>0,登録済データ!M251,\"\")","v":""},{"$f":"IF(登録済データ!$B251<>0,登録済データ!N251,\"\")","v":""},{"$f":"IF(登録済データ!$B251<>0,登録済データ!O251,\"\")","v":""},{"$f":"IF(登録済データ!$B251<>0,登録済データ!P251,\"\")","v":""},{"$f":"IF(登録済データ!$B251<>0,登録済データ!Q251,\"\")","v":""},{"$f":"IF(登録済データ!$B251<>0,登録済データ!R251,\"\")","v":""},{"$f":"IF(登録済データ!$B251<>0,登録済データ!S251,\"\")","v":""},{"$f":"IF(登録済データ!$B251<>0,登録済データ!T251,\"\")","v":""},{"$f":"IF(登録済データ!$B251<>0,登録済データ!U251,\"\")","v":""},{"$f":"IF(登録済データ!$B251<>0,登録済データ!V251,\"\")","v":""},{"$f":"IF(登録済データ!$B251<>0,登録済データ!W251,\"\")","v":""},{"$f":"IF(登録済データ!$B251<>0,登録済データ!X251,\"\")","v":""},{"$f":"IF($F248<>\"\",登録済データ!$C$4,\"\")","v":""}]
[null,{"$f":"IF($F249<>\"\",登録済データ!$C$2,\"\")","v":""},{"$f":"IF($F249<>\"\",IF($I$1=\"企業コード3桁\",LEFT(登録済データ!$C$3,3),LEFT(登録済データ!$C$3,6)),\"\")","v":""},null,{"$f":"IF(登録済データ!$B252<>0,登録済データ!C252,\"\")","v":""},{"$f":"IF(登録済データ!$B252<>0,登録済データ!D252,\"\")","v":""},{"$f":"IF(登録済データ!$B252<>0,登録済データ!E252,\"\")","v":""},{"$f":"IF(登録済データ!$B252<>0,IF(登録済データ!F252<>\"\",登録済データ!F252,\"\"),\"\")","v":""},{"$f":"IF(登録済データ!$B252<>0,IF(登録済データ!G252<>\"\",登録済データ!G252,\"\"),\"\")","v":""},{"$f":"IF(登録済データ!$B252<>0,IF(登録済データ!H252<>\"\",登録済データ!H252,\"\"),\"\")","v":""},{"$f":"IF(登録済データ!$B252<>0,IF(登録済データ!I252<>\"\",登録済データ!I252,\"\"),\"\")","v":""},{"$f":"IF(登録済データ!$B252<>0,登録済データ!J252,\"\")","v":""},{"$f":"IF(登録済データ!$B252<>0,登録済データ!K252,\"\")","v":""},{"$f":"IF(登録済データ!$B252<>0,登録済データ!L252,\"\")","v":""},{"$f":"IF(登録済データ!$B252<>0,登録済データ!M252,\"\")","v":""},{"$f":"IF(登録済データ!$B252<>0,登録済データ!N252,\"\")","v":""},{"$f":"IF(登録済データ!$B252<>0,登録済データ!O252,\"\")","v":""},{"$f":"IF(登録済データ!$B252<>0,登録済データ!P252,\"\")","v":""},{"$f":"IF(登録済データ!$B252<>0,登録済データ!Q252,\"\")","v":""},{"$f":"IF(登録済データ!$B252<>0,登録済データ!R252,\"\")","v":""},{"$f":"IF(登録済データ!$B252<>0,登録済データ!S252,\"\")","v":""},{"$f":"IF(登録済データ!$B252<>0,登録済データ!T252,\"\")","v":""},{"$f":"IF(登録済データ!$B252<>0,登録済データ!U252,\"\")","v":""},{"$f":"IF(登録済データ!$B252<>0,登録済データ!V252,\"\")","v":""},{"$f":"IF(登録済データ!$B252<>0,登録済データ!W252,\"\")","v":""},{"$f":"IF(登録済データ!$B252<>0,登録済データ!X252,\"\")","v":""},{"$f":"IF($F249<>\"\",登録済データ!$C$4,\"\")","v":""}]
[null,{"$f":"IF($F250<>\"\",登録済データ!$C$2,\"\")","v":""},{"$f":"IF($F250<>\"\",IF($I$1=\"企業コード3桁\",LEFT(登録済データ!$C$3,3),LEFT(登録済データ!$C$3,6)),\"\")","v":""},null,{"$f":"IF(登録済データ!$B253<>0,登録済データ!C253,\"\")","v":""},{"$f":"IF(登録済データ!$B253<>0,登録済データ!D253,\"\")","v":""},{"$f":"IF(登録済データ!$B253<>0,登録済データ!E253,\"\")","v":""},{"$f":"IF(登録済データ!$B253<>0,IF(登録済データ!F253<>\"\",登録済データ!F253,\"\"),\"\")","v":""},{"$f":"IF(登録済データ!$B253<>0,IF(登録済データ!G253<>\"\",登録済データ!G253,\"\"),\"\")","v":""},{"$f":"IF(登録済データ!$B253<>0,IF(登録済データ!H253<>\"\",登録済データ!H253,\"\"),\"\")","v":""},{"$f":"IF(登録済データ!$B253<>0,IF(登録済データ!I253<>\"\",登録済データ!I253,\"\"),\"\")","v":""},{"$f":"IF(登録済データ!$B253<>0,登録済データ!J253,\"\")","v":""},{"$f":"IF(登録済データ!$B253<>0,登録済データ!K253,\"\")","v":""},{"$f":"IF(登録済データ!$B253<>0,登録済データ!L253,\"\")","v":""},{"$f":"IF(登録済データ!$B253<>0,登録済データ!M253,\"\")","v":""},{"$f":"IF(登録済データ!$B253<>0,登録済データ!N253,\"\")","v":""},{"$f":"IF(登録済データ!$B253<>0,登録済データ!O253,\"\")","v":""},{"$f":"IF(登録済データ!$B253<>0,登録済データ!P253,\"\")","v":""},{"$f":"IF(登録済データ!$B253<>0,登録済データ!Q253,\"\")","v":""},{"$f":"IF(登録済データ!$B253<>0,登録済データ!R253,\"\")","v":""},{"$f":"IF(登録済データ!$B253<>0,登録済データ!S253,\"\")","v":""},{"$f":"IF(登録済データ!$B253<>0,登録済データ!T253,\"\")","v":""},{"$f":"IF(登録済データ!$B253<>0,登録済データ!U253,\"\")","v":""},{"$f":"IF(登録済データ!$B253<>0,登録済データ!V253,\"\")","v":""},{"$f":"IF(登録済データ!$B253<>0,登録済データ!W253,\"\")","v":""},{"$f":"IF(登録済データ!$B253<>0,登録済データ!X253,\"\")","v":""},{"$f":"IF($F250<>\"\",登録済データ!$C$4,\"\")","v":""}]
[null,{"$f":"IF($F251<>\"\",登録済データ!$C$2,\"\")","v":""},{"$f":"IF($F251<>\"\",IF($I$1=\"企業コード3桁\",LEFT(登録済データ!$C$3,3),LEFT(登録済データ!$C$3,6)),\"\")","v":""},null,{"$f":"IF(登録済データ!$B254<>0,登録済データ!C254,\"\")","v":""},{"$f":"IF(登録済データ!$B254<>0,登録済データ!D254,\"\")","v":""},{"$f":"IF(登録済データ!$B254<>0,登録済データ!E254,\"\")","v":""},{"$f":"IF(登録済データ!$B254<>0,IF(登録済データ!F254<>\"\",登録済データ!F254,\"\"),\"\")","v":""},{"$f":"IF(登録済データ!$B254<>0,IF(登録済データ!G254<>\"\",登録済データ!G254,\"\"),\"\")","v":""},{"$f":"IF(登録済データ!$B254<>0,IF(登録済データ!H254<>\"\",登録済データ!H254,\"\"),\"\")","v":""},{"$f":"IF(登録済データ!$B254<>0,IF(登録済データ!I254<>\"\",登録済データ!I254,\"\"),\"\")","v":""},{"$f":"IF(登録済データ!$B254<>0,登録済データ!J254,\"\")","v":""},{"$f":"IF(登録済データ!$B254<>0,登録済データ!K254,\"\")","v":""},{"$f":"IF(登録済データ!$B254<>0,登録済データ!L254,\"\")","v":""},{"$f":"IF(登録済データ!$B254<>0,登録済データ!M254,\"\")","v":""},{"$f":"IF(登録済データ!$B254<>0,登録済データ!N254,\"\")","v":""},{"$f":"IF(登録済データ!$B254<>0,登録済データ!O254,\"\")","v":""},{"$f":"IF(登録済データ!$B254<>0,登録済データ!P254,\"\")","v":""},{"$f":"IF(登録済データ!$B254<>0,登録済データ!Q254,\"\")","v":""},{"$f":"IF(登録済データ!$B254<>0,登録済データ!R254,\"\")","v":""},{"$f":"IF(登録済データ!$B254<>0,登録済データ!S254,\"\")","v":""},{"$f":"IF(登録済データ!$B254<>0,登録済データ!T254,\"\")","v":""},{"$f":"IF(登録済データ!$B254<>0,登録済データ!U254,\"\")","v":""},{"$f":"IF(登録済データ!$B254<>0,登録済データ!V254,\"\")","v":""},{"$f":"IF(登録済データ!$B254<>0,登録済データ!W254,\"\")","v":""},{"$f":"IF(登録済データ!$B254<>0,登録済データ!X254,\"\")","v":""},{"$f":"IF($F251<>\"\",登録済データ!$C$4,\"\")","v":""}]
[null,{"$f":"IF($F252<>\"\",登録済データ!$C$2,\"\")","v":""},{"$f":"IF($F252<>\"\",IF($I$1=\"企業コード3桁\",LEFT(登録済データ!$C$3,3),LEFT(登録済データ!$C$3,6)),\"\")","v":""},null,{"$f":"IF(登録済データ!$B255<>0,登録済データ!C255,\"\")","v":""},{"$f":"IF(登録済データ!$B255<>0,登録済データ!D255,\"\")","v":""},{"$f":"IF(登録済データ!$B255<>0,登録済データ!E255,\"\")","v":""},{"$f":"IF(登録済データ!$B255<>0,IF(登録済データ!F255<>\"\",登録済データ!F255,\"\"),\"\")","v":""},{"$f":"IF(登録済データ!$B255<>0,IF(登録済データ!G255<>\"\",登録済データ!G255,\"\"),\"\")","v":""},{"$f":"IF(登録済データ!$B255<>0,IF(登録済データ!H255<>\"\",登録済データ!H255,\"\"),\"\")","v":""},{"$f":"IF(登録済データ!$B255<>0,IF(登録済データ!I255<>\"\",登録済データ!I255,\"\"),\"\")","v":""},{"$f":"IF(登録済データ!$B255<>0,登録済データ!J255,\"\")","v":""},{"$f":"IF(登録済データ!$B255<>0,登録済データ!K255,\"\")","v":""},{"$f":"IF(登録済データ!$B255<>0,登録済データ!L255,\"\")","v":""},{"$f":"IF(登録済データ!$B255<>0,登録済データ!M255,\"\")","v":""},{"$f":"IF(登録済データ!$B255<>0,登録済データ!N255,\"\")","v":""},{"$f":"IF(登録済データ!$B255<>0,登録済データ!O255,\"\")","v":""},{"$f":"IF(登録済データ!$B255<>0,登録済データ!P255,\"\")","v":""},{"$f":"IF(登録済データ!$B255<>0,登録済データ!Q255,\"\")","v":""},{"$f":"IF(登録済データ!$B255<>0,登録済データ!R255,\"\")","v":""},{"$f":"IF(登録済データ!$B255<>0,登録済データ!S255,\"\")","v":""},{"$f":"IF(登録済データ!$B255<>0,登録済データ!T255,\"\")","v":""},{"$f":"IF(登録済データ!$B255<>0,登録済データ!U255,\"\")","v":""},{"$f":"IF(登録済データ!$B255<>0,登録済データ!V255,\"\")","v":""},{"$f":"IF(登録済データ!$B255<>0,登録済データ!W255,\"\")","v":""},{"$f":"IF(登録済データ!$B255<>0,登録済データ!X255,\"\")","v":""},{"$f":"IF($F252<>\"\",登録済データ!$C$4,\"\")","v":""}]
[null,{"$f":"IF($F253<>\"\",登録済データ!$C$2,\"\")","v":""},{"$f":"IF($F253<>\"\",IF($I$1=\"企業コード3桁\",LEFT(登録済データ!$C$3,3),LEFT(登録済データ!$C$3,6)),\"\")","v":""},null,{"$f":"IF(登録済データ!$B256<>0,登録済データ!C256,\"\")","v":""},{"$f":"IF(登録済データ!$B256<>0,登録済データ!D256,\"\")","v":""},{"$f":"IF(登録済データ!$B256<>0,登録済データ!E256,\"\")","v":""},{"$f":"IF(登録済データ!$B256<>0,IF(登録済データ!F256<>\"\",登録済データ!F256,\"\"),\"\")","v":""},{"$f":"IF(登録済データ!$B256<>0,IF(登録済データ!G256<>\"\",登録済データ!G256,\"\"),\"\")","v":""},{"$f":"IF(登録済データ!$B256<>0,IF(登録済データ!H256<>\"\",登録済データ!H256,\"\"),\"\")","v":""},{"$f":"IF(登録済データ!$B256<>0,IF(登録済データ!I256<>\"\",登録済データ!I256,\"\"),\"\")","v":""},{"$f":"IF(登録済データ!$B256<>0,登録済データ!J256,\"\")","v":""},{"$f":"IF(登録済データ!$B256<>0,登録済データ!K256,\"\")","v":""},{"$f":"IF(登録済データ!$B256<>0,登録済データ!L256,\"\")","v":""},{"$f":"IF(登録済データ!$B256<>0,登録済データ!M256,\"\")","v":""},{"$f":"IF(登録済データ!$B256<>0,登録済データ!N256,\"\")","v":""},{"$f":"IF(登録済データ!$B256<>0,登録済データ!O256,\"\")","v":""},{"$f":"IF(登録済データ!$B256<>0,登録済データ!P256,\"\")","v":""},{"$f":"IF(登録済データ!$B256<>0,登録済データ!Q256,\"\")","v":""},{"$f":"IF(登録済データ!$B256<>0,登録済データ!R256,\"\")","v":""},{"$f":"IF(登録済データ!$B256<>0,登録済データ!S256,\"\")","v":""},{"$f":"IF(登録済データ!$B256<>0,登録済データ!T256,\"\")","v":""},{"$f":"IF(登録済データ!$B256<>0,登録済データ!U256,\"\")","v":""},{"$f":"IF(登録済データ!$B256<>0,登録済データ!V256,\"\")","v":""},{"$f":"IF(登録済データ!$B256<>0,登録済データ!W256,\"\")","v":""},{"$f":"IF(登録済データ!$B256<>0,登録済データ!X256,\"\")","v":""},{"$f":"IF($F253<>\"\",登録済データ!$C$4,\"\")","v":""}]
[null,{"$f":"IF($F254<>\"\",登録済データ!$C$2,\"\")","v":""},{"$f":"IF($F254<>\"\",IF($I$1=\"企業コード3桁\",LEFT(登録済データ!$C$3,3),LEFT(登録済データ!$C$3,6)),\"\")","v":""},null,{"$f":"IF(登録済データ!$B257<>0,登録済データ!C257,\"\")","v":""},{"$f":"IF(登録済データ!$B257<>0,登録済データ!D257,\"\")","v":""},{"$f":"IF(登録済データ!$B257<>0,登録済データ!E257,\"\")","v":""},{"$f":"IF(登録済データ!$B257<>0,IF(登録済データ!F257<>\"\",登録済データ!F257,\"\"),\"\")","v":""},{"$f":"IF(登録済データ!$B257<>0,IF(登録済データ!G257<>\"\",登録済データ!G257,\"\"),\"\")","v":""},{"$f":"IF(登録済データ!$B257<>0,IF(登録済データ!H257<>\"\",登録済データ!H257,\"\"),\"\")","v":""},{"$f":"IF(登録済データ!$B257<>0,IF(登録済データ!I257<>\"\",登録済データ!I257,\"\"),\"\")","v":""},{"$f":"IF(登録済データ!$B257<>0,登録済データ!J257,\"\")","v":""},{"$f":"IF(登録済データ!$B257<>0,登録済データ!K257,\"\")","v":""},{"$f":"IF(登録済データ!$B257<>0,登録済データ!L257,\"\")","v":""},{"$f":"IF(登録済データ!$B257<>0,登録済データ!M257,\"\")","v":""},{"$f":"IF(登録済データ!$B257<>0,登録済データ!N257,\"\")","v":""},{"$f":"IF(登録済データ!$B257<>0,登録済データ!O257,\"\")","v":""},{"$f":"IF(登録済データ!$B257<>0,登録済データ!P257,\"\")","v":""},{"$f":"IF(登録済データ!$B257<>0,登録済データ!Q257,\"\")","v":""},{"$f":"IF(登録済データ!$B257<>0,登録済データ!R257,\"\")","v":""},{"$f":"IF(登録済データ!$B257<>0,登録済データ!S257,\"\")","v":""},{"$f":"IF(登録済データ!$B257<>0,登録済データ!T257,\"\")","v":""},{"$f":"IF(登録済データ!$B257<>0,登録済データ!U257,\"\")","v":""},{"$f":"IF(登録済データ!$B257<>0,登録済データ!V257,\"\")","v":""},{"$f":"IF(登録済データ!$B257<>0,登録済データ!W257,\"\")","v":""},{"$f":"IF(登録済データ!$B257<>0,登録済データ!X257,\"\")","v":""},{"$f":"IF($F254<>\"\",登録済データ!$C$4,\"\")","v":""}]
[null,{"$f":"IF($F255<>\"\",登録済データ!$C$2,\"\")","v":""},{"$f":"IF($F255<>\"\",IF($I$1=\"企業コード3桁\",LEFT(登録済データ!$C$3,3),LEFT(登録済データ!$C$3,6)),\"\")","v":""},null,{"$f":"IF(登録済データ!$B258<>0,登録済データ!C258,\"\")","v":""},{"$f":"IF(登録済データ!$B258<>0,登録済データ!D258,\"\")","v":""},{"$f":"IF(登録済データ!$B258<>0,登録済データ!E258,\"\")","v":""},{"$f":"IF(登録済データ!$B258<>0,IF(登録済データ!F258<>\"\",登録済データ!F258,\"\"),\"\")","v":""},{"$f":"IF(登録済データ!$B258<>0,IF(登録済データ!G258<>\"\",登録済データ!G258,\"\"),\"\")","v":""},{"$f":"IF(登録済データ!$B258<>0,IF(登録済データ!H258<>\"\",登録済データ!H258,\"\"),\"\")","v":""},{"$f":"IF(登録済データ!$B258<>0,IF(登録済データ!I258<>\"\",登録済データ!I258,\"\"),\"\")","v":""},{"$f":"IF(登録済データ!$B258<>0,登録済データ!J258,\"\")","v":""},{"$f":"IF(登録済データ!$B258<>0,登録済データ!K258,\"\")","v":""},{"$f":"IF(登録済データ!$B258<>0,登録済データ!L258,\"\")","v":""},{"$f":"IF(登録済データ!$B258<>0,登録済データ!M258,\"\")","v":""},{"$f":"IF(登録済データ!$B258<>0,登録済データ!N258,\"\")","v":""},{"$f":"IF(登録済データ!$B258<>0,登録済データ!O258,\"\")","v":""},{"$f":"IF(登録済データ!$B258<>0,登録済データ!P258,\"\")","v":""},{"$f":"IF(登録済データ!$B258<>0,登録済データ!Q258,\"\")","v":""},{"$f":"IF(登録済データ!$B258<>0,登録済データ!R258,\"\")","v":""},{"$f":"IF(登録済データ!$B258<>0,登録済データ!S258,\"\")","v":""},{"$f":"IF(登録済データ!$B258<>0,登録済データ!T258,\"\")","v":""},{"$f":"IF(登録済データ!$B258<>0,登録済データ!U258,\"\")","v":""},{"$f":"IF(登録済データ!$B258<>0,登録済データ!V258,\"\")","v":""},{"$f":"IF(登録済データ!$B258<>0,登録済データ!W258,\"\")","v":""},{"$f":"IF(登録済データ!$B258<>0,登録済データ!X258,\"\")","v":""},{"$f":"IF($F255<>\"\",登録済データ!$C$4,\"\")","v":""}]
[null,{"$f":"IF($F256<>\"\",登録済データ!$C$2,\"\")","v":""},{"$f":"IF($F256<>\"\",IF($I$1=\"企業コード3桁\",LEFT(登録済データ!$C$3,3),LEFT(登録済データ!$C$3,6)),\"\")","v":""},null,{"$f":"IF(登録済データ!$B259<>0,登録済データ!C259,\"\")","v":""},{"$f":"IF(登録済データ!$B259<>0,登録済データ!D259,\"\")","v":""},{"$f":"IF(登録済データ!$B259<>0,登録済データ!E259,\"\")","v":""},{"$f":"IF(登録済データ!$B259<>0,IF(登録済データ!F259<>\"\",登録済データ!F259,\"\"),\"\")","v":""},{"$f":"IF(登録済データ!$B259<>0,IF(登録済データ!G259<>\"\",登録済データ!G259,\"\"),\"\")","v":""},{"$f":"IF(登録済データ!$B259<>0,IF(登録済データ!H259<>\"\",登録済データ!H259,\"\"),\"\")","v":""},{"$f":"IF(登録済データ!$B259<>0,IF(登録済データ!I259<>\"\",登録済データ!I259,\"\"),\"\")","v":""},{"$f":"IF(登録済データ!$B259<>0,登録済データ!J259,\"\")","v":""},{"$f":"IF(登録済データ!$B259<>0,登録済データ!K259,\"\")","v":""},{"$f":"IF(登録済データ!$B259<>0,登録済データ!L259,\"\")","v":""},{"$f":"IF(登録済データ!$B259<>0,登録済データ!M259,\"\")","v":""},{"$f":"IF(登録済データ!$B259<>0,登録済データ!N259,\"\")","v":""},{"$f":"IF(登録済データ!$B259<>0,登録済データ!O259,\"\")","v":""},{"$f":"IF(登録済データ!$B259<>0,登録済データ!P259,\"\")","v":""},{"$f":"IF(登録済データ!$B259<>0,登録済データ!Q259,\"\")","v":""},{"$f":"IF(登録済データ!$B259<>0,登録済データ!R259,\"\")","v":""},{"$f":"IF(登録済データ!$B259<>0,登録済データ!S259,\"\")","v":""},{"$f":"IF(登録済データ!$B259<>0,登録済データ!T259,\"\")","v":""},{"$f":"IF(登録済データ!$B259<>0,登録済データ!U259,\"\")","v":""},{"$f":"IF(登録済データ!$B259<>0,登録済データ!V259,\"\")","v":""},{"$f":"IF(登録済データ!$B259<>0,登録済データ!W259,\"\")","v":""},{"$f":"IF(登録済データ!$B259<>0,登録済データ!X259,\"\")","v":""},{"$f":"IF($F256<>\"\",登録済データ!$C$4,\"\")","v":""}]
[null,{"$f":"IF($F257<>\"\",登録済データ!$C$2,\"\")","v":""},{"$f":"IF($F257<>\"\",IF($I$1=\"企業コード3桁\",LEFT(登録済データ!$C$3,3),LEFT(登録済データ!$C$3,6)),\"\")","v":""},null,{"$f":"IF(登録済データ!$B260<>0,登録済データ!C260,\"\")","v":""},{"$f":"IF(登録済データ!$B260<>0,登録済データ!D260,\"\")","v":""},{"$f":"IF(登録済データ!$B260<>0,登録済データ!E260,\"\")","v":""},{"$f":"IF(登録済データ!$B260<>0,IF(登録済データ!F260<>\"\",登録済データ!F260,\"\"),\"\")","v":""},{"$f":"IF(登録済データ!$B260<>0,IF(登録済データ!G260<>\"\",登録済データ!G260,\"\"),\"\")","v":""},{"$f":"IF(登録済データ!$B260<>0,IF(登録済データ!H260<>\"\",登録済データ!H260,\"\"),\"\")","v":""},{"$f":"IF(登録済データ!$B260<>0,IF(登録済データ!I260<>\"\",登録済データ!I260,\"\"),\"\")","v":""},{"$f":"IF(登録済データ!$B260<>0,登録済データ!J260,\"\")","v":""},{"$f":"IF(登録済データ!$B260<>0,登録済データ!K260,\"\")","v":""},{"$f":"IF(登録済データ!$B260<>0,登録済データ!L260,\"\")","v":""},{"$f":"IF(登録済データ!$B260<>0,登録済データ!M260,\"\")","v":""},{"$f":"IF(登録済データ!$B260<>0,登録済データ!N260,\"\")","v":""},{"$f":"IF(登録済データ!$B260<>0,登録済データ!O260,\"\")","v":""},{"$f":"IF(登録済データ!$B260<>0,登録済データ!P260,\"\")","v":""},{"$f":"IF(登録済データ!$B260<>0,登録済データ!Q260,\"\")","v":""},{"$f":"IF(登録済データ!$B260<>0,登録済データ!R260,\"\")","v":""},{"$f":"IF(登録済データ!$B260<>0,登録済データ!S260,\"\")","v":""},{"$f":"IF(登録済データ!$B260<>0,登録済データ!T260,\"\")","v":""},{"$f":"IF(登録済データ!$B260<>0,登録済データ!U260,\"\")","v":""},{"$f":"IF(登録済データ!$B260<>0,登録済データ!V260,\"\")","v":""},{"$f":"IF(登録済データ!$B260<>0,登録済データ!W260,\"\")","v":""},{"$f":"IF(登録済データ!$B260<>0,登録済データ!X260,\"\")","v":""},{"$f":"IF($F257<>\"\",登録済データ!$C$4,\"\")","v":""}]
[null,{"$f":"IF($F258<>\"\",登録済データ!$C$2,\"\")","v":""},{"$f":"IF($F258<>\"\",IF($I$1=\"企業コード3桁\",LEFT(登録済データ!$C$3,3),LEFT(登録済データ!$C$3,6)),\"\")","v":""},null,{"$f":"IF(登録済データ!$B261<>0,登録済データ!C261,\"\")","v":""},{"$f":"IF(登録済データ!$B261<>0,登録済データ!D261,\"\")","v":""},{"$f":"IF(登録済データ!$B261<>0,登録済データ!E261,\"\")","v":""},{"$f":"IF(登録済データ!$B261<>0,IF(登録済データ!F261<>\"\",登録済データ!F261,\"\"),\"\")","v":""},{"$f":"IF(登録済データ!$B261<>0,IF(登録済データ!G261<>\"\",登録済データ!G261,\"\"),\"\")","v":""},{"$f":"IF(登録済データ!$B261<>0,IF(登録済データ!H261<>\"\",登録済データ!H261,\"\"),\"\")","v":""},{"$f":"IF(登録済データ!$B261<>0,IF(登録済データ!I261<>\"\",登録済データ!I261,\"\"),\"\")","v":""},{"$f":"IF(登録済データ!$B261<>0,登録済データ!J261,\"\")","v":""},{"$f":"IF(登録済データ!$B261<>0,登録済データ!K261,\"\")","v":""},{"$f":"IF(登録済データ!$B261<>0,登録済データ!L261,\"\")","v":""},{"$f":"IF(登録済データ!$B261<>0,登録済データ!M261,\"\")","v":""},{"$f":"IF(登録済データ!$B261<>0,登録済データ!N261,\"\")","v":""},{"$f":"IF(登録済データ!$B261<>0,登録済データ!O261,\"\")","v":""},{"$f":"IF(登録済データ!$B261<>0,登録済データ!P261,\"\")","v":""},{"$f":"IF(登録済データ!$B261<>0,登録済データ!Q261,\"\")","v":""},{"$f":"IF(登録済データ!$B261<>0,登録済データ!R261,\"\")","v":""},{"$f":"IF(登録済データ!$B261<>0,登録済データ!S261,\"\")","v":""},{"$f":"IF(登録済データ!$B261<>0,登録済データ!T261,\"\")","v":""},{"$f":"IF(登録済データ!$B261<>0,登録済データ!U261,\"\")","v":""},{"$f":"IF(登録済データ!$B261<>0,登録済データ!V261,\"\")","v":""},{"$f":"IF(登録済データ!$B261<>0,登録済データ!W261,\"\")","v":""},{"$f":"IF(登録済データ!$B261<>0,登録済データ!X261,\"\")","v":""},{"$f":"IF($F258<>\"\",登録済データ!$C$4,\"\")","v":""}]
[null,{"$f":"IF($F259<>\"\",登録済データ!$C$2,\"\")","v":""},{"$f":"IF($F259<>\"\",IF($I$1=\"企業コード3桁\",LEFT(登録済データ!$C$3,3),LEFT(登録済データ!$C$3,6)),\"\")","v":""},null,{"$f":"IF(登録済データ!$B262<>0,登録済データ!C262,\"\")","v":""},{"$f":"IF(登録済データ!$B262<>0,登録済データ!D262,\"\")","v":""},{"$f":"IF(登録済データ!$B262<>0,登録済データ!E262,\"\")","v":""},{"$f":"IF(登録済データ!$B262<>0,IF(登録済データ!F262<>\"\",登録済データ!F262,\"\"),\"\")","v":""},{"$f":"IF(登録済データ!$B262<>0,IF(登録済データ!G262<>\"\",登録済データ!G262,\"\"),\"\")","v":""},{"$f":"IF(登録済データ!$B262<>0,IF(登録済データ!H262<>\"\",登録済データ!H262,\"\"),\"\")","v":""},{"$f":"IF(登録済データ!$B262<>0,IF(登録済データ!I262<>\"\",登録済データ!I262,\"\"),\"\")","v":""},{"$f":"IF(登録済データ!$B262<>0,登録済データ!J262,\"\")","v":""},{"$f":"IF(登録済データ!$B262<>0,登録済データ!K262,\"\")","v":""},{"$f":"IF(登録済データ!$B262<>0,登録済データ!L262,\"\")","v":""},{"$f":"IF(登録済データ!$B262<>0,登録済データ!M262,\"\")","v":""},{"$f":"IF(登録済データ!$B262<>0,登録済データ!N262,\"\")","v":""},{"$f":"IF(登録済データ!$B262<>0,登録済データ!O262,\"\")","v":""},{"$f":"IF(登録済データ!$B262<>0,登録済データ!P262,\"\")","v":""},{"$f":"IF(登録済データ!$B262<>0,登録済データ!Q262,\"\")","v":""},{"$f":"IF(登録済データ!$B262<>0,登録済データ!R262,\"\")","v":""},{"$f":"IF(登録済データ!$B262<>0,登録済データ!S262,\"\")","v":""},{"$f":"IF(登録済データ!$B262<>0,登録済データ!T262,\"\")","v":""},{"$f":"IF(登録済データ!$B262<>0,登録済データ!U262,\"\")","v":""},{"$f":"IF(登録済データ!$B262<>0,登録済データ!V262,\"\")","v":""},{"$f":"IF(登録済データ!$B262<>0,登録済データ!W262,\"\")","v":""},{"$f":"IF(登録済データ!$B262<>0,登録済データ!X262,\"\")","v":""},{"$f":"IF($F259<>\"\",登録済データ!$C$4,\"\")","v":""}]
[null,{"$f":"IF($F260<>\"\",登録済データ!$C$2,\"\")","v":""},{"$f":"IF($F260<>\"\",IF($I$1=\"企業コード3桁\",LEFT(登録済データ!$C$3,3),LEFT(登録済データ!$C$3,6)),\"\")","v":""},null,{"$f":"IF(登録済データ!$B263<>0,登録済データ!C263,\"\")","v":""},{"$f":"IF(登録済データ!$B263<>0,登録済データ!D263,\"\")","v":""},{"$f":"IF(登録済データ!$B263<>0,登録済データ!E263,\"\")","v":""},{"$f":"IF(登録済データ!$B263<>0,IF(登録済データ!F263<>\"\",登録済データ!F263,\"\"),\"\")","v":""},{"$f":"IF(登録済データ!$B263<>0,IF(登録済データ!G263<>\"\",登録済データ!G263,\"\"),\"\")","v":""},{"$f":"IF(登録済データ!$B263<>0,IF(登録済データ!H263<>\"\",登録済データ!H263,\"\"),\"\")","v":""},{"$f":"IF(登録済データ!$B263<>0,IF(登録済データ!I263<>\"\",登録済データ!I263,\"\"),\"\")","v":""},{"$f":"IF(登録済データ!$B263<>0,登録済データ!J263,\"\")","v":""},{"$f":"IF(登録済データ!$B263<>0,登録済データ!K263,\"\")","v":""},{"$f":"IF(登録済データ!$B263<>0,登録済データ!L263,\"\")","v":""},{"$f":"IF(登録済データ!$B263<>0,登録済データ!M263,\"\")","v":""},{"$f":"IF(登録済データ!$B263<>0,登録済データ!N263,\"\")","v":""},{"$f":"IF(登録済データ!$B263<>0,登録済データ!O263,\"\")","v":""},{"$f":"IF(登録済データ!$B263<>0,登録済データ!P263,\"\")","v":""},{"$f":"IF(登録済データ!$B263<>0,登録済データ!Q263,\"\")","v":""},{"$f":"IF(登録済データ!$B263<>0,登録済データ!R263,\"\")","v":""},{"$f":"IF(登録済データ!$B263<>0,登録済データ!S263,\"\")","v":""},{"$f":"IF(登録済データ!$B263<>0,登録済データ!T263,\"\")","v":""},{"$f":"IF(登録済データ!$B263<>0,登録済データ!U263,\"\")","v":""},{"$f":"IF(登録済データ!$B263<>0,登録済データ!V263,\"\")","v":""},{"$f":"IF(登録済データ!$B263<>0,登録済データ!W263,\"\")","v":""},{"$f":"IF(登録済データ!$B263<>0,登録済データ!X263,\"\")","v":""},{"$f":"IF($F260<>\"\",登録済データ!$C$4,\"\")","v":""}]
[null,{"$f":"IF($F261<>\"\",登録済データ!$C$2,\"\")","v":""},{"$f":"IF($F261<>\"\",IF($I$1=\"企業コード3桁\",LEFT(登録済データ!$C$3,3),LEFT(登録済データ!$C$3,6)),\"\")","v":""},null,{"$f":"IF(登録済データ!$B264<>0,登録済データ!C264,\"\")","v":""},{"$f":"IF(登録済データ!$B264<>0,登録済データ!D264,\"\")","v":""},{"$f":"IF(登録済データ!$B264<>0,登録済データ!E264,\"\")","v":""},{"$f":"IF(登録済データ!$B264<>0,IF(登録済データ!F264<>\"\",登録済データ!F264,\"\"),\"\")","v":""},{"$f":"IF(登録済データ!$B264<>0,IF(登録済データ!G264<>\"\",登録済データ!G264,\"\"),\"\")","v":""},{"$f":"IF(登録済データ!$B264<>0,IF(登録済データ!H264<>\"\",登録済データ!H264,\"\"),\"\")","v":""},{"$f":"IF(登録済データ!$B264<>0,IF(登録済データ!I264<>\"\",登録済データ!I264,\"\"),\"\")","v":""},{"$f":"IF(登録済データ!$B264<>0,登録済データ!J264,\"\")","v":""},{"$f":"IF(登録済データ!$B264<>0,登録済データ!K264,\"\")","v":""},{"$f":"IF(登録済データ!$B264<>0,登録済データ!L264,\"\")","v":""},{"$f":"IF(登録済データ!$B264<>0,登録済データ!M264,\"\")","v":""},{"$f":"IF(登録済データ!$B264<>0,登録済データ!N264,\"\")","v":""},{"$f":"IF(登録済データ!$B264<>0,登録済データ!O264,\"\")","v":""},{"$f":"IF(登録済データ!$B264<>0,登録済データ!P264,\"\")","v":""},{"$f":"IF(登録済データ!$B264<>0,登録済データ!Q264,\"\")","v":""},{"$f":"IF(登録済データ!$B264<>0,登録済データ!R264,\"\")","v":""},{"$f":"IF(登録済データ!$B264<>0,登録済データ!S264,\"\")","v":""},{"$f":"IF(登録済データ!$B264<>0,登録済データ!T264,\"\")","v":""},{"$f":"IF(登録済データ!$B264<>0,登録済データ!U264,\"\")","v":""},{"$f":"IF(登録済データ!$B264<>0,登録済データ!V264,\"\")","v":""},{"$f":"IF(登録済データ!$B264<>0,登録済データ!W264,\"\")","v":""},{"$f":"IF(登録済データ!$B264<>0,登録済データ!X264,\"\")","v":""},{"$f":"IF($F261<>\"\",登録済データ!$C$4,\"\")","v":""}]
[null,{"$f":"IF($F262<>\"\",登録済データ!$C$2,\"\")","v":""},{"$f":"IF($F262<>\"\",IF($I$1=\"企業コード3桁\",LEFT(登録済データ!$C$3,3),LEFT(登録済データ!$C$3,6)),\"\")","v":""},null,{"$f":"IF(登録済データ!$B265<>0,登録済データ!C265,\"\")","v":""},{"$f":"IF(登録済データ!$B265<>0,登録済データ!D265,\"\")","v":""},{"$f":"IF(登録済データ!$B265<>0,登録済データ!E265,\"\")","v":""},{"$f":"IF(登録済データ!$B265<>0,IF(登録済データ!F265<>\"\",登録済データ!F265,\"\"),\"\")","v":""},{"$f":"IF(登録済データ!$B265<>0,IF(登録済データ!G265<>\"\",登録済データ!G265,\"\"),\"\")","v":""},{"$f":"IF(登録済データ!$B265<>0,IF(登録済データ!H265<>\"\",登録済データ!H265,\"\"),\"\")","v":""},{"$f":"IF(登録済データ!$B265<>0,IF(登録済データ!I265<>\"\",登録済データ!I265,\"\"),\"\")","v":""},{"$f":"IF(登録済データ!$B265<>0,登録済データ!J265,\"\")","v":""},{"$f":"IF(登録済データ!$B265<>0,登録済データ!K265,\"\")","v":""},{"$f":"IF(登録済データ!$B265<>0,登録済データ!L265,\"\")","v":""},{"$f":"IF(登録済データ!$B265<>0,登録済データ!M265,\"\")","v":""},{"$f":"IF(登録済データ!$B265<>0,登録済データ!N265,\"\")","v":""},{"$f":"IF(登録済データ!$B265<>0,登録済データ!O265,\"\")","v":""},{"$f":"IF(登録済データ!$B265<>0,登録済データ!P265,\"\")","v":""},{"$f":"IF(登録済データ!$B265<>0,登録済データ!Q265,\"\")","v":""},{"$f":"IF(登録済データ!$B265<>0,登録済データ!R265,\"\")","v":""},{"$f":"IF(登録済データ!$B265<>0,登録済データ!S265,\"\")","v":""},{"$f":"IF(登録済データ!$B265<>0,登録済データ!T265,\"\")","v":""},{"$f":"IF(登録済データ!$B265<>0,登録済データ!U265,\"\")","v":""},{"$f":"IF(登録済データ!$B265<>0,登録済データ!V265,\"\")","v":""},{"$f":"IF(登録済データ!$B265<>0,登録済データ!W265,\"\")","v":""},{"$f":"IF(登録済データ!$B265<>0,登録済データ!X265,\"\")","v":""},{"$f":"IF($F262<>\"\",登録済データ!$C$4,\"\")","v":""}]
[null,{"$f":"IF($F263<>\"\",登録済データ!$C$2,\"\")","v":""},{"$f":"IF($F263<>\"\",IF($I$1=\"企業コード3桁\",LEFT(登録済データ!$C$3,3),LEFT(登録済データ!$C$3,6)),\"\")","v":""},null,{"$f":"IF(登録済データ!$B266<>0,登録済データ!C266,\"\")","v":""},{"$f":"IF(登録済データ!$B266<>0,登録済データ!D266,\"\")","v":""},{"$f":"IF(登録済データ!$B266<>0,登録済データ!E266,\"\")","v":""},{"$f":"IF(登録済データ!$B266<>0,IF(登録済データ!F266<>\"\",登録済データ!F266,\"\"),\"\")","v":""},{"$f":"IF(登録済データ!$B266<>0,IF(登録済データ!G266<>\"\",登録済データ!G266,\"\"),\"\")","v":""},{"$f":"IF(登録済データ!$B266<>0,IF(登録済データ!H266<>\"\",登録済データ!H266,\"\"),\"\")","v":""},{"$f":"IF(登録済データ!$B266<>0,IF(登録済データ!I266<>\"\",登録済データ!I266,\"\"),\"\")","v":""},{"$f":"IF(登録済データ!$B266<>0,登録済データ!J266,\"\")","v":""},{"$f":"IF(登録済データ!$B266<>0,登録済データ!K266,\"\")","v":""},{"$f":"IF(登録済データ!$B266<>0,登録済データ!L266,\"\")","v":""},{"$f":"IF(登録済データ!$B266<>0,登録済データ!M266,\"\")","v":""},{"$f":"IF(登録済データ!$B266<>0,登録済データ!N266,\"\")","v":""},{"$f":"IF(登録済データ!$B266<>0,登録済データ!O266,\"\")","v":""},{"$f":"IF(登録済データ!$B266<>0,登録済データ!P266,\"\")","v":""},{"$f":"IF(登録済データ!$B266<>0,登録済データ!Q266,\"\")","v":""},{"$f":"IF(登録済データ!$B266<>0,登録済データ!R266,\"\")","v":""},{"$f":"IF(登録済データ!$B266<>0,登録済データ!S266,\"\")","v":""},{"$f":"IF(登録済データ!$B266<>0,登録済データ!T266,\"\")","v":""},{"$f":"IF(登録済データ!$B266<>0,登録済データ!U266,\"\")","v":""},{"$f":"IF(登録済データ!$B266<>0,登録済データ!V266,\"\")","v":""},{"$f":"IF(登録済データ!$B266<>0,登録済データ!W266,\"\")","v":""},{"$f":"IF(登録済データ!$B266<>0,登録済データ!X266,\"\")","v":""},{"$f":"IF($F263<>\"\",登録済データ!$C$4,\"\")","v":""}]
[null,{"$f":"IF($F264<>\"\",登録済データ!$C$2,\"\")","v":""},{"$f":"IF($F264<>\"\",IF($I$1=\"企業コード3桁\",LEFT(登録済データ!$C$3,3),LEFT(登録済データ!$C$3,6)),\"\")","v":""},null,{"$f":"IF(登録済データ!$B267<>0,登録済データ!C267,\"\")","v":""},{"$f":"IF(登録済データ!$B267<>0,登録済データ!D267,\"\")","v":""},{"$f":"IF(登録済データ!$B267<>0,登録済データ!E267,\"\")","v":""},{"$f":"IF(登録済データ!$B267<>0,IF(登録済データ!F267<>\"\",登録済データ!F267,\"\"),\"\")","v":""},{"$f":"IF(登録済データ!$B267<>0,IF(登録済データ!G267<>\"\",登録済データ!G267,\"\"),\"\")","v":""},{"$f":"IF(登録済データ!$B267<>0,IF(登録済データ!H267<>\"\",登録済データ!H267,\"\"),\"\")","v":""},{"$f":"IF(登録済データ!$B267<>0,IF(登録済データ!I267<>\"\",登録済データ!I267,\"\"),\"\")","v":""},{"$f":"IF(登録済データ!$B267<>0,登録済データ!J267,\"\")","v":""},{"$f":"IF(登録済データ!$B267<>0,登録済データ!K267,\"\")","v":""},{"$f":"IF(登録済データ!$B267<>0,登録済データ!L267,\"\")","v":""},{"$f":"IF(登録済データ!$B267<>0,登録済データ!M267,\"\")","v":""},{"$f":"IF(登録済データ!$B267<>0,登録済データ!N267,\"\")","v":""},{"$f":"IF(登録済データ!$B267<>0,登録済データ!O267,\"\")","v":""},{"$f":"IF(登録済データ!$B267<>0,登録済データ!P267,\"\")","v":""},{"$f":"IF(登録済データ!$B267<>0,登録済データ!Q267,\"\")","v":""},{"$f":"IF(登録済データ!$B267<>0,登録済データ!R267,\"\")","v":""},{"$f":"IF(登録済データ!$B267<>0,登録済データ!S267,\"\")","v":""},{"$f":"IF(登録済データ!$B267<>0,登録済データ!T267,\"\")","v":""},{"$f":"IF(登録済データ!$B267<>0,登録済データ!U267,\"\")","v":""},{"$f":"IF(登録済データ!$B267<>0,登録済データ!V267,\"\")","v":""},{"$f":"IF(登録済データ!$B267<>0,登録済データ!W267,\"\")","v":""},{"$f":"IF(登録済データ!$B267<>0,登録済データ!X267,\"\")","v":""},{"$f":"IF($F264<>\"\",登録済データ!$C$4,\"\")","v":""}]
[null,{"$f":"IF($F265<>\"\",登録済データ!$C$2,\"\")","v":""},{"$f":"IF($F265<>\"\",IF($I$1=\"企業コード3桁\",LEFT(登録済データ!$C$3,3),LEFT(登録済データ!$C$3,6)),\"\")","v":""},null,{"$f":"IF(登録済データ!$B268<>0,登録済データ!C268,\"\")","v":""},{"$f":"IF(登録済データ!$B268<>0,登録済データ!D268,\"\")","v":""},{"$f":"IF(登録済データ!$B268<>0,登録済データ!E268,\"\")","v":""},{"$f":"IF(登録済データ!$B268<>0,IF(登録済データ!F268<>\"\",登録済データ!F268,\"\"),\"\")","v":""},{"$f":"IF(登録済データ!$B268<>0,IF(登録済データ!G268<>\"\",登録済データ!G268,\"\"),\"\")","v":""},{"$f":"IF(登録済データ!$B268<>0,IF(登録済データ!H268<>\"\",登録済データ!H268,\"\"),\"\")","v":""},{"$f":"IF(登録済データ!$B268<>0,IF(登録済データ!I268<>\"\",登録済データ!I268,\"\"),\"\")","v":""},{"$f":"IF(登録済データ!$B268<>0,登録済データ!J268,\"\")","v":""},{"$f":"IF(登録済データ!$B268<>0,登録済データ!K268,\"\")","v":""},{"$f":"IF(登録済データ!$B268<>0,登録済データ!L268,\"\")","v":""},{"$f":"IF(登録済データ!$B268<>0,登録済データ!M268,\"\")","v":""},{"$f":"IF(登録済データ!$B268<>0,登録済データ!N268,\"\")","v":""},{"$f":"IF(登録済データ!$B268<>0,登録済データ!O268,\"\")","v":""},{"$f":"IF(登録済データ!$B268<>0,登録済データ!P268,\"\")","v":""},{"$f":"IF(登録済データ!$B268<>0,登録済データ!Q268,\"\")","v":""},{"$f":"IF(登録済データ!$B268<>0,登録済データ!R268,\"\")","v":""},{"$f":"IF(登録済データ!$B268<>0,登録済データ!S268,\"\")","v":""},{"$f":"IF(登録済データ!$B268<>0,登録済データ!T268,\"\")","v":""},{"$f":"IF(登録済データ!$B268<>0,登録済データ!U268,\"\")","v":""},{"$f":"IF(登録済データ!$B268<>0,登録済データ!V268,\"\")","v":""},{"$f":"IF(登録済データ!$B268<>0,登録済データ!W268,\"\")","v":""},{"$f":"IF(登録済データ!$B268<>0,登録済データ!X268,\"\")","v":""},{"$f":"IF($F265<>\"\",登録済データ!$C$4,\"\")","v":""}]
[null,{"$f":"IF($F266<>\"\",登録済データ!$C$2,\"\")","v":""},{"$f":"IF($F266<>\"\",IF($I$1=\"企業コード3桁\",LEFT(登録済データ!$C$3,3),LEFT(登録済データ!$C$3,6)),\"\")","v":""},null,{"$f":"IF(登録済データ!$B269<>0,登録済データ!C269,\"\")","v":""},{"$f":"IF(登録済データ!$B269<>0,登録済データ!D269,\"\")","v":""},{"$f":"IF(登録済データ!$B269<>0,登録済データ!E269,\"\")","v":""},{"$f":"IF(登録済データ!$B269<>0,IF(登録済データ!F269<>\"\",登録済データ!F269,\"\"),\"\")","v":""},{"$f":"IF(登録済データ!$B269<>0,IF(登録済データ!G269<>\"\",登録済データ!G269,\"\"),\"\")","v":""},{"$f":"IF(登録済データ!$B269<>0,IF(登録済データ!H269<>\"\",登録済データ!H269,\"\"),\"\")","v":""},{"$f":"IF(登録済データ!$B269<>0,IF(登録済データ!I269<>\"\",登録済データ!I269,\"\"),\"\")","v":""},{"$f":"IF(登録済データ!$B269<>0,登録済データ!J269,\"\")","v":""},{"$f":"IF(登録済データ!$B269<>0,登録済データ!K269,\"\")","v":""},{"$f":"IF(登録済データ!$B269<>0,登録済データ!L269,\"\")","v":""},{"$f":"IF(登録済データ!$B269<>0,登録済データ!M269,\"\")","v":""},{"$f":"IF(登録済データ!$B269<>0,登録済データ!N269,\"\")","v":""},{"$f":"IF(登録済データ!$B269<>0,登録済データ!O269,\"\")","v":""},{"$f":"IF(登録済データ!$B269<>0,登録済データ!P269,\"\")","v":""},{"$f":"IF(登録済データ!$B269<>0,登録済データ!Q269,\"\")","v":""},{"$f":"IF(登録済データ!$B269<>0,登録済データ!R269,\"\")","v":""},{"$f":"IF(登録済データ!$B269<>0,登録済データ!S269,\"\")","v":""},{"$f":"IF(登録済データ!$B269<>0,登録済データ!T269,\"\")","v":""},{"$f":"IF(登録済データ!$B269<>0,登録済データ!U269,\"\")","v":""},{"$f":"IF(登録済データ!$B269<>0,登録済データ!V269,\"\")","v":""},{"$f":"IF(登録済データ!$B269<>0,登録済データ!W269,\"\")","v":""},{"$f":"IF(登録済データ!$B269<>0,登録済データ!X269,\"\")","v":""},{"$f":"IF($F266<>\"\",登録済データ!$C$4,\"\")","v":""}]
[null,{"$f":"IF($F267<>\"\",登録済データ!$C$2,\"\")","v":""},{"$f":"IF($F267<>\"\",IF($I$1=\"企業コード3桁\",LEFT(登録済データ!$C$3,3),LEFT(登録済データ!$C$3,6)),\"\")","v":""},null,{"$f":"IF(登録済データ!$B270<>0,登録済データ!C270,\"\")","v":""},{"$f":"IF(登録済データ!$B270<>0,登録済データ!D270,\"\")","v":""},{"$f":"IF(登録済データ!$B270<>0,登録済データ!E270,\"\")","v":""},{"$f":"IF(登録済データ!$B270<>0,IF(登録済データ!F270<>\"\",登録済データ!F270,\"\"),\"\")","v":""},{"$f":"IF(登録済データ!$B270<>0,IF(登録済データ!G270<>\"\",登録済データ!G270,\"\"),\"\")","v":""},{"$f":"IF(登録済データ!$B270<>0,IF(登録済データ!H270<>\"\",登録済データ!H270,\"\"),\"\")","v":""},{"$f":"IF(登録済データ!$B270<>0,IF(登録済データ!I270<>\"\",登録済データ!I270,\"\"),\"\")","v":""},{"$f":"IF(登録済データ!$B270<>0,登録済データ!J270,\"\")","v":""},{"$f":"IF(登録済データ!$B270<>0,登録済データ!K270,\"\")","v":""},{"$f":"IF(登録済データ!$B270<>0,登録済データ!L270,\"\")","v":""},{"$f":"IF(登録済データ!$B270<>0,登録済データ!M270,\"\")","v":""},{"$f":"IF(登録済データ!$B270<>0,登録済データ!N270,\"\")","v":""},{"$f":"IF(登録済データ!$B270<>0,登録済データ!O270,\"\")","v":""},{"$f":"IF(登録済データ!$B270<>0,登録済データ!P270,\"\")","v":""},{"$f":"IF(登録済データ!$B270<>0,登録済データ!Q270,\"\")","v":""},{"$f":"IF(登録済データ!$B270<>0,登録済データ!R270,\"\")","v":""},{"$f":"IF(登録済データ!$B270<>0,登録済データ!S270,\"\")","v":""},{"$f":"IF(登録済データ!$B270<>0,登録済データ!T270,\"\")","v":""},{"$f":"IF(登録済データ!$B270<>0,登録済データ!U270,\"\")","v":""},{"$f":"IF(登録済データ!$B270<>0,登録済データ!V270,\"\")","v":""},{"$f":"IF(登録済データ!$B270<>0,登録済データ!W270,\"\")","v":""},{"$f":"IF(登録済データ!$B270<>0,登録済データ!X270,\"\")","v":""},{"$f":"IF($F267<>\"\",登録済データ!$C$4,\"\")","v":""}]
[null,{"$f":"IF($F268<>\"\",登録済データ!$C$2,\"\")","v":""},{"$f":"IF($F268<>\"\",IF($I$1=\"企業コード3桁\",LEFT(登録済データ!$C$3,3),LEFT(登録済データ!$C$3,6)),\"\")","v":""},null,{"$f":"IF(登録済データ!$B271<>0,登録済データ!C271,\"\")","v":""},{"$f":"IF(登録済データ!$B271<>0,登録済データ!D271,\"\")","v":""},{"$f":"IF(登録済データ!$B271<>0,登録済データ!E271,\"\")","v":""},{"$f":"IF(登録済データ!$B271<>0,IF(登録済データ!F271<>\"\",登録済データ!F271,\"\"),\"\")","v":""},{"$f":"IF(登録済データ!$B271<>0,IF(登録済データ!G271<>\"\",登録済データ!G271,\"\"),\"\")","v":""},{"$f":"IF(登録済データ!$B271<>0,IF(登録済データ!H271<>\"\",登録済データ!H271,\"\"),\"\")","v":""},{"$f":"IF(登録済データ!$B271<>0,IF(登録済データ!I271<>\"\",登録済データ!I271,\"\"),\"\")","v":""},{"$f":"IF(登録済データ!$B271<>0,登録済データ!J271,\"\")","v":""},{"$f":"IF(登録済データ!$B271<>0,登録済データ!K271,\"\")","v":""},{"$f":"IF(登録済データ!$B271<>0,登録済データ!L271,\"\")","v":""},{"$f":"IF(登録済データ!$B271<>0,登録済データ!M271,\"\")","v":""},{"$f":"IF(登録済データ!$B271<>0,登録済データ!N271,\"\")","v":""},{"$f":"IF(登録済データ!$B271<>0,登録済データ!O271,\"\")","v":""},{"$f":"IF(登録済データ!$B271<>0,登録済データ!P271,\"\")","v":""},{"$f":"IF(登録済データ!$B271<>0,登録済データ!Q271,\"\")","v":""},{"$f":"IF(登録済データ!$B271<>0,登録済データ!R271,\"\")","v":""},{"$f":"IF(登録済データ!$B271<>0,登録済データ!S271,\"\")","v":""},{"$f":"IF(登録済データ!$B271<>0,登録済データ!T271,\"\")","v":""},{"$f":"IF(登録済データ!$B271<>0,登録済データ!U271,\"\")","v":""},{"$f":"IF(登録済データ!$B271<>0,登録済データ!V271,\"\")","v":""},{"$f":"IF(登録済データ!$B271<>0,登録済データ!W271,\"\")","v":""},{"$f":"IF(登録済データ!$B271<>0,登録済データ!X271,\"\")","v":""},{"$f":"IF($F268<>\"\",登録済データ!$C$4,\"\")","v":""}]
[null,{"$f":"IF($F269<>\"\",登録済データ!$C$2,\"\")","v":""},{"$f":"IF($F269<>\"\",IF($I$1=\"企業コード3桁\",LEFT(登録済データ!$C$3,3),LEFT(登録済データ!$C$3,6)),\"\")","v":""},null,{"$f":"IF(登録済データ!$B272<>0,登録済データ!C272,\"\")","v":""},{"$f":"IF(登録済データ!$B272<>0,登録済データ!D272,\"\")","v":""},{"$f":"IF(登録済データ!$B272<>0,登録済データ!E272,\"\")","v":""},{"$f":"IF(登録済データ!$B272<>0,IF(登録済データ!F272<>\"\",登録済データ!F272,\"\"),\"\")","v":""},{"$f":"IF(登録済データ!$B272<>0,IF(登録済データ!G272<>\"\",登録済データ!G272,\"\"),\"\")","v":""},{"$f":"IF(登録済データ!$B272<>0,IF(登録済データ!H272<>\"\",登録済データ!H272,\"\"),\"\")","v":""},{"$f":"IF(登録済データ!$B272<>0,IF(登録済データ!I272<>\"\",登録済データ!I272,\"\"),\"\")","v":""},{"$f":"IF(登録済データ!$B272<>0,登録済データ!J272,\"\")","v":""},{"$f":"IF(登録済データ!$B272<>0,登録済データ!K272,\"\")","v":""},{"$f":"IF(登録済データ!$B272<>0,登録済データ!L272,\"\")","v":""},{"$f":"IF(登録済データ!$B272<>0,登録済データ!M272,\"\")","v":""},{"$f":"IF(登録済データ!$B272<>0,登録済データ!N272,\"\")","v":""},{"$f":"IF(登録済データ!$B272<>0,登録済データ!O272,\"\")","v":""},{"$f":"IF(登録済データ!$B272<>0,登録済データ!P272,\"\")","v":""},{"$f":"IF(登録済データ!$B272<>0,登録済データ!Q272,\"\")","v":""},{"$f":"IF(登録済データ!$B272<>0,登録済データ!R272,\"\")","v":""},{"$f":"IF(登録済データ!$B272<>0,登録済データ!S272,\"\")","v":""},{"$f":"IF(登録済データ!$B272<>0,登録済データ!T272,\"\")","v":""},{"$f":"IF(登録済データ!$B272<>0,登録済データ!U272,\"\")","v":""},{"$f":"IF(登録済データ!$B272<>0,登録済データ!V272,\"\")","v":""},{"$f":"IF(登録済データ!$B272<>0,登録済データ!W272,\"\")","v":""},{"$f":"IF(登録済データ!$B272<>0,登録済データ!X272,\"\")","v":""},{"$f":"IF($F269<>\"\",登録済データ!$C$4,\"\")","v":""}]
[null,{"$f":"IF($F270<>\"\",登録済データ!$C$2,\"\")","v":""},{"$f":"IF($F270<>\"\",IF($I$1=\"企業コード3桁\",LEFT(登録済データ!$C$3,3),LEFT(登録済データ!$C$3,6)),\"\")","v":""},null,{"$f":"IF(登録済データ!$B273<>0,登録済データ!C273,\"\")","v":""},{"$f":"IF(登録済データ!$B273<>0,登録済データ!D273,\"\")","v":""},{"$f":"IF(登録済データ!$B273<>0,登録済データ!E273,\"\")","v":""},{"$f":"IF(登録済データ!$B273<>0,IF(登録済データ!F273<>\"\",登録済データ!F273,\"\"),\"\")","v":""},{"$f":"IF(登録済データ!$B273<>0,IF(登録済データ!G273<>\"\",登録済データ!G273,\"\"),\"\")","v":""},{"$f":"IF(登録済データ!$B273<>0,IF(登録済データ!H273<>\"\",登録済データ!H273,\"\"),\"\")","v":""},{"$f":"IF(登録済データ!$B273<>0,IF(登録済データ!I273<>\"\",登録済データ!I273,\"\"),\"\")","v":""},{"$f":"IF(登録済データ!$B273<>0,登録済データ!J273,\"\")","v":""},{"$f":"IF(登録済データ!$B273<>0,登録済データ!K273,\"\")","v":""},{"$f":"IF(登録済データ!$B273<>0,登録済データ!L273,\"\")","v":""},{"$f":"IF(登録済データ!$B273<>0,登録済データ!M273,\"\")","v":""},{"$f":"IF(登録済データ!$B273<>0,登録済データ!N273,\"\")","v":""},{"$f":"IF(登録済データ!$B273<>0,登録済データ!O273,\"\")","v":""},{"$f":"IF(登録済データ!$B273<>0,登録済データ!P273,\"\")","v":""},{"$f":"IF(登録済データ!$B273<>0,登録済データ!Q273,\"\")","v":""},{"$f":"IF(登録済データ!$B273<>0,登録済データ!R273,\"\")","v":""},{"$f":"IF(登録済データ!$B273<>0,登録済データ!S273,\"\")","v":""},{"$f":"IF(登録済データ!$B273<>0,登録済データ!T273,\"\")","v":""},{"$f":"IF(登録済データ!$B273<>0,登録済データ!U273,\"\")","v":""},{"$f":"IF(登録済データ!$B273<>0,登録済データ!V273,\"\")","v":""},{"$f":"IF(登録済データ!$B273<>0,登録済データ!W273,\"\")","v":""},{"$f":"IF(登録済データ!$B273<>0,登録済データ!X273,\"\")","v":""},{"$f":"IF($F270<>\"\",登録済データ!$C$4,\"\")","v":""}]
[null,{"$f":"IF($F271<>\"\",登録済データ!$C$2,\"\")","v":""},{"$f":"IF($F271<>\"\",IF($I$1=\"企業コード3桁\",LEFT(登録済データ!$C$3,3),LEFT(登録済データ!$C$3,6)),\"\")","v":""},null,{"$f":"IF(登録済データ!$B274<>0,登録済データ!C274,\"\")","v":""},{"$f":"IF(登録済データ!$B274<>0,登録済データ!D274,\"\")","v":""},{"$f":"IF(登録済データ!$B274<>0,登録済データ!E274,\"\")","v":""},{"$f":"IF(登録済データ!$B274<>0,IF(登録済データ!F274<>\"\",登録済データ!F274,\"\"),\"\")","v":""},{"$f":"IF(登録済データ!$B274<>0,IF(登録済データ!G274<>\"\",登録済データ!G274,\"\"),\"\")","v":""},{"$f":"IF(登録済データ!$B274<>0,IF(登録済データ!H274<>\"\",登録済データ!H274,\"\"),\"\")","v":""},{"$f":"IF(登録済データ!$B274<>0,IF(登録済データ!I274<>\"\",登録済データ!I274,\"\"),\"\")","v":""},{"$f":"IF(登録済データ!$B274<>0,登録済データ!J274,\"\")","v":""},{"$f":"IF(登録済データ!$B274<>0,登録済データ!K274,\"\")","v":""},{"$f":"IF(登録済データ!$B274<>0,登録済データ!L274,\"\")","v":""},{"$f":"IF(登録済データ!$B274<>0,登録済データ!M274,\"\")","v":""},{"$f":"IF(登録済データ!$B274<>0,登録済データ!N274,\"\")","v":""},{"$f":"IF(登録済データ!$B274<>0,登録済データ!O274,\"\")","v":""},{"$f":"IF(登録済データ!$B274<>0,登録済データ!P274,\"\")","v":""},{"$f":"IF(登録済データ!$B274<>0,登録済データ!Q274,\"\")","v":""},{"$f":"IF(登録済データ!$B274<>0,登録済データ!R274,\"\")","v":""},{"$f":"IF(登録済データ!$B274<>0,登録済データ!S274,\"\")","v":""},{"$f":"IF(登録済データ!$B274<>0,登録済データ!T274,\"\")","v":""},{"$f":"IF(登録済データ!$B274<>0,登録済データ!U274,\"\")","v":""},{"$f":"IF(登録済データ!$B274<>0,登録済データ!V274,\"\")","v":""},{"$f":"IF(登録済データ!$B274<>0,登録済データ!W274,\"\")","v":""},{"$f":"IF(登録済データ!$B274<>0,登録済データ!X274,\"\")","v":""},{"$f":"IF($F271<>\"\",登録済データ!$C$4,\"\")","v":""}]
[null,{"$f":"IF($F272<>\"\",登録済データ!$C$2,\"\")","v":""},{"$f":"IF($F272<>\"\",IF($I$1=\"企業コード3桁\",LEFT(登録済データ!$C$3,3),LEFT(登録済データ!$C$3,6)),\"\")","v":""},null,{"$f":"IF(登録済データ!$B275<>0,登録済データ!C275,\"\")","v":""},{"$f":"IF(登録済データ!$B275<>0,登録済データ!D275,\"\")","v":""},{"$f":"IF(登録済データ!$B275<>0,登録済データ!E275,\"\")","v":""},{"$f":"IF(登録済データ!$B275<>0,IF(登録済データ!F275<>\"\",登録済データ!F275,\"\"),\"\")","v":""},{"$f":"IF(登録済データ!$B275<>0,IF(登録済データ!G275<>\"\",登録済データ!G275,\"\"),\"\")","v":""},{"$f":"IF(登録済データ!$B275<>0,IF(登録済データ!H275<>\"\",登録済データ!H275,\"\"),\"\")","v":""},{"$f":"IF(登録済データ!$B275<>0,IF(登録済データ!I275<>\"\",登録済データ!I275,\"\"),\"\")","v":""},{"$f":"IF(登録済データ!$B275<>0,登録済データ!J275,\"\")","v":""},{"$f":"IF(登録済データ!$B275<>0,登録済データ!K275,\"\")","v":""},{"$f":"IF(登録済データ!$B275<>0,登録済データ!L275,\"\")","v":""},{"$f":"IF(登録済データ!$B275<>0,登録済データ!M275,\"\")","v":""},{"$f":"IF(登録済データ!$B275<>0,登録済データ!N275,\"\")","v":""},{"$f":"IF(登録済データ!$B275<>0,登録済データ!O275,\"\")","v":""},{"$f":"IF(登録済データ!$B275<>0,登録済データ!P275,\"\")","v":""},{"$f":"IF(登録済データ!$B275<>0,登録済データ!Q275,\"\")","v":""},{"$f":"IF(登録済データ!$B275<>0,登録済データ!R275,\"\")","v":""},{"$f":"IF(登録済データ!$B275<>0,登録済データ!S275,\"\")","v":""},{"$f":"IF(登録済データ!$B275<>0,登録済データ!T275,\"\")","v":""},{"$f":"IF(登録済データ!$B275<>0,登録済データ!U275,\"\")","v":""},{"$f":"IF(登録済データ!$B275<>0,登録済データ!V275,\"\")","v":""},{"$f":"IF(登録済データ!$B275<>0,登録済データ!W275,\"\")","v":""},{"$f":"IF(登録済データ!$B275<>0,登録済データ!X275,\"\")","v":""},{"$f":"IF($F272<>\"\",登録済データ!$C$4,\"\")","v":""}]
[null,{"$f":"IF($F273<>\"\",登録済データ!$C$2,\"\")","v":""},{"$f":"IF($F273<>\"\",IF($I$1=\"企業コード3桁\",LEFT(登録済データ!$C$3,3),LEFT(登録済データ!$C$3,6)),\"\")","v":""},null,{"$f":"IF(登録済データ!$B276<>0,登録済データ!C276,\"\")","v":""},{"$f":"IF(登録済データ!$B276<>0,登録済データ!D276,\"\")","v":""},{"$f":"IF(登録済データ!$B276<>0,登録済データ!E276,\"\")","v":""},{"$f":"IF(登録済データ!$B276<>0,IF(登録済データ!F276<>\"\",登録済データ!F276,\"\"),\"\")","v":""},{"$f":"IF(登録済データ!$B276<>0,IF(登録済データ!G276<>\"\",登録済データ!G276,\"\"),\"\")","v":""},{"$f":"IF(登録済データ!$B276<>0,IF(登録済データ!H276<>\"\",登録済データ!H276,\"\"),\"\")","v":""},{"$f":"IF(登録済データ!$B276<>0,IF(登録済データ!I276<>\"\",登録済データ!I276,\"\"),\"\")","v":""},{"$f":"IF(登録済データ!$B276<>0,登録済データ!J276,\"\")","v":""},{"$f":"IF(登録済データ!$B276<>0,登録済データ!K276,\"\")","v":""},{"$f":"IF(登録済データ!$B276<>0,登録済データ!L276,\"\")","v":""},{"$f":"IF(登録済データ!$B276<>0,登録済データ!M276,\"\")","v":""},{"$f":"IF(登録済データ!$B276<>0,登録済データ!N276,\"\")","v":""},{"$f":"IF(登録済データ!$B276<>0,登録済データ!O276,\"\")","v":""},{"$f":"IF(登録済データ!$B276<>0,登録済データ!P276,\"\")","v":""},{"$f":"IF(登録済データ!$B276<>0,登録済データ!Q276,\"\")","v":""},{"$f":"IF(登録済データ!$B276<>0,登録済データ!R276,\"\")","v":""},{"$f":"IF(登録済データ!$B276<>0,登録済データ!S276,\"\")","v":""},{"$f":"IF(登録済データ!$B276<>0,登録済データ!T276,\"\")","v":""},{"$f":"IF(登録済データ!$B276<>0,登録済データ!U276,\"\")","v":""},{"$f":"IF(登録済データ!$B276<>0,登録済データ!V276,\"\")","v":""},{"$f":"IF(登録済データ!$B276<>0,登録済データ!W276,\"\")","v":""},{"$f":"IF(登録済データ!$B276<>0,登録済データ!X276,\"\")","v":""},{"$f":"IF($F273<>\"\",登録済データ!$C$4,\"\")","v":""}]
[null,{"$f":"IF($F274<>\"\",登録済データ!$C$2,\"\")","v":""},{"$f":"IF($F274<>\"\",IF($I$1=\"企業コード3桁\",LEFT(登録済データ!$C$3,3),LEFT(登録済データ!$C$3,6)),\"\")","v":""},null,{"$f":"IF(登録済データ!$B277<>0,登録済データ!C277,\"\")","v":""},{"$f":"IF(登録済データ!$B277<>0,登録済データ!D277,\"\")","v":""},{"$f":"IF(登録済データ!$B277<>0,登録済データ!E277,\"\")","v":""},{"$f":"IF(登録済データ!$B277<>0,IF(登録済データ!F277<>\"\",登録済データ!F277,\"\"),\"\")","v":""},{"$f":"IF(登録済データ!$B277<>0,IF(登録済データ!G277<>\"\",登録済データ!G277,\"\"),\"\")","v":""},{"$f":"IF(登録済データ!$B277<>0,IF(登録済データ!H277<>\"\",登録済データ!H277,\"\"),\"\")","v":""},{"$f":"IF(登録済データ!$B277<>0,IF(登録済データ!I277<>\"\",登録済データ!I277,\"\"),\"\")","v":""},{"$f":"IF(登録済データ!$B277<>0,登録済データ!J277,\"\")","v":""},{"$f":"IF(登録済データ!$B277<>0,登録済データ!K277,\"\")","v":""},{"$f":"IF(登録済データ!$B277<>0,登録済データ!L277,\"\")","v":""},{"$f":"IF(登録済データ!$B277<>0,登録済データ!M277,\"\")","v":""},{"$f":"IF(登録済データ!$B277<>0,登録済データ!N277,\"\")","v":""},{"$f":"IF(登録済データ!$B277<>0,登録済データ!O277,\"\")","v":""},{"$f":"IF(登録済データ!$B277<>0,登録済データ!P277,\"\")","v":""},{"$f":"IF(登録済データ!$B277<>0,登録済データ!Q277,\"\")","v":""},{"$f":"IF(登録済データ!$B277<>0,登録済データ!R277,\"\")","v":""},{"$f":"IF(登録済データ!$B277<>0,登録済データ!S277,\"\")","v":""},{"$f":"IF(登録済データ!$B277<>0,登録済データ!T277,\"\")","v":""},{"$f":"IF(登録済データ!$B277<>0,登録済データ!U277,\"\")","v":""},{"$f":"IF(登録済データ!$B277<>0,登録済データ!V277,\"\")","v":""},{"$f":"IF(登録済データ!$B277<>0,登録済データ!W277,\"\")","v":""},{"$f":"IF(登録済データ!$B277<>0,登録済データ!X277,\"\")","v":""},{"$f":"IF($F274<>\"\",登録済データ!$C$4,\"\")","v":""}]
[null,{"$f":"IF($F275<>\"\",登録済データ!$C$2,\"\")","v":""},{"$f":"IF($F275<>\"\",IF($I$1=\"企業コード3桁\",LEFT(登録済データ!$C$3,3),LEFT(登録済データ!$C$3,6)),\"\")","v":""},null,{"$f":"IF(登録済データ!$B278<>0,登録済データ!C278,\"\")","v":""},{"$f":"IF(登録済データ!$B278<>0,登録済データ!D278,\"\")","v":""},{"$f":"IF(登録済データ!$B278<>0,登録済データ!E278,\"\")","v":""},{"$f":"IF(登録済データ!$B278<>0,IF(登録済データ!F278<>\"\",登録済データ!F278,\"\"),\"\")","v":""},{"$f":"IF(登録済データ!$B278<>0,IF(登録済データ!G278<>\"\",登録済データ!G278,\"\"),\"\")","v":""},{"$f":"IF(登録済データ!$B278<>0,IF(登録済データ!H278<>\"\",登録済データ!H278,\"\"),\"\")","v":""},{"$f":"IF(登録済データ!$B278<>0,IF(登録済データ!I278<>\"\",登録済データ!I278,\"\"),\"\")","v":""},{"$f":"IF(登録済データ!$B278<>0,登録済データ!J278,\"\")","v":""},{"$f":"IF(登録済データ!$B278<>0,登録済データ!K278,\"\")","v":""},{"$f":"IF(登録済データ!$B278<>0,登録済データ!L278,\"\")","v":""},{"$f":"IF(登録済データ!$B278<>0,登録済データ!M278,\"\")","v":""},{"$f":"IF(登録済データ!$B278<>0,登録済データ!N278,\"\")","v":""},{"$f":"IF(登録済データ!$B278<>0,登録済データ!O278,\"\")","v":""},{"$f":"IF(登録済データ!$B278<>0,登録済データ!P278,\"\")","v":""},{"$f":"IF(登録済データ!$B278<>0,登録済データ!Q278,\"\")","v":""},{"$f":"IF(登録済データ!$B278<>0,登録済データ!R278,\"\")","v":""},{"$f":"IF(登録済データ!$B278<>0,登録済データ!S278,\"\")","v":""},{"$f":"IF(登録済データ!$B278<>0,登録済データ!T278,\"\")","v":""},{"$f":"IF(登録済データ!$B278<>0,登録済データ!U278,\"\")","v":""},{"$f":"IF(登録済データ!$B278<>0,登録済データ!V278,\"\")","v":""},{"$f":"IF(登録済データ!$B278<>0,登録済データ!W278,\"\")","v":""},{"$f":"IF(登録済データ!$B278<>0,登録済データ!X278,\"\")","v":""},{"$f":"IF($F275<>\"\",登録済データ!$C$4,\"\")","v":""}]
[null,{"$f":"IF($F276<>\"\",登録済データ!$C$2,\"\")","v":""},{"$f":"IF($F276<>\"\",IF($I$1=\"企業コード3桁\",LEFT(登録済データ!$C$3,3),LEFT(登録済データ!$C$3,6)),\"\")","v":""},null,{"$f":"IF(登録済データ!$B279<>0,登録済データ!C279,\"\")","v":""},{"$f":"IF(登録済データ!$B279<>0,登録済データ!D279,\"\")","v":""},{"$f":"IF(登録済データ!$B279<>0,登録済データ!E279,\"\")","v":""},{"$f":"IF(登録済データ!$B279<>0,IF(登録済データ!F279<>\"\",登録済データ!F279,\"\"),\"\")","v":""},{"$f":"IF(登録済データ!$B279<>0,IF(登録済データ!G279<>\"\",登録済データ!G279,\"\"),\"\")","v":""},{"$f":"IF(登録済データ!$B279<>0,IF(登録済データ!H279<>\"\",登録済データ!H279,\"\"),\"\")","v":""},{"$f":"IF(登録済データ!$B279<>0,IF(登録済データ!I279<>\"\",登録済データ!I279,\"\"),\"\")","v":""},{"$f":"IF(登録済データ!$B279<>0,登録済データ!J279,\"\")","v":""},{"$f":"IF(登録済データ!$B279<>0,登録済データ!K279,\"\")","v":""},{"$f":"IF(登録済データ!$B279<>0,登録済データ!L279,\"\")","v":""},{"$f":"IF(登録済データ!$B279<>0,登録済データ!M279,\"\")","v":""},{"$f":"IF(登録済データ!$B279<>0,登録済データ!N279,\"\")","v":""},{"$f":"IF(登録済データ!$B279<>0,登録済データ!O279,\"\")","v":""},{"$f":"IF(登録済データ!$B279<>0,登録済データ!P279,\"\")","v":""},{"$f":"IF(登録済データ!$B279<>0,登録済データ!Q279,\"\")","v":""},{"$f":"IF(登録済データ!$B279<>0,登録済データ!R279,\"\")","v":""},{"$f":"IF(登録済データ!$B279<>0,登録済データ!S279,\"\")","v":""},{"$f":"IF(登録済データ!$B279<>0,登録済データ!T279,\"\")","v":""},{"$f":"IF(登録済データ!$B279<>0,登録済データ!U279,\"\")","v":""},{"$f":"IF(登録済データ!$B279<>0,登録済データ!V279,\"\")","v":""},{"$f":"IF(登録済データ!$B279<>0,登録済データ!W279,\"\")","v":""},{"$f":"IF(登録済データ!$B279<>0,登録済データ!X279,\"\")","v":""},{"$f":"IF($F276<>\"\",登録済データ!$C$4,\"\")","v":""}]
[null,{"$f":"IF($F277<>\"\",登録済データ!$C$2,\"\")","v":""},{"$f":"IF($F277<>\"\",IF($I$1=\"企業コード3桁\",LEFT(登録済データ!$C$3,3),LEFT(登録済データ!$C$3,6)),\"\")","v":""},null,{"$f":"IF(登録済データ!$B280<>0,登録済データ!C280,\"\")","v":""},{"$f":"IF(登録済データ!$B280<>0,登録済データ!D280,\"\")","v":""},{"$f":"IF(登録済データ!$B280<>0,登録済データ!E280,\"\")","v":""},{"$f":"IF(登録済データ!$B280<>0,IF(登録済データ!F280<>\"\",登録済データ!F280,\"\"),\"\")","v":""},{"$f":"IF(登録済データ!$B280<>0,IF(登録済データ!G280<>\"\",登録済データ!G280,\"\"),\"\")","v":""},{"$f":"IF(登録済データ!$B280<>0,IF(登録済データ!H280<>\"\",登録済データ!H280,\"\"),\"\")","v":""},{"$f":"IF(登録済データ!$B280<>0,IF(登録済データ!I280<>\"\",登録済データ!I280,\"\"),\"\")","v":""},{"$f":"IF(登録済データ!$B280<>0,登録済データ!J280,\"\")","v":""},{"$f":"IF(登録済データ!$B280<>0,登録済データ!K280,\"\")","v":""},{"$f":"IF(登録済データ!$B280<>0,登録済データ!L280,\"\")","v":""},{"$f":"IF(登録済データ!$B280<>0,登録済データ!M280,\"\")","v":""},{"$f":"IF(登録済データ!$B280<>0,登録済データ!N280,\"\")","v":""},{"$f":"IF(登録済データ!$B280<>0,登録済データ!O280,\"\")","v":""},{"$f":"IF(登録済データ!$B280<>0,登録済データ!P280,\"\")","v":""},{"$f":"IF(登録済データ!$B280<>0,登録済データ!Q280,\"\")","v":""},{"$f":"IF(登録済データ!$B280<>0,登録済データ!R280,\"\")","v":""},{"$f":"IF(登録済データ!$B280<>0,登録済データ!S280,\"\")","v":""},{"$f":"IF(登録済データ!$B280<>0,登録済データ!T280,\"\")","v":""},{"$f":"IF(登録済データ!$B280<>0,登録済データ!U280,\"\")","v":""},{"$f":"IF(登録済データ!$B280<>0,登録済データ!V280,\"\")","v":""},{"$f":"IF(登録済データ!$B280<>0,登録済データ!W280,\"\")","v":""},{"$f":"IF(登録済データ!$B280<>0,登録済データ!X280,\"\")","v":""},{"$f":"IF($F277<>\"\",登録済データ!$C$4,\"\")","v":""}]
[null,{"$f":"IF($F278<>\"\",登録済データ!$C$2,\"\")","v":""},{"$f":"IF($F278<>\"\",IF($I$1=\"企業コード3桁\",LEFT(登録済データ!$C$3,3),LEFT(登録済データ!$C$3,6)),\"\")","v":""},null,{"$f":"IF(登録済データ!$B281<>0,登録済データ!C281,\"\")","v":""},{"$f":"IF(登録済データ!$B281<>0,登録済データ!D281,\"\")","v":""},{"$f":"IF(登録済データ!$B281<>0,登録済データ!E281,\"\")","v":""},{"$f":"IF(登録済データ!$B281<>0,IF(登録済データ!F281<>\"\",登録済データ!F281,\"\"),\"\")","v":""},{"$f":"IF(登録済データ!$B281<>0,IF(登録済データ!G281<>\"\",登録済データ!G281,\"\"),\"\")","v":""},{"$f":"IF(登録済データ!$B281<>0,IF(登録済データ!H281<>\"\",登録済データ!H281,\"\"),\"\")","v":""},{"$f":"IF(登録済データ!$B281<>0,IF(登録済データ!I281<>\"\",登録済データ!I281,\"\"),\"\")","v":""},{"$f":"IF(登録済データ!$B281<>0,登録済データ!J281,\"\")","v":""},{"$f":"IF(登録済データ!$B281<>0,登録済データ!K281,\"\")","v":""},{"$f":"IF(登録済データ!$B281<>0,登録済データ!L281,\"\")","v":""},{"$f":"IF(登録済データ!$B281<>0,登録済データ!M281,\"\")","v":""},{"$f":"IF(登録済データ!$B281<>0,登録済データ!N281,\"\")","v":""},{"$f":"IF(登録済データ!$B281<>0,登録済データ!O281,\"\")","v":""},{"$f":"IF(登録済データ!$B281<>0,登録済データ!P281,\"\")","v":""},{"$f":"IF(登録済データ!$B281<>0,登録済データ!Q281,\"\")","v":""},{"$f":"IF(登録済データ!$B281<>0,登録済データ!R281,\"\")","v":""},{"$f":"IF(登録済データ!$B281<>0,登録済データ!S281,\"\")","v":""},{"$f":"IF(登録済データ!$B281<>0,登録済データ!T281,\"\")","v":""},{"$f":"IF(登録済データ!$B281<>0,登録済データ!U281,\"\")","v":""},{"$f":"IF(登録済データ!$B281<>0,登録済データ!V281,\"\")","v":""},{"$f":"IF(登録済データ!$B281<>0,登録済データ!W281,\"\")","v":""},{"$f":"IF(登録済データ!$B281<>0,登録済データ!X281,\"\")","v":""},{"$f":"IF($F278<>\"\",登録済データ!$C$4,\"\")","v":""}]
[null,{"$f":"IF($F279<>\"\",登録済データ!$C$2,\"\")","v":""},{"$f":"IF($F279<>\"\",IF($I$1=\"企業コード3桁\",LEFT(登録済データ!$C$3,3),LEFT(登録済データ!$C$3,6)),\"\")","v":""},null,{"$f":"IF(登録済データ!$B282<>0,登録済データ!C282,\"\")","v":""},{"$f":"IF(登録済データ!$B282<>0,登録済データ!D282,\"\")","v":""},{"$f":"IF(登録済データ!$B282<>0,登録済データ!E282,\"\")","v":""},{"$f":"IF(登録済データ!$B282<>0,IF(登録済データ!F282<>\"\",登録済データ!F282,\"\"),\"\")","v":""},{"$f":"IF(登録済データ!$B282<>0,IF(登録済データ!G282<>\"\",登録済データ!G282,\"\"),\"\")","v":""},{"$f":"IF(登録済データ!$B282<>0,IF(登録済データ!H282<>\"\",登録済データ!H282,\"\"),\"\")","v":""},{"$f":"IF(登録済データ!$B282<>0,IF(登録済データ!I282<>\"\",登録済データ!I282,\"\"),\"\")","v":""},{"$f":"IF(登録済データ!$B282<>0,登録済データ!J282,\"\")","v":""},{"$f":"IF(登録済データ!$B282<>0,登録済データ!K282,\"\")","v":""},{"$f":"IF(登録済データ!$B282<>0,登録済データ!L282,\"\")","v":""},{"$f":"IF(登録済データ!$B282<>0,登録済データ!M282,\"\")","v":""},{"$f":"IF(登録済データ!$B282<>0,登録済データ!N282,\"\")","v":""},{"$f":"IF(登録済データ!$B282<>0,登録済データ!O282,\"\")","v":""},{"$f":"IF(登録済データ!$B282<>0,登録済データ!P282,\"\")","v":""},{"$f":"IF(登録済データ!$B282<>0,登録済データ!Q282,\"\")","v":""},{"$f":"IF(登録済データ!$B282<>0,登録済データ!R282,\"\")","v":""},{"$f":"IF(登録済データ!$B282<>0,登録済データ!S282,\"\")","v":""},{"$f":"IF(登録済データ!$B282<>0,登録済データ!T282,\"\")","v":""},{"$f":"IF(登録済データ!$B282<>0,登録済データ!U282,\"\")","v":""},{"$f":"IF(登録済データ!$B282<>0,登録済データ!V282,\"\")","v":""},{"$f":"IF(登録済データ!$B282<>0,登録済データ!W282,\"\")","v":""},{"$f":"IF(登録済データ!$B282<>0,登録済データ!X282,\"\")","v":""},{"$f":"IF($F279<>\"\",登録済データ!$C$4,\"\")","v":""}]
[null,{"$f":"IF($F280<>\"\",登録済データ!$C$2,\"\")","v":""},{"$f":"IF($F280<>\"\",IF($I$1=\"企業コード3桁\",LEFT(登録済データ!$C$3,3),LEFT(登録済データ!$C$3,6)),\"\")","v":""},null,{"$f":"IF(登録済データ!$B283<>0,登録済データ!C283,\"\")","v":""},{"$f":"IF(登録済データ!$B283<>0,登録済データ!D283,\"\")","v":""},{"$f":"IF(登録済データ!$B283<>0,登録済データ!E283,\"\")","v":""},{"$f":"IF(登録済データ!$B283<>0,IF(登録済データ!F283<>\"\",登録済データ!F283,\"\"),\"\")","v":""},{"$f":"IF(登録済データ!$B283<>0,IF(登録済データ!G283<>\"\",登録済データ!G283,\"\"),\"\")","v":""},{"$f":"IF(登録済データ!$B283<>0,IF(登録済データ!H283<>\"\",登録済データ!H283,\"\"),\"\")","v":""},{"$f":"IF(登録済データ!$B283<>0,IF(登録済データ!I283<>\"\",登録済データ!I283,\"\"),\"\")","v":""},{"$f":"IF(登録済データ!$B283<>0,登録済データ!J283,\"\")","v":""},{"$f":"IF(登録済データ!$B283<>0,登録済データ!K283,\"\")","v":""},{"$f":"IF(登録済データ!$B283<>0,登録済データ!L283,\"\")","v":""},{"$f":"IF(登録済データ!$B283<>0,登録済データ!M283,\"\")","v":""},{"$f":"IF(登録済データ!$B283<>0,登録済データ!N283,\"\")","v":""},{"$f":"IF(登録済データ!$B283<>0,登録済データ!O283,\"\")","v":""},{"$f":"IF(登録済データ!$B283<>0,登録済データ!P283,\"\")","v":""},{"$f":"IF(登録済データ!$B283<>0,登録済データ!Q283,\"\")","v":""},{"$f":"IF(登録済データ!$B283<>0,登録済データ!R283,\"\")","v":""},{"$f":"IF(登録済データ!$B283<>0,登録済データ!S283,\"\")","v":""},{"$f":"IF(登録済データ!$B283<>0,登録済データ!T283,\"\")","v":""},{"$f":"IF(登録済データ!$B283<>0,登録済データ!U283,\"\")","v":""},{"$f":"IF(登録済データ!$B283<>0,登録済データ!V283,\"\")","v":""},{"$f":"IF(登録済データ!$B283<>0,登録済データ!W283,\"\")","v":""},{"$f":"IF(登録済データ!$B283<>0,登録済データ!X283,\"\")","v":""},{"$f":"IF($F280<>\"\",登録済データ!$C$4,\"\")","v":""}]
[null,{"$f":"IF($F281<>\"\",登録済データ!$C$2,\"\")","v":""},{"$f":"IF($F281<>\"\",IF($I$1=\"企業コード3桁\",LEFT(登録済データ!$C$3,3),LEFT(登録済データ!$C$3,6)),\"\")","v":""},null,{"$f":"IF(登録済データ!$B284<>0,登録済データ!C284,\"\")","v":""},{"$f":"IF(登録済データ!$B284<>0,登録済データ!D284,\"\")","v":""},{"$f":"IF(登録済データ!$B284<>0,登録済データ!E284,\"\")","v":""},{"$f":"IF(登録済データ!$B284<>0,IF(登録済データ!F284<>\"\",登録済データ!F284,\"\"),\"\")","v":""},{"$f":"IF(登録済データ!$B284<>0,IF(登録済データ!G284<>\"\",登録済データ!G284,\"\"),\"\")","v":""},{"$f":"IF(登録済データ!$B284<>0,IF(登録済データ!H284<>\"\",登録済データ!H284,\"\"),\"\")","v":""},{"$f":"IF(登録済データ!$B284<>0,IF(登録済データ!I284<>\"\",登録済データ!I284,\"\"),\"\")","v":""},{"$f":"IF(登録済データ!$B284<>0,登録済データ!J284,\"\")","v":""},{"$f":"IF(登録済データ!$B284<>0,登録済データ!K284,\"\")","v":""},{"$f":"IF(登録済データ!$B284<>0,登録済データ!L284,\"\")","v":""},{"$f":"IF(登録済データ!$B284<>0,登録済データ!M284,\"\")","v":""},{"$f":"IF(登録済データ!$B284<>0,登録済データ!N284,\"\")","v":""},{"$f":"IF(登録済データ!$B284<>0,登録済データ!O284,\"\")","v":""},{"$f":"IF(登録済データ!$B284<>0,登録済データ!P284,\"\")","v":""},{"$f":"IF(登録済データ!$B284<>0,登録済データ!Q284,\"\")","v":""},{"$f":"IF(登録済データ!$B284<>0,登録済データ!R284,\"\")","v":""},{"$f":"IF(登録済データ!$B284<>0,登録済データ!S284,\"\")","v":""},{"$f":"IF(登録済データ!$B284<>0,登録済データ!T284,\"\")","v":""},{"$f":"IF(登録済データ!$B284<>0,登録済データ!U284,\"\")","v":""},{"$f":"IF(登録済データ!$B284<>0,登録済データ!V284,\"\")","v":""},{"$f":"IF(登録済データ!$B284<>0,登録済データ!W284,\"\")","v":""},{"$f":"IF(登録済データ!$B284<>0,登録済データ!X284,\"\")","v":""},{"$f":"IF($F281<>\"\",登録済データ!$C$4,\"\")","v":""}]
[null,{"$f":"IF($F282<>\"\",登録済データ!$C$2,\"\")","v":""},{"$f":"IF($F282<>\"\",IF($I$1=\"企業コード3桁\",LEFT(登録済データ!$C$3,3),LEFT(登録済データ!$C$3,6)),\"\")","v":""},null,{"$f":"IF(登録済データ!$B285<>0,登録済データ!C285,\"\")","v":""},{"$f":"IF(登録済データ!$B285<>0,登録済データ!D285,\"\")","v":""},{"$f":"IF(登録済データ!$B285<>0,登録済データ!E285,\"\")","v":""},{"$f":"IF(登録済データ!$B285<>0,IF(登録済データ!F285<>\"\",登録済データ!F285,\"\"),\"\")","v":""},{"$f":"IF(登録済データ!$B285<>0,IF(登録済データ!G285<>\"\",登録済データ!G285,\"\"),\"\")","v":""},{"$f":"IF(登録済データ!$B285<>0,IF(登録済データ!H285<>\"\",登録済データ!H285,\"\"),\"\")","v":""},{"$f":"IF(登録済データ!$B285<>0,IF(登録済データ!I285<>\"\",登録済データ!I285,\"\"),\"\")","v":""},{"$f":"IF(登録済データ!$B285<>0,登録済データ!J285,\"\")","v":""},{"$f":"IF(登録済データ!$B285<>0,登録済データ!K285,\"\")","v":""},{"$f":"IF(登録済データ!$B285<>0,登録済データ!L285,\"\")","v":""},{"$f":"IF(登録済データ!$B285<>0,登録済データ!M285,\"\")","v":""},{"$f":"IF(登録済データ!$B285<>0,登録済データ!N285,\"\")","v":""},{"$f":"IF(登録済データ!$B285<>0,登録済データ!O285,\"\")","v":""},{"$f":"IF(登録済データ!$B285<>0,登録済データ!P285,\"\")","v":""},{"$f":"IF(登録済データ!$B285<>0,登録済データ!Q285,\"\")","v":""},{"$f":"IF(登録済データ!$B285<>0,登録済データ!R285,\"\")","v":""},{"$f":"IF(登録済データ!$B285<>0,登録済データ!S285,\"\")","v":""},{"$f":"IF(登録済データ!$B285<>0,登録済データ!T285,\"\")","v":""},{"$f":"IF(登録済データ!$B285<>0,登録済データ!U285,\"\")","v":""},{"$f":"IF(登録済データ!$B285<>0,登録済データ!V285,\"\")","v":""},{"$f":"IF(登録済データ!$B285<>0,登録済データ!W285,\"\")","v":""},{"$f":"IF(登録済データ!$B285<>0,登録済データ!X285,\"\")","v":""},{"$f":"IF($F282<>\"\",登録済データ!$C$4,\"\")","v":""}]
[null,{"$f":"IF($F283<>\"\",登録済データ!$C$2,\"\")","v":""},{"$f":"IF($F283<>\"\",IF($I$1=\"企業コード3桁\",LEFT(登録済データ!$C$3,3),LEFT(登録済データ!$C$3,6)),\"\")","v":""},null,{"$f":"IF(登録済データ!$B286<>0,登録済データ!C286,\"\")","v":""},{"$f":"IF(登録済データ!$B286<>0,登録済データ!D286,\"\")","v":""},{"$f":"IF(登録済データ!$B286<>0,登録済データ!E286,\"\")","v":""},{"$f":"IF(登録済データ!$B286<>0,IF(登録済データ!F286<>\"\",登録済データ!F286,\"\"),\"\")","v":""},{"$f":"IF(登録済データ!$B286<>0,IF(登録済データ!G286<>\"\",登録済データ!G286,\"\"),\"\")","v":""},{"$f":"IF(登録済データ!$B286<>0,IF(登録済データ!H286<>\"\",登録済データ!H286,\"\"),\"\")","v":""},{"$f":"IF(登録済データ!$B286<>0,IF(登録済データ!I286<>\"\",登録済データ!I286,\"\"),\"\")","v":""},{"$f":"IF(登録済データ!$B286<>0,登録済データ!J286,\"\")","v":""},{"$f":"IF(登録済データ!$B286<>0,登録済データ!K286,\"\")","v":""},{"$f":"IF(登録済データ!$B286<>0,登録済データ!L286,\"\")","v":""},{"$f":"IF(登録済データ!$B286<>0,登録済データ!M286,\"\")","v":""},{"$f":"IF(登録済データ!$B286<>0,登録済データ!N286,\"\")","v":""},{"$f":"IF(登録済データ!$B286<>0,登録済データ!O286,\"\")","v":""},{"$f":"IF(登録済データ!$B286<>0,登録済データ!P286,\"\")","v":""},{"$f":"IF(登録済データ!$B286<>0,登録済データ!Q286,\"\")","v":""},{"$f":"IF(登録済データ!$B286<>0,登録済データ!R286,\"\")","v":""},{"$f":"IF(登録済データ!$B286<>0,登録済データ!S286,\"\")","v":""},{"$f":"IF(登録済データ!$B286<>0,登録済データ!T286,\"\")","v":""},{"$f":"IF(登録済データ!$B286<>0,登録済データ!U286,\"\")","v":""},{"$f":"IF(登録済データ!$B286<>0,登録済データ!V286,\"\")","v":""},{"$f":"IF(登録済データ!$B286<>0,登録済データ!W286,\"\")","v":""},{"$f":"IF(登録済データ!$B286<>0,登録済データ!X286,\"\")","v":""},{"$f":"IF($F283<>\"\",登録済データ!$C$4,\"\")","v":""}]
[null,{"$f":"IF($F284<>\"\",登録済データ!$C$2,\"\")","v":""},{"$f":"IF($F284<>\"\",IF($I$1=\"企業コード3桁\",LEFT(登録済データ!$C$3,3),LEFT(登録済データ!$C$3,6)),\"\")","v":""},null,{"$f":"IF(登録済データ!$B287<>0,登録済データ!C287,\"\")","v":""},{"$f":"IF(登録済データ!$B287<>0,登録済データ!D287,\"\")","v":""},{"$f":"IF(登録済データ!$B287<>0,登録済データ!E287,\"\")","v":""},{"$f":"IF(登録済データ!$B287<>0,IF(登録済データ!F287<>\"\",登録済データ!F287,\"\"),\"\")","v":""},{"$f":"IF(登録済データ!$B287<>0,IF(登録済データ!G287<>\"\",登録済データ!G287,\"\"),\"\")","v":""},{"$f":"IF(登録済データ!$B287<>0,IF(登録済データ!H287<>\"\",登録済データ!H287,\"\"),\"\")","v":""},{"$f":"IF(登録済データ!$B287<>0,IF(登録済データ!I287<>\"\",登録済データ!I287,\"\"),\"\")","v":""},{"$f":"IF(登録済データ!$B287<>0,登録済データ!J287,\"\")","v":""},{"$f":"IF(登録済データ!$B287<>0,登録済データ!K287,\"\")","v":""},{"$f":"IF(登録済データ!$B287<>0,登録済データ!L287,\"\")","v":""},{"$f":"IF(登録済データ!$B287<>0,登録済データ!M287,\"\")","v":""},{"$f":"IF(登録済データ!$B287<>0,登録済データ!N287,\"\")","v":""},{"$f":"IF(登録済データ!$B287<>0,登録済データ!O287,\"\")","v":""},{"$f":"IF(登録済データ!$B287<>0,登録済データ!P287,\"\")","v":""},{"$f":"IF(登録済データ!$B287<>0,登録済データ!Q287,\"\")","v":""},{"$f":"IF(登録済データ!$B287<>0,登録済データ!R287,\"\")","v":""},{"$f":"IF(登録済データ!$B287<>0,登録済データ!S287,\"\")","v":""},{"$f":"IF(登録済データ!$B287<>0,登録済データ!T287,\"\")","v":""},{"$f":"IF(登録済データ!$B287<>0,登録済データ!U287,\"\")","v":""},{"$f":"IF(登録済データ!$B287<>0,登録済データ!V287,\"\")","v":""},{"$f":"IF(登録済データ!$B287<>0,登録済データ!W287,\"\")","v":""},{"$f":"IF(登録済データ!$B287<>0,登録済データ!X287,\"\")","v":""},{"$f":"IF($F284<>\"\",登録済データ!$C$4,\"\")","v":""}]
[null,{"$f":"IF($F285<>\"\",登録済データ!$C$2,\"\")","v":""},{"$f":"IF($F285<>\"\",IF($I$1=\"企業コード3桁\",LEFT(登録済データ!$C$3,3),LEFT(登録済データ!$C$3,6)),\"\")","v":""},null,{"$f":"IF(登録済データ!$B288<>0,登録済データ!C288,\"\")","v":""},{"$f":"IF(登録済データ!$B288<>0,登録済データ!D288,\"\")","v":""},{"$f":"IF(登録済データ!$B288<>0,登録済データ!E288,\"\")","v":""},{"$f":"IF(登録済データ!$B288<>0,IF(登録済データ!F288<>\"\",登録済データ!F288,\"\"),\"\")","v":""},{"$f":"IF(登録済データ!$B288<>0,IF(登録済データ!G288<>\"\",登録済データ!G288,\"\"),\"\")","v":""},{"$f":"IF(登録済データ!$B288<>0,IF(登録済データ!H288<>\"\",登録済データ!H288,\"\"),\"\")","v":""},{"$f":"IF(登録済データ!$B288<>0,IF(登録済データ!I288<>\"\",登録済データ!I288,\"\"),\"\")","v":""},{"$f":"IF(登録済データ!$B288<>0,登録済データ!J288,\"\")","v":""},{"$f":"IF(登録済データ!$B288<>0,登録済データ!K288,\"\")","v":""},{"$f":"IF(登録済データ!$B288<>0,登録済データ!L288,\"\")","v":""},{"$f":"IF(登録済データ!$B288<>0,登録済データ!M288,\"\")","v":""},{"$f":"IF(登録済データ!$B288<>0,登録済データ!N288,\"\")","v":""},{"$f":"IF(登録済データ!$B288<>0,登録済データ!O288,\"\")","v":""},{"$f":"IF(登録済データ!$B288<>0,登録済データ!P288,\"\")","v":""},{"$f":"IF(登録済データ!$B288<>0,登録済データ!Q288,\"\")","v":""},{"$f":"IF(登録済データ!$B288<>0,登録済データ!R288,\"\")","v":""},{"$f":"IF(登録済データ!$B288<>0,登録済データ!S288,\"\")","v":""},{"$f":"IF(登録済データ!$B288<>0,登録済データ!T288,\"\")","v":""},{"$f":"IF(登録済データ!$B288<>0,登録済データ!U288,\"\")","v":""},{"$f":"IF(登録済データ!$B288<>0,登録済データ!V288,\"\")","v":""},{"$f":"IF(登録済データ!$B288<>0,登録済データ!W288,\"\")","v":""},{"$f":"IF(登録済データ!$B288<>0,登録済データ!X288,\"\")","v":""},{"$f":"IF($F285<>\"\",登録済データ!$C$4,\"\")","v":""}]
[null,{"$f":"IF($F286<>\"\",登録済データ!$C$2,\"\")","v":""},{"$f":"IF($F286<>\"\",IF($I$1=\"企業コード3桁\",LEFT(登録済データ!$C$3,3),LEFT(登録済データ!$C$3,6)),\"\")","v":""},null,{"$f":"IF(登録済データ!$B289<>0,登録済データ!C289,\"\")","v":""},{"$f":"IF(登録済データ!$B289<>0,登録済データ!D289,\"\")","v":""},{"$f":"IF(登録済データ!$B289<>0,登録済データ!E289,\"\")","v":""},{"$f":"IF(登録済データ!$B289<>0,IF(登録済データ!F289<>\"\",登録済データ!F289,\"\"),\"\")","v":""},{"$f":"IF(登録済データ!$B289<>0,IF(登録済データ!G289<>\"\",登録済データ!G289,\"\"),\"\")","v":""},{"$f":"IF(登録済データ!$B289<>0,IF(登録済データ!H289<>\"\",登録済データ!H289,\"\"),\"\")","v":""},{"$f":"IF(登録済データ!$B289<>0,IF(登録済データ!I289<>\"\",登録済データ!I289,\"\"),\"\")","v":""},{"$f":"IF(登録済データ!$B289<>0,登録済データ!J289,\"\")","v":""},{"$f":"IF(登録済データ!$B289<>0,登録済データ!K289,\"\")","v":""},{"$f":"IF(登録済データ!$B289<>0,登録済データ!L289,\"\")","v":""},{"$f":"IF(登録済データ!$B289<>0,登録済データ!M289,\"\")","v":""},{"$f":"IF(登録済データ!$B289<>0,登録済データ!N289,\"\")","v":""},{"$f":"IF(登録済データ!$B289<>0,登録済データ!O289,\"\")","v":""},{"$f":"IF(登録済データ!$B289<>0,登録済データ!P289,\"\")","v":""},{"$f":"IF(登録済データ!$B289<>0,登録済データ!Q289,\"\")","v":""},{"$f":"IF(登録済データ!$B289<>0,登録済データ!R289,\"\")","v":""},{"$f":"IF(登録済データ!$B289<>0,登録済データ!S289,\"\")","v":""},{"$f":"IF(登録済データ!$B289<>0,登録済データ!T289,\"\")","v":""},{"$f":"IF(登録済データ!$B289<>0,登録済データ!U289,\"\")","v":""},{"$f":"IF(登録済データ!$B289<>0,登録済データ!V289,\"\")","v":""},{"$f":"IF(登録済データ!$B289<>0,登録済データ!W289,\"\")","v":""},{"$f":"IF(登録済データ!$B289<>0,登録済データ!X289,\"\")","v":""},{"$f":"IF($F286<>\"\",登録済データ!$C$4,\"\")","v":""}]
[null,{"$f":"IF($F287<>\"\",登録済データ!$C$2,\"\")","v":""},{"$f":"IF($F287<>\"\",IF($I$1=\"企業コード3桁\",LEFT(登録済データ!$C$3,3),LEFT(登録済データ!$C$3,6)),\"\")","v":""},null,{"$f":"IF(登録済データ!$B290<>0,登録済データ!C290,\"\")","v":""},{"$f":"IF(登録済データ!$B290<>0,登録済データ!D290,\"\")","v":""},{"$f":"IF(登録済データ!$B290<>0,登録済データ!E290,\"\")","v":""},{"$f":"IF(登録済データ!$B290<>0,IF(登録済データ!F290<>\"\",登録済データ!F290,\"\"),\"\")","v":""},{"$f":"IF(登録済データ!$B290<>0,IF(登録済データ!G290<>\"\",登録済データ!G290,\"\"),\"\")","v":""},{"$f":"IF(登録済データ!$B290<>0,IF(登録済データ!H290<>\"\",登録済データ!H290,\"\"),\"\")","v":""},{"$f":"IF(登録済データ!$B290<>0,IF(登録済データ!I290<>\"\",登録済データ!I290,\"\"),\"\")","v":""},{"$f":"IF(登録済データ!$B290<>0,登録済データ!J290,\"\")","v":""},{"$f":"IF(登録済データ!$B290<>0,登録済データ!K290,\"\")","v":""},{"$f":"IF(登録済データ!$B290<>0,登録済データ!L290,\"\")","v":""},{"$f":"IF(登録済データ!$B290<>0,登録済データ!M290,\"\")","v":""},{"$f":"IF(登録済データ!$B290<>0,登録済データ!N290,\"\")","v":""},{"$f":"IF(登録済データ!$B290<>0,登録済データ!O290,\"\")","v":""},{"$f":"IF(登録済データ!$B290<>0,登録済データ!P290,\"\")","v":""},{"$f":"IF(登録済データ!$B290<>0,登録済データ!Q290,\"\")","v":""},{"$f":"IF(登録済データ!$B290<>0,登録済データ!R290,\"\")","v":""},{"$f":"IF(登録済データ!$B290<>0,登録済データ!S290,\"\")","v":""},{"$f":"IF(登録済データ!$B290<>0,登録済データ!T290,\"\")","v":""},{"$f":"IF(登録済データ!$B290<>0,登録済データ!U290,\"\")","v":""},{"$f":"IF(登録済データ!$B290<>0,登録済データ!V290,\"\")","v":""},{"$f":"IF(登録済データ!$B290<>0,登録済データ!W290,\"\")","v":""},{"$f":"IF(登録済データ!$B290<>0,登録済データ!X290,\"\")","v":""},{"$f":"IF($F287<>\"\",登録済データ!$C$4,\"\")","v":""}]
[null,{"$f":"IF($F288<>\"\",登録済データ!$C$2,\"\")","v":""},{"$f":"IF($F288<>\"\",IF($I$1=\"企業コード3桁\",LEFT(登録済データ!$C$3,3),LEFT(登録済データ!$C$3,6)),\"\")","v":""},null,{"$f":"IF(登録済データ!$B291<>0,登録済データ!C291,\"\")","v":""},{"$f":"IF(登録済データ!$B291<>0,登録済データ!D291,\"\")","v":""},{"$f":"IF(登録済データ!$B291<>0,登録済データ!E291,\"\")","v":""},{"$f":"IF(登録済データ!$B291<>0,IF(登録済データ!F291<>\"\",登録済データ!F291,\"\"),\"\")","v":""},{"$f":"IF(登録済データ!$B291<>0,IF(登録済データ!G291<>\"\",登録済データ!G291,\"\"),\"\")","v":""},{"$f":"IF(登録済データ!$B291<>0,IF(登録済データ!H291<>\"\",登録済データ!H291,\"\"),\"\")","v":""},{"$f":"IF(登録済データ!$B291<>0,IF(登録済データ!I291<>\"\",登録済データ!I291,\"\"),\"\")","v":""},{"$f":"IF(登録済データ!$B291<>0,登録済データ!J291,\"\")","v":""},{"$f":"IF(登録済データ!$B291<>0,登録済データ!K291,\"\")","v":""},{"$f":"IF(登録済データ!$B291<>0,登録済データ!L291,\"\")","v":""},{"$f":"IF(登録済データ!$B291<>0,登録済データ!M291,\"\")","v":""},{"$f":"IF(登録済データ!$B291<>0,登録済データ!N291,\"\")","v":""},{"$f":"IF(登録済データ!$B291<>0,登録済データ!O291,\"\")","v":""},{"$f":"IF(登録済データ!$B291<>0,登録済データ!P291,\"\")","v":""},{"$f":"IF(登録済データ!$B291<>0,登録済データ!Q291,\"\")","v":""},{"$f":"IF(登録済データ!$B291<>0,登録済データ!R291,\"\")","v":""},{"$f":"IF(登録済データ!$B291<>0,登録済データ!S291,\"\")","v":""},{"$f":"IF(登録済データ!$B291<>0,登録済データ!T291,\"\")","v":""},{"$f":"IF(登録済データ!$B291<>0,登録済データ!U291,\"\")","v":""},{"$f":"IF(登録済データ!$B291<>0,登録済データ!V291,\"\")","v":""},{"$f":"IF(登録済データ!$B291<>0,登録済データ!W291,\"\")","v":""},{"$f":"IF(登録済データ!$B291<>0,登録済データ!X291,\"\")","v":""},{"$f":"IF($F288<>\"\",登録済データ!$C$4,\"\")","v":""}]
[null,{"$f":"IF($F289<>\"\",登録済データ!$C$2,\"\")","v":""},{"$f":"IF($F289<>\"\",IF($I$1=\"企業コード3桁\",LEFT(登録済データ!$C$3,3),LEFT(登録済データ!$C$3,6)),\"\")","v":""},null,{"$f":"IF(登録済データ!$B292<>0,登録済データ!C292,\"\")","v":""},{"$f":"IF(登録済データ!$B292<>0,登録済データ!D292,\"\")","v":""},{"$f":"IF(登録済データ!$B292<>0,登録済データ!E292,\"\")","v":""},{"$f":"IF(登録済データ!$B292<>0,IF(登録済データ!F292<>\"\",登録済データ!F292,\"\"),\"\")","v":""},{"$f":"IF(登録済データ!$B292<>0,IF(登録済データ!G292<>\"\",登録済データ!G292,\"\"),\"\")","v":""},{"$f":"IF(登録済データ!$B292<>0,IF(登録済データ!H292<>\"\",登録済データ!H292,\"\"),\"\")","v":""},{"$f":"IF(登録済データ!$B292<>0,IF(登録済データ!I292<>\"\",登録済データ!I292,\"\"),\"\")","v":""},{"$f":"IF(登録済データ!$B292<>0,登録済データ!J292,\"\")","v":""},{"$f":"IF(登録済データ!$B292<>0,登録済データ!K292,\"\")","v":""},{"$f":"IF(登録済データ!$B292<>0,登録済データ!L292,\"\")","v":""},{"$f":"IF(登録済データ!$B292<>0,登録済データ!M292,\"\")","v":""},{"$f":"IF(登録済データ!$B292<>0,登録済データ!N292,\"\")","v":""},{"$f":"IF(登録済データ!$B292<>0,登録済データ!O292,\"\")","v":""},{"$f":"IF(登録済データ!$B292<>0,登録済データ!P292,\"\")","v":""},{"$f":"IF(登録済データ!$B292<>0,登録済データ!Q292,\"\")","v":""},{"$f":"IF(登録済データ!$B292<>0,登録済データ!R292,\"\")","v":""},{"$f":"IF(登録済データ!$B292<>0,登録済データ!S292,\"\")","v":""},{"$f":"IF(登録済データ!$B292<>0,登録済データ!T292,\"\")","v":""},{"$f":"IF(登録済データ!$B292<>0,登録済データ!U292,\"\")","v":""},{"$f":"IF(登録済データ!$B292<>0,登録済データ!V292,\"\")","v":""},{"$f":"IF(登録済データ!$B292<>0,登録済データ!W292,\"\")","v":""},{"$f":"IF(登録済データ!$B292<>0,登録済データ!X292,\"\")","v":""},{"$f":"IF($F289<>\"\",登録済データ!$C$4,\"\")","v":""}]
[null,{"$f":"IF($F290<>\"\",登録済データ!$C$2,\"\")","v":""},{"$f":"IF($F290<>\"\",IF($I$1=\"企業コード3桁\",LEFT(登録済データ!$C$3,3),LEFT(登録済データ!$C$3,6)),\"\")","v":""},null,{"$f":"IF(登録済データ!$B293<>0,登録済データ!C293,\"\")","v":""},{"$f":"IF(登録済データ!$B293<>0,登録済データ!D293,\"\")","v":""},{"$f":"IF(登録済データ!$B293<>0,登録済データ!E293,\"\")","v":""},{"$f":"IF(登録済データ!$B293<>0,IF(登録済データ!F293<>\"\",登録済データ!F293,\"\"),\"\")","v":""},{"$f":"IF(登録済データ!$B293<>0,IF(登録済データ!G293<>\"\",登録済データ!G293,\"\"),\"\")","v":""},{"$f":"IF(登録済データ!$B293<>0,IF(登録済データ!H293<>\"\",登録済データ!H293,\"\"),\"\")","v":""},{"$f":"IF(登録済データ!$B293<>0,IF(登録済データ!I293<>\"\",登録済データ!I293,\"\"),\"\")","v":""},{"$f":"IF(登録済データ!$B293<>0,登録済データ!J293,\"\")","v":""},{"$f":"IF(登録済データ!$B293<>0,登録済データ!K293,\"\")","v":""},{"$f":"IF(登録済データ!$B293<>0,登録済データ!L293,\"\")","v":""},{"$f":"IF(登録済データ!$B293<>0,登録済データ!M293,\"\")","v":""},{"$f":"IF(登録済データ!$B293<>0,登録済データ!N293,\"\")","v":""},{"$f":"IF(登録済データ!$B293<>0,登録済データ!O293,\"\")","v":""},{"$f":"IF(登録済データ!$B293<>0,登録済データ!P293,\"\")","v":""},{"$f":"IF(登録済データ!$B293<>0,登録済データ!Q293,\"\")","v":""},{"$f":"IF(登録済データ!$B293<>0,登録済データ!R293,\"\")","v":""},{"$f":"IF(登録済データ!$B293<>0,登録済データ!S293,\"\")","v":""},{"$f":"IF(登録済データ!$B293<>0,登録済データ!T293,\"\")","v":""},{"$f":"IF(登録済データ!$B293<>0,登録済データ!U293,\"\")","v":""},{"$f":"IF(登録済データ!$B293<>0,登録済データ!V293,\"\")","v":""},{"$f":"IF(登録済データ!$B293<>0,登録済データ!W293,\"\")","v":""},{"$f":"IF(登録済データ!$B293<>0,登録済データ!X293,\"\")","v":""},{"$f":"IF($F290<>\"\",登録済データ!$C$4,\"\")","v":""}]
[null,{"$f":"IF($F291<>\"\",登録済データ!$C$2,\"\")","v":""},{"$f":"IF($F291<>\"\",IF($I$1=\"企業コード3桁\",LEFT(登録済データ!$C$3,3),LEFT(登録済データ!$C$3,6)),\"\")","v":""},null,{"$f":"IF(登録済データ!$B294<>0,登録済データ!C294,\"\")","v":""},{"$f":"IF(登録済データ!$B294<>0,登録済データ!D294,\"\")","v":""},{"$f":"IF(登録済データ!$B294<>0,登録済データ!E294,\"\")","v":""},{"$f":"IF(登録済データ!$B294<>0,IF(登録済データ!F294<>\"\",登録済データ!F294,\"\"),\"\")","v":""},{"$f":"IF(登録済データ!$B294<>0,IF(登録済データ!G294<>\"\",登録済データ!G294,\"\"),\"\")","v":""},{"$f":"IF(登録済データ!$B294<>0,IF(登録済データ!H294<>\"\",登録済データ!H294,\"\"),\"\")","v":""},{"$f":"IF(登録済データ!$B294<>0,IF(登録済データ!I294<>\"\",登録済データ!I294,\"\"),\"\")","v":""},{"$f":"IF(登録済データ!$B294<>0,登録済データ!J294,\"\")","v":""},{"$f":"IF(登録済データ!$B294<>0,登録済データ!K294,\"\")","v":""},{"$f":"IF(登録済データ!$B294<>0,登録済データ!L294,\"\")","v":""},{"$f":"IF(登録済データ!$B294<>0,登録済データ!M294,\"\")","v":""},{"$f":"IF(登録済データ!$B294<>0,登録済データ!N294,\"\")","v":""},{"$f":"IF(登録済データ!$B294<>0,登録済データ!O294,\"\")","v":""},{"$f":"IF(登録済データ!$B294<>0,登録済データ!P294,\"\")","v":""},{"$f":"IF(登録済データ!$B294<>0,登録済データ!Q294,\"\")","v":""},{"$f":"IF(登録済データ!$B294<>0,登録済データ!R294,\"\")","v":""},{"$f":"IF(登録済データ!$B294<>0,登録済データ!S294,\"\")","v":""},{"$f":"IF(登録済データ!$B294<>0,登録済データ!T294,\"\")","v":""},{"$f":"IF(登録済データ!$B294<>0,登録済データ!U294,\"\")","v":""},{"$f":"IF(登録済データ!$B294<>0,登録済データ!V294,\"\")","v":""},{"$f":"IF(登録済データ!$B294<>0,登録済データ!W294,\"\")","v":""},{"$f":"IF(登録済データ!$B294<>0,登録済データ!X294,\"\")","v":""},{"$f":"IF($F291<>\"\",登録済データ!$C$4,\"\")","v":""}]
[null,{"$f":"IF($F292<>\"\",登録済データ!$C$2,\"\")","v":""},{"$f":"IF($F292<>\"\",IF($I$1=\"企業コード3桁\",LEFT(登録済データ!$C$3,3),LEFT(登録済データ!$C$3,6)),\"\")","v":""},null,{"$f":"IF(登録済データ!$B295<>0,登録済データ!C295,\"\")","v":""},{"$f":"IF(登録済データ!$B295<>0,登録済データ!D295,\"\")","v":""},{"$f":"IF(登録済データ!$B295<>0,登録済データ!E295,\"\")","v":""},{"$f":"IF(登録済データ!$B295<>0,IF(登録済データ!F295<>\"\",登録済データ!F295,\"\"),\"\")","v":""},{"$f":"IF(登録済データ!$B295<>0,IF(登録済データ!G295<>\"\",登録済データ!G295,\"\"),\"\")","v":""},{"$f":"IF(登録済データ!$B295<>0,IF(登録済データ!H295<>\"\",登録済データ!H295,\"\"),\"\")","v":""},{"$f":"IF(登録済データ!$B295<>0,IF(登録済データ!I295<>\"\",登録済データ!I295,\"\"),\"\")","v":""},{"$f":"IF(登録済データ!$B295<>0,登録済データ!J295,\"\")","v":""},{"$f":"IF(登録済データ!$B295<>0,登録済データ!K295,\"\")","v":""},{"$f":"IF(登録済データ!$B295<>0,登録済データ!L295,\"\")","v":""},{"$f":"IF(登録済データ!$B295<>0,登録済データ!M295,\"\")","v":""},{"$f":"IF(登録済データ!$B295<>0,登録済データ!N295,\"\")","v":""},{"$f":"IF(登録済データ!$B295<>0,登録済データ!O295,\"\")","v":""},{"$f":"IF(登録済データ!$B295<>0,登録済データ!P295,\"\")","v":""},{"$f":"IF(登録済データ!$B295<>0,登録済データ!Q295,\"\")","v":""},{"$f":"IF(登録済データ!$B295<>0,登録済データ!R295,\"\")","v":""},{"$f":"IF(登録済データ!$B295<>0,登録済データ!S295,\"\")","v":""},{"$f":"IF(登録済データ!$B295<>0,登録済データ!T295,\"\")","v":""},{"$f":"IF(登録済データ!$B295<>0,登録済データ!U295,\"\")","v":""},{"$f":"IF(登録済データ!$B295<>0,登録済データ!V295,\"\")","v":""},{"$f":"IF(登録済データ!$B295<>0,登録済データ!W295,\"\")","v":""},{"$f":"IF(登録済データ!$B295<>0,登録済データ!X295,\"\")","v":""},{"$f":"IF($F292<>\"\",登録済データ!$C$4,\"\")","v":""}]
[null,{"$f":"IF($F293<>\"\",登録済データ!$C$2,\"\")","v":""},{"$f":"IF($F293<>\"\",IF($I$1=\"企業コード3桁\",LEFT(登録済データ!$C$3,3),LEFT(登録済データ!$C$3,6)),\"\")","v":""},null,{"$f":"IF(登録済データ!$B296<>0,登録済データ!C296,\"\")","v":""},{"$f":"IF(登録済データ!$B296<>0,登録済データ!D296,\"\")","v":""},{"$f":"IF(登録済データ!$B296<>0,登録済データ!E296,\"\")","v":""},{"$f":"IF(登録済データ!$B296<>0,IF(登録済データ!F296<>\"\",登録済データ!F296,\"\"),\"\")","v":""},{"$f":"IF(登録済データ!$B296<>0,IF(登録済データ!G296<>\"\",登録済データ!G296,\"\"),\"\")","v":""},{"$f":"IF(登録済データ!$B296<>0,IF(登録済データ!H296<>\"\",登録済データ!H296,\"\"),\"\")","v":""},{"$f":"IF(登録済データ!$B296<>0,IF(登録済データ!I296<>\"\",登録済データ!I296,\"\"),\"\")","v":""},{"$f":"IF(登録済データ!$B296<>0,登録済データ!J296,\"\")","v":""},{"$f":"IF(登録済データ!$B296<>0,登録済データ!K296,\"\")","v":""},{"$f":"IF(登録済データ!$B296<>0,登録済データ!L296,\"\")","v":""},{"$f":"IF(登録済データ!$B296<>0,登録済データ!M296,\"\")","v":""},{"$f":"IF(登録済データ!$B296<>0,登録済データ!N296,\"\")","v":""},{"$f":"IF(登録済データ!$B296<>0,登録済データ!O296,\"\")","v":""},{"$f":"IF(登録済データ!$B296<>0,登録済データ!P296,\"\")","v":""},{"$f":"IF(登録済データ!$B296<>0,登録済データ!Q296,\"\")","v":""},{"$f":"IF(登録済データ!$B296<>0,登録済データ!R296,\"\")","v":""},{"$f":"IF(登録済データ!$B296<>0,登録済データ!S296,\"\")","v":""},{"$f":"IF(登録済データ!$B296<>0,登録済データ!T296,\"\")","v":""},{"$f":"IF(登録済データ!$B296<>0,登録済データ!U296,\"\")","v":""},{"$f":"IF(登録済データ!$B296<>0,登録済データ!V296,\"\")","v":""},{"$f":"IF(登録済データ!$B296<>0,登録済データ!W296,\"\")","v":""},{"$f":"IF(登録済データ!$B296<>0,登録済データ!X296,\"\")","v":""},{"$f":"IF($F293<>\"\",登録済データ!$C$4,\"\")","v":""}]
[null,{"$f":"IF($F294<>\"\",登録済データ!$C$2,\"\")","v":""},{"$f":"IF($F294<>\"\",IF($I$1=\"企業コード3桁\",LEFT(登録済データ!$C$3,3),LEFT(登録済データ!$C$3,6)),\"\")","v":""},null,{"$f":"IF(登録済データ!$B297<>0,登録済データ!C297,\"\")","v":""},{"$f":"IF(登録済データ!$B297<>0,登録済データ!D297,\"\")","v":""},{"$f":"IF(登録済データ!$B297<>0,登録済データ!E297,\"\")","v":""},{"$f":"IF(登録済データ!$B297<>0,IF(登録済データ!F297<>\"\",登録済データ!F297,\"\"),\"\")","v":""},{"$f":"IF(登録済データ!$B297<>0,IF(登録済データ!G297<>\"\",登録済データ!G297,\"\"),\"\")","v":""},{"$f":"IF(登録済データ!$B297<>0,IF(登録済データ!H297<>\"\",登録済データ!H297,\"\"),\"\")","v":""},{"$f":"IF(登録済データ!$B297<>0,IF(登録済データ!I297<>\"\",登録済データ!I297,\"\"),\"\")","v":""},{"$f":"IF(登録済データ!$B297<>0,登録済データ!J297,\"\")","v":""},{"$f":"IF(登録済データ!$B297<>0,登録済データ!K297,\"\")","v":""},{"$f":"IF(登録済データ!$B297<>0,登録済データ!L297,\"\")","v":""},{"$f":"IF(登録済データ!$B297<>0,登録済データ!M297,\"\")","v":""},{"$f":"IF(登録済データ!$B297<>0,登録済データ!N297,\"\")","v":""},{"$f":"IF(登録済データ!$B297<>0,登録済データ!O297,\"\")","v":""},{"$f":"IF(登録済データ!$B297<>0,登録済データ!P297,\"\")","v":""},{"$f":"IF(登録済データ!$B297<>0,登録済データ!Q297,\"\")","v":""},{"$f":"IF(登録済データ!$B297<>0,登録済データ!R297,\"\")","v":""},{"$f":"IF(登録済データ!$B297<>0,登録済データ!S297,\"\")","v":""},{"$f":"IF(登録済データ!$B297<>0,登録済データ!T297,\"\")","v":""},{"$f":"IF(登録済データ!$B297<>0,登録済データ!U297,\"\")","v":""},{"$f":"IF(登録済データ!$B297<>0,登録済データ!V297,\"\")","v":""},{"$f":"IF(登録済データ!$B297<>0,登録済データ!W297,\"\")","v":""},{"$f":"IF(登録済データ!$B297<>0,登録済データ!X297,\"\")","v":""},{"$f":"IF($F294<>\"\",登録済データ!$C$4,\"\")","v":""}]
[null,{"$f":"IF($F295<>\"\",登録済データ!$C$2,\"\")","v":""},{"$f":"IF($F295<>\"\",IF($I$1=\"企業コード3桁\",LEFT(登録済データ!$C$3,3),LEFT(登録済データ!$C$3,6)),\"\")","v":""},null,{"$f":"IF(登録済データ!$B298<>0,登録済データ!C298,\"\")","v":""},{"$f":"IF(登録済データ!$B298<>0,登録済データ!D298,\"\")","v":""},{"$f":"IF(登録済データ!$B298<>0,登録済データ!E298,\"\")","v":""},{"$f":"IF(登録済データ!$B298<>0,IF(登録済データ!F298<>\"\",登録済データ!F298,\"\"),\"\")","v":""},{"$f":"IF(登録済データ!$B298<>0,IF(登録済データ!G298<>\"\",登録済データ!G298,\"\"),\"\")","v":""},{"$f":"IF(登録済データ!$B298<>0,IF(登録済データ!H298<>\"\",登録済データ!H298,\"\"),\"\")","v":""},{"$f":"IF(登録済データ!$B298<>0,IF(登録済データ!I298<>\"\",登録済データ!I298,\"\"),\"\")","v":""},{"$f":"IF(登録済データ!$B298<>0,登録済データ!J298,\"\")","v":""},{"$f":"IF(登録済データ!$B298<>0,登録済データ!K298,\"\")","v":""},{"$f":"IF(登録済データ!$B298<>0,登録済データ!L298,\"\")","v":""},{"$f":"IF(登録済データ!$B298<>0,登録済データ!M298,\"\")","v":""},{"$f":"IF(登録済データ!$B298<>0,登録済データ!N298,\"\")","v":""},{"$f":"IF(登録済データ!$B298<>0,登録済データ!O298,\"\")","v":""},{"$f":"IF(登録済データ!$B298<>0,登録済データ!P298,\"\")","v":""},{"$f":"IF(登録済データ!$B298<>0,登録済データ!Q298,\"\")","v":""},{"$f":"IF(登録済データ!$B298<>0,登録済データ!R298,\"\")","v":""},{"$f":"IF(登録済データ!$B298<>0,登録済データ!S298,\"\")","v":""},{"$f":"IF(登録済データ!$B298<>0,登録済データ!T298,\"\")","v":""},{"$f":"IF(登録済データ!$B298<>0,登録済データ!U298,\"\")","v":""},{"$f":"IF(登録済データ!$B298<>0,登録済データ!V298,\"\")","v":""},{"$f":"IF(登録済データ!$B298<>0,登録済データ!W298,\"\")","v":""},{"$f":"IF(登録済データ!$B298<>0,登録済データ!X298,\"\")","v":""},{"$f":"IF($F295<>\"\",登録済データ!$C$4,\"\")","v":""}]
[null,{"$f":"IF($F296<>\"\",登録済データ!$C$2,\"\")","v":""},{"$f":"IF($F296<>\"\",IF($I$1=\"企業コード3桁\",LEFT(登録済データ!$C$3,3),LEFT(登録済データ!$C$3,6)),\"\")","v":""},null,{"$f":"IF(登録済データ!$B299<>0,登録済データ!C299,\"\")","v":""},{"$f":"IF(登録済データ!$B299<>0,登録済データ!D299,\"\")","v":""},{"$f":"IF(登録済データ!$B299<>0,登録済データ!E299,\"\")","v":""},{"$f":"IF(登録済データ!$B299<>0,IF(登録済データ!F299<>\"\",登録済データ!F299,\"\"),\"\")","v":""},{"$f":"IF(登録済データ!$B299<>0,IF(登録済データ!G299<>\"\",登録済データ!G299,\"\"),\"\")","v":""},{"$f":"IF(登録済データ!$B299<>0,IF(登録済データ!H299<>\"\",登録済データ!H299,\"\"),\"\")","v":""},{"$f":"IF(登録済データ!$B299<>0,IF(登録済データ!I299<>\"\",登録済データ!I299,\"\"),\"\")","v":""},{"$f":"IF(登録済データ!$B299<>0,登録済データ!J299,\"\")","v":""},{"$f":"IF(登録済データ!$B299<>0,登録済データ!K299,\"\")","v":""},{"$f":"IF(登録済データ!$B299<>0,登録済データ!L299,\"\")","v":""},{"$f":"IF(登録済データ!$B299<>0,登録済データ!M299,\"\")","v":""},{"$f":"IF(登録済データ!$B299<>0,登録済データ!N299,\"\")","v":""},{"$f":"IF(登録済データ!$B299<>0,登録済データ!O299,\"\")","v":""},{"$f":"IF(登録済データ!$B299<>0,登録済データ!P299,\"\")","v":""},{"$f":"IF(登録済データ!$B299<>0,登録済データ!Q299,\"\")","v":""},{"$f":"IF(登録済データ!$B299<>0,登録済データ!R299,\"\")","v":""},{"$f":"IF(登録済データ!$B299<>0,登録済データ!S299,\"\")","v":""},{"$f":"IF(登録済データ!$B299<>0,登録済データ!T299,\"\")","v":""},{"$f":"IF(登録済データ!$B299<>0,登録済データ!U299,\"\")","v":""},{"$f":"IF(登録済データ!$B299<>0,登録済データ!V299,\"\")","v":""},{"$f":"IF(登録済データ!$B299<>0,登録済データ!W299,\"\")","v":""},{"$f":"IF(登録済データ!$B299<>0,登録済データ!X299,\"\")","v":""},{"$f":"IF($F296<>\"\",登録済データ!$C$4,\"\")","v":""}]
[null,{"$f":"IF($F297<>\"\",登録済データ!$C$2,\"\")","v":""},{"$f":"IF($F297<>\"\",IF($I$1=\"企業コード3桁\",LEFT(登録済データ!$C$3,3),LEFT(登録済データ!$C$3,6)),\"\")","v":""},null,{"$f":"IF(登録済データ!$B300<>0,登録済データ!C300,\"\")","v":""},{"$f":"IF(登録済データ!$B300<>0,登録済データ!D300,\"\")","v":""},{"$f":"IF(登録済データ!$B300<>0,登録済データ!E300,\"\")","v":""},{"$f":"IF(登録済データ!$B300<>0,IF(登録済データ!F300<>\"\",登録済データ!F300,\"\"),\"\")","v":""},{"$f":"IF(登録済データ!$B300<>0,IF(登録済データ!G300<>\"\",登録済データ!G300,\"\"),\"\")","v":""},{"$f":"IF(登録済データ!$B300<>0,IF(登録済データ!H300<>\"\",登録済データ!H300,\"\"),\"\")","v":""},{"$f":"IF(登録済データ!$B300<>0,IF(登録済データ!I300<>\"\",登録済データ!I300,\"\"),\"\")","v":""},{"$f":"IF(登録済データ!$B300<>0,登録済データ!J300,\"\")","v":""},{"$f":"IF(登録済データ!$B300<>0,登録済データ!K300,\"\")","v":""},{"$f":"IF(登録済データ!$B300<>0,登録済データ!L300,\"\")","v":""},{"$f":"IF(登録済データ!$B300<>0,登録済データ!M300,\"\")","v":""},{"$f":"IF(登録済データ!$B300<>0,登録済データ!N300,\"\")","v":""},{"$f":"IF(登録済データ!$B300<>0,登録済データ!O300,\"\")","v":""},{"$f":"IF(登録済データ!$B300<>0,登録済データ!P300,\"\")","v":""},{"$f":"IF(登録済データ!$B300<>0,登録済データ!Q300,\"\")","v":""},{"$f":"IF(登録済データ!$B300<>0,登録済データ!R300,\"\")","v":""},{"$f":"IF(登録済データ!$B300<>0,登録済データ!S300,\"\")","v":""},{"$f":"IF(登録済データ!$B300<>0,登録済データ!T300,\"\")","v":""},{"$f":"IF(登録済データ!$B300<>0,登録済データ!U300,\"\")","v":""},{"$f":"IF(登録済データ!$B300<>0,登録済データ!V300,\"\")","v":""},{"$f":"IF(登録済データ!$B300<>0,登録済データ!W300,\"\")","v":""},{"$f":"IF(登録済データ!$B300<>0,登録済データ!X300,\"\")","v":""},{"$f":"IF($F297<>\"\",登録済データ!$C$4,\"\")","v":""}]
[null,{"$f":"IF($F298<>\"\",登録済データ!$C$2,\"\")","v":""},{"$f":"IF($F298<>\"\",IF($I$1=\"企業コード3桁\",LEFT(登録済データ!$C$3,3),LEFT(登録済データ!$C$3,6)),\"\")","v":""},null,{"$f":"IF(登録済データ!$B301<>0,登録済データ!C301,\"\")","v":""},{"$f":"IF(登録済データ!$B301<>0,登録済データ!D301,\"\")","v":""},{"$f":"IF(登録済データ!$B301<>0,登録済データ!E301,\"\")","v":""},{"$f":"IF(登録済データ!$B301<>0,IF(登録済データ!F301<>\"\",登録済データ!F301,\"\"),\"\")","v":""},{"$f":"IF(登録済データ!$B301<>0,IF(登録済データ!G301<>\"\",登録済データ!G301,\"\"),\"\")","v":""},{"$f":"IF(登録済データ!$B301<>0,IF(登録済データ!H301<>\"\",登録済データ!H301,\"\"),\"\")","v":""},{"$f":"IF(登録済データ!$B301<>0,IF(登録済データ!I301<>\"\",登録済データ!I301,\"\"),\"\")","v":""},{"$f":"IF(登録済データ!$B301<>0,登録済データ!J301,\"\")","v":""},{"$f":"IF(登録済データ!$B301<>0,登録済データ!K301,\"\")","v":""},{"$f":"IF(登録済データ!$B301<>0,登録済データ!L301,\"\")","v":""},{"$f":"IF(登録済データ!$B301<>0,登録済データ!M301,\"\")","v":""},{"$f":"IF(登録済データ!$B301<>0,登録済データ!N301,\"\")","v":""},{"$f":"IF(登録済データ!$B301<>0,登録済データ!O301,\"\")","v":""},{"$f":"IF(登録済データ!$B301<>0,登録済データ!P301,\"\")","v":""},{"$f":"IF(登録済データ!$B301<>0,登録済データ!Q301,\"\")","v":""},{"$f":"IF(登録済データ!$B301<>0,登録済データ!R301,\"\")","v":""},{"$f":"IF(登録済データ!$B301<>0,登録済データ!S301,\"\")","v":""},{"$f":"IF(登録済データ!$B301<>0,登録済データ!T301,\"\")","v":""},{"$f":"IF(登録済データ!$B301<>0,登録済データ!U301,\"\")","v":""},{"$f":"IF(登録済データ!$B301<>0,登録済データ!V301,\"\")","v":""},{"$f":"IF(登録済データ!$B301<>0,登録済データ!W301,\"\")","v":""},{"$f":"IF(登録済データ!$B301<>0,登録済データ!X301,\"\")","v":""},{"$f":"IF($F298<>\"\",登録済データ!$C$4,\"\")","v":""}]
[null,{"$f":"IF($F299<>\"\",登録済データ!$C$2,\"\")","v":""},{"$f":"IF($F299<>\"\",IF($I$1=\"企業コード3桁\",LEFT(登録済データ!$C$3,3),LEFT(登録済データ!$C$3,6)),\"\")","v":""},null,{"$f":"IF(登録済データ!$B302<>0,登録済データ!C302,\"\")","v":""},{"$f":"IF(登録済データ!$B302<>0,登録済データ!D302,\"\")","v":""},{"$f":"IF(登録済データ!$B302<>0,登録済データ!E302,\"\")","v":""},{"$f":"IF(登録済データ!$B302<>0,IF(登録済データ!F302<>\"\",登録済データ!F302,\"\"),\"\")","v":""},{"$f":"IF(登録済データ!$B302<>0,IF(登録済データ!G302<>\"\",登録済データ!G302,\"\"),\"\")","v":""},{"$f":"IF(登録済データ!$B302<>0,IF(登録済データ!H302<>\"\",登録済データ!H302,\"\"),\"\")","v":""},{"$f":"IF(登録済データ!$B302<>0,IF(登録済データ!I302<>\"\",登録済データ!I302,\"\"),\"\")","v":""},{"$f":"IF(登録済データ!$B302<>0,登録済データ!J302,\"\")","v":""},{"$f":"IF(登録済データ!$B302<>0,登録済データ!K302,\"\")","v":""},{"$f":"IF(登録済データ!$B302<>0,登録済データ!L302,\"\")","v":""},{"$f":"IF(登録済データ!$B302<>0,登録済データ!M302,\"\")","v":""},{"$f":"IF(登録済データ!$B302<>0,登録済データ!N302,\"\")","v":""},{"$f":"IF(登録済データ!$B302<>0,登録済データ!O302,\"\")","v":""},{"$f":"IF(登録済データ!$B302<>0,登録済データ!P302,\"\")","v":""},{"$f":"IF(登録済データ!$B302<>0,登録済データ!Q302,\"\")","v":""},{"$f":"IF(登録済データ!$B302<>0,登録済データ!R302,\"\")","v":""},{"$f":"IF(登録済データ!$B302<>0,登録済データ!S302,\"\")","v":""},{"$f":"IF(登録済データ!$B302<>0,登録済データ!T302,\"\")","v":""},{"$f":"IF(登録済データ!$B302<>0,登録済データ!U302,\"\")","v":""},{"$f":"IF(登録済データ!$B302<>0,登録済データ!V302,\"\")","v":""},{"$f":"IF(登録済データ!$B302<>0,登録済データ!W302,\"\")","v":""},{"$f":"IF(登録済データ!$B302<>0,登録済データ!X302,\"\")","v":""},{"$f":"IF($F299<>\"\",登録済データ!$C$4,\"\")","v":""}]
[null,{"$f":"IF($F300<>\"\",登録済データ!$C$2,\"\")","v":""},{"$f":"IF($F300<>\"\",IF($I$1=\"企業コード3桁\",LEFT(登録済データ!$C$3,3),LEFT(登録済データ!$C$3,6)),\"\")","v":""},null,{"$f":"IF(登録済データ!$B303<>0,登録済データ!C303,\"\")","v":""},{"$f":"IF(登録済データ!$B303<>0,登録済データ!D303,\"\")","v":""},{"$f":"IF(登録済データ!$B303<>0,登録済データ!E303,\"\")","v":""},{"$f":"IF(登録済データ!$B303<>0,IF(登録済データ!F303<>\"\",登録済データ!F303,\"\"),\"\")","v":""},{"$f":"IF(登録済データ!$B303<>0,IF(登録済データ!G303<>\"\",登録済データ!G303,\"\"),\"\")","v":""},{"$f":"IF(登録済データ!$B303<>0,IF(登録済データ!H303<>\"\",登録済データ!H303,\"\"),\"\")","v":""},{"$f":"IF(登録済データ!$B303<>0,IF(登録済データ!I303<>\"\",登録済データ!I303,\"\"),\"\")","v":""},{"$f":"IF(登録済データ!$B303<>0,登録済データ!J303,\"\")","v":""},{"$f":"IF(登録済データ!$B303<>0,登録済データ!K303,\"\")","v":""},{"$f":"IF(登録済データ!$B303<>0,登録済データ!L303,\"\")","v":""},{"$f":"IF(登録済データ!$B303<>0,登録済データ!M303,\"\")","v":""},{"$f":"IF(登録済データ!$B303<>0,登録済データ!N303,\"\")","v":""},{"$f":"IF(登録済データ!$B303<>0,登録済データ!O303,\"\")","v":""},{"$f":"IF(登録済データ!$B303<>0,登録済データ!P303,\"\")","v":""},{"$f":"IF(登録済データ!$B303<>0,登録済データ!Q303,\"\")","v":""},{"$f":"IF(登録済データ!$B303<>0,登録済データ!R303,\"\")","v":""},{"$f":"IF(登録済データ!$B303<>0,登録済データ!S303,\"\")","v":""},{"$f":"IF(登録済データ!$B303<>0,登録済データ!T303,\"\")","v":""},{"$f":"IF(登録済データ!$B303<>0,登録済データ!U303,\"\")","v":""},{"$f":"IF(登録済データ!$B303<>0,登録済データ!V303,\"\")","v":""},{"$f":"IF(登録済データ!$B303<>0,登録済データ!W303,\"\")","v":""},{"$f":"IF(登録済データ!$B303<>0,登録済データ!X303,\"\")","v":""},{"$f":"IF($F300<>\"\",登録済データ!$C$4,\"\")","v":""}]
[null,{"$f":"IF($F301<>\"\",登録済データ!$C$2,\"\")","v":""},{"$f":"IF($F301<>\"\",IF($I$1=\"企業コード3桁\",LEFT(登録済データ!$C$3,3),LEFT(登録済データ!$C$3,6)),\"\")","v":""},null,{"$f":"IF(登録済データ!$B304<>0,登録済データ!C304,\"\")","v":""},{"$f":"IF(登録済データ!$B304<>0,登録済データ!D304,\"\")","v":""},{"$f":"IF(登録済データ!$B304<>0,登録済データ!E304,\"\")","v":""},{"$f":"IF(登録済データ!$B304<>0,IF(登録済データ!F304<>\"\",登録済データ!F304,\"\"),\"\")","v":""},{"$f":"IF(登録済データ!$B304<>0,IF(登録済データ!G304<>\"\",登録済データ!G304,\"\"),\"\")","v":""},{"$f":"IF(登録済データ!$B304<>0,IF(登録済データ!H304<>\"\",登録済データ!H304,\"\"),\"\")","v":""},{"$f":"IF(登録済データ!$B304<>0,IF(登録済データ!I304<>\"\",登録済データ!I304,\"\"),\"\")","v":""},{"$f":"IF(登録済データ!$B304<>0,登録済データ!J304,\"\")","v":""},{"$f":"IF(登録済データ!$B304<>0,登録済データ!K304,\"\")","v":""},{"$f":"IF(登録済データ!$B304<>0,登録済データ!L304,\"\")","v":""},{"$f":"IF(登録済データ!$B304<>0,登録済データ!M304,\"\")","v":""},{"$f":"IF(登録済データ!$B304<>0,登録済データ!N304,\"\")","v":""},{"$f":"IF(登録済データ!$B304<>0,登録済データ!O304,\"\")","v":""},{"$f":"IF(登録済データ!$B304<>0,登録済データ!P304,\"\")","v":""},{"$f":"IF(登録済データ!$B304<>0,登録済データ!Q304,\"\")","v":""},{"$f":"IF(登録済データ!$B304<>0,登録済データ!R304,\"\")","v":""},{"$f":"IF(登録済データ!$B304<>0,登録済データ!S304,\"\")","v":""},{"$f":"IF(登録済データ!$B304<>0,登録済データ!T304,\"\")","v":""},{"$f":"IF(登録済データ!$B304<>0,登録済データ!U304,\"\")","v":""},{"$f":"IF(登録済データ!$B304<>0,登録済データ!V304,\"\")","v":""},{"$f":"IF(登録済データ!$B304<>0,登録済データ!W304,\"\")","v":""},{"$f":"IF(登録済データ!$B304<>0,登録済データ!X304,\"\")","v":""},{"$f":"IF($F301<>\"\",登録済データ!$C$4,\"\")","v":""}]
[null,{"$f":"IF($F302<>\"\",登録済データ!$C$2,\"\")","v":""},{"$f":"IF($F302<>\"\",IF($I$1=\"企業コード3桁\",LEFT(登録済データ!$C$3,3),LEFT(登録済データ!$C$3,6)),\"\")","v":""},null,{"$f":"IF(登録済データ!$B305<>0,登録済データ!C305,\"\")","v":""},{"$f":"IF(登録済データ!$B305<>0,登録済データ!D305,\"\")","v":""},{"$f":"IF(登録済データ!$B305<>0,登録済データ!E305,\"\")","v":""},{"$f":"IF(登録済データ!$B305<>0,IF(登録済データ!F305<>\"\",登録済データ!F305,\"\"),\"\")","v":""},{"$f":"IF(登録済データ!$B305<>0,IF(登録済データ!G305<>\"\",登録済データ!G305,\"\"),\"\")","v":""},{"$f":"IF(登録済データ!$B305<>0,IF(登録済データ!H305<>\"\",登録済データ!H305,\"\"),\"\")","v":""},{"$f":"IF(登録済データ!$B305<>0,IF(登録済データ!I305<>\"\",登録済データ!I305,\"\"),\"\")","v":""},{"$f":"IF(登録済データ!$B305<>0,登録済データ!J305,\"\")","v":""},{"$f":"IF(登録済データ!$B305<>0,登録済データ!K305,\"\")","v":""},{"$f":"IF(登録済データ!$B305<>0,登録済データ!L305,\"\")","v":""},{"$f":"IF(登録済データ!$B305<>0,登録済データ!M305,\"\")","v":""},{"$f":"IF(登録済データ!$B305<>0,登録済データ!N305,\"\")","v":""},{"$f":"IF(登録済データ!$B305<>0,登録済データ!O305,\"\")","v":""},{"$f":"IF(登録済データ!$B305<>0,登録済データ!P305,\"\")","v":""},{"$f":"IF(登録済データ!$B305<>0,登録済データ!Q305,\"\")","v":""},{"$f":"IF(登録済データ!$B305<>0,登録済データ!R305,\"\")","v":""},{"$f":"IF(登録済データ!$B305<>0,登録済データ!S305,\"\")","v":""},{"$f":"IF(登録済データ!$B305<>0,登録済データ!T305,\"\")","v":""},{"$f":"IF(登録済データ!$B305<>0,登録済データ!U305,\"\")","v":""},{"$f":"IF(登録済データ!$B305<>0,登録済データ!V305,\"\")","v":""},{"$f":"IF(登録済データ!$B305<>0,登録済データ!W305,\"\")","v":""},{"$f":"IF(登録済データ!$B305<>0,登録済データ!X305,\"\")","v":""},{"$f":"IF($F302<>\"\",登録済データ!$C$4,\"\")","v":""}]
[null,{"$f":"IF($F303<>\"\",登録済データ!$C$2,\"\")","v":""},{"$f":"IF($F303<>\"\",IF($I$1=\"企業コード3桁\",LEFT(登録済データ!$C$3,3),LEFT(登録済データ!$C$3,6)),\"\")","v":""},null,{"$f":"IF(登録済データ!$B306<>0,登録済データ!C306,\"\")","v":""},{"$f":"IF(登録済データ!$B306<>0,登録済データ!D306,\"\")","v":""},{"$f":"IF(登録済データ!$B306<>0,登録済データ!E306,\"\")","v":""},{"$f":"IF(登録済データ!$B306<>0,IF(登録済データ!F306<>\"\",登録済データ!F306,\"\"),\"\")","v":""},{"$f":"IF(登録済データ!$B306<>0,IF(登録済データ!G306<>\"\",登録済データ!G306,\"\"),\"\")","v":""},{"$f":"IF(登録済データ!$B306<>0,IF(登録済データ!H306<>\"\",登録済データ!H306,\"\"),\"\")","v":""},{"$f":"IF(登録済データ!$B306<>0,IF(登録済データ!I306<>\"\",登録済データ!I306,\"\"),\"\")","v":""},{"$f":"IF(登録済データ!$B306<>0,登録済データ!J306,\"\")","v":""},{"$f":"IF(登録済データ!$B306<>0,登録済データ!K306,\"\")","v":""},{"$f":"IF(登録済データ!$B306<>0,登録済データ!L306,\"\")","v":""},{"$f":"IF(登録済データ!$B306<>0,登録済データ!M306,\"\")","v":""},{"$f":"IF(登録済データ!$B306<>0,登録済データ!N306,\"\")","v":""},{"$f":"IF(登録済データ!$B306<>0,登録済データ!O306,\"\")","v":""},{"$f":"IF(登録済データ!$B306<>0,登録済データ!P306,\"\")","v":""},{"$f":"IF(登録済データ!$B306<>0,登録済データ!Q306,\"\")","v":""},{"$f":"IF(登録済データ!$B306<>0,登録済データ!R306,\"\")","v":""},{"$f":"IF(登録済データ!$B306<>0,登録済データ!S306,\"\")","v":""},{"$f":"IF(登録済データ!$B306<>0,登録済データ!T306,\"\")","v":""},{"$f":"IF(登録済データ!$B306<>0,登録済データ!U306,\"\")","v":""},{"$f":"IF(登録済データ!$B306<>0,登録済データ!V306,\"\")","v":""},{"$f":"IF(登録済データ!$B306<>0,登録済データ!W306,\"\")","v":""},{"$f":"IF(登録済データ!$B306<>0,登録済データ!X306,\"\")","v":""},{"$f":"IF($F303<>\"\",登録済データ!$C$4,\"\")","v":""}]
[null,{"$f":"IF($F304<>\"\",登録済データ!$C$2,\"\")","v":""},{"$f":"IF($F304<>\"\",IF($I$1=\"企業コード3桁\",LEFT(登録済データ!$C$3,3),LEFT(登録済データ!$C$3,6)),\"\")","v":""},null,{"$f":"IF(登録済データ!$B307<>0,登録済データ!C307,\"\")","v":""},{"$f":"IF(登録済データ!$B307<>0,登録済データ!D307,\"\")","v":""},{"$f":"IF(登録済データ!$B307<>0,登録済データ!E307,\"\")","v":""},{"$f":"IF(登録済データ!$B307<>0,IF(登録済データ!F307<>\"\",登録済データ!F307,\"\"),\"\")","v":""},{"$f":"IF(登録済データ!$B307<>0,IF(登録済データ!G307<>\"\",登録済データ!G307,\"\"),\"\")","v":""},{"$f":"IF(登録済データ!$B307<>0,IF(登録済データ!H307<>\"\",登録済データ!H307,\"\"),\"\")","v":""},{"$f":"IF(登録済データ!$B307<>0,IF(登録済データ!I307<>\"\",登録済データ!I307,\"\"),\"\")","v":""},{"$f":"IF(登録済データ!$B307<>0,登録済データ!J307,\"\")","v":""},{"$f":"IF(登録済データ!$B307<>0,登録済データ!K307,\"\")","v":""},{"$f":"IF(登録済データ!$B307<>0,登録済データ!L307,\"\")","v":""},{"$f":"IF(登録済データ!$B307<>0,登録済データ!M307,\"\")","v":""},{"$f":"IF(登録済データ!$B307<>0,登録済データ!N307,\"\")","v":""},{"$f":"IF(登録済データ!$B307<>0,登録済データ!O307,\"\")","v":""},{"$f":"IF(登録済データ!$B307<>0,登録済データ!P307,\"\")","v":""},{"$f":"IF(登録済データ!$B307<>0,登録済データ!Q307,\"\")","v":""},{"$f":"IF(登録済データ!$B307<>0,登録済データ!R307,\"\")","v":""},{"$f":"IF(登録済データ!$B307<>0,登録済データ!S307,\"\")","v":""},{"$f":"IF(登録済データ!$B307<>0,登録済データ!T307,\"\")","v":""},{"$f":"IF(登録済データ!$B307<>0,登録済データ!U307,\"\")","v":""},{"$f":"IF(登録済データ!$B307<>0,登録済データ!V307,\"\")","v":""},{"$f":"IF(登録済データ!$B307<>0,登録済データ!W307,\"\")","v":""},{"$f":"IF(登録済データ!$B307<>0,登録済データ!X307,\"\")","v":""},{"$f":"IF($F304<>\"\",登録済データ!$C$4,\"\")","v":""}]
[null,{"$f":"IF($F305<>\"\",登録済データ!$C$2,\"\")","v":""},{"$f":"IF($F305<>\"\",IF($I$1=\"企業コード3桁\",LEFT(登録済データ!$C$3,3),LEFT(登録済データ!$C$3,6)),\"\")","v":""},null,{"$f":"IF(登録済データ!$B308<>0,登録済データ!C308,\"\")","v":""},{"$f":"IF(登録済データ!$B308<>0,登録済データ!D308,\"\")","v":""},{"$f":"IF(登録済データ!$B308<>0,登録済データ!E308,\"\")","v":""},{"$f":"IF(登録済データ!$B308<>0,IF(登録済データ!F308<>\"\",登録済データ!F308,\"\"),\"\")","v":""},{"$f":"IF(登録済データ!$B308<>0,IF(登録済データ!G308<>\"\",登録済データ!G308,\"\"),\"\")","v":""},{"$f":"IF(登録済データ!$B308<>0,IF(登録済データ!H308<>\"\",登録済データ!H308,\"\"),\"\")","v":""},{"$f":"IF(登録済データ!$B308<>0,IF(登録済データ!I308<>\"\",登録済データ!I308,\"\"),\"\")","v":""},{"$f":"IF(登録済データ!$B308<>0,登録済データ!J308,\"\")","v":""},{"$f":"IF(登録済データ!$B308<>0,登録済データ!K308,\"\")","v":""},{"$f":"IF(登録済データ!$B308<>0,登録済データ!L308,\"\")","v":""},{"$f":"IF(登録済データ!$B308<>0,登録済データ!M308,\"\")","v":""},{"$f":"IF(登録済データ!$B308<>0,登録済データ!N308,\"\")","v":""},{"$f":"IF(登録済データ!$B308<>0,登録済データ!O308,\"\")","v":""},{"$f":"IF(登録済データ!$B308<>0,登録済データ!P308,\"\")","v":""},{"$f":"IF(登録済データ!$B308<>0,登録済データ!Q308,\"\")","v":""},{"$f":"IF(登録済データ!$B308<>0,登録済データ!R308,\"\")","v":""},{"$f":"IF(登録済データ!$B308<>0,登録済データ!S308,\"\")","v":""},{"$f":"IF(登録済データ!$B308<>0,登録済データ!T308,\"\")","v":""},{"$f":"IF(登録済データ!$B308<>0,登録済データ!U308,\"\")","v":""},{"$f":"IF(登録済データ!$B308<>0,登録済データ!V308,\"\")","v":""},{"$f":"IF(登録済データ!$B308<>0,登録済データ!W308,\"\")","v":""},{"$f":"IF(登録済データ!$B308<>0,登録済データ!X308,\"\")","v":""},{"$f":"IF($F305<>\"\",登録済データ!$C$4,\"\")","v":""}]
[null,{"$f":"IF($F306<>\"\",登録済データ!$C$2,\"\")","v":""},{"$f":"IF($F306<>\"\",IF($I$1=\"企業コード3桁\",LEFT(登録済データ!$C$3,3),LEFT(登録済データ!$C$3,6)),\"\")","v":""},null,{"$f":"IF(登録済データ!$B309<>0,登録済データ!C309,\"\")","v":""},{"$f":"IF(登録済データ!$B309<>0,登録済データ!D309,\"\")","v":""},{"$f":"IF(登録済データ!$B309<>0,登録済データ!E309,\"\")","v":""},{"$f":"IF(登録済データ!$B309<>0,IF(登録済データ!F309<>\"\",登録済データ!F309,\"\"),\"\")","v":""},{"$f":"IF(登録済データ!$B309<>0,IF(登録済データ!G309<>\"\",登録済データ!G309,\"\"),\"\")","v":""},{"$f":"IF(登録済データ!$B309<>0,IF(登録済データ!H309<>\"\",登録済データ!H309,\"\"),\"\")","v":""},{"$f":"IF(登録済データ!$B309<>0,IF(登録済データ!I309<>\"\",登録済データ!I309,\"\"),\"\")","v":""},{"$f":"IF(登録済データ!$B309<>0,登録済データ!J309,\"\")","v":""},{"$f":"IF(登録済データ!$B309<>0,登録済データ!K309,\"\")","v":""},{"$f":"IF(登録済データ!$B309<>0,登録済データ!L309,\"\")","v":""},{"$f":"IF(登録済データ!$B309<>0,登録済データ!M309,\"\")","v":""},{"$f":"IF(登録済データ!$B309<>0,登録済データ!N309,\"\")","v":""},{"$f":"IF(登録済データ!$B309<>0,登録済データ!O309,\"\")","v":""},{"$f":"IF(登録済データ!$B309<>0,登録済データ!P309,\"\")","v":""},{"$f":"IF(登録済データ!$B309<>0,登録済データ!Q309,\"\")","v":""},{"$f":"IF(登録済データ!$B309<>0,登録済データ!R309,\"\")","v":""},{"$f":"IF(登録済データ!$B309<>0,登録済データ!S309,\"\")","v":""},{"$f":"IF(登録済データ!$B309<>0,登録済データ!T309,\"\")","v":""},{"$f":"IF(登録済データ!$B309<>0,登録済データ!U309,\"\")","v":""},{"$f":"IF(登録済データ!$B309<>0,登録済データ!V309,\"\")","v":""},{"$f":"IF(登録済データ!$B309<>0,登録済データ!W309,\"\")","v":""},{"$f":"IF(登録済データ!$B309<>0,登録済データ!X309,\"\")","v":""},{"$f":"IF($F306<>\"\",登録済データ!$C$4,\"\")","v":""}]
[null,{"$f":"IF($F307<>\"\",登録済データ!$C$2,\"\")","v":""},{"$f":"IF($F307<>\"\",IF($I$1=\"企業コード3桁\",LEFT(登録済データ!$C$3,3),LEFT(登録済データ!$C$3,6)),\"\")","v":""},null,{"$f":"IF(登録済データ!$B310<>0,登録済データ!C310,\"\")","v":""},{"$f":"IF(登録済データ!$B310<>0,登録済データ!D310,\"\")","v":""},{"$f":"IF(登録済データ!$B310<>0,登録済データ!E310,\"\")","v":""},{"$f":"IF(登録済データ!$B310<>0,IF(登録済データ!F310<>\"\",登録済データ!F310,\"\"),\"\")","v":""},{"$f":"IF(登録済データ!$B310<>0,IF(登録済データ!G310<>\"\",登録済データ!G310,\"\"),\"\")","v":""},{"$f":"IF(登録済データ!$B310<>0,IF(登録済データ!H310<>\"\",登録済データ!H310,\"\"),\"\")","v":""},{"$f":"IF(登録済データ!$B310<>0,IF(登録済データ!I310<>\"\",登録済データ!I310,\"\"),\"\")","v":""},{"$f":"IF(登録済データ!$B310<>0,登録済データ!J310,\"\")","v":""},{"$f":"IF(登録済データ!$B310<>0,登録済データ!K310,\"\")","v":""},{"$f":"IF(登録済データ!$B310<>0,登録済データ!L310,\"\")","v":""},{"$f":"IF(登録済データ!$B310<>0,登録済データ!M310,\"\")","v":""},{"$f":"IF(登録済データ!$B310<>0,登録済データ!N310,\"\")","v":""},{"$f":"IF(登録済データ!$B310<>0,登録済データ!O310,\"\")","v":""},{"$f":"IF(登録済データ!$B310<>0,登録済データ!P310,\"\")","v":""},{"$f":"IF(登録済データ!$B310<>0,登録済データ!Q310,\"\")","v":""},{"$f":"IF(登録済データ!$B310<>0,登録済データ!R310,\"\")","v":""},{"$f":"IF(登録済データ!$B310<>0,登録済データ!S310,\"\")","v":""},{"$f":"IF(登録済データ!$B310<>0,登録済データ!T310,\"\")","v":""},{"$f":"IF(登録済データ!$B310<>0,登録済データ!U310,\"\")","v":""},{"$f":"IF(登録済データ!$B310<>0,登録済データ!V310,\"\")","v":""},{"$f":"IF(登録済データ!$B310<>0,登録済データ!W310,\"\")","v":""},{"$f":"IF(登録済データ!$B310<>0,登録済データ!X310,\"\")","v":""},{"$f":"IF($F307<>\"\",登録済データ!$C$4,\"\")","v":""}]
[null,{"$f":"IF($F308<>\"\",登録済データ!$C$2,\"\")","v":""},{"$f":"IF($F308<>\"\",IF($I$1=\"企業コード3桁\",LEFT(登録済データ!$C$3,3),LEFT(登録済データ!$C$3,6)),\"\")","v":""},null,{"$f":"IF(登録済データ!$B311<>0,登録済データ!C311,\"\")","v":""},{"$f":"IF(登録済データ!$B311<>0,登録済データ!D311,\"\")","v":""},{"$f":"IF(登録済データ!$B311<>0,登録済データ!E311,\"\")","v":""},{"$f":"IF(登録済データ!$B311<>0,IF(登録済データ!F311<>\"\",登録済データ!F311,\"\"),\"\")","v":""},{"$f":"IF(登録済データ!$B311<>0,IF(登録済データ!G311<>\"\",登録済データ!G311,\"\"),\"\")","v":""},{"$f":"IF(登録済データ!$B311<>0,IF(登録済データ!H311<>\"\",登録済データ!H311,\"\"),\"\")","v":""},{"$f":"IF(登録済データ!$B311<>0,IF(登録済データ!I311<>\"\",登録済データ!I311,\"\"),\"\")","v":""},{"$f":"IF(登録済データ!$B311<>0,登録済データ!J311,\"\")","v":""},{"$f":"IF(登録済データ!$B311<>0,登録済データ!K311,\"\")","v":""},{"$f":"IF(登録済データ!$B311<>0,登録済データ!L311,\"\")","v":""},{"$f":"IF(登録済データ!$B311<>0,登録済データ!M311,\"\")","v":""},{"$f":"IF(登録済データ!$B311<>0,登録済データ!N311,\"\")","v":""},{"$f":"IF(登録済データ!$B311<>0,登録済データ!O311,\"\")","v":""},{"$f":"IF(登録済データ!$B311<>0,登録済データ!P311,\"\")","v":""},{"$f":"IF(登録済データ!$B311<>0,登録済データ!Q311,\"\")","v":""},{"$f":"IF(登録済データ!$B311<>0,登録済データ!R311,\"\")","v":""},{"$f":"IF(登録済データ!$B311<>0,登録済データ!S311,\"\")","v":""},{"$f":"IF(登録済データ!$B311<>0,登録済データ!T311,\"\")","v":""},{"$f":"IF(登録済データ!$B311<>0,登録済データ!U311,\"\")","v":""},{"$f":"IF(登録済データ!$B311<>0,登録済データ!V311,\"\")","v":""},{"$f":"IF(登録済データ!$B311<>0,登録済データ!W311,\"\")","v":""},{"$f":"IF(登録済データ!$B311<>0,登録済データ!X311,\"\")","v":""},{"$f":"IF($F308<>\"\",登録済データ!$C$4,\"\")","v":""}]
[null,{"$f":"IF($F309<>\"\",登録済データ!$C$2,\"\")","v":""},{"$f":"IF($F309<>\"\",IF($I$1=\"企業コード3桁\",LEFT(登録済データ!$C$3,3),LEFT(登録済データ!$C$3,6)),\"\")","v":""},null,{"$f":"IF(登録済データ!$B312<>0,登録済データ!C312,\"\")","v":""},{"$f":"IF(登録済データ!$B312<>0,登録済データ!D312,\"\")","v":""},{"$f":"IF(登録済データ!$B312<>0,登録済データ!E312,\"\")","v":""},{"$f":"IF(登録済データ!$B312<>0,IF(登録済データ!F312<>\"\",登録済データ!F312,\"\"),\"\")","v":""},{"$f":"IF(登録済データ!$B312<>0,IF(登録済データ!G312<>\"\",登録済データ!G312,\"\"),\"\")","v":""},{"$f":"IF(登録済データ!$B312<>0,IF(登録済データ!H312<>\"\",登録済データ!H312,\"\"),\"\")","v":""},{"$f":"IF(登録済データ!$B312<>0,IF(登録済データ!I312<>\"\",登録済データ!I312,\"\"),\"\")","v":""},{"$f":"IF(登録済データ!$B312<>0,登録済データ!J312,\"\")","v":""},{"$f":"IF(登録済データ!$B312<>0,登録済データ!K312,\"\")","v":""},{"$f":"IF(登録済データ!$B312<>0,登録済データ!L312,\"\")","v":""},{"$f":"IF(登録済データ!$B312<>0,登録済データ!M312,\"\")","v":""},{"$f":"IF(登録済データ!$B312<>0,登録済データ!N312,\"\")","v":""},{"$f":"IF(登録済データ!$B312<>0,登録済データ!O312,\"\")","v":""},{"$f":"IF(登録済データ!$B312<>0,登録済データ!P312,\"\")","v":""},{"$f":"IF(登録済データ!$B312<>0,登録済データ!Q312,\"\")","v":""},{"$f":"IF(登録済データ!$B312<>0,登録済データ!R312,\"\")","v":""},{"$f":"IF(登録済データ!$B312<>0,登録済データ!S312,\"\")","v":""},{"$f":"IF(登録済データ!$B312<>0,登録済データ!T312,\"\")","v":""},{"$f":"IF(登録済データ!$B312<>0,登録済データ!U312,\"\")","v":""},{"$f":"IF(登録済データ!$B312<>0,登録済データ!V312,\"\")","v":""},{"$f":"IF(登録済データ!$B312<>0,登録済データ!W312,\"\")","v":""},{"$f":"IF(登録済データ!$B312<>0,登録済データ!X312,\"\")","v":""},{"$f":"IF($F309<>\"\",登録済データ!$C$4,\"\")","v":""}]
[null,{"$f":"IF($F310<>\"\",登録済データ!$C$2,\"\")","v":""},{"$f":"IF($F310<>\"\",IF($I$1=\"企業コード3桁\",LEFT(登録済データ!$C$3,3),LEFT(登録済データ!$C$3,6)),\"\")","v":""},null,{"$f":"IF(登録済データ!$B313<>0,登録済データ!C313,\"\")","v":""},{"$f":"IF(登録済データ!$B313<>0,登録済データ!D313,\"\")","v":""},{"$f":"IF(登録済データ!$B313<>0,登録済データ!E313,\"\")","v":""},{"$f":"IF(登録済データ!$B313<>0,IF(登録済データ!F313<>\"\",登録済データ!F313,\"\"),\"\")","v":""},{"$f":"IF(登録済データ!$B313<>0,IF(登録済データ!G313<>\"\",登録済データ!G313,\"\"),\"\")","v":""},{"$f":"IF(登録済データ!$B313<>0,IF(登録済データ!H313<>\"\",登録済データ!H313,\"\"),\"\")","v":""},{"$f":"IF(登録済データ!$B313<>0,IF(登録済データ!I313<>\"\",登録済データ!I313,\"\"),\"\")","v":""},{"$f":"IF(登録済データ!$B313<>0,登録済データ!J313,\"\")","v":""},{"$f":"IF(登録済データ!$B313<>0,登録済データ!K313,\"\")","v":""},{"$f":"IF(登録済データ!$B313<>0,登録済データ!L313,\"\")","v":""},{"$f":"IF(登録済データ!$B313<>0,登録済データ!M313,\"\")","v":""},{"$f":"IF(登録済データ!$B313<>0,登録済データ!N313,\"\")","v":""},{"$f":"IF(登録済データ!$B313<>0,登録済データ!O313,\"\")","v":""},{"$f":"IF(登録済データ!$B313<>0,登録済データ!P313,\"\")","v":""},{"$f":"IF(登録済データ!$B313<>0,登録済データ!Q313,\"\")","v":""},{"$f":"IF(登録済データ!$B313<>0,登録済データ!R313,\"\")","v":""},{"$f":"IF(登録済データ!$B313<>0,登録済データ!S313,\"\")","v":""},{"$f":"IF(登録済データ!$B313<>0,登録済データ!T313,\"\")","v":""},{"$f":"IF(登録済データ!$B313<>0,登録済データ!U313,\"\")","v":""},{"$f":"IF(登録済データ!$B313<>0,登録済データ!V313,\"\")","v":""},{"$f":"IF(登録済データ!$B313<>0,登録済データ!W313,\"\")","v":""},{"$f":"IF(登録済データ!$B313<>0,登録済データ!X313,\"\")","v":""},{"$f":"IF($F310<>\"\",登録済データ!$C$4,\"\")","v":""}]
[null,{"$f":"IF($F311<>\"\",登録済データ!$C$2,\"\")","v":""},{"$f":"IF($F311<>\"\",IF($I$1=\"企業コード3桁\",LEFT(登録済データ!$C$3,3),LEFT(登録済データ!$C$3,6)),\"\")","v":""},null,{"$f":"IF(登録済データ!$B314<>0,登録済データ!C314,\"\")","v":""},{"$f":"IF(登録済データ!$B314<>0,登録済データ!D314,\"\")","v":""},{"$f":"IF(登録済データ!$B314<>0,登録済データ!E314,\"\")","v":""},{"$f":"IF(登録済データ!$B314<>0,IF(登録済データ!F314<>\"\",登録済データ!F314,\"\"),\"\")","v":""},{"$f":"IF(登録済データ!$B314<>0,IF(登録済データ!G314<>\"\",登録済データ!G314,\"\"),\"\")","v":""},{"$f":"IF(登録済データ!$B314<>0,IF(登録済データ!H314<>\"\",登録済データ!H314,\"\"),\"\")","v":""},{"$f":"IF(登録済データ!$B314<>0,IF(登録済データ!I314<>\"\",登録済データ!I314,\"\"),\"\")","v":""},{"$f":"IF(登録済データ!$B314<>0,登録済データ!J314,\"\")","v":""},{"$f":"IF(登録済データ!$B314<>0,登録済データ!K314,\"\")","v":""},{"$f":"IF(登録済データ!$B314<>0,登録済データ!L314,\"\")","v":""},{"$f":"IF(登録済データ!$B314<>0,登録済データ!M314,\"\")","v":""},{"$f":"IF(登録済データ!$B314<>0,登録済データ!N314,\"\")","v":""},{"$f":"IF(登録済データ!$B314<>0,登録済データ!O314,\"\")","v":""},{"$f":"IF(登録済データ!$B314<>0,登録済データ!P314,\"\")","v":""},{"$f":"IF(登録済データ!$B314<>0,登録済データ!Q314,\"\")","v":""},{"$f":"IF(登録済データ!$B314<>0,登録済データ!R314,\"\")","v":""},{"$f":"IF(登録済データ!$B314<>0,登録済データ!S314,\"\")","v":""},{"$f":"IF(登録済データ!$B314<>0,登録済データ!T314,\"\")","v":""},{"$f":"IF(登録済データ!$B314<>0,登録済データ!U314,\"\")","v":""},{"$f":"IF(登録済データ!$B314<>0,登録済データ!V314,\"\")","v":""},{"$f":"IF(登録済データ!$B314<>0,登録済データ!W314,\"\")","v":""},{"$f":"IF(登録済データ!$B314<>0,登録済データ!X314,\"\")","v":""},{"$f":"IF($F311<>\"\",登録済データ!$C$4,\"\")","v":""}]
[null,{"$f":"IF($F312<>\"\",登録済データ!$C$2,\"\")","v":""},{"$f":"IF($F312<>\"\",IF($I$1=\"企業コード3桁\",LEFT(登録済データ!$C$3,3),LEFT(登録済データ!$C$3,6)),\"\")","v":""},null,{"$f":"IF(登録済データ!$B315<>0,登録済データ!C315,\"\")","v":""},{"$f":"IF(登録済データ!$B315<>0,登録済データ!D315,\"\")","v":""},{"$f":"IF(登録済データ!$B315<>0,登録済データ!E315,\"\")","v":""},{"$f":"IF(登録済データ!$B315<>0,IF(登録済データ!F315<>\"\",登録済データ!F315,\"\"),\"\")","v":""},{"$f":"IF(登録済データ!$B315<>0,IF(登録済データ!G315<>\"\",登録済データ!G315,\"\"),\"\")","v":""},{"$f":"IF(登録済データ!$B315<>0,IF(登録済データ!H315<>\"\",登録済データ!H315,\"\"),\"\")","v":""},{"$f":"IF(登録済データ!$B315<>0,IF(登録済データ!I315<>\"\",登録済データ!I315,\"\"),\"\")","v":""},{"$f":"IF(登録済データ!$B315<>0,登録済データ!J315,\"\")","v":""},{"$f":"IF(登録済データ!$B315<>0,登録済データ!K315,\"\")","v":""},{"$f":"IF(登録済データ!$B315<>0,登録済データ!L315,\"\")","v":""},{"$f":"IF(登録済データ!$B315<>0,登録済データ!M315,\"\")","v":""},{"$f":"IF(登録済データ!$B315<>0,登録済データ!N315,\"\")","v":""},{"$f":"IF(登録済データ!$B315<>0,登録済データ!O315,\"\")","v":""},{"$f":"IF(登録済データ!$B315<>0,登録済データ!P315,\"\")","v":""},{"$f":"IF(登録済データ!$B315<>0,登録済データ!Q315,\"\")","v":""},{"$f":"IF(登録済データ!$B315<>0,登録済データ!R315,\"\")","v":""},{"$f":"IF(登録済データ!$B315<>0,登録済データ!S315,\"\")","v":""},{"$f":"IF(登録済データ!$B315<>0,登録済データ!T315,\"\")","v":""},{"$f":"IF(登録済データ!$B315<>0,登録済データ!U315,\"\")","v":""},{"$f":"IF(登録済データ!$B315<>0,登録済データ!V315,\"\")","v":""},{"$f":"IF(登録済データ!$B315<>0,登録済データ!W315,\"\")","v":""},{"$f":"IF(登録済データ!$B315<>0,登録済データ!X315,\"\")","v":""},{"$f":"IF($F312<>\"\",登録済データ!$C$4,\"\")","v":""}]
[null,{"$f":"IF($F313<>\"\",登録済データ!$C$2,\"\")","v":""},{"$f":"IF($F313<>\"\",IF($I$1=\"企業コード3桁\",LEFT(登録済データ!$C$3,3),LEFT(登録済データ!$C$3,6)),\"\")","v":""},null,{"$f":"IF(登録済データ!$B316<>0,登録済データ!C316,\"\")","v":""},{"$f":"IF(登録済データ!$B316<>0,登録済データ!D316,\"\")","v":""},{"$f":"IF(登録済データ!$B316<>0,登録済データ!E316,\"\")","v":""},{"$f":"IF(登録済データ!$B316<>0,IF(登録済データ!F316<>\"\",登録済データ!F316,\"\"),\"\")","v":""},{"$f":"IF(登録済データ!$B316<>0,IF(登録済データ!G316<>\"\",登録済データ!G316,\"\"),\"\")","v":""},{"$f":"IF(登録済データ!$B316<>0,IF(登録済データ!H316<>\"\",登録済データ!H316,\"\"),\"\")","v":""},{"$f":"IF(登録済データ!$B316<>0,IF(登録済データ!I316<>\"\",登録済データ!I316,\"\"),\"\")","v":""},{"$f":"IF(登録済データ!$B316<>0,登録済データ!J316,\"\")","v":""},{"$f":"IF(登録済データ!$B316<>0,登録済データ!K316,\"\")","v":""},{"$f":"IF(登録済データ!$B316<>0,登録済データ!L316,\"\")","v":""},{"$f":"IF(登録済データ!$B316<>0,登録済データ!M316,\"\")","v":""},{"$f":"IF(登録済データ!$B316<>0,登録済データ!N316,\"\")","v":""},{"$f":"IF(登録済データ!$B316<>0,登録済データ!O316,\"\")","v":""},{"$f":"IF(登録済データ!$B316<>0,登録済データ!P316,\"\")","v":""},{"$f":"IF(登録済データ!$B316<>0,登録済データ!Q316,\"\")","v":""},{"$f":"IF(登録済データ!$B316<>0,登録済データ!R316,\"\")","v":""},{"$f":"IF(登録済データ!$B316<>0,登録済データ!S316,\"\")","v":""},{"$f":"IF(登録済データ!$B316<>0,登録済データ!T316,\"\")","v":""},{"$f":"IF(登録済データ!$B316<>0,登録済データ!U316,\"\")","v":""},{"$f":"IF(登録済データ!$B316<>0,登録済データ!V316,\"\")","v":""},{"$f":"IF(登録済データ!$B316<>0,登録済データ!W316,\"\")","v":""},{"$f":"IF(登録済データ!$B316<>0,登録済データ!X316,\"\")","v":""},{"$f":"IF($F313<>\"\",登録済データ!$C$4,\"\")","v":""}]
[null,{"$f":"IF($F314<>\"\",登録済データ!$C$2,\"\")","v":""},{"$f":"IF($F314<>\"\",IF($I$1=\"企業コード3桁\",LEFT(登録済データ!$C$3,3),LEFT(登録済データ!$C$3,6)),\"\")","v":""},null,{"$f":"IF(登録済データ!$B317<>0,登録済データ!C317,\"\")","v":""},{"$f":"IF(登録済データ!$B317<>0,登録済データ!D317,\"\")","v":""},{"$f":"IF(登録済データ!$B317<>0,登録済データ!E317,\"\")","v":""},{"$f":"IF(登録済データ!$B317<>0,IF(登録済データ!F317<>\"\",登録済データ!F317,\"\"),\"\")","v":""},{"$f":"IF(登録済データ!$B317<>0,IF(登録済データ!G317<>\"\",登録済データ!G317,\"\"),\"\")","v":""},{"$f":"IF(登録済データ!$B317<>0,IF(登録済データ!H317<>\"\",登録済データ!H317,\"\"),\"\")","v":""},{"$f":"IF(登録済データ!$B317<>0,IF(登録済データ!I317<>\"\",登録済データ!I317,\"\"),\"\")","v":""},{"$f":"IF(登録済データ!$B317<>0,登録済データ!J317,\"\")","v":""},{"$f":"IF(登録済データ!$B317<>0,登録済データ!K317,\"\")","v":""},{"$f":"IF(登録済データ!$B317<>0,登録済データ!L317,\"\")","v":""},{"$f":"IF(登録済データ!$B317<>0,登録済データ!M317,\"\")","v":""},{"$f":"IF(登録済データ!$B317<>0,登録済データ!N317,\"\")","v":""},{"$f":"IF(登録済データ!$B317<>0,登録済データ!O317,\"\")","v":""},{"$f":"IF(登録済データ!$B317<>0,登録済データ!P317,\"\")","v":""},{"$f":"IF(登録済データ!$B317<>0,登録済データ!Q317,\"\")","v":""},{"$f":"IF(登録済データ!$B317<>0,登録済データ!R317,\"\")","v":""},{"$f":"IF(登録済データ!$B317<>0,登録済データ!S317,\"\")","v":""},{"$f":"IF(登録済データ!$B317<>0,登録済データ!T317,\"\")","v":""},{"$f":"IF(登録済データ!$B317<>0,登録済データ!U317,\"\")","v":""},{"$f":"IF(登録済データ!$B317<>0,登録済データ!V317,\"\")","v":""},{"$f":"IF(登録済データ!$B317<>0,登録済データ!W317,\"\")","v":""},{"$f":"IF(登録済データ!$B317<>0,登録済データ!X317,\"\")","v":""},{"$f":"IF($F314<>\"\",登録済データ!$C$4,\"\")","v":""}]
[null,{"$f":"IF($F315<>\"\",登録済データ!$C$2,\"\")","v":""},{"$f":"IF($F315<>\"\",IF($I$1=\"企業コード3桁\",LEFT(登録済データ!$C$3,3),LEFT(登録済データ!$C$3,6)),\"\")","v":""},null,{"$f":"IF(登録済データ!$B318<>0,登録済データ!C318,\"\")","v":""},{"$f":"IF(登録済データ!$B318<>0,登録済データ!D318,\"\")","v":""},{"$f":"IF(登録済データ!$B318<>0,登録済データ!E318,\"\")","v":""},{"$f":"IF(登録済データ!$B318<>0,IF(登録済データ!F318<>\"\",登録済データ!F318,\"\"),\"\")","v":""},{"$f":"IF(登録済データ!$B318<>0,IF(登録済データ!G318<>\"\",登録済データ!G318,\"\"),\"\")","v":""},{"$f":"IF(登録済データ!$B318<>0,IF(登録済データ!H318<>\"\",登録済データ!H318,\"\"),\"\")","v":""},{"$f":"IF(登録済データ!$B318<>0,IF(登録済データ!I318<>\"\",登録済データ!I318,\"\"),\"\")","v":""},{"$f":"IF(登録済データ!$B318<>0,登録済データ!J318,\"\")","v":""},{"$f":"IF(登録済データ!$B318<>0,登録済データ!K318,\"\")","v":""},{"$f":"IF(登録済データ!$B318<>0,登録済データ!L318,\"\")","v":""},{"$f":"IF(登録済データ!$B318<>0,登録済データ!M318,\"\")","v":""},{"$f":"IF(登録済データ!$B318<>0,登録済データ!N318,\"\")","v":""},{"$f":"IF(登録済データ!$B318<>0,登録済データ!O318,\"\")","v":""},{"$f":"IF(登録済データ!$B318<>0,登録済データ!P318,\"\")","v":""},{"$f":"IF(登録済データ!$B318<>0,登録済データ!Q318,\"\")","v":""},{"$f":"IF(登録済データ!$B318<>0,登録済データ!R318,\"\")","v":""},{"$f":"IF(登録済データ!$B318<>0,登録済データ!S318,\"\")","v":""},{"$f":"IF(登録済データ!$B318<>0,登録済データ!T318,\"\")","v":""},{"$f":"IF(登録済データ!$B318<>0,登録済データ!U318,\"\")","v":""},{"$f":"IF(登録済データ!$B318<>0,登録済データ!V318,\"\")","v":""},{"$f":"IF(登録済データ!$B318<>0,登録済データ!W318,\"\")","v":""},{"$f":"IF(登録済データ!$B318<>0,登録済データ!X318,\"\")","v":""},{"$f":"IF($F315<>\"\",登録済データ!$C$4,\"\")","v":""}]
[null,{"$f":"IF($F316<>\"\",登録済データ!$C$2,\"\")","v":""},{"$f":"IF($F316<>\"\",IF($I$1=\"企業コード3桁\",LEFT(登録済データ!$C$3,3),LEFT(登録済データ!$C$3,6)),\"\")","v":""},null,{"$f":"IF(登録済データ!$B319<>0,登録済データ!C319,\"\")","v":""},{"$f":"IF(登録済データ!$B319<>0,登録済データ!D319,\"\")","v":""},{"$f":"IF(登録済データ!$B319<>0,登録済データ!E319,\"\")","v":""},{"$f":"IF(登録済データ!$B319<>0,IF(登録済データ!F319<>\"\",登録済データ!F319,\"\"),\"\")","v":""},{"$f":"IF(登録済データ!$B319<>0,IF(登録済データ!G319<>\"\",登録済データ!G319,\"\"),\"\")","v":""},{"$f":"IF(登録済データ!$B319<>0,IF(登録済データ!H319<>\"\",登録済データ!H319,\"\"),\"\")","v":""},{"$f":"IF(登録済データ!$B319<>0,IF(登録済データ!I319<>\"\",登録済データ!I319,\"\"),\"\")","v":""},{"$f":"IF(登録済データ!$B319<>0,登録済データ!J319,\"\")","v":""},{"$f":"IF(登録済データ!$B319<>0,登録済データ!K319,\"\")","v":""},{"$f":"IF(登録済データ!$B319<>0,登録済データ!L319,\"\")","v":""},{"$f":"IF(登録済データ!$B319<>0,登録済データ!M319,\"\")","v":""},{"$f":"IF(登録済データ!$B319<>0,登録済データ!N319,\"\")","v":""},{"$f":"IF(登録済データ!$B319<>0,登録済データ!O319,\"\")","v":""},{"$f":"IF(登録済データ!$B319<>0,登録済データ!P319,\"\")","v":""},{"$f":"IF(登録済データ!$B319<>0,登録済データ!Q319,\"\")","v":""},{"$f":"IF(登録済データ!$B319<>0,登録済データ!R319,\"\")","v":""},{"$f":"IF(登録済データ!$B319<>0,登録済データ!S319,\"\")","v":""},{"$f":"IF(登録済データ!$B319<>0,登録済データ!T319,\"\")","v":""},{"$f":"IF(登録済データ!$B319<>0,登録済データ!U319,\"\")","v":""},{"$f":"IF(登録済データ!$B319<>0,登録済データ!V319,\"\")","v":""},{"$f":"IF(登録済データ!$B319<>0,登録済データ!W319,\"\")","v":""},{"$f":"IF(登録済データ!$B319<>0,登録済データ!X319,\"\")","v":""},{"$f":"IF($F316<>\"\",登録済データ!$C$4,\"\")","v":""}]
[null,{"$f":"IF($F317<>\"\",登録済データ!$C$2,\"\")","v":""},{"$f":"IF($F317<>\"\",IF($I$1=\"企業コード3桁\",LEFT(登録済データ!$C$3,3),LEFT(登録済データ!$C$3,6)),\"\")","v":""},null,{"$f":"IF(登録済データ!$B320<>0,登録済データ!C320,\"\")","v":""},{"$f":"IF(登録済データ!$B320<>0,登録済データ!D320,\"\")","v":""},{"$f":"IF(登録済データ!$B320<>0,登録済データ!E320,\"\")","v":""},{"$f":"IF(登録済データ!$B320<>0,IF(登録済データ!F320<>\"\",登録済データ!F320,\"\"),\"\")","v":""},{"$f":"IF(登録済データ!$B320<>0,IF(登録済データ!G320<>\"\",登録済データ!G320,\"\"),\"\")","v":""},{"$f":"IF(登録済データ!$B320<>0,IF(登録済データ!H320<>\"\",登録済データ!H320,\"\"),\"\")","v":""},{"$f":"IF(登録済データ!$B320<>0,IF(登録済データ!I320<>\"\",登録済データ!I320,\"\"),\"\")","v":""},{"$f":"IF(登録済データ!$B320<>0,登録済データ!J320,\"\")","v":""},{"$f":"IF(登録済データ!$B320<>0,登録済データ!K320,\"\")","v":""},{"$f":"IF(登録済データ!$B320<>0,登録済データ!L320,\"\")","v":""},{"$f":"IF(登録済データ!$B320<>0,登録済データ!M320,\"\")","v":""},{"$f":"IF(登録済データ!$B320<>0,登録済データ!N320,\"\")","v":""},{"$f":"IF(登録済データ!$B320<>0,登録済データ!O320,\"\")","v":""},{"$f":"IF(登録済データ!$B320<>0,登録済データ!P320,\"\")","v":""},{"$f":"IF(登録済データ!$B320<>0,登録済データ!Q320,\"\")","v":""},{"$f":"IF(登録済データ!$B320<>0,登録済データ!R320,\"\")","v":""},{"$f":"IF(登録済データ!$B320<>0,登録済データ!S320,\"\")","v":""},{"$f":"IF(登録済データ!$B320<>0,登録済データ!T320,\"\")","v":""},{"$f":"IF(登録済データ!$B320<>0,登録済データ!U320,\"\")","v":""},{"$f":"IF(登録済データ!$B320<>0,登録済データ!V320,\"\")","v":""},{"$f":"IF(登録済データ!$B320<>0,登録済データ!W320,\"\")","v":""},{"$f":"IF(登録済データ!$B320<>0,登録済データ!X320,\"\")","v":""},{"$f":"IF($F317<>\"\",登録済データ!$C$4,\"\")","v":""}]
[null,{"$f":"IF($F318<>\"\",登録済データ!$C$2,\"\")","v":""},{"$f":"IF($F318<>\"\",IF($I$1=\"企業コード3桁\",LEFT(登録済データ!$C$3,3),LEFT(登録済データ!$C$3,6)),\"\")","v":""},null,{"$f":"IF(登録済データ!$B321<>0,登録済データ!C321,\"\")","v":""},{"$f":"IF(登録済データ!$B321<>0,登録済データ!D321,\"\")","v":""},{"$f":"IF(登録済データ!$B321<>0,登録済データ!E321,\"\")","v":""},{"$f":"IF(登録済データ!$B321<>0,IF(登録済データ!F321<>\"\",登録済データ!F321,\"\"),\"\")","v":""},{"$f":"IF(登録済データ!$B321<>0,IF(登録済データ!G321<>\"\",登録済データ!G321,\"\"),\"\")","v":""},{"$f":"IF(登録済データ!$B321<>0,IF(登録済データ!H321<>\"\",登録済データ!H321,\"\"),\"\")","v":""},{"$f":"IF(登録済データ!$B321<>0,IF(登録済データ!I321<>\"\",登録済データ!I321,\"\"),\"\")","v":""},{"$f":"IF(登録済データ!$B321<>0,登録済データ!J321,\"\")","v":""},{"$f":"IF(登録済データ!$B321<>0,登録済データ!K321,\"\")","v":""},{"$f":"IF(登録済データ!$B321<>0,登録済データ!L321,\"\")","v":""},{"$f":"IF(登録済データ!$B321<>0,登録済データ!M321,\"\")","v":""},{"$f":"IF(登録済データ!$B321<>0,登録済データ!N321,\"\")","v":""},{"$f":"IF(登録済データ!$B321<>0,登録済データ!O321,\"\")","v":""},{"$f":"IF(登録済データ!$B321<>0,登録済データ!P321,\"\")","v":""},{"$f":"IF(登録済データ!$B321<>0,登録済データ!Q321,\"\")","v":""},{"$f":"IF(登録済データ!$B321<>0,登録済データ!R321,\"\")","v":""},{"$f":"IF(登録済データ!$B321<>0,登録済データ!S321,\"\")","v":""},{"$f":"IF(登録済データ!$B321<>0,登録済データ!T321,\"\")","v":""},{"$f":"IF(登録済データ!$B321<>0,登録済データ!U321,\"\")","v":""},{"$f":"IF(登録済データ!$B321<>0,登録済データ!V321,\"\")","v":""},{"$f":"IF(登録済データ!$B321<>0,登録済データ!W321,\"\")","v":""},{"$f":"IF(登録済データ!$B321<>0,登録済データ!X321,\"\")","v":""},{"$f":"IF($F318<>\"\",登録済データ!$C$4,\"\")","v":""}]
[null,{"$f":"IF($F319<>\"\",登録済データ!$C$2,\"\")","v":""},{"$f":"IF($F319<>\"\",IF($I$1=\"企業コード3桁\",LEFT(登録済データ!$C$3,3),LEFT(登録済データ!$C$3,6)),\"\")","v":""},null,{"$f":"IF(登録済データ!$B322<>0,登録済データ!C322,\"\")","v":""},{"$f":"IF(登録済データ!$B322<>0,登録済データ!D322,\"\")","v":""},{"$f":"IF(登録済データ!$B322<>0,登録済データ!E322,\"\")","v":""},{"$f":"IF(登録済データ!$B322<>0,IF(登録済データ!F322<>\"\",登録済データ!F322,\"\"),\"\")","v":""},{"$f":"IF(登録済データ!$B322<>0,IF(登録済データ!G322<>\"\",登録済データ!G322,\"\"),\"\")","v":""},{"$f":"IF(登録済データ!$B322<>0,IF(登録済データ!H322<>\"\",登録済データ!H322,\"\"),\"\")","v":""},{"$f":"IF(登録済データ!$B322<>0,IF(登録済データ!I322<>\"\",登録済データ!I322,\"\"),\"\")","v":""},{"$f":"IF(登録済データ!$B322<>0,登録済データ!J322,\"\")","v":""},{"$f":"IF(登録済データ!$B322<>0,登録済データ!K322,\"\")","v":""},{"$f":"IF(登録済データ!$B322<>0,登録済データ!L322,\"\")","v":""},{"$f":"IF(登録済データ!$B322<>0,登録済データ!M322,\"\")","v":""},{"$f":"IF(登録済データ!$B322<>0,登録済データ!N322,\"\")","v":""},{"$f":"IF(登録済データ!$B322<>0,登録済データ!O322,\"\")","v":""},{"$f":"IF(登録済データ!$B322<>0,登録済データ!P322,\"\")","v":""},{"$f":"IF(登録済データ!$B322<>0,登録済データ!Q322,\"\")","v":""},{"$f":"IF(登録済データ!$B322<>0,登録済データ!R322,\"\")","v":""},{"$f":"IF(登録済データ!$B322<>0,登録済データ!S322,\"\")","v":""},{"$f":"IF(登録済データ!$B322<>0,登録済データ!T322,\"\")","v":""},{"$f":"IF(登録済データ!$B322<>0,登録済データ!U322,\"\")","v":""},{"$f":"IF(登録済データ!$B322<>0,登録済データ!V322,\"\")","v":""},{"$f":"IF(登録済データ!$B322<>0,登録済データ!W322,\"\")","v":""},{"$f":"IF(登録済データ!$B322<>0,登録済データ!X322,\"\")","v":""},{"$f":"IF($F319<>\"\",登録済データ!$C$4,\"\")","v":""}]
[null,{"$f":"IF($F320<>\"\",登録済データ!$C$2,\"\")","v":""},{"$f":"IF($F320<>\"\",IF($I$1=\"企業コード3桁\",LEFT(登録済データ!$C$3,3),LEFT(登録済データ!$C$3,6)),\"\")","v":""},null,{"$f":"IF(登録済データ!$B323<>0,登録済データ!C323,\"\")","v":""},{"$f":"IF(登録済データ!$B323<>0,登録済データ!D323,\"\")","v":""},{"$f":"IF(登録済データ!$B323<>0,登録済データ!E323,\"\")","v":""},{"$f":"IF(登録済データ!$B323<>0,IF(登録済データ!F323<>\"\",登録済データ!F323,\"\"),\"\")","v":""},{"$f":"IF(登録済データ!$B323<>0,IF(登録済データ!G323<>\"\",登録済データ!G323,\"\"),\"\")","v":""},{"$f":"IF(登録済データ!$B323<>0,IF(登録済データ!H323<>\"\",登録済データ!H323,\"\"),\"\")","v":""},{"$f":"IF(登録済データ!$B323<>0,IF(登録済データ!I323<>\"\",登録済データ!I323,\"\"),\"\")","v":""},{"$f":"IF(登録済データ!$B323<>0,登録済データ!J323,\"\")","v":""},{"$f":"IF(登録済データ!$B323<>0,登録済データ!K323,\"\")","v":""},{"$f":"IF(登録済データ!$B323<>0,登録済データ!L323,\"\")","v":""},{"$f":"IF(登録済データ!$B323<>0,登録済データ!M323,\"\")","v":""},{"$f":"IF(登録済データ!$B323<>0,登録済データ!N323,\"\")","v":""},{"$f":"IF(登録済データ!$B323<>0,登録済データ!O323,\"\")","v":""},{"$f":"IF(登録済データ!$B323<>0,登録済データ!P323,\"\")","v":""},{"$f":"IF(登録済データ!$B323<>0,登録済データ!Q323,\"\")","v":""},{"$f":"IF(登録済データ!$B323<>0,登録済データ!R323,\"\")","v":""},{"$f":"IF(登録済データ!$B323<>0,登録済データ!S323,\"\")","v":""},{"$f":"IF(登録済データ!$B323<>0,登録済データ!T323,\"\")","v":""},{"$f":"IF(登録済データ!$B323<>0,登録済データ!U323,\"\")","v":""},{"$f":"IF(登録済データ!$B323<>0,登録済データ!V323,\"\")","v":""},{"$f":"IF(登録済データ!$B323<>0,登録済データ!W323,\"\")","v":""},{"$f":"IF(登録済データ!$B323<>0,登録済データ!X323,\"\")","v":""},{"$f":"IF($F320<>\"\",登録済データ!$C$4,\"\")","v":""}]
[null,{"$f":"IF($F321<>\"\",登録済データ!$C$2,\"\")","v":""},{"$f":"IF($F321<>\"\",IF($I$1=\"企業コード3桁\",LEFT(登録済データ!$C$3,3),LEFT(登録済データ!$C$3,6)),\"\")","v":""},null,{"$f":"IF(登録済データ!$B324<>0,登録済データ!C324,\"\")","v":""},{"$f":"IF(登録済データ!$B324<>0,登録済データ!D324,\"\")","v":""},{"$f":"IF(登録済データ!$B324<>0,登録済データ!E324,\"\")","v":""},{"$f":"IF(登録済データ!$B324<>0,IF(登録済データ!F324<>\"\",登録済データ!F324,\"\"),\"\")","v":""},{"$f":"IF(登録済データ!$B324<>0,IF(登録済データ!G324<>\"\",登録済データ!G324,\"\"),\"\")","v":""},{"$f":"IF(登録済データ!$B324<>0,IF(登録済データ!H324<>\"\",登録済データ!H324,\"\"),\"\")","v":""},{"$f":"IF(登録済データ!$B324<>0,IF(登録済データ!I324<>\"\",登録済データ!I324,\"\"),\"\")","v":""},{"$f":"IF(登録済データ!$B324<>0,登録済データ!J324,\"\")","v":""},{"$f":"IF(登録済データ!$B324<>0,登録済データ!K324,\"\")","v":""},{"$f":"IF(登録済データ!$B324<>0,登録済データ!L324,\"\")","v":""},{"$f":"IF(登録済データ!$B324<>0,登録済データ!M324,\"\")","v":""},{"$f":"IF(登録済データ!$B324<>0,登録済データ!N324,\"\")","v":""},{"$f":"IF(登録済データ!$B324<>0,登録済データ!O324,\"\")","v":""},{"$f":"IF(登録済データ!$B324<>0,登録済データ!P324,\"\")","v":""},{"$f":"IF(登録済データ!$B324<>0,登録済データ!Q324,\"\")","v":""},{"$f":"IF(登録済データ!$B324<>0,登録済データ!R324,\"\")","v":""},{"$f":"IF(登録済データ!$B324<>0,登録済データ!S324,\"\")","v":""},{"$f":"IF(登録済データ!$B324<>0,登録済データ!T324,\"\")","v":""},{"$f":"IF(登録済データ!$B324<>0,登録済データ!U324,\"\")","v":""},{"$f":"IF(登録済データ!$B324<>0,登録済データ!V324,\"\")","v":""},{"$f":"IF(登録済データ!$B324<>0,登録済データ!W324,\"\")","v":""},{"$f":"IF(登録済データ!$B324<>0,登録済データ!X324,\"\")","v":""},{"$f":"IF($F321<>\"\",登録済データ!$C$4,\"\")","v":""}]
[null,{"$f":"IF($F322<>\"\",登録済データ!$C$2,\"\")","v":""},{"$f":"IF($F322<>\"\",IF($I$1=\"企業コード3桁\",LEFT(登録済データ!$C$3,3),LEFT(登録済データ!$C$3,6)),\"\")","v":""},null,{"$f":"IF(登録済データ!$B325<>0,登録済データ!C325,\"\")","v":""},{"$f":"IF(登録済データ!$B325<>0,登録済データ!D325,\"\")","v":""},{"$f":"IF(登録済データ!$B325<>0,登録済データ!E325,\"\")","v":""},{"$f":"IF(登録済データ!$B325<>0,IF(登録済データ!F325<>\"\",登録済データ!F325,\"\"),\"\")","v":""},{"$f":"IF(登録済データ!$B325<>0,IF(登録済データ!G325<>\"\",登録済データ!G325,\"\"),\"\")","v":""},{"$f":"IF(登録済データ!$B325<>0,IF(登録済データ!H325<>\"\",登録済データ!H325,\"\"),\"\")","v":""},{"$f":"IF(登録済データ!$B325<>0,IF(登録済データ!I325<>\"\",登録済データ!I325,\"\"),\"\")","v":""},{"$f":"IF(登録済データ!$B325<>0,登録済データ!J325,\"\")","v":""},{"$f":"IF(登録済データ!$B325<>0,登録済データ!K325,\"\")","v":""},{"$f":"IF(登録済データ!$B325<>0,登録済データ!L325,\"\")","v":""},{"$f":"IF(登録済データ!$B325<>0,登録済データ!M325,\"\")","v":""},{"$f":"IF(登録済データ!$B325<>0,登録済データ!N325,\"\")","v":""},{"$f":"IF(登録済データ!$B325<>0,登録済データ!O325,\"\")","v":""},{"$f":"IF(登録済データ!$B325<>0,登録済データ!P325,\"\")","v":""},{"$f":"IF(登録済データ!$B325<>0,登録済データ!Q325,\"\")","v":""},{"$f":"IF(登録済データ!$B325<>0,登録済データ!R325,\"\")","v":""},{"$f":"IF(登録済データ!$B325<>0,登録済データ!S325,\"\")","v":""},{"$f":"IF(登録済データ!$B325<>0,登録済データ!T325,\"\")","v":""},{"$f":"IF(登録済データ!$B325<>0,登録済データ!U325,\"\")","v":""},{"$f":"IF(登録済データ!$B325<>0,登録済データ!V325,\"\")","v":""},{"$f":"IF(登録済データ!$B325<>0,登録済データ!W325,\"\")","v":""},{"$f":"IF(登録済データ!$B325<>0,登録済データ!X325,\"\")","v":""},{"$f":"IF($F322<>\"\",登録済データ!$C$4,\"\")","v":""}]
[null,{"$f":"IF($F323<>\"\",登録済データ!$C$2,\"\")","v":""},{"$f":"IF($F323<>\"\",IF($I$1=\"企業コード3桁\",LEFT(登録済データ!$C$3,3),LEFT(登録済データ!$C$3,6)),\"\")","v":""},null,{"$f":"IF(登録済データ!$B326<>0,登録済データ!C326,\"\")","v":""},{"$f":"IF(登録済データ!$B326<>0,登録済データ!D326,\"\")","v":""},{"$f":"IF(登録済データ!$B326<>0,登録済データ!E326,\"\")","v":""},{"$f":"IF(登録済データ!$B326<>0,IF(登録済データ!F326<>\"\",登録済データ!F326,\"\"),\"\")","v":""},{"$f":"IF(登録済データ!$B326<>0,IF(登録済データ!G326<>\"\",登録済データ!G326,\"\"),\"\")","v":""},{"$f":"IF(登録済データ!$B326<>0,IF(登録済データ!H326<>\"\",登録済データ!H326,\"\"),\"\")","v":""},{"$f":"IF(登録済データ!$B326<>0,IF(登録済データ!I326<>\"\",登録済データ!I326,\"\"),\"\")","v":""},{"$f":"IF(登録済データ!$B326<>0,登録済データ!J326,\"\")","v":""},{"$f":"IF(登録済データ!$B326<>0,登録済データ!K326,\"\")","v":""},{"$f":"IF(登録済データ!$B326<>0,登録済データ!L326,\"\")","v":""},{"$f":"IF(登録済データ!$B326<>0,登録済データ!M326,\"\")","v":""},{"$f":"IF(登録済データ!$B326<>0,登録済データ!N326,\"\")","v":""},{"$f":"IF(登録済データ!$B326<>0,登録済データ!O326,\"\")","v":""},{"$f":"IF(登録済データ!$B326<>0,登録済データ!P326,\"\")","v":""},{"$f":"IF(登録済データ!$B326<>0,登録済データ!Q326,\"\")","v":""},{"$f":"IF(登録済データ!$B326<>0,登録済データ!R326,\"\")","v":""},{"$f":"IF(登録済データ!$B326<>0,登録済データ!S326,\"\")","v":""},{"$f":"IF(登録済データ!$B326<>0,登録済データ!T326,\"\")","v":""},{"$f":"IF(登録済データ!$B326<>0,登録済データ!U326,\"\")","v":""},{"$f":"IF(登録済データ!$B326<>0,登録済データ!V326,\"\")","v":""},{"$f":"IF(登録済データ!$B326<>0,登録済データ!W326,\"\")","v":""},{"$f":"IF(登録済データ!$B326<>0,登録済データ!X326,\"\")","v":""},{"$f":"IF($F323<>\"\",登録済データ!$C$4,\"\")","v":""}]
[null,{"$f":"IF($F324<>\"\",登録済データ!$C$2,\"\")","v":""},{"$f":"IF($F324<>\"\",IF($I$1=\"企業コード3桁\",LEFT(登録済データ!$C$3,3),LEFT(登録済データ!$C$3,6)),\"\")","v":""},null,{"$f":"IF(登録済データ!$B327<>0,登録済データ!C327,\"\")","v":""},{"$f":"IF(登録済データ!$B327<>0,登録済データ!D327,\"\")","v":""},{"$f":"IF(登録済データ!$B327<>0,登録済データ!E327,\"\")","v":""},{"$f":"IF(登録済データ!$B327<>0,IF(登録済データ!F327<>\"\",登録済データ!F327,\"\"),\"\")","v":""},{"$f":"IF(登録済データ!$B327<>0,IF(登録済データ!G327<>\"\",登録済データ!G327,\"\"),\"\")","v":""},{"$f":"IF(登録済データ!$B327<>0,IF(登録済データ!H327<>\"\",登録済データ!H327,\"\"),\"\")","v":""},{"$f":"IF(登録済データ!$B327<>0,IF(登録済データ!I327<>\"\",登録済データ!I327,\"\"),\"\")","v":""},{"$f":"IF(登録済データ!$B327<>0,登録済データ!J327,\"\")","v":""},{"$f":"IF(登録済データ!$B327<>0,登録済データ!K327,\"\")","v":""},{"$f":"IF(登録済データ!$B327<>0,登録済データ!L327,\"\")","v":""},{"$f":"IF(登録済データ!$B327<>0,登録済データ!M327,\"\")","v":""},{"$f":"IF(登録済データ!$B327<>0,登録済データ!N327,\"\")","v":""},{"$f":"IF(登録済データ!$B327<>0,登録済データ!O327,\"\")","v":""},{"$f":"IF(登録済データ!$B327<>0,登録済データ!P327,\"\")","v":""},{"$f":"IF(登録済データ!$B327<>0,登録済データ!Q327,\"\")","v":""},{"$f":"IF(登録済データ!$B327<>0,登録済データ!R327,\"\")","v":""},{"$f":"IF(登録済データ!$B327<>0,登録済データ!S327,\"\")","v":""},{"$f":"IF(登録済データ!$B327<>0,登録済データ!T327,\"\")","v":""},{"$f":"IF(登録済データ!$B327<>0,登録済データ!U327,\"\")","v":""},{"$f":"IF(登録済データ!$B327<>0,登録済データ!V327,\"\")","v":""},{"$f":"IF(登録済データ!$B327<>0,登録済データ!W327,\"\")","v":""},{"$f":"IF(登録済データ!$B327<>0,登録済データ!X327,\"\")","v":""},{"$f":"IF($F324<>\"\",登録済データ!$C$4,\"\")","v":""}]
[null,{"$f":"IF($F325<>\"\",登録済データ!$C$2,\"\")","v":""},{"$f":"IF($F325<>\"\",IF($I$1=\"企業コード3桁\",LEFT(登録済データ!$C$3,3),LEFT(登録済データ!$C$3,6)),\"\")","v":""},null,{"$f":"IF(登録済データ!$B328<>0,登録済データ!C328,\"\")","v":""},{"$f":"IF(登録済データ!$B328<>0,登録済データ!D328,\"\")","v":""},{"$f":"IF(登録済データ!$B328<>0,登録済データ!E328,\"\")","v":""},{"$f":"IF(登録済データ!$B328<>0,IF(登録済データ!F328<>\"\",登録済データ!F328,\"\"),\"\")","v":""},{"$f":"IF(登録済データ!$B328<>0,IF(登録済データ!G328<>\"\",登録済データ!G328,\"\"),\"\")","v":""},{"$f":"IF(登録済データ!$B328<>0,IF(登録済データ!H328<>\"\",登録済データ!H328,\"\"),\"\")","v":""},{"$f":"IF(登録済データ!$B328<>0,IF(登録済データ!I328<>\"\",登録済データ!I328,\"\"),\"\")","v":""},{"$f":"IF(登録済データ!$B328<>0,登録済データ!J328,\"\")","v":""},{"$f":"IF(登録済データ!$B328<>0,登録済データ!K328,\"\")","v":""},{"$f":"IF(登録済データ!$B328<>0,登録済データ!L328,\"\")","v":""},{"$f":"IF(登録済データ!$B328<>0,登録済データ!M328,\"\")","v":""},{"$f":"IF(登録済データ!$B328<>0,登録済データ!N328,\"\")","v":""},{"$f":"IF(登録済データ!$B328<>0,登録済データ!O328,\"\")","v":""},{"$f":"IF(登録済データ!$B328<>0,登録済データ!P328,\"\")","v":""},{"$f":"IF(登録済データ!$B328<>0,登録済データ!Q328,\"\")","v":""},{"$f":"IF(登録済データ!$B328<>0,登録済データ!R328,\"\")","v":""},{"$f":"IF(登録済データ!$B328<>0,登録済データ!S328,\"\")","v":""},{"$f":"IF(登録済データ!$B328<>0,登録済データ!T328,\"\")","v":""},{"$f":"IF(登録済データ!$B328<>0,登録済データ!U328,\"\")","v":""},{"$f":"IF(登録済データ!$B328<>0,登録済データ!V328,\"\")","v":""},{"$f":"IF(登録済データ!$B328<>0,登録済データ!W328,\"\")","v":""},{"$f":"IF(登録済データ!$B328<>0,登録済データ!X328,\"\")","v":""},{"$f":"IF($F325<>\"\",登録済データ!$C$4,\"\")","v":""}]
[null,{"$f":"IF($F326<>\"\",登録済データ!$C$2,\"\")","v":""},{"$f":"IF($F326<>\"\",IF($I$1=\"企業コード3桁\",LEFT(登録済データ!$C$3,3),LEFT(登録済データ!$C$3,6)),\"\")","v":""},null,{"$f":"IF(登録済データ!$B329<>0,登録済データ!C329,\"\")","v":""},{"$f":"IF(登録済データ!$B329<>0,登録済データ!D329,\"\")","v":""},{"$f":"IF(登録済データ!$B329<>0,登録済データ!E329,\"\")","v":""},{"$f":"IF(登録済データ!$B329<>0,IF(登録済データ!F329<>\"\",登録済データ!F329,\"\"),\"\")","v":""},{"$f":"IF(登録済データ!$B329<>0,IF(登録済データ!G329<>\"\",登録済データ!G329,\"\"),\"\")","v":""},{"$f":"IF(登録済データ!$B329<>0,IF(登録済データ!H329<>\"\",登録済データ!H329,\"\"),\"\")","v":""},{"$f":"IF(登録済データ!$B329<>0,IF(登録済データ!I329<>\"\",登録済データ!I329,\"\"),\"\")","v":""},{"$f":"IF(登録済データ!$B329<>0,登録済データ!J329,\"\")","v":""},{"$f":"IF(登録済データ!$B329<>0,登録済データ!K329,\"\")","v":""},{"$f":"IF(登録済データ!$B329<>0,登録済データ!L329,\"\")","v":""},{"$f":"IF(登録済データ!$B329<>0,登録済データ!M329,\"\")","v":""},{"$f":"IF(登録済データ!$B329<>0,登録済データ!N329,\"\")","v":""},{"$f":"IF(登録済データ!$B329<>0,登録済データ!O329,\"\")","v":""},{"$f":"IF(登録済データ!$B329<>0,登録済データ!P329,\"\")","v":""},{"$f":"IF(登録済データ!$B329<>0,登録済データ!Q329,\"\")","v":""},{"$f":"IF(登録済データ!$B329<>0,登録済データ!R329,\"\")","v":""},{"$f":"IF(登録済データ!$B329<>0,登録済データ!S329,\"\")","v":""},{"$f":"IF(登録済データ!$B329<>0,登録済データ!T329,\"\")","v":""},{"$f":"IF(登録済データ!$B329<>0,登録済データ!U329,\"\")","v":""},{"$f":"IF(登録済データ!$B329<>0,登録済データ!V329,\"\")","v":""},{"$f":"IF(登録済データ!$B329<>0,登録済データ!W329,\"\")","v":""},{"$f":"IF(登録済データ!$B329<>0,登録済データ!X329,\"\")","v":""},{"$f":"IF($F326<>\"\",登録済データ!$C$4,\"\")","v":""}]
[null,{"$f":"IF($F327<>\"\",登録済データ!$C$2,\"\")","v":""},{"$f":"IF($F327<>\"\",IF($I$1=\"企業コード3桁\",LEFT(登録済データ!$C$3,3),LEFT(登録済データ!$C$3,6)),\"\")","v":""},null,{"$f":"IF(登録済データ!$B330<>0,登録済データ!C330,\"\")","v":""},{"$f":"IF(登録済データ!$B330<>0,登録済データ!D330,\"\")","v":""},{"$f":"IF(登録済データ!$B330<>0,登録済データ!E330,\"\")","v":""},{"$f":"IF(登録済データ!$B330<>0,IF(登録済データ!F330<>\"\",登録済データ!F330,\"\"),\"\")","v":""},{"$f":"IF(登録済データ!$B330<>0,IF(登録済データ!G330<>\"\",登録済データ!G330,\"\"),\"\")","v":""},{"$f":"IF(登録済データ!$B330<>0,IF(登録済データ!H330<>\"\",登録済データ!H330,\"\"),\"\")","v":""},{"$f":"IF(登録済データ!$B330<>0,IF(登録済データ!I330<>\"\",登録済データ!I330,\"\"),\"\")","v":""},{"$f":"IF(登録済データ!$B330<>0,登録済データ!J330,\"\")","v":""},{"$f":"IF(登録済データ!$B330<>0,登録済データ!K330,\"\")","v":""},{"$f":"IF(登録済データ!$B330<>0,登録済データ!L330,\"\")","v":""},{"$f":"IF(登録済データ!$B330<>0,登録済データ!M330,\"\")","v":""},{"$f":"IF(登録済データ!$B330<>0,登録済データ!N330,\"\")","v":""},{"$f":"IF(登録済データ!$B330<>0,登録済データ!O330,\"\")","v":""},{"$f":"IF(登録済データ!$B330<>0,登録済データ!P330,\"\")","v":""},{"$f":"IF(登録済データ!$B330<>0,登録済データ!Q330,\"\")","v":""},{"$f":"IF(登録済データ!$B330<>0,登録済データ!R330,\"\")","v":""},{"$f":"IF(登録済データ!$B330<>0,登録済データ!S330,\"\")","v":""},{"$f":"IF(登録済データ!$B330<>0,登録済データ!T330,\"\")","v":""},{"$f":"IF(登録済データ!$B330<>0,登録済データ!U330,\"\")","v":""},{"$f":"IF(登録済データ!$B330<>0,登録済データ!V330,\"\")","v":""},{"$f":"IF(登録済データ!$B330<>0,登録済データ!W330,\"\")","v":""},{"$f":"IF(登録済データ!$B330<>0,登録済データ!X330,\"\")","v":""},{"$f":"IF($F327<>\"\",登録済データ!$C$4,\"\")","v":""}]
[null,{"$f":"IF($F328<>\"\",登録済データ!$C$2,\"\")","v":""},{"$f":"IF($F328<>\"\",IF($I$1=\"企業コード3桁\",LEFT(登録済データ!$C$3,3),LEFT(登録済データ!$C$3,6)),\"\")","v":""},null,{"$f":"IF(登録済データ!$B331<>0,登録済データ!C331,\"\")","v":""},{"$f":"IF(登録済データ!$B331<>0,登録済データ!D331,\"\")","v":""},{"$f":"IF(登録済データ!$B331<>0,登録済データ!E331,\"\")","v":""},{"$f":"IF(登録済データ!$B331<>0,IF(登録済データ!F331<>\"\",登録済データ!F331,\"\"),\"\")","v":""},{"$f":"IF(登録済データ!$B331<>0,IF(登録済データ!G331<>\"\",登録済データ!G331,\"\"),\"\")","v":""},{"$f":"IF(登録済データ!$B331<>0,IF(登録済データ!H331<>\"\",登録済データ!H331,\"\"),\"\")","v":""},{"$f":"IF(登録済データ!$B331<>0,IF(登録済データ!I331<>\"\",登録済データ!I331,\"\"),\"\")","v":""},{"$f":"IF(登録済データ!$B331<>0,登録済データ!J331,\"\")","v":""},{"$f":"IF(登録済データ!$B331<>0,登録済データ!K331,\"\")","v":""},{"$f":"IF(登録済データ!$B331<>0,登録済データ!L331,\"\")","v":""},{"$f":"IF(登録済データ!$B331<>0,登録済データ!M331,\"\")","v":""},{"$f":"IF(登録済データ!$B331<>0,登録済データ!N331,\"\")","v":""},{"$f":"IF(登録済データ!$B331<>0,登録済データ!O331,\"\")","v":""},{"$f":"IF(登録済データ!$B331<>0,登録済データ!P331,\"\")","v":""},{"$f":"IF(登録済データ!$B331<>0,登録済データ!Q331,\"\")","v":""},{"$f":"IF(登録済データ!$B331<>0,登録済データ!R331,\"\")","v":""},{"$f":"IF(登録済データ!$B331<>0,登録済データ!S331,\"\")","v":""},{"$f":"IF(登録済データ!$B331<>0,登録済データ!T331,\"\")","v":""},{"$f":"IF(登録済データ!$B331<>0,登録済データ!U331,\"\")","v":""},{"$f":"IF(登録済データ!$B331<>0,登録済データ!V331,\"\")","v":""},{"$f":"IF(登録済データ!$B331<>0,登録済データ!W331,\"\")","v":""},{"$f":"IF(登録済データ!$B331<>0,登録済データ!X331,\"\")","v":""},{"$f":"IF($F328<>\"\",登録済データ!$C$4,\"\")","v":""}]
[null,{"$f":"IF($F329<>\"\",登録済データ!$C$2,\"\")","v":""},{"$f":"IF($F329<>\"\",IF($I$1=\"企業コード3桁\",LEFT(登録済データ!$C$3,3),LEFT(登録済データ!$C$3,6)),\"\")","v":""},null,{"$f":"IF(登録済データ!$B332<>0,登録済データ!C332,\"\")","v":""},{"$f":"IF(登録済データ!$B332<>0,登録済データ!D332,\"\")","v":""},{"$f":"IF(登録済データ!$B332<>0,登録済データ!E332,\"\")","v":""},{"$f":"IF(登録済データ!$B332<>0,IF(登録済データ!F332<>\"\",登録済データ!F332,\"\"),\"\")","v":""},{"$f":"IF(登録済データ!$B332<>0,IF(登録済データ!G332<>\"\",登録済データ!G332,\"\"),\"\")","v":""},{"$f":"IF(登録済データ!$B332<>0,IF(登録済データ!H332<>\"\",登録済データ!H332,\"\"),\"\")","v":""},{"$f":"IF(登録済データ!$B332<>0,IF(登録済データ!I332<>\"\",登録済データ!I332,\"\"),\"\")","v":""},{"$f":"IF(登録済データ!$B332<>0,登録済データ!J332,\"\")","v":""},{"$f":"IF(登録済データ!$B332<>0,登録済データ!K332,\"\")","v":""},{"$f":"IF(登録済データ!$B332<>0,登録済データ!L332,\"\")","v":""},{"$f":"IF(登録済データ!$B332<>0,登録済データ!M332,\"\")","v":""},{"$f":"IF(登録済データ!$B332<>0,登録済データ!N332,\"\")","v":""},{"$f":"IF(登録済データ!$B332<>0,登録済データ!O332,\"\")","v":""},{"$f":"IF(登録済データ!$B332<>0,登録済データ!P332,\"\")","v":""},{"$f":"IF(登録済データ!$B332<>0,登録済データ!Q332,\"\")","v":""},{"$f":"IF(登録済データ!$B332<>0,登録済データ!R332,\"\")","v":""},{"$f":"IF(登録済データ!$B332<>0,登録済データ!S332,\"\")","v":""},{"$f":"IF(登録済データ!$B332<>0,登録済データ!T332,\"\")","v":""},{"$f":"IF(登録済データ!$B332<>0,登録済データ!U332,\"\")","v":""},{"$f":"IF(登録済データ!$B332<>0,登録済データ!V332,\"\")","v":""},{"$f":"IF(登録済データ!$B332<>0,登録済データ!W332,\"\")","v":""},{"$f":"IF(登録済データ!$B332<>0,登録済データ!X332,\"\")","v":""},{"$f":"IF($F329<>\"\",登録済データ!$C$4,\"\")","v":""}]
[null,{"$f":"IF($F330<>\"\",登録済データ!$C$2,\"\")","v":""},{"$f":"IF($F330<>\"\",IF($I$1=\"企業コード3桁\",LEFT(登録済データ!$C$3,3),LEFT(登録済データ!$C$3,6)),\"\")","v":""},null,{"$f":"IF(登録済データ!$B333<>0,登録済データ!C333,\"\")","v":""},{"$f":"IF(登録済データ!$B333<>0,登録済データ!D333,\"\")","v":""},{"$f":"IF(登録済データ!$B333<>0,登録済データ!E333,\"\")","v":""},{"$f":"IF(登録済データ!$B333<>0,IF(登録済データ!F333<>\"\",登録済データ!F333,\"\"),\"\")","v":""},{"$f":"IF(登録済データ!$B333<>0,IF(登録済データ!G333<>\"\",登録済データ!G333,\"\"),\"\")","v":""},{"$f":"IF(登録済データ!$B333<>0,IF(登録済データ!H333<>\"\",登録済データ!H333,\"\"),\"\")","v":""},{"$f":"IF(登録済データ!$B333<>0,IF(登録済データ!I333<>\"\",登録済データ!I333,\"\"),\"\")","v":""},{"$f":"IF(登録済データ!$B333<>0,登録済データ!J333,\"\")","v":""},{"$f":"IF(登録済データ!$B333<>0,登録済データ!K333,\"\")","v":""},{"$f":"IF(登録済データ!$B333<>0,登録済データ!L333,\"\")","v":""},{"$f":"IF(登録済データ!$B333<>0,登録済データ!M333,\"\")","v":""},{"$f":"IF(登録済データ!$B333<>0,登録済データ!N333,\"\")","v":""},{"$f":"IF(登録済データ!$B333<>0,登録済データ!O333,\"\")","v":""},{"$f":"IF(登録済データ!$B333<>0,登録済データ!P333,\"\")","v":""},{"$f":"IF(登録済データ!$B333<>0,登録済データ!Q333,\"\")","v":""},{"$f":"IF(登録済データ!$B333<>0,登録済データ!R333,\"\")","v":""},{"$f":"IF(登録済データ!$B333<>0,登録済データ!S333,\"\")","v":""},{"$f":"IF(登録済データ!$B333<>0,登録済データ!T333,\"\")","v":""},{"$f":"IF(登録済データ!$B333<>0,登録済データ!U333,\"\")","v":""},{"$f":"IF(登録済データ!$B333<>0,登録済データ!V333,\"\")","v":""},{"$f":"IF(登録済データ!$B333<>0,登録済データ!W333,\"\")","v":""},{"$f":"IF(登録済データ!$B333<>0,登録済データ!X333,\"\")","v":""},{"$f":"IF($F330<>\"\",登録済データ!$C$4,\"\")","v":""}]
[null,{"$f":"IF($F331<>\"\",登録済データ!$C$2,\"\")","v":""},{"$f":"IF($F331<>\"\",IF($I$1=\"企業コード3桁\",LEFT(登録済データ!$C$3,3),LEFT(登録済データ!$C$3,6)),\"\")","v":""},null,{"$f":"IF(登録済データ!$B334<>0,登録済データ!C334,\"\")","v":""},{"$f":"IF(登録済データ!$B334<>0,登録済データ!D334,\"\")","v":""},{"$f":"IF(登録済データ!$B334<>0,登録済データ!E334,\"\")","v":""},{"$f":"IF(登録済データ!$B334<>0,IF(登録済データ!F334<>\"\",登録済データ!F334,\"\"),\"\")","v":""},{"$f":"IF(登録済データ!$B334<>0,IF(登録済データ!G334<>\"\",登録済データ!G334,\"\"),\"\")","v":""},{"$f":"IF(登録済データ!$B334<>0,IF(登録済データ!H334<>\"\",登録済データ!H334,\"\"),\"\")","v":""},{"$f":"IF(登録済データ!$B334<>0,IF(登録済データ!I334<>\"\",登録済データ!I334,\"\"),\"\")","v":""},{"$f":"IF(登録済データ!$B334<>0,登録済データ!J334,\"\")","v":""},{"$f":"IF(登録済データ!$B334<>0,登録済データ!K334,\"\")","v":""},{"$f":"IF(登録済データ!$B334<>0,登録済データ!L334,\"\")","v":""},{"$f":"IF(登録済データ!$B334<>0,登録済データ!M334,\"\")","v":""},{"$f":"IF(登録済データ!$B334<>0,登録済データ!N334,\"\")","v":""},{"$f":"IF(登録済データ!$B334<>0,登録済データ!O334,\"\")","v":""},{"$f":"IF(登録済データ!$B334<>0,登録済データ!P334,\"\")","v":""},{"$f":"IF(登録済データ!$B334<>0,登録済データ!Q334,\"\")","v":""},{"$f":"IF(登録済データ!$B334<>0,登録済データ!R334,\"\")","v":""},{"$f":"IF(登録済データ!$B334<>0,登録済データ!S334,\"\")","v":""},{"$f":"IF(登録済データ!$B334<>0,登録済データ!T334,\"\")","v":""},{"$f":"IF(登録済データ!$B334<>0,登録済データ!U334,\"\")","v":""},{"$f":"IF(登録済データ!$B334<>0,登録済データ!V334,\"\")","v":""},{"$f":"IF(登録済データ!$B334<>0,登録済データ!W334,\"\")","v":""},{"$f":"IF(登録済データ!$B334<>0,登録済データ!X334,\"\")","v":""},{"$f":"IF($F331<>\"\",登録済データ!$C$4,\"\")","v":""}]
[null,{"$f":"IF($F332<>\"\",登録済データ!$C$2,\"\")","v":""},{"$f":"IF($F332<>\"\",IF($I$1=\"企業コード3桁\",LEFT(登録済データ!$C$3,3),LEFT(登録済データ!$C$3,6)),\"\")","v":""},null,{"$f":"IF(登録済データ!$B335<>0,登録済データ!C335,\"\")","v":""},{"$f":"IF(登録済データ!$B335<>0,登録済データ!D335,\"\")","v":""},{"$f":"IF(登録済データ!$B335<>0,登録済データ!E335,\"\")","v":""},{"$f":"IF(登録済データ!$B335<>0,IF(登録済データ!F335<>\"\",登録済データ!F335,\"\"),\"\")","v":""},{"$f":"IF(登録済データ!$B335<>0,IF(登録済データ!G335<>\"\",登録済データ!G335,\"\"),\"\")","v":""},{"$f":"IF(登録済データ!$B335<>0,IF(登録済データ!H335<>\"\",登録済データ!H335,\"\"),\"\")","v":""},{"$f":"IF(登録済データ!$B335<>0,IF(登録済データ!I335<>\"\",登録済データ!I335,\"\"),\"\")","v":""},{"$f":"IF(登録済データ!$B335<>0,登録済データ!J335,\"\")","v":""},{"$f":"IF(登録済データ!$B335<>0,登録済データ!K335,\"\")","v":""},{"$f":"IF(登録済データ!$B335<>0,登録済データ!L335,\"\")","v":""},{"$f":"IF(登録済データ!$B335<>0,登録済データ!M335,\"\")","v":""},{"$f":"IF(登録済データ!$B335<>0,登録済データ!N335,\"\")","v":""},{"$f":"IF(登録済データ!$B335<>0,登録済データ!O335,\"\")","v":""},{"$f":"IF(登録済データ!$B335<>0,登録済データ!P335,\"\")","v":""},{"$f":"IF(登録済データ!$B335<>0,登録済データ!Q335,\"\")","v":""},{"$f":"IF(登録済データ!$B335<>0,登録済データ!R335,\"\")","v":""},{"$f":"IF(登録済データ!$B335<>0,登録済データ!S335,\"\")","v":""},{"$f":"IF(登録済データ!$B335<>0,登録済データ!T335,\"\")","v":""},{"$f":"IF(登録済データ!$B335<>0,登録済データ!U335,\"\")","v":""},{"$f":"IF(登録済データ!$B335<>0,登録済データ!V335,\"\")","v":""},{"$f":"IF(登録済データ!$B335<>0,登録済データ!W335,\"\")","v":""},{"$f":"IF(登録済データ!$B335<>0,登録済データ!X335,\"\")","v":""},{"$f":"IF($F332<>\"\",登録済データ!$C$4,\"\")","v":""}]
[null,{"$f":"IF($F333<>\"\",登録済データ!$C$2,\"\")","v":""},{"$f":"IF($F333<>\"\",IF($I$1=\"企業コード3桁\",LEFT(登録済データ!$C$3,3),LEFT(登録済データ!$C$3,6)),\"\")","v":""},null,{"$f":"IF(登録済データ!$B336<>0,登録済データ!C336,\"\")","v":""},{"$f":"IF(登録済データ!$B336<>0,登録済データ!D336,\"\")","v":""},{"$f":"IF(登録済データ!$B336<>0,登録済データ!E336,\"\")","v":""},{"$f":"IF(登録済データ!$B336<>0,IF(登録済データ!F336<>\"\",登録済データ!F336,\"\"),\"\")","v":""},{"$f":"IF(登録済データ!$B336<>0,IF(登録済データ!G336<>\"\",登録済データ!G336,\"\"),\"\")","v":""},{"$f":"IF(登録済データ!$B336<>0,IF(登録済データ!H336<>\"\",登録済データ!H336,\"\"),\"\")","v":""},{"$f":"IF(登録済データ!$B336<>0,IF(登録済データ!I336<>\"\",登録済データ!I336,\"\"),\"\")","v":""},{"$f":"IF(登録済データ!$B336<>0,登録済データ!J336,\"\")","v":""},{"$f":"IF(登録済データ!$B336<>0,登録済データ!K336,\"\")","v":""},{"$f":"IF(登録済データ!$B336<>0,登録済データ!L336,\"\")","v":""},{"$f":"IF(登録済データ!$B336<>0,登録済データ!M336,\"\")","v":""},{"$f":"IF(登録済データ!$B336<>0,登録済データ!N336,\"\")","v":""},{"$f":"IF(登録済データ!$B336<>0,登録済データ!O336,\"\")","v":""},{"$f":"IF(登録済データ!$B336<>0,登録済データ!P336,\"\")","v":""},{"$f":"IF(登録済データ!$B336<>0,登録済データ!Q336,\"\")","v":""},{"$f":"IF(登録済データ!$B336<>0,登録済データ!R336,\"\")","v":""},{"$f":"IF(登録済データ!$B336<>0,登録済データ!S336,\"\")","v":""},{"$f":"IF(登録済データ!$B336<>0,登録済データ!T336,\"\")","v":""},{"$f":"IF(登録済データ!$B336<>0,登録済データ!U336,\"\")","v":""},{"$f":"IF(登録済データ!$B336<>0,登録済データ!V336,\"\")","v":""},{"$f":"IF(登録済データ!$B336<>0,登録済データ!W336,\"\")","v":""},{"$f":"IF(登録済データ!$B336<>0,登録済データ!X336,\"\")","v":""},{"$f":"IF($F333<>\"\",登録済データ!$C$4,\"\")","v":""}]
[null,{"$f":"IF($F334<>\"\",登録済データ!$C$2,\"\")","v":""},{"$f":"IF($F334<>\"\",IF($I$1=\"企業コード3桁\",LEFT(登録済データ!$C$3,3),LEFT(登録済データ!$C$3,6)),\"\")","v":""},null,{"$f":"IF(登録済データ!$B337<>0,登録済データ!C337,\"\")","v":""},{"$f":"IF(登録済データ!$B337<>0,登録済データ!D337,\"\")","v":""},{"$f":"IF(登録済データ!$B337<>0,登録済データ!E337,\"\")","v":""},{"$f":"IF(登録済データ!$B337<>0,IF(登録済データ!F337<>\"\",登録済データ!F337,\"\"),\"\")","v":""},{"$f":"IF(登録済データ!$B337<>0,IF(登録済データ!G337<>\"\",登録済データ!G337,\"\"),\"\")","v":""},{"$f":"IF(登録済データ!$B337<>0,IF(登録済データ!H337<>\"\",登録済データ!H337,\"\"),\"\")","v":""},{"$f":"IF(登録済データ!$B337<>0,IF(登録済データ!I337<>\"\",登録済データ!I337,\"\"),\"\")","v":""},{"$f":"IF(登録済データ!$B337<>0,登録済データ!J337,\"\")","v":""},{"$f":"IF(登録済データ!$B337<>0,登録済データ!K337,\"\")","v":""},{"$f":"IF(登録済データ!$B337<>0,登録済データ!L337,\"\")","v":""},{"$f":"IF(登録済データ!$B337<>0,登録済データ!M337,\"\")","v":""},{"$f":"IF(登録済データ!$B337<>0,登録済データ!N337,\"\")","v":""},{"$f":"IF(登録済データ!$B337<>0,登録済データ!O337,\"\")","v":""},{"$f":"IF(登録済データ!$B337<>0,登録済データ!P337,\"\")","v":""},{"$f":"IF(登録済データ!$B337<>0,登録済データ!Q337,\"\")","v":""},{"$f":"IF(登録済データ!$B337<>0,登録済データ!R337,\"\")","v":""},{"$f":"IF(登録済データ!$B337<>0,登録済データ!S337,\"\")","v":""},{"$f":"IF(登録済データ!$B337<>0,登録済データ!T337,\"\")","v":""},{"$f":"IF(登録済データ!$B337<>0,登録済データ!U337,\"\")","v":""},{"$f":"IF(登録済データ!$B337<>0,登録済データ!V337,\"\")","v":""},{"$f":"IF(登録済データ!$B337<>0,登録済データ!W337,\"\")","v":""},{"$f":"IF(登録済データ!$B337<>0,登録済データ!X337,\"\")","v":""},{"$f":"IF($F334<>\"\",登録済データ!$C$4,\"\")","v":""}]
[null,{"$f":"IF($F335<>\"\",登録済データ!$C$2,\"\")","v":""},{"$f":"IF($F335<>\"\",IF($I$1=\"企業コード3桁\",LEFT(登録済データ!$C$3,3),LEFT(登録済データ!$C$3,6)),\"\")","v":""},null,{"$f":"IF(登録済データ!$B338<>0,登録済データ!C338,\"\")","v":""},{"$f":"IF(登録済データ!$B338<>0,登録済データ!D338,\"\")","v":""},{"$f":"IF(登録済データ!$B338<>0,登録済データ!E338,\"\")","v":""},{"$f":"IF(登録済データ!$B338<>0,IF(登録済データ!F338<>\"\",登録済データ!F338,\"\"),\"\")","v":""},{"$f":"IF(登録済データ!$B338<>0,IF(登録済データ!G338<>\"\",登録済データ!G338,\"\"),\"\")","v":""},{"$f":"IF(登録済データ!$B338<>0,IF(登録済データ!H338<>\"\",登録済データ!H338,\"\"),\"\")","v":""},{"$f":"IF(登録済データ!$B338<>0,IF(登録済データ!I338<>\"\",登録済データ!I338,\"\"),\"\")","v":""},{"$f":"IF(登録済データ!$B338<>0,登録済データ!J338,\"\")","v":""},{"$f":"IF(登録済データ!$B338<>0,登録済データ!K338,\"\")","v":""},{"$f":"IF(登録済データ!$B338<>0,登録済データ!L338,\"\")","v":""},{"$f":"IF(登録済データ!$B338<>0,登録済データ!M338,\"\")","v":""},{"$f":"IF(登録済データ!$B338<>0,登録済データ!N338,\"\")","v":""},{"$f":"IF(登録済データ!$B338<>0,登録済データ!O338,\"\")","v":""},{"$f":"IF(登録済データ!$B338<>0,登録済データ!P338,\"\")","v":""},{"$f":"IF(登録済データ!$B338<>0,登録済データ!Q338,\"\")","v":""},{"$f":"IF(登録済データ!$B338<>0,登録済データ!R338,\"\")","v":""},{"$f":"IF(登録済データ!$B338<>0,登録済データ!S338,\"\")","v":""},{"$f":"IF(登録済データ!$B338<>0,登録済データ!T338,\"\")","v":""},{"$f":"IF(登録済データ!$B338<>0,登録済データ!U338,\"\")","v":""},{"$f":"IF(登録済データ!$B338<>0,登録済データ!V338,\"\")","v":""},{"$f":"IF(登録済データ!$B338<>0,登録済データ!W338,\"\")","v":""},{"$f":"IF(登録済データ!$B338<>0,登録済データ!X338,\"\")","v":""},{"$f":"IF($F335<>\"\",登録済データ!$C$4,\"\")","v":""}]
[null,{"$f":"IF($F336<>\"\",登録済データ!$C$2,\"\")","v":""},{"$f":"IF($F336<>\"\",IF($I$1=\"企業コード3桁\",LEFT(登録済データ!$C$3,3),LEFT(登録済データ!$C$3,6)),\"\")","v":""},null,{"$f":"IF(登録済データ!$B339<>0,登録済データ!C339,\"\")","v":""},{"$f":"IF(登録済データ!$B339<>0,登録済データ!D339,\"\")","v":""},{"$f":"IF(登録済データ!$B339<>0,登録済データ!E339,\"\")","v":""},{"$f":"IF(登録済データ!$B339<>0,IF(登録済データ!F339<>\"\",登録済データ!F339,\"\"),\"\")","v":""},{"$f":"IF(登録済データ!$B339<>0,IF(登録済データ!G339<>\"\",登録済データ!G339,\"\"),\"\")","v":""},{"$f":"IF(登録済データ!$B339<>0,IF(登録済データ!H339<>\"\",登録済データ!H339,\"\"),\"\")","v":""},{"$f":"IF(登録済データ!$B339<>0,IF(登録済データ!I339<>\"\",登録済データ!I339,\"\"),\"\")","v":""},{"$f":"IF(登録済データ!$B339<>0,登録済データ!J339,\"\")","v":""},{"$f":"IF(登録済データ!$B339<>0,登録済データ!K339,\"\")","v":""},{"$f":"IF(登録済データ!$B339<>0,登録済データ!L339,\"\")","v":""},{"$f":"IF(登録済データ!$B339<>0,登録済データ!M339,\"\")","v":""},{"$f":"IF(登録済データ!$B339<>0,登録済データ!N339,\"\")","v":""},{"$f":"IF(登録済データ!$B339<>0,登録済データ!O339,\"\")","v":""},{"$f":"IF(登録済データ!$B339<>0,登録済データ!P339,\"\")","v":""},{"$f":"IF(登録済データ!$B339<>0,登録済データ!Q339,\"\")","v":""},{"$f":"IF(登録済データ!$B339<>0,登録済データ!R339,\"\")","v":""},{"$f":"IF(登録済データ!$B339<>0,登録済データ!S339,\"\")","v":""},{"$f":"IF(登録済データ!$B339<>0,登録済データ!T339,\"\")","v":""},{"$f":"IF(登録済データ!$B339<>0,登録済データ!U339,\"\")","v":""},{"$f":"IF(登録済データ!$B339<>0,登録済データ!V339,\"\")","v":""},{"$f":"IF(登録済データ!$B339<>0,登録済データ!W339,\"\")","v":""},{"$f":"IF(登録済データ!$B339<>0,登録済データ!X339,\"\")","v":""},{"$f":"IF($F336<>\"\",登録済データ!$C$4,\"\")","v":""}]
[null,{"$f":"IF($F337<>\"\",登録済データ!$C$2,\"\")","v":""},{"$f":"IF($F337<>\"\",IF($I$1=\"企業コード3桁\",LEFT(登録済データ!$C$3,3),LEFT(登録済データ!$C$3,6)),\"\")","v":""},null,{"$f":"IF(登録済データ!$B340<>0,登録済データ!C340,\"\")","v":""},{"$f":"IF(登録済データ!$B340<>0,登録済データ!D340,\"\")","v":""},{"$f":"IF(登録済データ!$B340<>0,登録済データ!E340,\"\")","v":""},{"$f":"IF(登録済データ!$B340<>0,IF(登録済データ!F340<>\"\",登録済データ!F340,\"\"),\"\")","v":""},{"$f":"IF(登録済データ!$B340<>0,IF(登録済データ!G340<>\"\",登録済データ!G340,\"\"),\"\")","v":""},{"$f":"IF(登録済データ!$B340<>0,IF(登録済データ!H340<>\"\",登録済データ!H340,\"\"),\"\")","v":""},{"$f":"IF(登録済データ!$B340<>0,IF(登録済データ!I340<>\"\",登録済データ!I340,\"\"),\"\")","v":""},{"$f":"IF(登録済データ!$B340<>0,登録済データ!J340,\"\")","v":""},{"$f":"IF(登録済データ!$B340<>0,登録済データ!K340,\"\")","v":""},{"$f":"IF(登録済データ!$B340<>0,登録済データ!L340,\"\")","v":""},{"$f":"IF(登録済データ!$B340<>0,登録済データ!M340,\"\")","v":""},{"$f":"IF(登録済データ!$B340<>0,登録済データ!N340,\"\")","v":""},{"$f":"IF(登録済データ!$B340<>0,登録済データ!O340,\"\")","v":""},{"$f":"IF(登録済データ!$B340<>0,登録済データ!P340,\"\")","v":""},{"$f":"IF(登録済データ!$B340<>0,登録済データ!Q340,\"\")","v":""},{"$f":"IF(登録済データ!$B340<>0,登録済データ!R340,\"\")","v":""},{"$f":"IF(登録済データ!$B340<>0,登録済データ!S340,\"\")","v":""},{"$f":"IF(登録済データ!$B340<>0,登録済データ!T340,\"\")","v":""},{"$f":"IF(登録済データ!$B340<>0,登録済データ!U340,\"\")","v":""},{"$f":"IF(登録済データ!$B340<>0,登録済データ!V340,\"\")","v":""},{"$f":"IF(登録済データ!$B340<>0,登録済データ!W340,\"\")","v":""},{"$f":"IF(登録済データ!$B340<>0,登録済データ!X340,\"\")","v":""},{"$f":"IF($F337<>\"\",登録済データ!$C$4,\"\")","v":""}]
[null,{"$f":"IF($F338<>\"\",登録済データ!$C$2,\"\")","v":""},{"$f":"IF($F338<>\"\",IF($I$1=\"企業コード3桁\",LEFT(登録済データ!$C$3,3),LEFT(登録済データ!$C$3,6)),\"\")","v":""},null,{"$f":"IF(登録済データ!$B341<>0,登録済データ!C341,\"\")","v":""},{"$f":"IF(登録済データ!$B341<>0,登録済データ!D341,\"\")","v":""},{"$f":"IF(登録済データ!$B341<>0,登録済データ!E341,\"\")","v":""},{"$f":"IF(登録済データ!$B341<>0,IF(登録済データ!F341<>\"\",登録済データ!F341,\"\"),\"\")","v":""},{"$f":"IF(登録済データ!$B341<>0,IF(登録済データ!G341<>\"\",登録済データ!G341,\"\"),\"\")","v":""},{"$f":"IF(登録済データ!$B341<>0,IF(登録済データ!H341<>\"\",登録済データ!H341,\"\"),\"\")","v":""},{"$f":"IF(登録済データ!$B341<>0,IF(登録済データ!I341<>\"\",登録済データ!I341,\"\"),\"\")","v":""},{"$f":"IF(登録済データ!$B341<>0,登録済データ!J341,\"\")","v":""},{"$f":"IF(登録済データ!$B341<>0,登録済データ!K341,\"\")","v":""},{"$f":"IF(登録済データ!$B341<>0,登録済データ!L341,\"\")","v":""},{"$f":"IF(登録済データ!$B341<>0,登録済データ!M341,\"\")","v":""},{"$f":"IF(登録済データ!$B341<>0,登録済データ!N341,\"\")","v":""},{"$f":"IF(登録済データ!$B341<>0,登録済データ!O341,\"\")","v":""},{"$f":"IF(登録済データ!$B341<>0,登録済データ!P341,\"\")","v":""},{"$f":"IF(登録済データ!$B341<>0,登録済データ!Q341,\"\")","v":""},{"$f":"IF(登録済データ!$B341<>0,登録済データ!R341,\"\")","v":""},{"$f":"IF(登録済データ!$B341<>0,登録済データ!S341,\"\")","v":""},{"$f":"IF(登録済データ!$B341<>0,登録済データ!T341,\"\")","v":""},{"$f":"IF(登録済データ!$B341<>0,登録済データ!U341,\"\")","v":""},{"$f":"IF(登録済データ!$B341<>0,登録済データ!V341,\"\")","v":""},{"$f":"IF(登録済データ!$B341<>0,登録済データ!W341,\"\")","v":""},{"$f":"IF(登録済データ!$B341<>0,登録済データ!X341,\"\")","v":""},{"$f":"IF($F338<>\"\",登録済データ!$C$4,\"\")","v":""}]
[null,{"$f":"IF($F339<>\"\",登録済データ!$C$2,\"\")","v":""},{"$f":"IF($F339<>\"\",IF($I$1=\"企業コード3桁\",LEFT(登録済データ!$C$3,3),LEFT(登録済データ!$C$3,6)),\"\")","v":""},null,{"$f":"IF(登録済データ!$B342<>0,登録済データ!C342,\"\")","v":""},{"$f":"IF(登録済データ!$B342<>0,登録済データ!D342,\"\")","v":""},{"$f":"IF(登録済データ!$B342<>0,登録済データ!E342,\"\")","v":""},{"$f":"IF(登録済データ!$B342<>0,IF(登録済データ!F342<>\"\",登録済データ!F342,\"\"),\"\")","v":""},{"$f":"IF(登録済データ!$B342<>0,IF(登録済データ!G342<>\"\",登録済データ!G342,\"\"),\"\")","v":""},{"$f":"IF(登録済データ!$B342<>0,IF(登録済データ!H342<>\"\",登録済データ!H342,\"\"),\"\")","v":""},{"$f":"IF(登録済データ!$B342<>0,IF(登録済データ!I342<>\"\",登録済データ!I342,\"\"),\"\")","v":""},{"$f":"IF(登録済データ!$B342<>0,登録済データ!J342,\"\")","v":""},{"$f":"IF(登録済データ!$B342<>0,登録済データ!K342,\"\")","v":""},{"$f":"IF(登録済データ!$B342<>0,登録済データ!L342,\"\")","v":""},{"$f":"IF(登録済データ!$B342<>0,登録済データ!M342,\"\")","v":""},{"$f":"IF(登録済データ!$B342<>0,登録済データ!N342,\"\")","v":""},{"$f":"IF(登録済データ!$B342<>0,登録済データ!O342,\"\")","v":""},{"$f":"IF(登録済データ!$B342<>0,登録済データ!P342,\"\")","v":""},{"$f":"IF(登録済データ!$B342<>0,登録済データ!Q342,\"\")","v":""},{"$f":"IF(登録済データ!$B342<>0,登録済データ!R342,\"\")","v":""},{"$f":"IF(登録済データ!$B342<>0,登録済データ!S342,\"\")","v":""},{"$f":"IF(登録済データ!$B342<>0,登録済データ!T342,\"\")","v":""},{"$f":"IF(登録済データ!$B342<>0,登録済データ!U342,\"\")","v":""},{"$f":"IF(登録済データ!$B342<>0,登録済データ!V342,\"\")","v":""},{"$f":"IF(登録済データ!$B342<>0,登録済データ!W342,\"\")","v":""},{"$f":"IF(登録済データ!$B342<>0,登録済データ!X342,\"\")","v":""},{"$f":"IF($F339<>\"\",登録済データ!$C$4,\"\")","v":""}]
[null,{"$f":"IF($F340<>\"\",登録済データ!$C$2,\"\")","v":""},{"$f":"IF($F340<>\"\",IF($I$1=\"企業コード3桁\",LEFT(登録済データ!$C$3,3),LEFT(登録済データ!$C$3,6)),\"\")","v":""},null,{"$f":"IF(登録済データ!$B343<>0,登録済データ!C343,\"\")","v":""},{"$f":"IF(登録済データ!$B343<>0,登録済データ!D343,\"\")","v":""},{"$f":"IF(登録済データ!$B343<>0,登録済データ!E343,\"\")","v":""},{"$f":"IF(登録済データ!$B343<>0,IF(登録済データ!F343<>\"\",登録済データ!F343,\"\"),\"\")","v":""},{"$f":"IF(登録済データ!$B343<>0,IF(登録済データ!G343<>\"\",登録済データ!G343,\"\"),\"\")","v":""},{"$f":"IF(登録済データ!$B343<>0,IF(登録済データ!H343<>\"\",登録済データ!H343,\"\"),\"\")","v":""},{"$f":"IF(登録済データ!$B343<>0,IF(登録済データ!I343<>\"\",登録済データ!I343,\"\"),\"\")","v":""},{"$f":"IF(登録済データ!$B343<>0,登録済データ!J343,\"\")","v":""},{"$f":"IF(登録済データ!$B343<>0,登録済データ!K343,\"\")","v":""},{"$f":"IF(登録済データ!$B343<>0,登録済データ!L343,\"\")","v":""},{"$f":"IF(登録済データ!$B343<>0,登録済データ!M343,\"\")","v":""},{"$f":"IF(登録済データ!$B343<>0,登録済データ!N343,\"\")","v":""},{"$f":"IF(登録済データ!$B343<>0,登録済データ!O343,\"\")","v":""},{"$f":"IF(登録済データ!$B343<>0,登録済データ!P343,\"\")","v":""},{"$f":"IF(登録済データ!$B343<>0,登録済データ!Q343,\"\")","v":""},{"$f":"IF(登録済データ!$B343<>0,登録済データ!R343,\"\")","v":""},{"$f":"IF(登録済データ!$B343<>0,登録済データ!S343,\"\")","v":""},{"$f":"IF(登録済データ!$B343<>0,登録済データ!T343,\"\")","v":""},{"$f":"IF(登録済データ!$B343<>0,登録済データ!U343,\"\")","v":""},{"$f":"IF(登録済データ!$B343<>0,登録済データ!V343,\"\")","v":""},{"$f":"IF(登録済データ!$B343<>0,登録済データ!W343,\"\")","v":""},{"$f":"IF(登録済データ!$B343<>0,登録済データ!X343,\"\")","v":""},{"$f":"IF($F340<>\"\",登録済データ!$C$4,\"\")","v":""}]
[null,{"$f":"IF($F341<>\"\",登録済データ!$C$2,\"\")","v":""},{"$f":"IF($F341<>\"\",IF($I$1=\"企業コード3桁\",LEFT(登録済データ!$C$3,3),LEFT(登録済データ!$C$3,6)),\"\")","v":""},null,{"$f":"IF(登録済データ!$B344<>0,登録済データ!C344,\"\")","v":""},{"$f":"IF(登録済データ!$B344<>0,登録済データ!D344,\"\")","v":""},{"$f":"IF(登録済データ!$B344<>0,登録済データ!E344,\"\")","v":""},{"$f":"IF(登録済データ!$B344<>0,IF(登録済データ!F344<>\"\",登録済データ!F344,\"\"),\"\")","v":""},{"$f":"IF(登録済データ!$B344<>0,IF(登録済データ!G344<>\"\",登録済データ!G344,\"\"),\"\")","v":""},{"$f":"IF(登録済データ!$B344<>0,IF(登録済データ!H344<>\"\",登録済データ!H344,\"\"),\"\")","v":""},{"$f":"IF(登録済データ!$B344<>0,IF(登録済データ!I344<>\"\",登録済データ!I344,\"\"),\"\")","v":""},{"$f":"IF(登録済データ!$B344<>0,登録済データ!J344,\"\")","v":""},{"$f":"IF(登録済データ!$B344<>0,登録済データ!K344,\"\")","v":""},{"$f":"IF(登録済データ!$B344<>0,登録済データ!L344,\"\")","v":""},{"$f":"IF(登録済データ!$B344<>0,登録済データ!M344,\"\")","v":""},{"$f":"IF(登録済データ!$B344<>0,登録済データ!N344,\"\")","v":""},{"$f":"IF(登録済データ!$B344<>0,登録済データ!O344,\"\")","v":""},{"$f":"IF(登録済データ!$B344<>0,登録済データ!P344,\"\")","v":""},{"$f":"IF(登録済データ!$B344<>0,登録済データ!Q344,\"\")","v":""},{"$f":"IF(登録済データ!$B344<>0,登録済データ!R344,\"\")","v":""},{"$f":"IF(登録済データ!$B344<>0,登録済データ!S344,\"\")","v":""},{"$f":"IF(登録済データ!$B344<>0,登録済データ!T344,\"\")","v":""},{"$f":"IF(登録済データ!$B344<>0,登録済データ!U344,\"\")","v":""},{"$f":"IF(登録済データ!$B344<>0,登録済データ!V344,\"\")","v":""},{"$f":"IF(登録済データ!$B344<>0,登録済データ!W344,\"\")","v":""},{"$f":"IF(登録済データ!$B344<>0,登録済データ!X344,\"\")","v":""},{"$f":"IF($F341<>\"\",登録済データ!$C$4,\"\")","v":""}]
[null,{"$f":"IF($F342<>\"\",登録済データ!$C$2,\"\")","v":""},{"$f":"IF($F342<>\"\",IF($I$1=\"企業コード3桁\",LEFT(登録済データ!$C$3,3),LEFT(登録済データ!$C$3,6)),\"\")","v":""},null,{"$f":"IF(登録済データ!$B345<>0,登録済データ!C345,\"\")","v":""},{"$f":"IF(登録済データ!$B345<>0,登録済データ!D345,\"\")","v":""},{"$f":"IF(登録済データ!$B345<>0,登録済データ!E345,\"\")","v":""},{"$f":"IF(登録済データ!$B345<>0,IF(登録済データ!F345<>\"\",登録済データ!F345,\"\"),\"\")","v":""},{"$f":"IF(登録済データ!$B345<>0,IF(登録済データ!G345<>\"\",登録済データ!G345,\"\"),\"\")","v":""},{"$f":"IF(登録済データ!$B345<>0,IF(登録済データ!H345<>\"\",登録済データ!H345,\"\"),\"\")","v":""},{"$f":"IF(登録済データ!$B345<>0,IF(登録済データ!I345<>\"\",登録済データ!I345,\"\"),\"\")","v":""},{"$f":"IF(登録済データ!$B345<>0,登録済データ!J345,\"\")","v":""},{"$f":"IF(登録済データ!$B345<>0,登録済データ!K345,\"\")","v":""},{"$f":"IF(登録済データ!$B345<>0,登録済データ!L345,\"\")","v":""},{"$f":"IF(登録済データ!$B345<>0,登録済データ!M345,\"\")","v":""},{"$f":"IF(登録済データ!$B345<>0,登録済データ!N345,\"\")","v":""},{"$f":"IF(登録済データ!$B345<>0,登録済データ!O345,\"\")","v":""},{"$f":"IF(登録済データ!$B345<>0,登録済データ!P345,\"\")","v":""},{"$f":"IF(登録済データ!$B345<>0,登録済データ!Q345,\"\")","v":""},{"$f":"IF(登録済データ!$B345<>0,登録済データ!R345,\"\")","v":""},{"$f":"IF(登録済データ!$B345<>0,登録済データ!S345,\"\")","v":""},{"$f":"IF(登録済データ!$B345<>0,登録済データ!T345,\"\")","v":""},{"$f":"IF(登録済データ!$B345<>0,登録済データ!U345,\"\")","v":""},{"$f":"IF(登録済データ!$B345<>0,登録済データ!V345,\"\")","v":""},{"$f":"IF(登録済データ!$B345<>0,登録済データ!W345,\"\")","v":""},{"$f":"IF(登録済データ!$B345<>0,登録済データ!X345,\"\")","v":""},{"$f":"IF($F342<>\"\",登録済データ!$C$4,\"\")","v":""}]
[null,{"$f":"IF($F343<>\"\",登録済データ!$C$2,\"\")","v":""},{"$f":"IF($F343<>\"\",IF($I$1=\"企業コード3桁\",LEFT(登録済データ!$C$3,3),LEFT(登録済データ!$C$3,6)),\"\")","v":""},null,{"$f":"IF(登録済データ!$B346<>0,登録済データ!C346,\"\")","v":""},{"$f":"IF(登録済データ!$B346<>0,登録済データ!D346,\"\")","v":""},{"$f":"IF(登録済データ!$B346<>0,登録済データ!E346,\"\")","v":""},{"$f":"IF(登録済データ!$B346<>0,IF(登録済データ!F346<>\"\",登録済データ!F346,\"\"),\"\")","v":""},{"$f":"IF(登録済データ!$B346<>0,IF(登録済データ!G346<>\"\",登録済データ!G346,\"\"),\"\")","v":""},{"$f":"IF(登録済データ!$B346<>0,IF(登録済データ!H346<>\"\",登録済データ!H346,\"\"),\"\")","v":""},{"$f":"IF(登録済データ!$B346<>0,IF(登録済データ!I346<>\"\",登録済データ!I346,\"\"),\"\")","v":""},{"$f":"IF(登録済データ!$B346<>0,登録済データ!J346,\"\")","v":""},{"$f":"IF(登録済データ!$B346<>0,登録済データ!K346,\"\")","v":""},{"$f":"IF(登録済データ!$B346<>0,登録済データ!L346,\"\")","v":""},{"$f":"IF(登録済データ!$B346<>0,登録済データ!M346,\"\")","v":""},{"$f":"IF(登録済データ!$B346<>0,登録済データ!N346,\"\")","v":""},{"$f":"IF(登録済データ!$B346<>0,登録済データ!O346,\"\")","v":""},{"$f":"IF(登録済データ!$B346<>0,登録済データ!P346,\"\")","v":""},{"$f":"IF(登録済データ!$B346<>0,登録済データ!Q346,\"\")","v":""},{"$f":"IF(登録済データ!$B346<>0,登録済データ!R346,\"\")","v":""},{"$f":"IF(登録済データ!$B346<>0,登録済データ!S346,\"\")","v":""},{"$f":"IF(登録済データ!$B346<>0,登録済データ!T346,\"\")","v":""},{"$f":"IF(登録済データ!$B346<>0,登録済データ!U346,\"\")","v":""},{"$f":"IF(登録済データ!$B346<>0,登録済データ!V346,\"\")","v":""},{"$f":"IF(登録済データ!$B346<>0,登録済データ!W346,\"\")","v":""},{"$f":"IF(登録済データ!$B346<>0,登録済データ!X346,\"\")","v":""},{"$f":"IF($F343<>\"\",登録済データ!$C$4,\"\")","v":""}]
[null,{"$f":"IF($F344<>\"\",登録済データ!$C$2,\"\")","v":""},{"$f":"IF($F344<>\"\",IF($I$1=\"企業コード3桁\",LEFT(登録済データ!$C$3,3),LEFT(登録済データ!$C$3,6)),\"\")","v":""},null,{"$f":"IF(登録済データ!$B347<>0,登録済データ!C347,\"\")","v":""},{"$f":"IF(登録済データ!$B347<>0,登録済データ!D347,\"\")","v":""},{"$f":"IF(登録済データ!$B347<>0,登録済データ!E347,\"\")","v":""},{"$f":"IF(登録済データ!$B347<>0,IF(登録済データ!F347<>\"\",登録済データ!F347,\"\"),\"\")","v":""},{"$f":"IF(登録済データ!$B347<>0,IF(登録済データ!G347<>\"\",登録済データ!G347,\"\"),\"\")","v":""},{"$f":"IF(登録済データ!$B347<>0,IF(登録済データ!H347<>\"\",登録済データ!H347,\"\"),\"\")","v":""},{"$f":"IF(登録済データ!$B347<>0,IF(登録済データ!I347<>\"\",登録済データ!I347,\"\"),\"\")","v":""},{"$f":"IF(登録済データ!$B347<>0,登録済データ!J347,\"\")","v":""},{"$f":"IF(登録済データ!$B347<>0,登録済データ!K347,\"\")","v":""},{"$f":"IF(登録済データ!$B347<>0,登録済データ!L347,\"\")","v":""},{"$f":"IF(登録済データ!$B347<>0,登録済データ!M347,\"\")","v":""},{"$f":"IF(登録済データ!$B347<>0,登録済データ!N347,\"\")","v":""},{"$f":"IF(登録済データ!$B347<>0,登録済データ!O347,\"\")","v":""},{"$f":"IF(登録済データ!$B347<>0,登録済データ!P347,\"\")","v":""},{"$f":"IF(登録済データ!$B347<>0,登録済データ!Q347,\"\")","v":""},{"$f":"IF(登録済データ!$B347<>0,登録済データ!R347,\"\")","v":""},{"$f":"IF(登録済データ!$B347<>0,登録済データ!S347,\"\")","v":""},{"$f":"IF(登録済データ!$B347<>0,登録済データ!T347,\"\")","v":""},{"$f":"IF(登録済データ!$B347<>0,登録済データ!U347,\"\")","v":""},{"$f":"IF(登録済データ!$B347<>0,登録済データ!V347,\"\")","v":""},{"$f":"IF(登録済データ!$B347<>0,登録済データ!W347,\"\")","v":""},{"$f":"IF(登録済データ!$B347<>0,登録済データ!X347,\"\")","v":""},{"$f":"IF($F344<>\"\",登録済データ!$C$4,\"\")","v":""}]
[null,{"$f":"IF($F345<>\"\",登録済データ!$C$2,\"\")","v":""},{"$f":"IF($F345<>\"\",IF($I$1=\"企業コード3桁\",LEFT(登録済データ!$C$3,3),LEFT(登録済データ!$C$3,6)),\"\")","v":""},null,{"$f":"IF(登録済データ!$B348<>0,登録済データ!C348,\"\")","v":""},{"$f":"IF(登録済データ!$B348<>0,登録済データ!D348,\"\")","v":""},{"$f":"IF(登録済データ!$B348<>0,登録済データ!E348,\"\")","v":""},{"$f":"IF(登録済データ!$B348<>0,IF(登録済データ!F348<>\"\",登録済データ!F348,\"\"),\"\")","v":""},{"$f":"IF(登録済データ!$B348<>0,IF(登録済データ!G348<>\"\",登録済データ!G348,\"\"),\"\")","v":""},{"$f":"IF(登録済データ!$B348<>0,IF(登録済データ!H348<>\"\",登録済データ!H348,\"\"),\"\")","v":""},{"$f":"IF(登録済データ!$B348<>0,IF(登録済データ!I348<>\"\",登録済データ!I348,\"\"),\"\")","v":""},{"$f":"IF(登録済データ!$B348<>0,登録済データ!J348,\"\")","v":""},{"$f":"IF(登録済データ!$B348<>0,登録済データ!K348,\"\")","v":""},{"$f":"IF(登録済データ!$B348<>0,登録済データ!L348,\"\")","v":""},{"$f":"IF(登録済データ!$B348<>0,登録済データ!M348,\"\")","v":""},{"$f":"IF(登録済データ!$B348<>0,登録済データ!N348,\"\")","v":""},{"$f":"IF(登録済データ!$B348<>0,登録済データ!O348,\"\")","v":""},{"$f":"IF(登録済データ!$B348<>0,登録済データ!P348,\"\")","v":""},{"$f":"IF(登録済データ!$B348<>0,登録済データ!Q348,\"\")","v":""},{"$f":"IF(登録済データ!$B348<>0,登録済データ!R348,\"\")","v":""},{"$f":"IF(登録済データ!$B348<>0,登録済データ!S348,\"\")","v":""},{"$f":"IF(登録済データ!$B348<>0,登録済データ!T348,\"\")","v":""},{"$f":"IF(登録済データ!$B348<>0,登録済データ!U348,\"\")","v":""},{"$f":"IF(登録済データ!$B348<>0,登録済データ!V348,\"\")","v":""},{"$f":"IF(登録済データ!$B348<>0,登録済データ!W348,\"\")","v":""},{"$f":"IF(登録済データ!$B348<>0,登録済データ!X348,\"\")","v":""},{"$f":"IF($F345<>\"\",登録済データ!$C$4,\"\")","v":""}]
[null,{"$f":"IF($F346<>\"\",登録済データ!$C$2,\"\")","v":""},{"$f":"IF($F346<>\"\",IF($I$1=\"企業コード3桁\",LEFT(登録済データ!$C$3,3),LEFT(登録済データ!$C$3,6)),\"\")","v":""},null,{"$f":"IF(登録済データ!$B349<>0,登録済データ!C349,\"\")","v":""},{"$f":"IF(登録済データ!$B349<>0,登録済データ!D349,\"\")","v":""},{"$f":"IF(登録済データ!$B349<>0,登録済データ!E349,\"\")","v":""},{"$f":"IF(登録済データ!$B349<>0,IF(登録済データ!F349<>\"\",登録済データ!F349,\"\"),\"\")","v":""},{"$f":"IF(登録済データ!$B349<>0,IF(登録済データ!G349<>\"\",登録済データ!G349,\"\"),\"\")","v":""},{"$f":"IF(登録済データ!$B349<>0,IF(登録済データ!H349<>\"\",登録済データ!H349,\"\"),\"\")","v":""},{"$f":"IF(登録済データ!$B349<>0,IF(登録済データ!I349<>\"\",登録済データ!I349,\"\"),\"\")","v":""},{"$f":"IF(登録済データ!$B349<>0,登録済データ!J349,\"\")","v":""},{"$f":"IF(登録済データ!$B349<>0,登録済データ!K349,\"\")","v":""},{"$f":"IF(登録済データ!$B349<>0,登録済データ!L349,\"\")","v":""},{"$f":"IF(登録済データ!$B349<>0,登録済データ!M349,\"\")","v":""},{"$f":"IF(登録済データ!$B349<>0,登録済データ!N349,\"\")","v":""},{"$f":"IF(登録済データ!$B349<>0,登録済データ!O349,\"\")","v":""},{"$f":"IF(登録済データ!$B349<>0,登録済データ!P349,\"\")","v":""},{"$f":"IF(登録済データ!$B349<>0,登録済データ!Q349,\"\")","v":""},{"$f":"IF(登録済データ!$B349<>0,登録済データ!R349,\"\")","v":""},{"$f":"IF(登録済データ!$B349<>0,登録済データ!S349,\"\")","v":""},{"$f":"IF(登録済データ!$B349<>0,登録済データ!T349,\"\")","v":""},{"$f":"IF(登録済データ!$B349<>0,登録済データ!U349,\"\")","v":""},{"$f":"IF(登録済データ!$B349<>0,登録済データ!V349,\"\")","v":""},{"$f":"IF(登録済データ!$B349<>0,登録済データ!W349,\"\")","v":""},{"$f":"IF(登録済データ!$B349<>0,登録済データ!X349,\"\")","v":""},{"$f":"IF($F346<>\"\",登録済データ!$C$4,\"\")","v":""}]
[null,{"$f":"IF($F347<>\"\",登録済データ!$C$2,\"\")","v":""},{"$f":"IF($F347<>\"\",IF($I$1=\"企業コード3桁\",LEFT(登録済データ!$C$3,3),LEFT(登録済データ!$C$3,6)),\"\")","v":""},null,{"$f":"IF(登録済データ!$B350<>0,登録済データ!C350,\"\")","v":""},{"$f":"IF(登録済データ!$B350<>0,登録済データ!D350,\"\")","v":""},{"$f":"IF(登録済データ!$B350<>0,登録済データ!E350,\"\")","v":""},{"$f":"IF(登録済データ!$B350<>0,IF(登録済データ!F350<>\"\",登録済データ!F350,\"\"),\"\")","v":""},{"$f":"IF(登録済データ!$B350<>0,IF(登録済データ!G350<>\"\",登録済データ!G350,\"\"),\"\")","v":""},{"$f":"IF(登録済データ!$B350<>0,IF(登録済データ!H350<>\"\",登録済データ!H350,\"\"),\"\")","v":""},{"$f":"IF(登録済データ!$B350<>0,IF(登録済データ!I350<>\"\",登録済データ!I350,\"\"),\"\")","v":""},{"$f":"IF(登録済データ!$B350<>0,登録済データ!J350,\"\")","v":""},{"$f":"IF(登録済データ!$B350<>0,登録済データ!K350,\"\")","v":""},{"$f":"IF(登録済データ!$B350<>0,登録済データ!L350,\"\")","v":""},{"$f":"IF(登録済データ!$B350<>0,登録済データ!M350,\"\")","v":""},{"$f":"IF(登録済データ!$B350<>0,登録済データ!N350,\"\")","v":""},{"$f":"IF(登録済データ!$B350<>0,登録済データ!O350,\"\")","v":""},{"$f":"IF(登録済データ!$B350<>0,登録済データ!P350,\"\")","v":""},{"$f":"IF(登録済データ!$B350<>0,登録済データ!Q350,\"\")","v":""},{"$f":"IF(登録済データ!$B350<>0,登録済データ!R350,\"\")","v":""},{"$f":"IF(登録済データ!$B350<>0,登録済データ!S350,\"\")","v":""},{"$f":"IF(登録済データ!$B350<>0,登録済データ!T350,\"\")","v":""},{"$f":"IF(登録済データ!$B350<>0,登録済データ!U350,\"\")","v":""},{"$f":"IF(登録済データ!$B350<>0,登録済データ!V350,\"\")","v":""},{"$f":"IF(登録済データ!$B350<>0,登録済データ!W350,\"\")","v":""},{"$f":"IF(登録済データ!$B350<>0,登録済データ!X350,\"\")","v":""},{"$f":"IF($F347<>\"\",登録済データ!$C$4,\"\")","v":""}]
[null,{"$f":"IF($F348<>\"\",登録済データ!$C$2,\"\")","v":""},{"$f":"IF($F348<>\"\",IF($I$1=\"企業コード3桁\",LEFT(登録済データ!$C$3,3),LEFT(登録済データ!$C$3,6)),\"\")","v":""},null,{"$f":"IF(登録済データ!$B351<>0,登録済データ!C351,\"\")","v":""},{"$f":"IF(登録済データ!$B351<>0,登録済データ!D351,\"\")","v":""},{"$f":"IF(登録済データ!$B351<>0,登録済データ!E351,\"\")","v":""},{"$f":"IF(登録済データ!$B351<>0,IF(登録済データ!F351<>\"\",登録済データ!F351,\"\"),\"\")","v":""},{"$f":"IF(登録済データ!$B351<>0,IF(登録済データ!G351<>\"\",登録済データ!G351,\"\"),\"\")","v":""},{"$f":"IF(登録済データ!$B351<>0,IF(登録済データ!H351<>\"\",登録済データ!H351,\"\"),\"\")","v":""},{"$f":"IF(登録済データ!$B351<>0,IF(登録済データ!I351<>\"\",登録済データ!I351,\"\"),\"\")","v":""},{"$f":"IF(登録済データ!$B351<>0,登録済データ!J351,\"\")","v":""},{"$f":"IF(登録済データ!$B351<>0,登録済データ!K351,\"\")","v":""},{"$f":"IF(登録済データ!$B351<>0,登録済データ!L351,\"\")","v":""},{"$f":"IF(登録済データ!$B351<>0,登録済データ!M351,\"\")","v":""},{"$f":"IF(登録済データ!$B351<>0,登録済データ!N351,\"\")","v":""},{"$f":"IF(登録済データ!$B351<>0,登録済データ!O351,\"\")","v":""},{"$f":"IF(登録済データ!$B351<>0,登録済データ!P351,\"\")","v":""},{"$f":"IF(登録済データ!$B351<>0,登録済データ!Q351,\"\")","v":""},{"$f":"IF(登録済データ!$B351<>0,登録済データ!R351,\"\")","v":""},{"$f":"IF(登録済データ!$B351<>0,登録済データ!S351,\"\")","v":""},{"$f":"IF(登録済データ!$B351<>0,登録済データ!T351,\"\")","v":""},{"$f":"IF(登録済データ!$B351<>0,登録済データ!U351,\"\")","v":""},{"$f":"IF(登録済データ!$B351<>0,登録済データ!V351,\"\")","v":""},{"$f":"IF(登録済データ!$B351<>0,登録済データ!W351,\"\")","v":""},{"$f":"IF(登録済データ!$B351<>0,登録済データ!X351,\"\")","v":""},{"$f":"IF($F348<>\"\",登録済データ!$C$4,\"\")","v":""}]
[null,{"$f":"IF($F349<>\"\",登録済データ!$C$2,\"\")","v":""},{"$f":"IF($F349<>\"\",IF($I$1=\"企業コード3桁\",LEFT(登録済データ!$C$3,3),LEFT(登録済データ!$C$3,6)),\"\")","v":""},null,{"$f":"IF(登録済データ!$B352<>0,登録済データ!C352,\"\")","v":""},{"$f":"IF(登録済データ!$B352<>0,登録済データ!D352,\"\")","v":""},{"$f":"IF(登録済データ!$B352<>0,登録済データ!E352,\"\")","v":""},{"$f":"IF(登録済データ!$B352<>0,IF(登録済データ!F352<>\"\",登録済データ!F352,\"\"),\"\")","v":""},{"$f":"IF(登録済データ!$B352<>0,IF(登録済データ!G352<>\"\",登録済データ!G352,\"\"),\"\")","v":""},{"$f":"IF(登録済データ!$B352<>0,IF(登録済データ!H352<>\"\",登録済データ!H352,\"\"),\"\")","v":""},{"$f":"IF(登録済データ!$B352<>0,IF(登録済データ!I352<>\"\",登録済データ!I352,\"\"),\"\")","v":""},{"$f":"IF(登録済データ!$B352<>0,登録済データ!J352,\"\")","v":""},{"$f":"IF(登録済データ!$B352<>0,登録済データ!K352,\"\")","v":""},{"$f":"IF(登録済データ!$B352<>0,登録済データ!L352,\"\")","v":""},{"$f":"IF(登録済データ!$B352<>0,登録済データ!M352,\"\")","v":""},{"$f":"IF(登録済データ!$B352<>0,登録済データ!N352,\"\")","v":""},{"$f":"IF(登録済データ!$B352<>0,登録済データ!O352,\"\")","v":""},{"$f":"IF(登録済データ!$B352<>0,登録済データ!P352,\"\")","v":""},{"$f":"IF(登録済データ!$B352<>0,登録済データ!Q352,\"\")","v":""},{"$f":"IF(登録済データ!$B352<>0,登録済データ!R352,\"\")","v":""},{"$f":"IF(登録済データ!$B352<>0,登録済データ!S352,\"\")","v":""},{"$f":"IF(登録済データ!$B352<>0,登録済データ!T352,\"\")","v":""},{"$f":"IF(登録済データ!$B352<>0,登録済データ!U352,\"\")","v":""},{"$f":"IF(登録済データ!$B352<>0,登録済データ!V352,\"\")","v":""},{"$f":"IF(登録済データ!$B352<>0,登録済データ!W352,\"\")","v":""},{"$f":"IF(登録済データ!$B352<>0,登録済データ!X352,\"\")","v":""},{"$f":"IF($F349<>\"\",登録済データ!$C$4,\"\")","v":""}]
[null,{"$f":"IF($F350<>\"\",登録済データ!$C$2,\"\")","v":""},{"$f":"IF($F350<>\"\",IF($I$1=\"企業コード3桁\",LEFT(登録済データ!$C$3,3),LEFT(登録済データ!$C$3,6)),\"\")","v":""},null,{"$f":"IF(登録済データ!$B353<>0,登録済データ!C353,\"\")","v":""},{"$f":"IF(登録済データ!$B353<>0,登録済データ!D353,\"\")","v":""},{"$f":"IF(登録済データ!$B353<>0,登録済データ!E353,\"\")","v":""},{"$f":"IF(登録済データ!$B353<>0,IF(登録済データ!F353<>\"\",登録済データ!F353,\"\"),\"\")","v":""},{"$f":"IF(登録済データ!$B353<>0,IF(登録済データ!G353<>\"\",登録済データ!G353,\"\"),\"\")","v":""},{"$f":"IF(登録済データ!$B353<>0,IF(登録済データ!H353<>\"\",登録済データ!H353,\"\"),\"\")","v":""},{"$f":"IF(登録済データ!$B353<>0,IF(登録済データ!I353<>\"\",登録済データ!I353,\"\"),\"\")","v":""},{"$f":"IF(登録済データ!$B353<>0,登録済データ!J353,\"\")","v":""},{"$f":"IF(登録済データ!$B353<>0,登録済データ!K353,\"\")","v":""},{"$f":"IF(登録済データ!$B353<>0,登録済データ!L353,\"\")","v":""},{"$f":"IF(登録済データ!$B353<>0,登録済データ!M353,\"\")","v":""},{"$f":"IF(登録済データ!$B353<>0,登録済データ!N353,\"\")","v":""},{"$f":"IF(登録済データ!$B353<>0,登録済データ!O353,\"\")","v":""},{"$f":"IF(登録済データ!$B353<>0,登録済データ!P353,\"\")","v":""},{"$f":"IF(登録済データ!$B353<>0,登録済データ!Q353,\"\")","v":""},{"$f":"IF(登録済データ!$B353<>0,登録済データ!R353,\"\")","v":""},{"$f":"IF(登録済データ!$B353<>0,登録済データ!S353,\"\")","v":""},{"$f":"IF(登録済データ!$B353<>0,登録済データ!T353,\"\")","v":""},{"$f":"IF(登録済データ!$B353<>0,登録済データ!U353,\"\")","v":""},{"$f":"IF(登録済データ!$B353<>0,登録済データ!V353,\"\")","v":""},{"$f":"IF(登録済データ!$B353<>0,登録済データ!W353,\"\")","v":""},{"$f":"IF(登録済データ!$B353<>0,登録済データ!X353,\"\")","v":""},{"$f":"IF($F350<>\"\",登録済データ!$C$4,\"\")","v":""}]
[null,{"$f":"IF($F351<>\"\",登録済データ!$C$2,\"\")","v":""},{"$f":"IF($F351<>\"\",IF($I$1=\"企業コード3桁\",LEFT(登録済データ!$C$3,3),LEFT(登録済データ!$C$3,6)),\"\")","v":""},null,{"$f":"IF(登録済データ!$B354<>0,登録済データ!C354,\"\")","v":""},{"$f":"IF(登録済データ!$B354<>0,登録済データ!D354,\"\")","v":""},{"$f":"IF(登録済データ!$B354<>0,登録済データ!E354,\"\")","v":""},{"$f":"IF(登録済データ!$B354<>0,IF(登録済データ!F354<>\"\",登録済データ!F354,\"\"),\"\")","v":""},{"$f":"IF(登録済データ!$B354<>0,IF(登録済データ!G354<>\"\",登録済データ!G354,\"\"),\"\")","v":""},{"$f":"IF(登録済データ!$B354<>0,IF(登録済データ!H354<>\"\",登録済データ!H354,\"\"),\"\")","v":""},{"$f":"IF(登録済データ!$B354<>0,IF(登録済データ!I354<>\"\",登録済データ!I354,\"\"),\"\")","v":""},{"$f":"IF(登録済データ!$B354<>0,登録済データ!J354,\"\")","v":""},{"$f":"IF(登録済データ!$B354<>0,登録済データ!K354,\"\")","v":""},{"$f":"IF(登録済データ!$B354<>0,登録済データ!L354,\"\")","v":""},{"$f":"IF(登録済データ!$B354<>0,登録済データ!M354,\"\")","v":""},{"$f":"IF(登録済データ!$B354<>0,登録済データ!N354,\"\")","v":""},{"$f":"IF(登録済データ!$B354<>0,登録済データ!O354,\"\")","v":""},{"$f":"IF(登録済データ!$B354<>0,登録済データ!P354,\"\")","v":""},{"$f":"IF(登録済データ!$B354<>0,登録済データ!Q354,\"\")","v":""},{"$f":"IF(登録済データ!$B354<>0,登録済データ!R354,\"\")","v":""},{"$f":"IF(登録済データ!$B354<>0,登録済データ!S354,\"\")","v":""},{"$f":"IF(登録済データ!$B354<>0,登録済データ!T354,\"\")","v":""},{"$f":"IF(登録済データ!$B354<>0,登録済データ!U354,\"\")","v":""},{"$f":"IF(登録済データ!$B354<>0,登録済データ!V354,\"\")","v":""},{"$f":"IF(登録済データ!$B354<>0,登録済データ!W354,\"\")","v":""},{"$f":"IF(登録済データ!$B354<>0,登録済データ!X354,\"\")","v":""},{"$f":"IF($F351<>\"\",登録済データ!$C$4,\"\")","v":""}]
[null,{"$f":"IF($F352<>\"\",登録済データ!$C$2,\"\")","v":""},{"$f":"IF($F352<>\"\",IF($I$1=\"企業コード3桁\",LEFT(登録済データ!$C$3,3),LEFT(登録済データ!$C$3,6)),\"\")","v":""},null,{"$f":"IF(登録済データ!$B355<>0,登録済データ!C355,\"\")","v":""},{"$f":"IF(登録済データ!$B355<>0,登録済データ!D355,\"\")","v":""},{"$f":"IF(登録済データ!$B355<>0,登録済データ!E355,\"\")","v":""},{"$f":"IF(登録済データ!$B355<>0,IF(登録済データ!F355<>\"\",登録済データ!F355,\"\"),\"\")","v":""},{"$f":"IF(登録済データ!$B355<>0,IF(登録済データ!G355<>\"\",登録済データ!G355,\"\"),\"\")","v":""},{"$f":"IF(登録済データ!$B355<>0,IF(登録済データ!H355<>\"\",登録済データ!H355,\"\"),\"\")","v":""},{"$f":"IF(登録済データ!$B355<>0,IF(登録済データ!I355<>\"\",登録済データ!I355,\"\"),\"\")","v":""},{"$f":"IF(登録済データ!$B355<>0,登録済データ!J355,\"\")","v":""},{"$f":"IF(登録済データ!$B355<>0,登録済データ!K355,\"\")","v":""},{"$f":"IF(登録済データ!$B355<>0,登録済データ!L355,\"\")","v":""},{"$f":"IF(登録済データ!$B355<>0,登録済データ!M355,\"\")","v":""},{"$f":"IF(登録済データ!$B355<>0,登録済データ!N355,\"\")","v":""},{"$f":"IF(登録済データ!$B355<>0,登録済データ!O355,\"\")","v":""},{"$f":"IF(登録済データ!$B355<>0,登録済データ!P355,\"\")","v":""},{"$f":"IF(登録済データ!$B355<>0,登録済データ!Q355,\"\")","v":""},{"$f":"IF(登録済データ!$B355<>0,登録済データ!R355,\"\")","v":""},{"$f":"IF(登録済データ!$B355<>0,登録済データ!S355,\"\")","v":""},{"$f":"IF(登録済データ!$B355<>0,登録済データ!T355,\"\")","v":""},{"$f":"IF(登録済データ!$B355<>0,登録済データ!U355,\"\")","v":""},{"$f":"IF(登録済データ!$B355<>0,登録済データ!V355,\"\")","v":""},{"$f":"IF(登録済データ!$B355<>0,登録済データ!W355,\"\")","v":""},{"$f":"IF(登録済データ!$B355<>0,登録済データ!X355,\"\")","v":""},{"$f":"IF($F352<>\"\",登録済データ!$C$4,\"\")","v":""}]
[null,{"$f":"IF($F353<>\"\",登録済データ!$C$2,\"\")","v":""},{"$f":"IF($F353<>\"\",IF($I$1=\"企業コード3桁\",LEFT(登録済データ!$C$3,3),LEFT(登録済データ!$C$3,6)),\"\")","v":""},null,{"$f":"IF(登録済データ!$B356<>0,登録済データ!C356,\"\")","v":""},{"$f":"IF(登録済データ!$B356<>0,登録済データ!D356,\"\")","v":""},{"$f":"IF(登録済データ!$B356<>0,登録済データ!E356,\"\")","v":""},{"$f":"IF(登録済データ!$B356<>0,IF(登録済データ!F356<>\"\",登録済データ!F356,\"\"),\"\")","v":""},{"$f":"IF(登録済データ!$B356<>0,IF(登録済データ!G356<>\"\",登録済データ!G356,\"\"),\"\")","v":""},{"$f":"IF(登録済データ!$B356<>0,IF(登録済データ!H356<>\"\",登録済データ!H356,\"\"),\"\")","v":""},{"$f":"IF(登録済データ!$B356<>0,IF(登録済データ!I356<>\"\",登録済データ!I356,\"\"),\"\")","v":""},{"$f":"IF(登録済データ!$B356<>0,登録済データ!J356,\"\")","v":""},{"$f":"IF(登録済データ!$B356<>0,登録済データ!K356,\"\")","v":""},{"$f":"IF(登録済データ!$B356<>0,登録済データ!L356,\"\")","v":""},{"$f":"IF(登録済データ!$B356<>0,登録済データ!M356,\"\")","v":""},{"$f":"IF(登録済データ!$B356<>0,登録済データ!N356,\"\")","v":""},{"$f":"IF(登録済データ!$B356<>0,登録済データ!O356,\"\")","v":""},{"$f":"IF(登録済データ!$B356<>0,登録済データ!P356,\"\")","v":""},{"$f":"IF(登録済データ!$B356<>0,登録済データ!Q356,\"\")","v":""},{"$f":"IF(登録済データ!$B356<>0,登録済データ!R356,\"\")","v":""},{"$f":"IF(登録済データ!$B356<>0,登録済データ!S356,\"\")","v":""},{"$f":"IF(登録済データ!$B356<>0,登録済データ!T356,\"\")","v":""},{"$f":"IF(登録済データ!$B356<>0,登録済データ!U356,\"\")","v":""},{"$f":"IF(登録済データ!$B356<>0,登録済データ!V356,\"\")","v":""},{"$f":"IF(登録済データ!$B356<>0,登録済データ!W356,\"\")","v":""},{"$f":"IF(登録済データ!$B356<>0,登録済データ!X356,\"\")","v":""},{"$f":"IF($F353<>\"\",登録済データ!$C$4,\"\")","v":""}]
[null,{"$f":"IF($F354<>\"\",登録済データ!$C$2,\"\")","v":""},{"$f":"IF($F354<>\"\",IF($I$1=\"企業コード3桁\",LEFT(登録済データ!$C$3,3),LEFT(登録済データ!$C$3,6)),\"\")","v":""},null,{"$f":"IF(登録済データ!$B357<>0,登録済データ!C357,\"\")","v":""},{"$f":"IF(登録済データ!$B357<>0,登録済データ!D357,\"\")","v":""},{"$f":"IF(登録済データ!$B357<>0,登録済データ!E357,\"\")","v":""},{"$f":"IF(登録済データ!$B357<>0,IF(登録済データ!F357<>\"\",登録済データ!F357,\"\"),\"\")","v":""},{"$f":"IF(登録済データ!$B357<>0,IF(登録済データ!G357<>\"\",登録済データ!G357,\"\"),\"\")","v":""},{"$f":"IF(登録済データ!$B357<>0,IF(登録済データ!H357<>\"\",登録済データ!H357,\"\"),\"\")","v":""},{"$f":"IF(登録済データ!$B357<>0,IF(登録済データ!I357<>\"\",登録済データ!I357,\"\"),\"\")","v":""},{"$f":"IF(登録済データ!$B357<>0,登録済データ!J357,\"\")","v":""},{"$f":"IF(登録済データ!$B357<>0,登録済データ!K357,\"\")","v":""},{"$f":"IF(登録済データ!$B357<>0,登録済データ!L357,\"\")","v":""},{"$f":"IF(登録済データ!$B357<>0,登録済データ!M357,\"\")","v":""},{"$f":"IF(登録済データ!$B357<>0,登録済データ!N357,\"\")","v":""},{"$f":"IF(登録済データ!$B357<>0,登録済データ!O357,\"\")","v":""},{"$f":"IF(登録済データ!$B357<>0,登録済データ!P357,\"\")","v":""},{"$f":"IF(登録済データ!$B357<>0,登録済データ!Q357,\"\")","v":""},{"$f":"IF(登録済データ!$B357<>0,登録済データ!R357,\"\")","v":""},{"$f":"IF(登録済データ!$B357<>0,登録済データ!S357,\"\")","v":""},{"$f":"IF(登録済データ!$B357<>0,登録済データ!T357,\"\")","v":""},{"$f":"IF(登録済データ!$B357<>0,登録済データ!U357,\"\")","v":""},{"$f":"IF(登録済データ!$B357<>0,登録済データ!V357,\"\")","v":""},{"$f":"IF(登録済データ!$B357<>0,登録済データ!W357,\"\")","v":""},{"$f":"IF(登録済データ!$B357<>0,登録済データ!X357,\"\")","v":""},{"$f":"IF($F354<>\"\",登録済データ!$C$4,\"\")","v":""}]
[null,{"$f":"IF($F355<>\"\",登録済データ!$C$2,\"\")","v":""},{"$f":"IF($F355<>\"\",IF($I$1=\"企業コード3桁\",LEFT(登録済データ!$C$3,3),LEFT(登録済データ!$C$3,6)),\"\")","v":""},null,{"$f":"IF(登録済データ!$B358<>0,登録済データ!C358,\"\")","v":""},{"$f":"IF(登録済データ!$B358<>0,登録済データ!D358,\"\")","v":""},{"$f":"IF(登録済データ!$B358<>0,登録済データ!E358,\"\")","v":""},{"$f":"IF(登録済データ!$B358<>0,IF(登録済データ!F358<>\"\",登録済データ!F358,\"\"),\"\")","v":""},{"$f":"IF(登録済データ!$B358<>0,IF(登録済データ!G358<>\"\",登録済データ!G358,\"\"),\"\")","v":""},{"$f":"IF(登録済データ!$B358<>0,IF(登録済データ!H358<>\"\",登録済データ!H358,\"\"),\"\")","v":""},{"$f":"IF(登録済データ!$B358<>0,IF(登録済データ!I358<>\"\",登録済データ!I358,\"\"),\"\")","v":""},{"$f":"IF(登録済データ!$B358<>0,登録済データ!J358,\"\")","v":""},{"$f":"IF(登録済データ!$B358<>0,登録済データ!K358,\"\")","v":""},{"$f":"IF(登録済データ!$B358<>0,登録済データ!L358,\"\")","v":""},{"$f":"IF(登録済データ!$B358<>0,登録済データ!M358,\"\")","v":""},{"$f":"IF(登録済データ!$B358<>0,登録済データ!N358,\"\")","v":""},{"$f":"IF(登録済データ!$B358<>0,登録済データ!O358,\"\")","v":""},{"$f":"IF(登録済データ!$B358<>0,登録済データ!P358,\"\")","v":""},{"$f":"IF(登録済データ!$B358<>0,登録済データ!Q358,\"\")","v":""},{"$f":"IF(登録済データ!$B358<>0,登録済データ!R358,\"\")","v":""},{"$f":"IF(登録済データ!$B358<>0,登録済データ!S358,\"\")","v":""},{"$f":"IF(登録済データ!$B358<>0,登録済データ!T358,\"\")","v":""},{"$f":"IF(登録済データ!$B358<>0,登録済データ!U358,\"\")","v":""},{"$f":"IF(登録済データ!$B358<>0,登録済データ!V358,\"\")","v":""},{"$f":"IF(登録済データ!$B358<>0,登録済データ!W358,\"\")","v":""},{"$f":"IF(登録済データ!$B358<>0,登録済データ!X358,\"\")","v":""},{"$f":"IF($F355<>\"\",登録済データ!$C$4,\"\")","v":""}]
[null,{"$f":"IF($F356<>\"\",登録済データ!$C$2,\"\")","v":""},{"$f":"IF($F356<>\"\",IF($I$1=\"企業コード3桁\",LEFT(登録済データ!$C$3,3),LEFT(登録済データ!$C$3,6)),\"\")","v":""},null,{"$f":"IF(登録済データ!$B359<>0,登録済データ!C359,\"\")","v":""},{"$f":"IF(登録済データ!$B359<>0,登録済データ!D359,\"\")","v":""},{"$f":"IF(登録済データ!$B359<>0,登録済データ!E359,\"\")","v":""},{"$f":"IF(登録済データ!$B359<>0,IF(登録済データ!F359<>\"\",登録済データ!F359,\"\"),\"\")","v":""},{"$f":"IF(登録済データ!$B359<>0,IF(登録済データ!G359<>\"\",登録済データ!G359,\"\"),\"\")","v":""},{"$f":"IF(登録済データ!$B359<>0,IF(登録済データ!H359<>\"\",登録済データ!H359,\"\"),\"\")","v":""},{"$f":"IF(登録済データ!$B359<>0,IF(登録済データ!I359<>\"\",登録済データ!I359,\"\"),\"\")","v":""},{"$f":"IF(登録済データ!$B359<>0,登録済データ!J359,\"\")","v":""},{"$f":"IF(登録済データ!$B359<>0,登録済データ!K359,\"\")","v":""},{"$f":"IF(登録済データ!$B359<>0,登録済データ!L359,\"\")","v":""},{"$f":"IF(登録済データ!$B359<>0,登録済データ!M359,\"\")","v":""},{"$f":"IF(登録済データ!$B359<>0,登録済データ!N359,\"\")","v":""},{"$f":"IF(登録済データ!$B359<>0,登録済データ!O359,\"\")","v":""},{"$f":"IF(登録済データ!$B359<>0,登録済データ!P359,\"\")","v":""},{"$f":"IF(登録済データ!$B359<>0,登録済データ!Q359,\"\")","v":""},{"$f":"IF(登録済データ!$B359<>0,登録済データ!R359,\"\")","v":""},{"$f":"IF(登録済データ!$B359<>0,登録済データ!S359,\"\")","v":""},{"$f":"IF(登録済データ!$B359<>0,登録済データ!T359,\"\")","v":""},{"$f":"IF(登録済データ!$B359<>0,登録済データ!U359,\"\")","v":""},{"$f":"IF(登録済データ!$B359<>0,登録済データ!V359,\"\")","v":""},{"$f":"IF(登録済データ!$B359<>0,登録済データ!W359,\"\")","v":""},{"$f":"IF(登録済データ!$B359<>0,登録済データ!X359,\"\")","v":""},{"$f":"IF($F356<>\"\",登録済データ!$C$4,\"\")","v":""}]
[null,{"$f":"IF($F357<>\"\",登録済データ!$C$2,\"\")","v":""},{"$f":"IF($F357<>\"\",IF($I$1=\"企業コード3桁\",LEFT(登録済データ!$C$3,3),LEFT(登録済データ!$C$3,6)),\"\")","v":""},null,{"$f":"IF(登録済データ!$B360<>0,登録済データ!C360,\"\")","v":""},{"$f":"IF(登録済データ!$B360<>0,登録済データ!D360,\"\")","v":""},{"$f":"IF(登録済データ!$B360<>0,登録済データ!E360,\"\")","v":""},{"$f":"IF(登録済データ!$B360<>0,IF(登録済データ!F360<>\"\",登録済データ!F360,\"\"),\"\")","v":""},{"$f":"IF(登録済データ!$B360<>0,IF(登録済データ!G360<>\"\",登録済データ!G360,\"\"),\"\")","v":""},{"$f":"IF(登録済データ!$B360<>0,IF(登録済データ!H360<>\"\",登録済データ!H360,\"\"),\"\")","v":""},{"$f":"IF(登録済データ!$B360<>0,IF(登録済データ!I360<>\"\",登録済データ!I360,\"\"),\"\")","v":""},{"$f":"IF(登録済データ!$B360<>0,登録済データ!J360,\"\")","v":""},{"$f":"IF(登録済データ!$B360<>0,登録済データ!K360,\"\")","v":""},{"$f":"IF(登録済データ!$B360<>0,登録済データ!L360,\"\")","v":""},{"$f":"IF(登録済データ!$B360<>0,登録済データ!M360,\"\")","v":""},{"$f":"IF(登録済データ!$B360<>0,登録済データ!N360,\"\")","v":""},{"$f":"IF(登録済データ!$B360<>0,登録済データ!O360,\"\")","v":""},{"$f":"IF(登録済データ!$B360<>0,登録済データ!P360,\"\")","v":""},{"$f":"IF(登録済データ!$B360<>0,登録済データ!Q360,\"\")","v":""},{"$f":"IF(登録済データ!$B360<>0,登録済データ!R360,\"\")","v":""},{"$f":"IF(登録済データ!$B360<>0,登録済データ!S360,\"\")","v":""},{"$f":"IF(登録済データ!$B360<>0,登録済データ!T360,\"\")","v":""},{"$f":"IF(登録済データ!$B360<>0,登録済データ!U360,\"\")","v":""},{"$f":"IF(登録済データ!$B360<>0,登録済データ!V360,\"\")","v":""},{"$f":"IF(登録済データ!$B360<>0,登録済データ!W360,\"\")","v":""},{"$f":"IF(登録済データ!$B360<>0,登録済データ!X360,\"\")","v":""},{"$f":"IF($F357<>\"\",登録済データ!$C$4,\"\")","v":""}]
[null,{"$f":"IF($F358<>\"\",登録済データ!$C$2,\"\")","v":""},{"$f":"IF($F358<>\"\",IF($I$1=\"企業コード3桁\",LEFT(登録済データ!$C$3,3),LEFT(登録済データ!$C$3,6)),\"\")","v":""},null,{"$f":"IF(登録済データ!$B361<>0,登録済データ!C361,\"\")","v":""},{"$f":"IF(登録済データ!$B361<>0,登録済データ!D361,\"\")","v":""},{"$f":"IF(登録済データ!$B361<>0,登録済データ!E361,\"\")","v":""},{"$f":"IF(登録済データ!$B361<>0,IF(登録済データ!F361<>\"\",登録済データ!F361,\"\"),\"\")","v":""},{"$f":"IF(登録済データ!$B361<>0,IF(登録済データ!G361<>\"\",登録済データ!G361,\"\"),\"\")","v":""},{"$f":"IF(登録済データ!$B361<>0,IF(登録済データ!H361<>\"\",登録済データ!H361,\"\"),\"\")","v":""},{"$f":"IF(登録済データ!$B361<>0,IF(登録済データ!I361<>\"\",登録済データ!I361,\"\"),\"\")","v":""},{"$f":"IF(登録済データ!$B361<>0,登録済データ!J361,\"\")","v":""},{"$f":"IF(登録済データ!$B361<>0,登録済データ!K361,\"\")","v":""},{"$f":"IF(登録済データ!$B361<>0,登録済データ!L361,\"\")","v":""},{"$f":"IF(登録済データ!$B361<>0,登録済データ!M361,\"\")","v":""},{"$f":"IF(登録済データ!$B361<>0,登録済データ!N361,\"\")","v":""},{"$f":"IF(登録済データ!$B361<>0,登録済データ!O361,\"\")","v":""},{"$f":"IF(登録済データ!$B361<>0,登録済データ!P361,\"\")","v":""},{"$f":"IF(登録済データ!$B361<>0,登録済データ!Q361,\"\")","v":""},{"$f":"IF(登録済データ!$B361<>0,登録済データ!R361,\"\")","v":""},{"$f":"IF(登録済データ!$B361<>0,登録済データ!S361,\"\")","v":""},{"$f":"IF(登録済データ!$B361<>0,登録済データ!T361,\"\")","v":""},{"$f":"IF(登録済データ!$B361<>0,登録済データ!U361,\"\")","v":""},{"$f":"IF(登録済データ!$B361<>0,登録済データ!V361,\"\")","v":""},{"$f":"IF(登録済データ!$B361<>0,登録済データ!W361,\"\")","v":""},{"$f":"IF(登録済データ!$B361<>0,登録済データ!X361,\"\")","v":""},{"$f":"IF($F358<>\"\",登録済データ!$C$4,\"\")","v":""}]
[null,{"$f":"IF($F359<>\"\",登録済データ!$C$2,\"\")","v":""},{"$f":"IF($F359<>\"\",IF($I$1=\"企業コード3桁\",LEFT(登録済データ!$C$3,3),LEFT(登録済データ!$C$3,6)),\"\")","v":""},null,{"$f":"IF(登録済データ!$B362<>0,登録済データ!C362,\"\")","v":""},{"$f":"IF(登録済データ!$B362<>0,登録済データ!D362,\"\")","v":""},{"$f":"IF(登録済データ!$B362<>0,登録済データ!E362,\"\")","v":""},{"$f":"IF(登録済データ!$B362<>0,IF(登録済データ!F362<>\"\",登録済データ!F362,\"\"),\"\")","v":""},{"$f":"IF(登録済データ!$B362<>0,IF(登録済データ!G362<>\"\",登録済データ!G362,\"\"),\"\")","v":""},{"$f":"IF(登録済データ!$B362<>0,IF(登録済データ!H362<>\"\",登録済データ!H362,\"\"),\"\")","v":""},{"$f":"IF(登録済データ!$B362<>0,IF(登録済データ!I362<>\"\",登録済データ!I362,\"\"),\"\")","v":""},{"$f":"IF(登録済データ!$B362<>0,登録済データ!J362,\"\")","v":""},{"$f":"IF(登録済データ!$B362<>0,登録済データ!K362,\"\")","v":""},{"$f":"IF(登録済データ!$B362<>0,登録済データ!L362,\"\")","v":""},{"$f":"IF(登録済データ!$B362<>0,登録済データ!M362,\"\")","v":""},{"$f":"IF(登録済データ!$B362<>0,登録済データ!N362,\"\")","v":""},{"$f":"IF(登録済データ!$B362<>0,登録済データ!O362,\"\")","v":""},{"$f":"IF(登録済データ!$B362<>0,登録済データ!P362,\"\")","v":""},{"$f":"IF(登録済データ!$B362<>0,登録済データ!Q362,\"\")","v":""},{"$f":"IF(登録済データ!$B362<>0,登録済データ!R362,\"\")","v":""},{"$f":"IF(登録済データ!$B362<>0,登録済データ!S362,\"\")","v":""},{"$f":"IF(登録済データ!$B362<>0,登録済データ!T362,\"\")","v":""},{"$f":"IF(登録済データ!$B362<>0,登録済データ!U362,\"\")","v":""},{"$f":"IF(登録済データ!$B362<>0,登録済データ!V362,\"\")","v":""},{"$f":"IF(登録済データ!$B362<>0,登録済データ!W362,\"\")","v":""},{"$f":"IF(登録済データ!$B362<>0,登録済データ!X362,\"\")","v":""},{"$f":"IF($F359<>\"\",登録済データ!$C$4,\"\")","v":""}]
[null,{"$f":"IF($F360<>\"\",登録済データ!$C$2,\"\")","v":""},{"$f":"IF($F360<>\"\",IF($I$1=\"企業コード3桁\",LEFT(登録済データ!$C$3,3),LEFT(登録済データ!$C$3,6)),\"\")","v":""},null,{"$f":"IF(登録済データ!$B363<>0,登録済データ!C363,\"\")","v":""},{"$f":"IF(登録済データ!$B363<>0,登録済データ!D363,\"\")","v":""},{"$f":"IF(登録済データ!$B363<>0,登録済データ!E363,\"\")","v":""},{"$f":"IF(登録済データ!$B363<>0,IF(登録済データ!F363<>\"\",登録済データ!F363,\"\"),\"\")","v":""},{"$f":"IF(登録済データ!$B363<>0,IF(登録済データ!G363<>\"\",登録済データ!G363,\"\"),\"\")","v":""},{"$f":"IF(登録済データ!$B363<>0,IF(登録済データ!H363<>\"\",登録済データ!H363,\"\"),\"\")","v":""},{"$f":"IF(登録済データ!$B363<>0,IF(登録済データ!I363<>\"\",登録済データ!I363,\"\"),\"\")","v":""},{"$f":"IF(登録済データ!$B363<>0,登録済データ!J363,\"\")","v":""},{"$f":"IF(登録済データ!$B363<>0,登録済データ!K363,\"\")","v":""},{"$f":"IF(登録済データ!$B363<>0,登録済データ!L363,\"\")","v":""},{"$f":"IF(登録済データ!$B363<>0,登録済データ!M363,\"\")","v":""},{"$f":"IF(登録済データ!$B363<>0,登録済データ!N363,\"\")","v":""},{"$f":"IF(登録済データ!$B363<>0,登録済データ!O363,\"\")","v":""},{"$f":"IF(登録済データ!$B363<>0,登録済データ!P363,\"\")","v":""},{"$f":"IF(登録済データ!$B363<>0,登録済データ!Q363,\"\")","v":""},{"$f":"IF(登録済データ!$B363<>0,登録済データ!R363,\"\")","v":""},{"$f":"IF(登録済データ!$B363<>0,登録済データ!S363,\"\")","v":""},{"$f":"IF(登録済データ!$B363<>0,登録済データ!T363,\"\")","v":""},{"$f":"IF(登録済データ!$B363<>0,登録済データ!U363,\"\")","v":""},{"$f":"IF(登録済データ!$B363<>0,登録済データ!V363,\"\")","v":""},{"$f":"IF(登録済データ!$B363<>0,登録済データ!W363,\"\")","v":""},{"$f":"IF(登録済データ!$B363<>0,登録済データ!X363,\"\")","v":""},{"$f":"IF($F360<>\"\",登録済データ!$C$4,\"\")","v":""}]
[null,{"$f":"IF($F361<>\"\",登録済データ!$C$2,\"\")","v":""},{"$f":"IF($F361<>\"\",IF($I$1=\"企業コード3桁\",LEFT(登録済データ!$C$3,3),LEFT(登録済データ!$C$3,6)),\"\")","v":""},null,{"$f":"IF(登録済データ!$B364<>0,登録済データ!C364,\"\")","v":""},{"$f":"IF(登録済データ!$B364<>0,登録済データ!D364,\"\")","v":""},{"$f":"IF(登録済データ!$B364<>0,登録済データ!E364,\"\")","v":""},{"$f":"IF(登録済データ!$B364<>0,IF(登録済データ!F364<>\"\",登録済データ!F364,\"\"),\"\")","v":""},{"$f":"IF(登録済データ!$B364<>0,IF(登録済データ!G364<>\"\",登録済データ!G364,\"\"),\"\")","v":""},{"$f":"IF(登録済データ!$B364<>0,IF(登録済データ!H364<>\"\",登録済データ!H364,\"\"),\"\")","v":""},{"$f":"IF(登録済データ!$B364<>0,IF(登録済データ!I364<>\"\",登録済データ!I364,\"\"),\"\")","v":""},{"$f":"IF(登録済データ!$B364<>0,登録済データ!J364,\"\")","v":""},{"$f":"IF(登録済データ!$B364<>0,登録済データ!K364,\"\")","v":""},{"$f":"IF(登録済データ!$B364<>0,登録済データ!L364,\"\")","v":""},{"$f":"IF(登録済データ!$B364<>0,登録済データ!M364,\"\")","v":""},{"$f":"IF(登録済データ!$B364<>0,登録済データ!N364,\"\")","v":""},{"$f":"IF(登録済データ!$B364<>0,登録済データ!O364,\"\")","v":""},{"$f":"IF(登録済データ!$B364<>0,登録済データ!P364,\"\")","v":""},{"$f":"IF(登録済データ!$B364<>0,登録済データ!Q364,\"\")","v":""},{"$f":"IF(登録済データ!$B364<>0,登録済データ!R364,\"\")","v":""},{"$f":"IF(登録済データ!$B364<>0,登録済データ!S364,\"\")","v":""},{"$f":"IF(登録済データ!$B364<>0,登録済データ!T364,\"\")","v":""},{"$f":"IF(登録済データ!$B364<>0,登録済データ!U364,\"\")","v":""},{"$f":"IF(登録済データ!$B364<>0,登録済データ!V364,\"\")","v":""},{"$f":"IF(登録済データ!$B364<>0,登録済データ!W364,\"\")","v":""},{"$f":"IF(登録済データ!$B364<>0,登録済データ!X364,\"\")","v":""},{"$f":"IF($F361<>\"\",登録済データ!$C$4,\"\")","v":""}]
[null,{"$f":"IF($F362<>\"\",登録済データ!$C$2,\"\")","v":""},{"$f":"IF($F362<>\"\",IF($I$1=\"企業コード3桁\",LEFT(登録済データ!$C$3,3),LEFT(登録済データ!$C$3,6)),\"\")","v":""},null,{"$f":"IF(登録済データ!$B365<>0,登録済データ!C365,\"\")","v":""},{"$f":"IF(登録済データ!$B365<>0,登録済データ!D365,\"\")","v":""},{"$f":"IF(登録済データ!$B365<>0,登録済データ!E365,\"\")","v":""},{"$f":"IF(登録済データ!$B365<>0,IF(登録済データ!F365<>\"\",登録済データ!F365,\"\"),\"\")","v":""},{"$f":"IF(登録済データ!$B365<>0,IF(登録済データ!G365<>\"\",登録済データ!G365,\"\"),\"\")","v":""},{"$f":"IF(登録済データ!$B365<>0,IF(登録済データ!H365<>\"\",登録済データ!H365,\"\"),\"\")","v":""},{"$f":"IF(登録済データ!$B365<>0,IF(登録済データ!I365<>\"\",登録済データ!I365,\"\"),\"\")","v":""},{"$f":"IF(登録済データ!$B365<>0,登録済データ!J365,\"\")","v":""},{"$f":"IF(登録済データ!$B365<>0,登録済データ!K365,\"\")","v":""},{"$f":"IF(登録済データ!$B365<>0,登録済データ!L365,\"\")","v":""},{"$f":"IF(登録済データ!$B365<>0,登録済データ!M365,\"\")","v":""},{"$f":"IF(登録済データ!$B365<>0,登録済データ!N365,\"\")","v":""},{"$f":"IF(登録済データ!$B365<>0,登録済データ!O365,\"\")","v":""},{"$f":"IF(登録済データ!$B365<>0,登録済データ!P365,\"\")","v":""},{"$f":"IF(登録済データ!$B365<>0,登録済データ!Q365,\"\")","v":""},{"$f":"IF(登録済データ!$B365<>0,登録済データ!R365,\"\")","v":""},{"$f":"IF(登録済データ!$B365<>0,登録済データ!S365,\"\")","v":""},{"$f":"IF(登録済データ!$B365<>0,登録済データ!T365,\"\")","v":""},{"$f":"IF(登録済データ!$B365<>0,登録済データ!U365,\"\")","v":""},{"$f":"IF(登録済データ!$B365<>0,登録済データ!V365,\"\")","v":""},{"$f":"IF(登録済データ!$B365<>0,登録済データ!W365,\"\")","v":""},{"$f":"IF(登録済データ!$B365<>0,登録済データ!X365,\"\")","v":""},{"$f":"IF($F362<>\"\",登録済データ!$C$4,\"\")","v":""}]
[null,{"$f":"IF($F363<>\"\",登録済データ!$C$2,\"\")","v":""},{"$f":"IF($F363<>\"\",IF($I$1=\"企業コード3桁\",LEFT(登録済データ!$C$3,3),LEFT(登録済データ!$C$3,6)),\"\")","v":""},null,{"$f":"IF(登録済データ!$B366<>0,登録済データ!C366,\"\")","v":""},{"$f":"IF(登録済データ!$B366<>0,登録済データ!D366,\"\")","v":""},{"$f":"IF(登録済データ!$B366<>0,登録済データ!E366,\"\")","v":""},{"$f":"IF(登録済データ!$B366<>0,IF(登録済データ!F366<>\"\",登録済データ!F366,\"\"),\"\")","v":""},{"$f":"IF(登録済データ!$B366<>0,IF(登録済データ!G366<>\"\",登録済データ!G366,\"\"),\"\")","v":""},{"$f":"IF(登録済データ!$B366<>0,IF(登録済データ!H366<>\"\",登録済データ!H366,\"\"),\"\")","v":""},{"$f":"IF(登録済データ!$B366<>0,IF(登録済データ!I366<>\"\",登録済データ!I366,\"\"),\"\")","v":""},{"$f":"IF(登録済データ!$B366<>0,登録済データ!J366,\"\")","v":""},{"$f":"IF(登録済データ!$B366<>0,登録済データ!K366,\"\")","v":""},{"$f":"IF(登録済データ!$B366<>0,登録済データ!L366,\"\")","v":""},{"$f":"IF(登録済データ!$B366<>0,登録済データ!M366,\"\")","v":""},{"$f":"IF(登録済データ!$B366<>0,登録済データ!N366,\"\")","v":""},{"$f":"IF(登録済データ!$B366<>0,登録済データ!O366,\"\")","v":""},{"$f":"IF(登録済データ!$B366<>0,登録済データ!P366,\"\")","v":""},{"$f":"IF(登録済データ!$B366<>0,登録済データ!Q366,\"\")","v":""},{"$f":"IF(登録済データ!$B366<>0,登録済データ!R366,\"\")","v":""},{"$f":"IF(登録済データ!$B366<>0,登録済データ!S366,\"\")","v":""},{"$f":"IF(登録済データ!$B366<>0,登録済データ!T366,\"\")","v":""},{"$f":"IF(登録済データ!$B366<>0,登録済データ!U366,\"\")","v":""},{"$f":"IF(登録済データ!$B366<>0,登録済データ!V366,\"\")","v":""},{"$f":"IF(登録済データ!$B366<>0,登録済データ!W366,\"\")","v":""},{"$f":"IF(登録済データ!$B366<>0,登録済データ!X366,\"\")","v":""},{"$f":"IF($F363<>\"\",登録済データ!$C$4,\"\")","v":""}]
[null,{"$f":"IF($F364<>\"\",登録済データ!$C$2,\"\")","v":""},{"$f":"IF($F364<>\"\",IF($I$1=\"企業コード3桁\",LEFT(登録済データ!$C$3,3),LEFT(登録済データ!$C$3,6)),\"\")","v":""},null,{"$f":"IF(登録済データ!$B367<>0,登録済データ!C367,\"\")","v":""},{"$f":"IF(登録済データ!$B367<>0,登録済データ!D367,\"\")","v":""},{"$f":"IF(登録済データ!$B367<>0,登録済データ!E367,\"\")","v":""},{"$f":"IF(登録済データ!$B367<>0,IF(登録済データ!F367<>\"\",登録済データ!F367,\"\"),\"\")","v":""},{"$f":"IF(登録済データ!$B367<>0,IF(登録済データ!G367<>\"\",登録済データ!G367,\"\"),\"\")","v":""},{"$f":"IF(登録済データ!$B367<>0,IF(登録済データ!H367<>\"\",登録済データ!H367,\"\"),\"\")","v":""},{"$f":"IF(登録済データ!$B367<>0,IF(登録済データ!I367<>\"\",登録済データ!I367,\"\"),\"\")","v":""},{"$f":"IF(登録済データ!$B367<>0,登録済データ!J367,\"\")","v":""},{"$f":"IF(登録済データ!$B367<>0,登録済データ!K367,\"\")","v":""},{"$f":"IF(登録済データ!$B367<>0,登録済データ!L367,\"\")","v":""},{"$f":"IF(登録済データ!$B367<>0,登録済データ!M367,\"\")","v":""},{"$f":"IF(登録済データ!$B367<>0,登録済データ!N367,\"\")","v":""},{"$f":"IF(登録済データ!$B367<>0,登録済データ!O367,\"\")","v":""},{"$f":"IF(登録済データ!$B367<>0,登録済データ!P367,\"\")","v":""},{"$f":"IF(登録済データ!$B367<>0,登録済データ!Q367,\"\")","v":""},{"$f":"IF(登録済データ!$B367<>0,登録済データ!R367,\"\")","v":""},{"$f":"IF(登録済データ!$B367<>0,登録済データ!S367,\"\")","v":""},{"$f":"IF(登録済データ!$B367<>0,登録済データ!T367,\"\")","v":""},{"$f":"IF(登録済データ!$B367<>0,登録済データ!U367,\"\")","v":""},{"$f":"IF(登録済データ!$B367<>0,登録済データ!V367,\"\")","v":""},{"$f":"IF(登録済データ!$B367<>0,登録済データ!W367,\"\")","v":""},{"$f":"IF(登録済データ!$B367<>0,登録済データ!X367,\"\")","v":""},{"$f":"IF($F364<>\"\",登録済データ!$C$4,\"\")","v":""}]
[null,{"$f":"IF($F365<>\"\",登録済データ!$C$2,\"\")","v":""},{"$f":"IF($F365<>\"\",IF($I$1=\"企業コード3桁\",LEFT(登録済データ!$C$3,3),LEFT(登録済データ!$C$3,6)),\"\")","v":""},null,{"$f":"IF(登録済データ!$B368<>0,登録済データ!C368,\"\")","v":""},{"$f":"IF(登録済データ!$B368<>0,登録済データ!D368,\"\")","v":""},{"$f":"IF(登録済データ!$B368<>0,登録済データ!E368,\"\")","v":""},{"$f":"IF(登録済データ!$B368<>0,IF(登録済データ!F368<>\"\",登録済データ!F368,\"\"),\"\")","v":""},{"$f":"IF(登録済データ!$B368<>0,IF(登録済データ!G368<>\"\",登録済データ!G368,\"\"),\"\")","v":""},{"$f":"IF(登録済データ!$B368<>0,IF(登録済データ!H368<>\"\",登録済データ!H368,\"\"),\"\")","v":""},{"$f":"IF(登録済データ!$B368<>0,IF(登録済データ!I368<>\"\",登録済データ!I368,\"\"),\"\")","v":""},{"$f":"IF(登録済データ!$B368<>0,登録済データ!J368,\"\")","v":""},{"$f":"IF(登録済データ!$B368<>0,登録済データ!K368,\"\")","v":""},{"$f":"IF(登録済データ!$B368<>0,登録済データ!L368,\"\")","v":""},{"$f":"IF(登録済データ!$B368<>0,登録済データ!M368,\"\")","v":""},{"$f":"IF(登録済データ!$B368<>0,登録済データ!N368,\"\")","v":""},{"$f":"IF(登録済データ!$B368<>0,登録済データ!O368,\"\")","v":""},{"$f":"IF(登録済データ!$B368<>0,登録済データ!P368,\"\")","v":""},{"$f":"IF(登録済データ!$B368<>0,登録済データ!Q368,\"\")","v":""},{"$f":"IF(登録済データ!$B368<>0,登録済データ!R368,\"\")","v":""},{"$f":"IF(登録済データ!$B368<>0,登録済データ!S368,\"\")","v":""},{"$f":"IF(登録済データ!$B368<>0,登録済データ!T368,\"\")","v":""},{"$f":"IF(登録済データ!$B368<>0,登録済データ!U368,\"\")","v":""},{"$f":"IF(登録済データ!$B368<>0,登録済データ!V368,\"\")","v":""},{"$f":"IF(登録済データ!$B368<>0,登録済データ!W368,\"\")","v":""},{"$f":"IF(登録済データ!$B368<>0,登録済データ!X368,\"\")","v":""},{"$f":"IF($F365<>\"\",登録済データ!$C$4,\"\")","v":""}]
[null,{"$f":"IF($F366<>\"\",登録済データ!$C$2,\"\")","v":""},{"$f":"IF($F366<>\"\",IF($I$1=\"企業コード3桁\",LEFT(登録済データ!$C$3,3),LEFT(登録済データ!$C$3,6)),\"\")","v":""},null,{"$f":"IF(登録済データ!$B369<>0,登録済データ!C369,\"\")","v":""},{"$f":"IF(登録済データ!$B369<>0,登録済データ!D369,\"\")","v":""},{"$f":"IF(登録済データ!$B369<>0,登録済データ!E369,\"\")","v":""},{"$f":"IF(登録済データ!$B369<>0,IF(登録済データ!F369<>\"\",登録済データ!F369,\"\"),\"\")","v":""},{"$f":"IF(登録済データ!$B369<>0,IF(登録済データ!G369<>\"\",登録済データ!G369,\"\"),\"\")","v":""},{"$f":"IF(登録済データ!$B369<>0,IF(登録済データ!H369<>\"\",登録済データ!H369,\"\"),\"\")","v":""},{"$f":"IF(登録済データ!$B369<>0,IF(登録済データ!I369<>\"\",登録済データ!I369,\"\"),\"\")","v":""},{"$f":"IF(登録済データ!$B369<>0,登録済データ!J369,\"\")","v":""},{"$f":"IF(登録済データ!$B369<>0,登録済データ!K369,\"\")","v":""},{"$f":"IF(登録済データ!$B369<>0,登録済データ!L369,\"\")","v":""},{"$f":"IF(登録済データ!$B369<>0,登録済データ!M369,\"\")","v":""},{"$f":"IF(登録済データ!$B369<>0,登録済データ!N369,\"\")","v":""},{"$f":"IF(登録済データ!$B369<>0,登録済データ!O369,\"\")","v":""},{"$f":"IF(登録済データ!$B369<>0,登録済データ!P369,\"\")","v":""},{"$f":"IF(登録済データ!$B369<>0,登録済データ!Q369,\"\")","v":""},{"$f":"IF(登録済データ!$B369<>0,登録済データ!R369,\"\")","v":""},{"$f":"IF(登録済データ!$B369<>0,登録済データ!S369,\"\")","v":""},{"$f":"IF(登録済データ!$B369<>0,登録済データ!T369,\"\")","v":""},{"$f":"IF(登録済データ!$B369<>0,登録済データ!U369,\"\")","v":""},{"$f":"IF(登録済データ!$B369<>0,登録済データ!V369,\"\")","v":""},{"$f":"IF(登録済データ!$B369<>0,登録済データ!W369,\"\")","v":""},{"$f":"IF(登録済データ!$B369<>0,登録済データ!X369,\"\")","v":""},{"$f":"IF($F366<>\"\",登録済データ!$C$4,\"\")","v":""}]
[null,{"$f":"IF($F367<>\"\",登録済データ!$C$2,\"\")","v":""},{"$f":"IF($F367<>\"\",IF($I$1=\"企業コード3桁\",LEFT(登録済データ!$C$3,3),LEFT(登録済データ!$C$3,6)),\"\")","v":""},null,{"$f":"IF(登録済データ!$B370<>0,登録済データ!C370,\"\")","v":""},{"$f":"IF(登録済データ!$B370<>0,登録済データ!D370,\"\")","v":""},{"$f":"IF(登録済データ!$B370<>0,登録済データ!E370,\"\")","v":""},{"$f":"IF(登録済データ!$B370<>0,IF(登録済データ!F370<>\"\",登録済データ!F370,\"\"),\"\")","v":""},{"$f":"IF(登録済データ!$B370<>0,IF(登録済データ!G370<>\"\",登録済データ!G370,\"\"),\"\")","v":""},{"$f":"IF(登録済データ!$B370<>0,IF(登録済データ!H370<>\"\",登録済データ!H370,\"\"),\"\")","v":""},{"$f":"IF(登録済データ!$B370<>0,IF(登録済データ!I370<>\"\",登録済データ!I370,\"\"),\"\")","v":""},{"$f":"IF(登録済データ!$B370<>0,登録済データ!J370,\"\")","v":""},{"$f":"IF(登録済データ!$B370<>0,登録済データ!K370,\"\")","v":""},{"$f":"IF(登録済データ!$B370<>0,登録済データ!L370,\"\")","v":""},{"$f":"IF(登録済データ!$B370<>0,登録済データ!M370,\"\")","v":""},{"$f":"IF(登録済データ!$B370<>0,登録済データ!N370,\"\")","v":""},{"$f":"IF(登録済データ!$B370<>0,登録済データ!O370,\"\")","v":""},{"$f":"IF(登録済データ!$B370<>0,登録済データ!P370,\"\")","v":""},{"$f":"IF(登録済データ!$B370<>0,登録済データ!Q370,\"\")","v":""},{"$f":"IF(登録済データ!$B370<>0,登録済データ!R370,\"\")","v":""},{"$f":"IF(登録済データ!$B370<>0,登録済データ!S370,\"\")","v":""},{"$f":"IF(登録済データ!$B370<>0,登録済データ!T370,\"\")","v":""},{"$f":"IF(登録済データ!$B370<>0,登録済データ!U370,\"\")","v":""},{"$f":"IF(登録済データ!$B370<>0,登録済データ!V370,\"\")","v":""},{"$f":"IF(登録済データ!$B370<>0,登録済データ!W370,\"\")","v":""},{"$f":"IF(登録済データ!$B370<>0,登録済データ!X370,\"\")","v":""},{"$f":"IF($F367<>\"\",登録済データ!$C$4,\"\")","v":""}]
[null,{"$f":"IF($F368<>\"\",登録済データ!$C$2,\"\")","v":""},{"$f":"IF($F368<>\"\",IF($I$1=\"企業コード3桁\",LEFT(登録済データ!$C$3,3),LEFT(登録済データ!$C$3,6)),\"\")","v":""},null,{"$f":"IF(登録済データ!$B371<>0,登録済データ!C371,\"\")","v":""},{"$f":"IF(登録済データ!$B371<>0,登録済データ!D371,\"\")","v":""},{"$f":"IF(登録済データ!$B371<>0,登録済データ!E371,\"\")","v":""},{"$f":"IF(登録済データ!$B371<>0,IF(登録済データ!F371<>\"\",登録済データ!F371,\"\"),\"\")","v":""},{"$f":"IF(登録済データ!$B371<>0,IF(登録済データ!G371<>\"\",登録済データ!G371,\"\"),\"\")","v":""},{"$f":"IF(登録済データ!$B371<>0,IF(登録済データ!H371<>\"\",登録済データ!H371,\"\"),\"\")","v":""},{"$f":"IF(登録済データ!$B371<>0,IF(登録済データ!I371<>\"\",登録済データ!I371,\"\"),\"\")","v":""},{"$f":"IF(登録済データ!$B371<>0,登録済データ!J371,\"\")","v":""},{"$f":"IF(登録済データ!$B371<>0,登録済データ!K371,\"\")","v":""},{"$f":"IF(登録済データ!$B371<>0,登録済データ!L371,\"\")","v":""},{"$f":"IF(登録済データ!$B371<>0,登録済データ!M371,\"\")","v":""},{"$f":"IF(登録済データ!$B371<>0,登録済データ!N371,\"\")","v":""},{"$f":"IF(登録済データ!$B371<>0,登録済データ!O371,\"\")","v":""},{"$f":"IF(登録済データ!$B371<>0,登録済データ!P371,\"\")","v":""},{"$f":"IF(登録済データ!$B371<>0,登録済データ!Q371,\"\")","v":""},{"$f":"IF(登録済データ!$B371<>0,登録済データ!R371,\"\")","v":""},{"$f":"IF(登録済データ!$B371<>0,登録済データ!S371,\"\")","v":""},{"$f":"IF(登録済データ!$B371<>0,登録済データ!T371,\"\")","v":""},{"$f":"IF(登録済データ!$B371<>0,登録済データ!U371,\"\")","v":""},{"$f":"IF(登録済データ!$B371<>0,登録済データ!V371,\"\")","v":""},{"$f":"IF(登録済データ!$B371<>0,登録済データ!W371,\"\")","v":""},{"$f":"IF(登録済データ!$B371<>0,登録済データ!X371,\"\")","v":""},{"$f":"IF($F368<>\"\",登録済データ!$C$4,\"\")","v":""}]
[null,{"$f":"IF($F369<>\"\",登録済データ!$C$2,\"\")","v":""},{"$f":"IF($F369<>\"\",IF($I$1=\"企業コード3桁\",LEFT(登録済データ!$C$3,3),LEFT(登録済データ!$C$3,6)),\"\")","v":""},null,{"$f":"IF(登録済データ!$B372<>0,登録済データ!C372,\"\")","v":""},{"$f":"IF(登録済データ!$B372<>0,登録済データ!D372,\"\")","v":""},{"$f":"IF(登録済データ!$B372<>0,登録済データ!E372,\"\")","v":""},{"$f":"IF(登録済データ!$B372<>0,IF(登録済データ!F372<>\"\",登録済データ!F372,\"\"),\"\")","v":""},{"$f":"IF(登録済データ!$B372<>0,IF(登録済データ!G372<>\"\",登録済データ!G372,\"\"),\"\")","v":""},{"$f":"IF(登録済データ!$B372<>0,IF(登録済データ!H372<>\"\",登録済データ!H372,\"\"),\"\")","v":""},{"$f":"IF(登録済データ!$B372<>0,IF(登録済データ!I372<>\"\",登録済データ!I372,\"\"),\"\")","v":""},{"$f":"IF(登録済データ!$B372<>0,登録済データ!J372,\"\")","v":""},{"$f":"IF(登録済データ!$B372<>0,登録済データ!K372,\"\")","v":""},{"$f":"IF(登録済データ!$B372<>0,登録済データ!L372,\"\")","v":""},{"$f":"IF(登録済データ!$B372<>0,登録済データ!M372,\"\")","v":""},{"$f":"IF(登録済データ!$B372<>0,登録済データ!N372,\"\")","v":""},{"$f":"IF(登録済データ!$B372<>0,登録済データ!O372,\"\")","v":""},{"$f":"IF(登録済データ!$B372<>0,登録済データ!P372,\"\")","v":""},{"$f":"IF(登録済データ!$B372<>0,登録済データ!Q372,\"\")","v":""},{"$f":"IF(登録済データ!$B372<>0,登録済データ!R372,\"\")","v":""},{"$f":"IF(登録済データ!$B372<>0,登録済データ!S372,\"\")","v":""},{"$f":"IF(登録済データ!$B372<>0,登録済データ!T372,\"\")","v":""},{"$f":"IF(登録済データ!$B372<>0,登録済データ!U372,\"\")","v":""},{"$f":"IF(登録済データ!$B372<>0,登録済データ!V372,\"\")","v":""},{"$f":"IF(登録済データ!$B372<>0,登録済データ!W372,\"\")","v":""},{"$f":"IF(登録済データ!$B372<>0,登録済データ!X372,\"\")","v":""},{"$f":"IF($F369<>\"\",登録済データ!$C$4,\"\")","v":""}]
[null,{"$f":"IF($F370<>\"\",登録済データ!$C$2,\"\")","v":""},{"$f":"IF($F370<>\"\",IF($I$1=\"企業コード3桁\",LEFT(登録済データ!$C$3,3),LEFT(登録済データ!$C$3,6)),\"\")","v":""},null,{"$f":"IF(登録済データ!$B373<>0,登録済データ!C373,\"\")","v":""},{"$f":"IF(登録済データ!$B373<>0,登録済データ!D373,\"\")","v":""},{"$f":"IF(登録済データ!$B373<>0,登録済データ!E373,\"\")","v":""},{"$f":"IF(登録済データ!$B373<>0,IF(登録済データ!F373<>\"\",登録済データ!F373,\"\"),\"\")","v":""},{"$f":"IF(登録済データ!$B373<>0,IF(登録済データ!G373<>\"\",登録済データ!G373,\"\"),\"\")","v":""},{"$f":"IF(登録済データ!$B373<>0,IF(登録済データ!H373<>\"\",登録済データ!H373,\"\"),\"\")","v":""},{"$f":"IF(登録済データ!$B373<>0,IF(登録済データ!I373<>\"\",登録済データ!I373,\"\"),\"\")","v":""},{"$f":"IF(登録済データ!$B373<>0,登録済データ!J373,\"\")","v":""},{"$f":"IF(登録済データ!$B373<>0,登録済データ!K373,\"\")","v":""},{"$f":"IF(登録済データ!$B373<>0,登録済データ!L373,\"\")","v":""},{"$f":"IF(登録済データ!$B373<>0,登録済データ!M373,\"\")","v":""},{"$f":"IF(登録済データ!$B373<>0,登録済データ!N373,\"\")","v":""},{"$f":"IF(登録済データ!$B373<>0,登録済データ!O373,\"\")","v":""},{"$f":"IF(登録済データ!$B373<>0,登録済データ!P373,\"\")","v":""},{"$f":"IF(登録済データ!$B373<>0,登録済データ!Q373,\"\")","v":""},{"$f":"IF(登録済データ!$B373<>0,登録済データ!R373,\"\")","v":""},{"$f":"IF(登録済データ!$B373<>0,登録済データ!S373,\"\")","v":""},{"$f":"IF(登録済データ!$B373<>0,登録済データ!T373,\"\")","v":""},{"$f":"IF(登録済データ!$B373<>0,登録済データ!U373,\"\")","v":""},{"$f":"IF(登録済データ!$B373<>0,登録済データ!V373,\"\")","v":""},{"$f":"IF(登録済データ!$B373<>0,登録済データ!W373,\"\")","v":""},{"$f":"IF(登録済データ!$B373<>0,登録済データ!X373,\"\")","v":""},{"$f":"IF($F370<>\"\",登録済データ!$C$4,\"\")","v":""}]
[null,{"$f":"IF($F371<>\"\",登録済データ!$C$2,\"\")","v":""},{"$f":"IF($F371<>\"\",IF($I$1=\"企業コード3桁\",LEFT(登録済データ!$C$3,3),LEFT(登録済データ!$C$3,6)),\"\")","v":""},null,{"$f":"IF(登録済データ!$B374<>0,登録済データ!C374,\"\")","v":""},{"$f":"IF(登録済データ!$B374<>0,登録済データ!D374,\"\")","v":""},{"$f":"IF(登録済データ!$B374<>0,登録済データ!E374,\"\")","v":""},{"$f":"IF(登録済データ!$B374<>0,IF(登録済データ!F374<>\"\",登録済データ!F374,\"\"),\"\")","v":""},{"$f":"IF(登録済データ!$B374<>0,IF(登録済データ!G374<>\"\",登録済データ!G374,\"\"),\"\")","v":""},{"$f":"IF(登録済データ!$B374<>0,IF(登録済データ!H374<>\"\",登録済データ!H374,\"\"),\"\")","v":""},{"$f":"IF(登録済データ!$B374<>0,IF(登録済データ!I374<>\"\",登録済データ!I374,\"\"),\"\")","v":""},{"$f":"IF(登録済データ!$B374<>0,登録済データ!J374,\"\")","v":""},{"$f":"IF(登録済データ!$B374<>0,登録済データ!K374,\"\")","v":""},{"$f":"IF(登録済データ!$B374<>0,登録済データ!L374,\"\")","v":""},{"$f":"IF(登録済データ!$B374<>0,登録済データ!M374,\"\")","v":""},{"$f":"IF(登録済データ!$B374<>0,登録済データ!N374,\"\")","v":""},{"$f":"IF(登録済データ!$B374<>0,登録済データ!O374,\"\")","v":""},{"$f":"IF(登録済データ!$B374<>0,登録済データ!P374,\"\")","v":""},{"$f":"IF(登録済データ!$B374<>0,登録済データ!Q374,\"\")","v":""},{"$f":"IF(登録済データ!$B374<>0,登録済データ!R374,\"\")","v":""},{"$f":"IF(登録済データ!$B374<>0,登録済データ!S374,\"\")","v":""},{"$f":"IF(登録済データ!$B374<>0,登録済データ!T374,\"\")","v":""},{"$f":"IF(登録済データ!$B374<>0,登録済データ!U374,\"\")","v":""},{"$f":"IF(登録済データ!$B374<>0,登録済データ!V374,\"\")","v":""},{"$f":"IF(登録済データ!$B374<>0,登録済データ!W374,\"\")","v":""},{"$f":"IF(登録済データ!$B374<>0,登録済データ!X374,\"\")","v":""},{"$f":"IF($F371<>\"\",登録済データ!$C$4,\"\")","v":""}]
[null,{"$f":"IF($F372<>\"\",登録済データ!$C$2,\"\")","v":""},{"$f":"IF($F372<>\"\",IF($I$1=\"企業コード3桁\",LEFT(登録済データ!$C$3,3),LEFT(登録済データ!$C$3,6)),\"\")","v":""},null,{"$f":"IF(登録済データ!$B375<>0,登録済データ!C375,\"\")","v":""},{"$f":"IF(登録済データ!$B375<>0,登録済データ!D375,\"\")","v":""},{"$f":"IF(登録済データ!$B375<>0,登録済データ!E375,\"\")","v":""},{"$f":"IF(登録済データ!$B375<>0,IF(登録済データ!F375<>\"\",登録済データ!F375,\"\"),\"\")","v":""},{"$f":"IF(登録済データ!$B375<>0,IF(登録済データ!G375<>\"\",登録済データ!G375,\"\"),\"\")","v":""},{"$f":"IF(登録済データ!$B375<>0,IF(登録済データ!H375<>\"\",登録済データ!H375,\"\"),\"\")","v":""},{"$f":"IF(登録済データ!$B375<>0,IF(登録済データ!I375<>\"\",登録済データ!I375,\"\"),\"\")","v":""},{"$f":"IF(登録済データ!$B375<>0,登録済データ!J375,\"\")","v":""},{"$f":"IF(登録済データ!$B375<>0,登録済データ!K375,\"\")","v":""},{"$f":"IF(登録済データ!$B375<>0,登録済データ!L375,\"\")","v":""},{"$f":"IF(登録済データ!$B375<>0,登録済データ!M375,\"\")","v":""},{"$f":"IF(登録済データ!$B375<>0,登録済データ!N375,\"\")","v":""},{"$f":"IF(登録済データ!$B375<>0,登録済データ!O375,\"\")","v":""},{"$f":"IF(登録済データ!$B375<>0,登録済データ!P375,\"\")","v":""},{"$f":"IF(登録済データ!$B375<>0,登録済データ!Q375,\"\")","v":""},{"$f":"IF(登録済データ!$B375<>0,登録済データ!R375,\"\")","v":""},{"$f":"IF(登録済データ!$B375<>0,登録済データ!S375,\"\")","v":""},{"$f":"IF(登録済データ!$B375<>0,登録済データ!T375,\"\")","v":""},{"$f":"IF(登録済データ!$B375<>0,登録済データ!U375,\"\")","v":""},{"$f":"IF(登録済データ!$B375<>0,登録済データ!V375,\"\")","v":""},{"$f":"IF(登録済データ!$B375<>0,登録済データ!W375,\"\")","v":""},{"$f":"IF(登録済データ!$B375<>0,登録済データ!X375,\"\")","v":""},{"$f":"IF($F372<>\"\",登録済データ!$C$4,\"\")","v":""}]
[null,{"$f":"IF($F373<>\"\",登録済データ!$C$2,\"\")","v":""},{"$f":"IF($F373<>\"\",IF($I$1=\"企業コード3桁\",LEFT(登録済データ!$C$3,3),LEFT(登録済データ!$C$3,6)),\"\")","v":""},null,{"$f":"IF(登録済データ!$B376<>0,登録済データ!C376,\"\")","v":""},{"$f":"IF(登録済データ!$B376<>0,登録済データ!D376,\"\")","v":""},{"$f":"IF(登録済データ!$B376<>0,登録済データ!E376,\"\")","v":""},{"$f":"IF(登録済データ!$B376<>0,IF(登録済データ!F376<>\"\",登録済データ!F376,\"\"),\"\")","v":""},{"$f":"IF(登録済データ!$B376<>0,IF(登録済データ!G376<>\"\",登録済データ!G376,\"\"),\"\")","v":""},{"$f":"IF(登録済データ!$B376<>0,IF(登録済データ!H376<>\"\",登録済データ!H376,\"\"),\"\")","v":""},{"$f":"IF(登録済データ!$B376<>0,IF(登録済データ!I376<>\"\",登録済データ!I376,\"\"),\"\")","v":""},{"$f":"IF(登録済データ!$B376<>0,登録済データ!J376,\"\")","v":""},{"$f":"IF(登録済データ!$B376<>0,登録済データ!K376,\"\")","v":""},{"$f":"IF(登録済データ!$B376<>0,登録済データ!L376,\"\")","v":""},{"$f":"IF(登録済データ!$B376<>0,登録済データ!M376,\"\")","v":""},{"$f":"IF(登録済データ!$B376<>0,登録済データ!N376,\"\")","v":""},{"$f":"IF(登録済データ!$B376<>0,登録済データ!O376,\"\")","v":""},{"$f":"IF(登録済データ!$B376<>0,登録済データ!P376,\"\")","v":""},{"$f":"IF(登録済データ!$B376<>0,登録済データ!Q376,\"\")","v":""},{"$f":"IF(登録済データ!$B376<>0,登録済データ!R376,\"\")","v":""},{"$f":"IF(登録済データ!$B376<>0,登録済データ!S376,\"\")","v":""},{"$f":"IF(登録済データ!$B376<>0,登録済データ!T376,\"\")","v":""},{"$f":"IF(登録済データ!$B376<>0,登録済データ!U376,\"\")","v":""},{"$f":"IF(登録済データ!$B376<>0,登録済データ!V376,\"\")","v":""},{"$f":"IF(登録済データ!$B376<>0,登録済データ!W376,\"\")","v":""},{"$f":"IF(登録済データ!$B376<>0,登録済データ!X376,\"\")","v":""},{"$f":"IF($F373<>\"\",登録済データ!$C$4,\"\")","v":""}]
[null,{"$f":"IF($F374<>\"\",登録済データ!$C$2,\"\")","v":""},{"$f":"IF($F374<>\"\",IF($I$1=\"企業コード3桁\",LEFT(登録済データ!$C$3,3),LEFT(登録済データ!$C$3,6)),\"\")","v":""},null,{"$f":"IF(登録済データ!$B377<>0,登録済データ!C377,\"\")","v":""},{"$f":"IF(登録済データ!$B377<>0,登録済データ!D377,\"\")","v":""},{"$f":"IF(登録済データ!$B377<>0,登録済データ!E377,\"\")","v":""},{"$f":"IF(登録済データ!$B377<>0,IF(登録済データ!F377<>\"\",登録済データ!F377,\"\"),\"\")","v":""},{"$f":"IF(登録済データ!$B377<>0,IF(登録済データ!G377<>\"\",登録済データ!G377,\"\"),\"\")","v":""},{"$f":"IF(登録済データ!$B377<>0,IF(登録済データ!H377<>\"\",登録済データ!H377,\"\"),\"\")","v":""},{"$f":"IF(登録済データ!$B377<>0,IF(登録済データ!I377<>\"\",登録済データ!I377,\"\"),\"\")","v":""},{"$f":"IF(登録済データ!$B377<>0,登録済データ!J377,\"\")","v":""},{"$f":"IF(登録済データ!$B377<>0,登録済データ!K377,\"\")","v":""},{"$f":"IF(登録済データ!$B377<>0,登録済データ!L377,\"\")","v":""},{"$f":"IF(登録済データ!$B377<>0,登録済データ!M377,\"\")","v":""},{"$f":"IF(登録済データ!$B377<>0,登録済データ!N377,\"\")","v":""},{"$f":"IF(登録済データ!$B377<>0,登録済データ!O377,\"\")","v":""},{"$f":"IF(登録済データ!$B377<>0,登録済データ!P377,\"\")","v":""},{"$f":"IF(登録済データ!$B377<>0,登録済データ!Q377,\"\")","v":""},{"$f":"IF(登録済データ!$B377<>0,登録済データ!R377,\"\")","v":""},{"$f":"IF(登録済データ!$B377<>0,登録済データ!S377,\"\")","v":""},{"$f":"IF(登録済データ!$B377<>0,登録済データ!T377,\"\")","v":""},{"$f":"IF(登録済データ!$B377<>0,登録済データ!U377,\"\")","v":""},{"$f":"IF(登録済データ!$B377<>0,登録済データ!V377,\"\")","v":""},{"$f":"IF(登録済データ!$B377<>0,登録済データ!W377,\"\")","v":""},{"$f":"IF(登録済データ!$B377<>0,登録済データ!X377,\"\")","v":""},{"$f":"IF($F374<>\"\",登録済データ!$C$4,\"\")","v":""}]
[null,{"$f":"IF($F375<>\"\",登録済データ!$C$2,\"\")","v":""},{"$f":"IF($F375<>\"\",IF($I$1=\"企業コード3桁\",LEFT(登録済データ!$C$3,3),LEFT(登録済データ!$C$3,6)),\"\")","v":""},null,{"$f":"IF(登録済データ!$B378<>0,登録済データ!C378,\"\")","v":""},{"$f":"IF(登録済データ!$B378<>0,登録済データ!D378,\"\")","v":""},{"$f":"IF(登録済データ!$B378<>0,登録済データ!E378,\"\")","v":""},{"$f":"IF(登録済データ!$B378<>0,IF(登録済データ!F378<>\"\",登録済データ!F378,\"\"),\"\")","v":""},{"$f":"IF(登録済データ!$B378<>0,IF(登録済データ!G378<>\"\",登録済データ!G378,\"\"),\"\")","v":""},{"$f":"IF(登録済データ!$B378<>0,IF(登録済データ!H378<>\"\",登録済データ!H378,\"\"),\"\")","v":""},{"$f":"IF(登録済データ!$B378<>0,IF(登録済データ!I378<>\"\",登録済データ!I378,\"\"),\"\")","v":""},{"$f":"IF(登録済データ!$B378<>0,登録済データ!J378,\"\")","v":""},{"$f":"IF(登録済データ!$B378<>0,登録済データ!K378,\"\")","v":""},{"$f":"IF(登録済データ!$B378<>0,登録済データ!L378,\"\")","v":""},{"$f":"IF(登録済データ!$B378<>0,登録済データ!M378,\"\")","v":""},{"$f":"IF(登録済データ!$B378<>0,登録済データ!N378,\"\")","v":""},{"$f":"IF(登録済データ!$B378<>0,登録済データ!O378,\"\")","v":""},{"$f":"IF(登録済データ!$B378<>0,登録済データ!P378,\"\")","v":""},{"$f":"IF(登録済データ!$B378<>0,登録済データ!Q378,\"\")","v":""},{"$f":"IF(登録済データ!$B378<>0,登録済データ!R378,\"\")","v":""},{"$f":"IF(登録済データ!$B378<>0,登録済データ!S378,\"\")","v":""},{"$f":"IF(登録済データ!$B378<>0,登録済データ!T378,\"\")","v":""},{"$f":"IF(登録済データ!$B378<>0,登録済データ!U378,\"\")","v":""},{"$f":"IF(登録済データ!$B378<>0,登録済データ!V378,\"\")","v":""},{"$f":"IF(登録済データ!$B378<>0,登録済データ!W378,\"\")","v":""},{"$f":"IF(登録済データ!$B378<>0,登録済データ!X378,\"\")","v":""},{"$f":"IF($F375<>\"\",登録済データ!$C$4,\"\")","v":""}]
[null,{"$f":"IF($F376<>\"\",登録済データ!$C$2,\"\")","v":""},{"$f":"IF($F376<>\"\",IF($I$1=\"企業コード3桁\",LEFT(登録済データ!$C$3,3),LEFT(登録済データ!$C$3,6)),\"\")","v":""},null,{"$f":"IF(登録済データ!$B379<>0,登録済データ!C379,\"\")","v":""},{"$f":"IF(登録済データ!$B379<>0,登録済データ!D379,\"\")","v":""},{"$f":"IF(登録済データ!$B379<>0,登録済データ!E379,\"\")","v":""},{"$f":"IF(登録済データ!$B379<>0,IF(登録済データ!F379<>\"\",登録済データ!F379,\"\"),\"\")","v":""},{"$f":"IF(登録済データ!$B379<>0,IF(登録済データ!G379<>\"\",登録済データ!G379,\"\"),\"\")","v":""},{"$f":"IF(登録済データ!$B379<>0,IF(登録済データ!H379<>\"\",登録済データ!H379,\"\"),\"\")","v":""},{"$f":"IF(登録済データ!$B379<>0,IF(登録済データ!I379<>\"\",登録済データ!I379,\"\"),\"\")","v":""},{"$f":"IF(登録済データ!$B379<>0,登録済データ!J379,\"\")","v":""},{"$f":"IF(登録済データ!$B379<>0,登録済データ!K379,\"\")","v":""},{"$f":"IF(登録済データ!$B379<>0,登録済データ!L379,\"\")","v":""},{"$f":"IF(登録済データ!$B379<>0,登録済データ!M379,\"\")","v":""},{"$f":"IF(登録済データ!$B379<>0,登録済データ!N379,\"\")","v":""},{"$f":"IF(登録済データ!$B379<>0,登録済データ!O379,\"\")","v":""},{"$f":"IF(登録済データ!$B379<>0,登録済データ!P379,\"\")","v":""},{"$f":"IF(登録済データ!$B379<>0,登録済データ!Q379,\"\")","v":""},{"$f":"IF(登録済データ!$B379<>0,登録済データ!R379,\"\")","v":""},{"$f":"IF(登録済データ!$B379<>0,登録済データ!S379,\"\")","v":""},{"$f":"IF(登録済データ!$B379<>0,登録済データ!T379,\"\")","v":""},{"$f":"IF(登録済データ!$B379<>0,登録済データ!U379,\"\")","v":""},{"$f":"IF(登録済データ!$B379<>0,登録済データ!V379,\"\")","v":""},{"$f":"IF(登録済データ!$B379<>0,登録済データ!W379,\"\")","v":""},{"$f":"IF(登録済データ!$B379<>0,登録済データ!X379,\"\")","v":""},{"$f":"IF($F376<>\"\",登録済データ!$C$4,\"\")","v":""}]
[null,{"$f":"IF($F377<>\"\",登録済データ!$C$2,\"\")","v":""},{"$f":"IF($F377<>\"\",IF($I$1=\"企業コード3桁\",LEFT(登録済データ!$C$3,3),LEFT(登録済データ!$C$3,6)),\"\")","v":""},null,{"$f":"IF(登録済データ!$B380<>0,登録済データ!C380,\"\")","v":""},{"$f":"IF(登録済データ!$B380<>0,登録済データ!D380,\"\")","v":""},{"$f":"IF(登録済データ!$B380<>0,登録済データ!E380,\"\")","v":""},{"$f":"IF(登録済データ!$B380<>0,IF(登録済データ!F380<>\"\",登録済データ!F380,\"\"),\"\")","v":""},{"$f":"IF(登録済データ!$B380<>0,IF(登録済データ!G380<>\"\",登録済データ!G380,\"\"),\"\")","v":""},{"$f":"IF(登録済データ!$B380<>0,IF(登録済データ!H380<>\"\",登録済データ!H380,\"\"),\"\")","v":""},{"$f":"IF(登録済データ!$B380<>0,IF(登録済データ!I380<>\"\",登録済データ!I380,\"\"),\"\")","v":""},{"$f":"IF(登録済データ!$B380<>0,登録済データ!J380,\"\")","v":""},{"$f":"IF(登録済データ!$B380<>0,登録済データ!K380,\"\")","v":""},{"$f":"IF(登録済データ!$B380<>0,登録済データ!L380,\"\")","v":""},{"$f":"IF(登録済データ!$B380<>0,登録済データ!M380,\"\")","v":""},{"$f":"IF(登録済データ!$B380<>0,登録済データ!N380,\"\")","v":""},{"$f":"IF(登録済データ!$B380<>0,登録済データ!O380,\"\")","v":""},{"$f":"IF(登録済データ!$B380<>0,登録済データ!P380,\"\")","v":""},{"$f":"IF(登録済データ!$B380<>0,登録済データ!Q380,\"\")","v":""},{"$f":"IF(登録済データ!$B380<>0,登録済データ!R380,\"\")","v":""},{"$f":"IF(登録済データ!$B380<>0,登録済データ!S380,\"\")","v":""},{"$f":"IF(登録済データ!$B380<>0,登録済データ!T380,\"\")","v":""},{"$f":"IF(登録済データ!$B380<>0,登録済データ!U380,\"\")","v":""},{"$f":"IF(登録済データ!$B380<>0,登録済データ!V380,\"\")","v":""},{"$f":"IF(登録済データ!$B380<>0,登録済データ!W380,\"\")","v":""},{"$f":"IF(登録済データ!$B380<>0,登録済データ!X380,\"\")","v":""},{"$f":"IF($F377<>\"\",登録済データ!$C$4,\"\")","v":""}]
[null,{"$f":"IF($F378<>\"\",登録済データ!$C$2,\"\")","v":""},{"$f":"IF($F378<>\"\",IF($I$1=\"企業コード3桁\",LEFT(登録済データ!$C$3,3),LEFT(登録済データ!$C$3,6)),\"\")","v":""},null,{"$f":"IF(登録済データ!$B381<>0,登録済データ!C381,\"\")","v":""},{"$f":"IF(登録済データ!$B381<>0,登録済データ!D381,\"\")","v":""},{"$f":"IF(登録済データ!$B381<>0,登録済データ!E381,\"\")","v":""},{"$f":"IF(登録済データ!$B381<>0,IF(登録済データ!F381<>\"\",登録済データ!F381,\"\"),\"\")","v":""},{"$f":"IF(登録済データ!$B381<>0,IF(登録済データ!G381<>\"\",登録済データ!G381,\"\"),\"\")","v":""},{"$f":"IF(登録済データ!$B381<>0,IF(登録済データ!H381<>\"\",登録済データ!H381,\"\"),\"\")","v":""},{"$f":"IF(登録済データ!$B381<>0,IF(登録済データ!I381<>\"\",登録済データ!I381,\"\"),\"\")","v":""},{"$f":"IF(登録済データ!$B381<>0,登録済データ!J381,\"\")","v":""},{"$f":"IF(登録済データ!$B381<>0,登録済データ!K381,\"\")","v":""},{"$f":"IF(登録済データ!$B381<>0,登録済データ!L381,\"\")","v":""},{"$f":"IF(登録済データ!$B381<>0,登録済データ!M381,\"\")","v":""},{"$f":"IF(登録済データ!$B381<>0,登録済データ!N381,\"\")","v":""},{"$f":"IF(登録済データ!$B381<>0,登録済データ!O381,\"\")","v":""},{"$f":"IF(登録済データ!$B381<>0,登録済データ!P381,\"\")","v":""},{"$f":"IF(登録済データ!$B381<>0,登録済データ!Q381,\"\")","v":""},{"$f":"IF(登録済データ!$B381<>0,登録済データ!R381,\"\")","v":""},{"$f":"IF(登録済データ!$B381<>0,登録済データ!S381,\"\")","v":""},{"$f":"IF(登録済データ!$B381<>0,登録済データ!T381,\"\")","v":""},{"$f":"IF(登録済データ!$B381<>0,登録済データ!U381,\"\")","v":""},{"$f":"IF(登録済データ!$B381<>0,登録済データ!V381,\"\")","v":""},{"$f":"IF(登録済データ!$B381<>0,登録済データ!W381,\"\")","v":""},{"$f":"IF(登録済データ!$B381<>0,登録済データ!X381,\"\")","v":""},{"$f":"IF($F378<>\"\",登録済データ!$C$4,\"\")","v":""}]
[null,{"$f":"IF($F379<>\"\",登録済データ!$C$2,\"\")","v":""},{"$f":"IF($F379<>\"\",IF($I$1=\"企業コード3桁\",LEFT(登録済データ!$C$3,3),LEFT(登録済データ!$C$3,6)),\"\")","v":""},null,{"$f":"IF(登録済データ!$B382<>0,登録済データ!C382,\"\")","v":""},{"$f":"IF(登録済データ!$B382<>0,登録済データ!D382,\"\")","v":""},{"$f":"IF(登録済データ!$B382<>0,登録済データ!E382,\"\")","v":""},{"$f":"IF(登録済データ!$B382<>0,IF(登録済データ!F382<>\"\",登録済データ!F382,\"\"),\"\")","v":""},{"$f":"IF(登録済データ!$B382<>0,IF(登録済データ!G382<>\"\",登録済データ!G382,\"\"),\"\")","v":""},{"$f":"IF(登録済データ!$B382<>0,IF(登録済データ!H382<>\"\",登録済データ!H382,\"\"),\"\")","v":""},{"$f":"IF(登録済データ!$B382<>0,IF(登録済データ!I382<>\"\",登録済データ!I382,\"\"),\"\")","v":""},{"$f":"IF(登録済データ!$B382<>0,登録済データ!J382,\"\")","v":""},{"$f":"IF(登録済データ!$B382<>0,登録済データ!K382,\"\")","v":""},{"$f":"IF(登録済データ!$B382<>0,登録済データ!L382,\"\")","v":""},{"$f":"IF(登録済データ!$B382<>0,登録済データ!M382,\"\")","v":""},{"$f":"IF(登録済データ!$B382<>0,登録済データ!N382,\"\")","v":""},{"$f":"IF(登録済データ!$B382<>0,登録済データ!O382,\"\")","v":""},{"$f":"IF(登録済データ!$B382<>0,登録済データ!P382,\"\")","v":""},{"$f":"IF(登録済データ!$B382<>0,登録済データ!Q382,\"\")","v":""},{"$f":"IF(登録済データ!$B382<>0,登録済データ!R382,\"\")","v":""},{"$f":"IF(登録済データ!$B382<>0,登録済データ!S382,\"\")","v":""},{"$f":"IF(登録済データ!$B382<>0,登録済データ!T382,\"\")","v":""},{"$f":"IF(登録済データ!$B382<>0,登録済データ!U382,\"\")","v":""},{"$f":"IF(登録済データ!$B382<>0,登録済データ!V382,\"\")","v":""},{"$f":"IF(登録済データ!$B382<>0,登録済データ!W382,\"\")","v":""},{"$f":"IF(登録済データ!$B382<>0,登録済データ!X382,\"\")","v":""},{"$f":"IF($F379<>\"\",登録済データ!$C$4,\"\")","v":""}]
[null,{"$f":"IF($F380<>\"\",登録済データ!$C$2,\"\")","v":""},{"$f":"IF($F380<>\"\",IF($I$1=\"企業コード3桁\",LEFT(登録済データ!$C$3,3),LEFT(登録済データ!$C$3,6)),\"\")","v":""},null,{"$f":"IF(登録済データ!$B383<>0,登録済データ!C383,\"\")","v":""},{"$f":"IF(登録済データ!$B383<>0,登録済データ!D383,\"\")","v":""},{"$f":"IF(登録済データ!$B383<>0,登録済データ!E383,\"\")","v":""},{"$f":"IF(登録済データ!$B383<>0,IF(登録済データ!F383<>\"\",登録済データ!F383,\"\"),\"\")","v":""},{"$f":"IF(登録済データ!$B383<>0,IF(登録済データ!G383<>\"\",登録済データ!G383,\"\"),\"\")","v":""},{"$f":"IF(登録済データ!$B383<>0,IF(登録済データ!H383<>\"\",登録済データ!H383,\"\"),\"\")","v":""},{"$f":"IF(登録済データ!$B383<>0,IF(登録済データ!I383<>\"\",登録済データ!I383,\"\"),\"\")","v":""},{"$f":"IF(登録済データ!$B383<>0,登録済データ!J383,\"\")","v":""},{"$f":"IF(登録済データ!$B383<>0,登録済データ!K383,\"\")","v":""},{"$f":"IF(登録済データ!$B383<>0,登録済データ!L383,\"\")","v":""},{"$f":"IF(登録済データ!$B383<>0,登録済データ!M383,\"\")","v":""},{"$f":"IF(登録済データ!$B383<>0,登録済データ!N383,\"\")","v":""},{"$f":"IF(登録済データ!$B383<>0,登録済データ!O383,\"\")","v":""},{"$f":"IF(登録済データ!$B383<>0,登録済データ!P383,\"\")","v":""},{"$f":"IF(登録済データ!$B383<>0,登録済データ!Q383,\"\")","v":""},{"$f":"IF(登録済データ!$B383<>0,登録済データ!R383,\"\")","v":""},{"$f":"IF(登録済データ!$B383<>0,登録済データ!S383,\"\")","v":""},{"$f":"IF(登録済データ!$B383<>0,登録済データ!T383,\"\")","v":""},{"$f":"IF(登録済データ!$B383<>0,登録済データ!U383,\"\")","v":""},{"$f":"IF(登録済データ!$B383<>0,登録済データ!V383,\"\")","v":""},{"$f":"IF(登録済データ!$B383<>0,登録済データ!W383,\"\")","v":""},{"$f":"IF(登録済データ!$B383<>0,登録済データ!X383,\"\")","v":""},{"$f":"IF($F380<>\"\",登録済データ!$C$4,\"\")","v":""}]
[null,{"$f":"IF($F381<>\"\",登録済データ!$C$2,\"\")","v":""},{"$f":"IF($F381<>\"\",IF($I$1=\"企業コード3桁\",LEFT(登録済データ!$C$3,3),LEFT(登録済データ!$C$3,6)),\"\")","v":""},null,{"$f":"IF(登録済データ!$B384<>0,登録済データ!C384,\"\")","v":""},{"$f":"IF(登録済データ!$B384<>0,登録済データ!D384,\"\")","v":""},{"$f":"IF(登録済データ!$B384<>0,登録済データ!E384,\"\")","v":""},{"$f":"IF(登録済データ!$B384<>0,IF(登録済データ!F384<>\"\",登録済データ!F384,\"\"),\"\")","v":""},{"$f":"IF(登録済データ!$B384<>0,IF(登録済データ!G384<>\"\",登録済データ!G384,\"\"),\"\")","v":""},{"$f":"IF(登録済データ!$B384<>0,IF(登録済データ!H384<>\"\",登録済データ!H384,\"\"),\"\")","v":""},{"$f":"IF(登録済データ!$B384<>0,IF(登録済データ!I384<>\"\",登録済データ!I384,\"\"),\"\")","v":""},{"$f":"IF(登録済データ!$B384<>0,登録済データ!J384,\"\")","v":""},{"$f":"IF(登録済データ!$B384<>0,登録済データ!K384,\"\")","v":""},{"$f":"IF(登録済データ!$B384<>0,登録済データ!L384,\"\")","v":""},{"$f":"IF(登録済データ!$B384<>0,登録済データ!M384,\"\")","v":""},{"$f":"IF(登録済データ!$B384<>0,登録済データ!N384,\"\")","v":""},{"$f":"IF(登録済データ!$B384<>0,登録済データ!O384,\"\")","v":""},{"$f":"IF(登録済データ!$B384<>0,登録済データ!P384,\"\")","v":""},{"$f":"IF(登録済データ!$B384<>0,登録済データ!Q384,\"\")","v":""},{"$f":"IF(登録済データ!$B384<>0,登録済データ!R384,\"\")","v":""},{"$f":"IF(登録済データ!$B384<>0,登録済データ!S384,\"\")","v":""},{"$f":"IF(登録済データ!$B384<>0,登録済データ!T384,\"\")","v":""},{"$f":"IF(登録済データ!$B384<>0,登録済データ!U384,\"\")","v":""},{"$f":"IF(登録済データ!$B384<>0,登録済データ!V384,\"\")","v":""},{"$f":"IF(登録済データ!$B384<>0,登録済データ!W384,\"\")","v":""},{"$f":"IF(登録済データ!$B384<>0,登録済データ!X384,\"\")","v":""},{"$f":"IF($F381<>\"\",登録済データ!$C$4,\"\")","v":""}]
[null,{"$f":"IF($F382<>\"\",登録済データ!$C$2,\"\")","v":""},{"$f":"IF($F382<>\"\",IF($I$1=\"企業コード3桁\",LEFT(登録済データ!$C$3,3),LEFT(登録済データ!$C$3,6)),\"\")","v":""},null,{"$f":"IF(登録済データ!$B385<>0,登録済データ!C385,\"\")","v":""},{"$f":"IF(登録済データ!$B385<>0,登録済データ!D385,\"\")","v":""},{"$f":"IF(登録済データ!$B385<>0,登録済データ!E385,\"\")","v":""},{"$f":"IF(登録済データ!$B385<>0,IF(登録済データ!F385<>\"\",登録済データ!F385,\"\"),\"\")","v":""},{"$f":"IF(登録済データ!$B385<>0,IF(登録済データ!G385<>\"\",登録済データ!G385,\"\"),\"\")","v":""},{"$f":"IF(登録済データ!$B385<>0,IF(登録済データ!H385<>\"\",登録済データ!H385,\"\"),\"\")","v":""},{"$f":"IF(登録済データ!$B385<>0,IF(登録済データ!I385<>\"\",登録済データ!I385,\"\"),\"\")","v":""},{"$f":"IF(登録済データ!$B385<>0,登録済データ!J385,\"\")","v":""},{"$f":"IF(登録済データ!$B385<>0,登録済データ!K385,\"\")","v":""},{"$f":"IF(登録済データ!$B385<>0,登録済データ!L385,\"\")","v":""},{"$f":"IF(登録済データ!$B385<>0,登録済データ!M385,\"\")","v":""},{"$f":"IF(登録済データ!$B385<>0,登録済データ!N385,\"\")","v":""},{"$f":"IF(登録済データ!$B385<>0,登録済データ!O385,\"\")","v":""},{"$f":"IF(登録済データ!$B385<>0,登録済データ!P385,\"\")","v":""},{"$f":"IF(登録済データ!$B385<>0,登録済データ!Q385,\"\")","v":""},{"$f":"IF(登録済データ!$B385<>0,登録済データ!R385,\"\")","v":""},{"$f":"IF(登録済データ!$B385<>0,登録済データ!S385,\"\")","v":""},{"$f":"IF(登録済データ!$B385<>0,登録済データ!T385,\"\")","v":""},{"$f":"IF(登録済データ!$B385<>0,登録済データ!U385,\"\")","v":""},{"$f":"IF(登録済データ!$B385<>0,登録済データ!V385,\"\")","v":""},{"$f":"IF(登録済データ!$B385<>0,登録済データ!W385,\"\")","v":""},{"$f":"IF(登録済データ!$B385<>0,登録済データ!X385,\"\")","v":""},{"$f":"IF($F382<>\"\",登録済データ!$C$4,\"\")","v":""}]
[null,{"$f":"IF($F383<>\"\",登録済データ!$C$2,\"\")","v":""},{"$f":"IF($F383<>\"\",IF($I$1=\"企業コード3桁\",LEFT(登録済データ!$C$3,3),LEFT(登録済データ!$C$3,6)),\"\")","v":""},null,{"$f":"IF(登録済データ!$B386<>0,登録済データ!C386,\"\")","v":""},{"$f":"IF(登録済データ!$B386<>0,登録済データ!D386,\"\")","v":""},{"$f":"IF(登録済データ!$B386<>0,登録済データ!E386,\"\")","v":""},{"$f":"IF(登録済データ!$B386<>0,IF(登録済データ!F386<>\"\",登録済データ!F386,\"\"),\"\")","v":""},{"$f":"IF(登録済データ!$B386<>0,IF(登録済データ!G386<>\"\",登録済データ!G386,\"\"),\"\")","v":""},{"$f":"IF(登録済データ!$B386<>0,IF(登録済データ!H386<>\"\",登録済データ!H386,\"\"),\"\")","v":""},{"$f":"IF(登録済データ!$B386<>0,IF(登録済データ!I386<>\"\",登録済データ!I386,\"\"),\"\")","v":""},{"$f":"IF(登録済データ!$B386<>0,登録済データ!J386,\"\")","v":""},{"$f":"IF(登録済データ!$B386<>0,登録済データ!K386,\"\")","v":""},{"$f":"IF(登録済データ!$B386<>0,登録済データ!L386,\"\")","v":""},{"$f":"IF(登録済データ!$B386<>0,登録済データ!M386,\"\")","v":""},{"$f":"IF(登録済データ!$B386<>0,登録済データ!N386,\"\")","v":""},{"$f":"IF(登録済データ!$B386<>0,登録済データ!O386,\"\")","v":""},{"$f":"IF(登録済データ!$B386<>0,登録済データ!P386,\"\")","v":""},{"$f":"IF(登録済データ!$B386<>0,登録済データ!Q386,\"\")","v":""},{"$f":"IF(登録済データ!$B386<>0,登録済データ!R386,\"\")","v":""},{"$f":"IF(登録済データ!$B386<>0,登録済データ!S386,\"\")","v":""},{"$f":"IF(登録済データ!$B386<>0,登録済データ!T386,\"\")","v":""},{"$f":"IF(登録済データ!$B386<>0,登録済データ!U386,\"\")","v":""},{"$f":"IF(登録済データ!$B386<>0,登録済データ!V386,\"\")","v":""},{"$f":"IF(登録済データ!$B386<>0,登録済データ!W386,\"\")","v":""},{"$f":"IF(登録済データ!$B386<>0,登録済データ!X386,\"\")","v":""},{"$f":"IF($F383<>\"\",登録済データ!$C$4,\"\")","v":""}]
[null,{"$f":"IF($F384<>\"\",登録済データ!$C$2,\"\")","v":""},{"$f":"IF($F384<>\"\",IF($I$1=\"企業コード3桁\",LEFT(登録済データ!$C$3,3),LEFT(登録済データ!$C$3,6)),\"\")","v":""},null,{"$f":"IF(登録済データ!$B387<>0,登録済データ!C387,\"\")","v":""},{"$f":"IF(登録済データ!$B387<>0,登録済データ!D387,\"\")","v":""},{"$f":"IF(登録済データ!$B387<>0,登録済データ!E387,\"\")","v":""},{"$f":"IF(登録済データ!$B387<>0,IF(登録済データ!F387<>\"\",登録済データ!F387,\"\"),\"\")","v":""},{"$f":"IF(登録済データ!$B387<>0,IF(登録済データ!G387<>\"\",登録済データ!G387,\"\"),\"\")","v":""},{"$f":"IF(登録済データ!$B387<>0,IF(登録済データ!H387<>\"\",登録済データ!H387,\"\"),\"\")","v":""},{"$f":"IF(登録済データ!$B387<>0,IF(登録済データ!I387<>\"\",登録済データ!I387,\"\"),\"\")","v":""},{"$f":"IF(登録済データ!$B387<>0,登録済データ!J387,\"\")","v":""},{"$f":"IF(登録済データ!$B387<>0,登録済データ!K387,\"\")","v":""},{"$f":"IF(登録済データ!$B387<>0,登録済データ!L387,\"\")","v":""},{"$f":"IF(登録済データ!$B387<>0,登録済データ!M387,\"\")","v":""},{"$f":"IF(登録済データ!$B387<>0,登録済データ!N387,\"\")","v":""},{"$f":"IF(登録済データ!$B387<>0,登録済データ!O387,\"\")","v":""},{"$f":"IF(登録済データ!$B387<>0,登録済データ!P387,\"\")","v":""},{"$f":"IF(登録済データ!$B387<>0,登録済データ!Q387,\"\")","v":""},{"$f":"IF(登録済データ!$B387<>0,登録済データ!R387,\"\")","v":""},{"$f":"IF(登録済データ!$B387<>0,登録済データ!S387,\"\")","v":""},{"$f":"IF(登録済データ!$B387<>0,登録済データ!T387,\"\")","v":""},{"$f":"IF(登録済データ!$B387<>0,登録済データ!U387,\"\")","v":""},{"$f":"IF(登録済データ!$B387<>0,登録済データ!V387,\"\")","v":""},{"$f":"IF(登録済データ!$B387<>0,登録済データ!W387,\"\")","v":""},{"$f":"IF(登録済データ!$B387<>0,登録済データ!X387,\"\")","v":""},{"$f":"IF($F384<>\"\",登録済データ!$C$4,\"\")","v":""}]
[null,{"$f":"IF($F385<>\"\",登録済データ!$C$2,\"\")","v":""},{"$f":"IF($F385<>\"\",IF($I$1=\"企業コード3桁\",LEFT(登録済データ!$C$3,3),LEFT(登録済データ!$C$3,6)),\"\")","v":""},null,{"$f":"IF(登録済データ!$B388<>0,登録済データ!C388,\"\")","v":""},{"$f":"IF(登録済データ!$B388<>0,登録済データ!D388,\"\")","v":""},{"$f":"IF(登録済データ!$B388<>0,登録済データ!E388,\"\")","v":""},{"$f":"IF(登録済データ!$B388<>0,IF(登録済データ!F388<>\"\",登録済データ!F388,\"\"),\"\")","v":""},{"$f":"IF(登録済データ!$B388<>0,IF(登録済データ!G388<>\"\",登録済データ!G388,\"\"),\"\")","v":""},{"$f":"IF(登録済データ!$B388<>0,IF(登録済データ!H388<>\"\",登録済データ!H388,\"\"),\"\")","v":""},{"$f":"IF(登録済データ!$B388<>0,IF(登録済データ!I388<>\"\",登録済データ!I388,\"\"),\"\")","v":""},{"$f":"IF(登録済データ!$B388<>0,登録済データ!J388,\"\")","v":""},{"$f":"IF(登録済データ!$B388<>0,登録済データ!K388,\"\")","v":""},{"$f":"IF(登録済データ!$B388<>0,登録済データ!L388,\"\")","v":""},{"$f":"IF(登録済データ!$B388<>0,登録済データ!M388,\"\")","v":""},{"$f":"IF(登録済データ!$B388<>0,登録済データ!N388,\"\")","v":""},{"$f":"IF(登録済データ!$B388<>0,登録済データ!O388,\"\")","v":""},{"$f":"IF(登録済データ!$B388<>0,登録済データ!P388,\"\")","v":""},{"$f":"IF(登録済データ!$B388<>0,登録済データ!Q388,\"\")","v":""},{"$f":"IF(登録済データ!$B388<>0,登録済データ!R388,\"\")","v":""},{"$f":"IF(登録済データ!$B388<>0,登録済データ!S388,\"\")","v":""},{"$f":"IF(登録済データ!$B388<>0,登録済データ!T388,\"\")","v":""},{"$f":"IF(登録済データ!$B388<>0,登録済データ!U388,\"\")","v":""},{"$f":"IF(登録済データ!$B388<>0,登録済データ!V388,\"\")","v":""},{"$f":"IF(登録済データ!$B388<>0,登録済データ!W388,\"\")","v":""},{"$f":"IF(登録済データ!$B388<>0,登録済データ!X388,\"\")","v":""},{"$f":"IF($F385<>\"\",登録済データ!$C$4,\"\")","v":""}]
[null,{"$f":"IF($F386<>\"\",登録済データ!$C$2,\"\")","v":""},{"$f":"IF($F386<>\"\",IF($I$1=\"企業コード3桁\",LEFT(登録済データ!$C$3,3),LEFT(登録済データ!$C$3,6)),\"\")","v":""},null,{"$f":"IF(登録済データ!$B389<>0,登録済データ!C389,\"\")","v":""},{"$f":"IF(登録済データ!$B389<>0,登録済データ!D389,\"\")","v":""},{"$f":"IF(登録済データ!$B389<>0,登録済データ!E389,\"\")","v":""},{"$f":"IF(登録済データ!$B389<>0,IF(登録済データ!F389<>\"\",登録済データ!F389,\"\"),\"\")","v":""},{"$f":"IF(登録済データ!$B389<>0,IF(登録済データ!G389<>\"\",登録済データ!G389,\"\"),\"\")","v":""},{"$f":"IF(登録済データ!$B389<>0,IF(登録済データ!H389<>\"\",登録済データ!H389,\"\"),\"\")","v":""},{"$f":"IF(登録済データ!$B389<>0,IF(登録済データ!I389<>\"\",登録済データ!I389,\"\"),\"\")","v":""},{"$f":"IF(登録済データ!$B389<>0,登録済データ!J389,\"\")","v":""},{"$f":"IF(登録済データ!$B389<>0,登録済データ!K389,\"\")","v":""},{"$f":"IF(登録済データ!$B389<>0,登録済データ!L389,\"\")","v":""},{"$f":"IF(登録済データ!$B389<>0,登録済データ!M389,\"\")","v":""},{"$f":"IF(登録済データ!$B389<>0,登録済データ!N389,\"\")","v":""},{"$f":"IF(登録済データ!$B389<>0,登録済データ!O389,\"\")","v":""},{"$f":"IF(登録済データ!$B389<>0,登録済データ!P389,\"\")","v":""},{"$f":"IF(登録済データ!$B389<>0,登録済データ!Q389,\"\")","v":""},{"$f":"IF(登録済データ!$B389<>0,登録済データ!R389,\"\")","v":""},{"$f":"IF(登録済データ!$B389<>0,登録済データ!S389,\"\")","v":""},{"$f":"IF(登録済データ!$B389<>0,登録済データ!T389,\"\")","v":""},{"$f":"IF(登録済データ!$B389<>0,登録済データ!U389,\"\")","v":""},{"$f":"IF(登録済データ!$B389<>0,登録済データ!V389,\"\")","v":""},{"$f":"IF(登録済データ!$B389<>0,登録済データ!W389,\"\")","v":""},{"$f":"IF(登録済データ!$B389<>0,登録済データ!X389,\"\")","v":""},{"$f":"IF($F386<>\"\",登録済データ!$C$4,\"\")","v":""}]
[null,{"$f":"IF($F387<>\"\",登録済データ!$C$2,\"\")","v":""},{"$f":"IF($F387<>\"\",IF($I$1=\"企業コード3桁\",LEFT(登録済データ!$C$3,3),LEFT(登録済データ!$C$3,6)),\"\")","v":""},null,{"$f":"IF(登録済データ!$B390<>0,登録済データ!C390,\"\")","v":""},{"$f":"IF(登録済データ!$B390<>0,登録済データ!D390,\"\")","v":""},{"$f":"IF(登録済データ!$B390<>0,登録済データ!E390,\"\")","v":""},{"$f":"IF(登録済データ!$B390<>0,IF(登録済データ!F390<>\"\",登録済データ!F390,\"\"),\"\")","v":""},{"$f":"IF(登録済データ!$B390<>0,IF(登録済データ!G390<>\"\",登録済データ!G390,\"\"),\"\")","v":""},{"$f":"IF(登録済データ!$B390<>0,IF(登録済データ!H390<>\"\",登録済データ!H390,\"\"),\"\")","v":""},{"$f":"IF(登録済データ!$B390<>0,IF(登録済データ!I390<>\"\",登録済データ!I390,\"\"),\"\")","v":""},{"$f":"IF(登録済データ!$B390<>0,登録済データ!J390,\"\")","v":""},{"$f":"IF(登録済データ!$B390<>0,登録済データ!K390,\"\")","v":""},{"$f":"IF(登録済データ!$B390<>0,登録済データ!L390,\"\")","v":""},{"$f":"IF(登録済データ!$B390<>0,登録済データ!M390,\"\")","v":""},{"$f":"IF(登録済データ!$B390<>0,登録済データ!N390,\"\")","v":""},{"$f":"IF(登録済データ!$B390<>0,登録済データ!O390,\"\")","v":""},{"$f":"IF(登録済データ!$B390<>0,登録済データ!P390,\"\")","v":""},{"$f":"IF(登録済データ!$B390<>0,登録済データ!Q390,\"\")","v":""},{"$f":"IF(登録済データ!$B390<>0,登録済データ!R390,\"\")","v":""},{"$f":"IF(登録済データ!$B390<>0,登録済データ!S390,\"\")","v":""},{"$f":"IF(登録済データ!$B390<>0,登録済データ!T390,\"\")","v":""},{"$f":"IF(登録済データ!$B390<>0,登録済データ!U390,\"\")","v":""},{"$f":"IF(登録済データ!$B390<>0,登録済データ!V390,\"\")","v":""},{"$f":"IF(登録済データ!$B390<>0,登録済データ!W390,\"\")","v":""},{"$f":"IF(登録済データ!$B390<>0,登録済データ!X390,\"\")","v":""},{"$f":"IF($F387<>\"\",登録済データ!$C$4,\"\")","v":""}]
[null,{"$f":"IF($F388<>\"\",登録済データ!$C$2,\"\")","v":""},{"$f":"IF($F388<>\"\",IF($I$1=\"企業コード3桁\",LEFT(登録済データ!$C$3,3),LEFT(登録済データ!$C$3,6)),\"\")","v":""},null,{"$f":"IF(登録済データ!$B391<>0,登録済データ!C391,\"\")","v":""},{"$f":"IF(登録済データ!$B391<>0,登録済データ!D391,\"\")","v":""},{"$f":"IF(登録済データ!$B391<>0,登録済データ!E391,\"\")","v":""},{"$f":"IF(登録済データ!$B391<>0,IF(登録済データ!F391<>\"\",登録済データ!F391,\"\"),\"\")","v":""},{"$f":"IF(登録済データ!$B391<>0,IF(登録済データ!G391<>\"\",登録済データ!G391,\"\"),\"\")","v":""},{"$f":"IF(登録済データ!$B391<>0,IF(登録済データ!H391<>\"\",登録済データ!H391,\"\"),\"\")","v":""},{"$f":"IF(登録済データ!$B391<>0,IF(登録済データ!I391<>\"\",登録済データ!I391,\"\"),\"\")","v":""},{"$f":"IF(登録済データ!$B391<>0,登録済データ!J391,\"\")","v":""},{"$f":"IF(登録済データ!$B391<>0,登録済データ!K391,\"\")","v":""},{"$f":"IF(登録済データ!$B391<>0,登録済データ!L391,\"\")","v":""},{"$f":"IF(登録済データ!$B391<>0,登録済データ!M391,\"\")","v":""},{"$f":"IF(登録済データ!$B391<>0,登録済データ!N391,\"\")","v":""},{"$f":"IF(登録済データ!$B391<>0,登録済データ!O391,\"\")","v":""},{"$f":"IF(登録済データ!$B391<>0,登録済データ!P391,\"\")","v":""},{"$f":"IF(登録済データ!$B391<>0,登録済データ!Q391,\"\")","v":""},{"$f":"IF(登録済データ!$B391<>0,登録済データ!R391,\"\")","v":""},{"$f":"IF(登録済データ!$B391<>0,登録済データ!S391,\"\")","v":""},{"$f":"IF(登録済データ!$B391<>0,登録済データ!T391,\"\")","v":""},{"$f":"IF(登録済データ!$B391<>0,登録済データ!U391,\"\")","v":""},{"$f":"IF(登録済データ!$B391<>0,登録済データ!V391,\"\")","v":""},{"$f":"IF(登録済データ!$B391<>0,登録済データ!W391,\"\")","v":""},{"$f":"IF(登録済データ!$B391<>0,登録済データ!X391,\"\")","v":""},{"$f":"IF($F388<>\"\",登録済データ!$C$4,\"\")","v":""}]
[null,{"$f":"IF($F389<>\"\",登録済データ!$C$2,\"\")","v":""},{"$f":"IF($F389<>\"\",IF($I$1=\"企業コード3桁\",LEFT(登録済データ!$C$3,3),LEFT(登録済データ!$C$3,6)),\"\")","v":""},null,{"$f":"IF(登録済データ!$B392<>0,登録済データ!C392,\"\")","v":""},{"$f":"IF(登録済データ!$B392<>0,登録済データ!D392,\"\")","v":""},{"$f":"IF(登録済データ!$B392<>0,登録済データ!E392,\"\")","v":""},{"$f":"IF(登録済データ!$B392<>0,IF(登録済データ!F392<>\"\",登録済データ!F392,\"\"),\"\")","v":""},{"$f":"IF(登録済データ!$B392<>0,IF(登録済データ!G392<>\"\",登録済データ!G392,\"\"),\"\")","v":""},{"$f":"IF(登録済データ!$B392<>0,IF(登録済データ!H392<>\"\",登録済データ!H392,\"\"),\"\")","v":""},{"$f":"IF(登録済データ!$B392<>0,IF(登録済データ!I392<>\"\",登録済データ!I392,\"\"),\"\")","v":""},{"$f":"IF(登録済データ!$B392<>0,登録済データ!J392,\"\")","v":""},{"$f":"IF(登録済データ!$B392<>0,登録済データ!K392,\"\")","v":""},{"$f":"IF(登録済データ!$B392<>0,登録済データ!L392,\"\")","v":""},{"$f":"IF(登録済データ!$B392<>0,登録済データ!M392,\"\")","v":""},{"$f":"IF(登録済データ!$B392<>0,登録済データ!N392,\"\")","v":""},{"$f":"IF(登録済データ!$B392<>0,登録済データ!O392,\"\")","v":""},{"$f":"IF(登録済データ!$B392<>0,登録済データ!P392,\"\")","v":""},{"$f":"IF(登録済データ!$B392<>0,登録済データ!Q392,\"\")","v":""},{"$f":"IF(登録済データ!$B392<>0,登録済データ!R392,\"\")","v":""},{"$f":"IF(登録済データ!$B392<>0,登録済データ!S392,\"\")","v":""},{"$f":"IF(登録済データ!$B392<>0,登録済データ!T392,\"\")","v":""},{"$f":"IF(登録済データ!$B392<>0,登録済データ!U392,\"\")","v":""},{"$f":"IF(登録済データ!$B392<>0,登録済データ!V392,\"\")","v":""},{"$f":"IF(登録済データ!$B392<>0,登録済データ!W392,\"\")","v":""},{"$f":"IF(登録済データ!$B392<>0,登録済データ!X392,\"\")","v":""},{"$f":"IF($F389<>\"\",登録済データ!$C$4,\"\")","v":""}]
[null,{"$f":"IF($F390<>\"\",登録済データ!$C$2,\"\")","v":""},{"$f":"IF($F390<>\"\",IF($I$1=\"企業コード3桁\",LEFT(登録済データ!$C$3,3),LEFT(登録済データ!$C$3,6)),\"\")","v":""},null,{"$f":"IF(登録済データ!$B393<>0,登録済データ!C393,\"\")","v":""},{"$f":"IF(登録済データ!$B393<>0,登録済データ!D393,\"\")","v":""},{"$f":"IF(登録済データ!$B393<>0,登録済データ!E393,\"\")","v":""},{"$f":"IF(登録済データ!$B393<>0,IF(登録済データ!F393<>\"\",登録済データ!F393,\"\"),\"\")","v":""},{"$f":"IF(登録済データ!$B393<>0,IF(登録済データ!G393<>\"\",登録済データ!G393,\"\"),\"\")","v":""},{"$f":"IF(登録済データ!$B393<>0,IF(登録済データ!H393<>\"\",登録済データ!H393,\"\"),\"\")","v":""},{"$f":"IF(登録済データ!$B393<>0,IF(登録済データ!I393<>\"\",登録済データ!I393,\"\"),\"\")","v":""},{"$f":"IF(登録済データ!$B393<>0,登録済データ!J393,\"\")","v":""},{"$f":"IF(登録済データ!$B393<>0,登録済データ!K393,\"\")","v":""},{"$f":"IF(登録済データ!$B393<>0,登録済データ!L393,\"\")","v":""},{"$f":"IF(登録済データ!$B393<>0,登録済データ!M393,\"\")","v":""},{"$f":"IF(登録済データ!$B393<>0,登録済データ!N393,\"\")","v":""},{"$f":"IF(登録済データ!$B393<>0,登録済データ!O393,\"\")","v":""},{"$f":"IF(登録済データ!$B393<>0,登録済データ!P393,\"\")","v":""},{"$f":"IF(登録済データ!$B393<>0,登録済データ!Q393,\"\")","v":""},{"$f":"IF(登録済データ!$B393<>0,登録済データ!R393,\"\")","v":""},{"$f":"IF(登録済データ!$B393<>0,登録済データ!S393,\"\")","v":""},{"$f":"IF(登録済データ!$B393<>0,登録済データ!T393,\"\")","v":""},{"$f":"IF(登録済データ!$B393<>0,登録済データ!U393,\"\")","v":""},{"$f":"IF(登録済データ!$B393<>0,登録済データ!V393,\"\")","v":""},{"$f":"IF(登録済データ!$B393<>0,登録済データ!W393,\"\")","v":""},{"$f":"IF(登録済データ!$B393<>0,登録済データ!X393,\"\")","v":""},{"$f":"IF($F390<>\"\",登録済データ!$C$4,\"\")","v":""}]
[null,{"$f":"IF($F391<>\"\",登録済データ!$C$2,\"\")","v":""},{"$f":"IF($F391<>\"\",IF($I$1=\"企業コード3桁\",LEFT(登録済データ!$C$3,3),LEFT(登録済データ!$C$3,6)),\"\")","v":""},null,{"$f":"IF(登録済データ!$B394<>0,登録済データ!C394,\"\")","v":""},{"$f":"IF(登録済データ!$B394<>0,登録済データ!D394,\"\")","v":""},{"$f":"IF(登録済データ!$B394<>0,登録済データ!E394,\"\")","v":""},{"$f":"IF(登録済データ!$B394<>0,IF(登録済データ!F394<>\"\",登録済データ!F394,\"\"),\"\")","v":""},{"$f":"IF(登録済データ!$B394<>0,IF(登録済データ!G394<>\"\",登録済データ!G394,\"\"),\"\")","v":""},{"$f":"IF(登録済データ!$B394<>0,IF(登録済データ!H394<>\"\",登録済データ!H394,\"\"),\"\")","v":""},{"$f":"IF(登録済データ!$B394<>0,IF(登録済データ!I394<>\"\",登録済データ!I394,\"\"),\"\")","v":""},{"$f":"IF(登録済データ!$B394<>0,登録済データ!J394,\"\")","v":""},{"$f":"IF(登録済データ!$B394<>0,登録済データ!K394,\"\")","v":""},{"$f":"IF(登録済データ!$B394<>0,登録済データ!L394,\"\")","v":""},{"$f":"IF(登録済データ!$B394<>0,登録済データ!M394,\"\")","v":""},{"$f":"IF(登録済データ!$B394<>0,登録済データ!N394,\"\")","v":""},{"$f":"IF(登録済データ!$B394<>0,登録済データ!O394,\"\")","v":""},{"$f":"IF(登録済データ!$B394<>0,登録済データ!P394,\"\")","v":""},{"$f":"IF(登録済データ!$B394<>0,登録済データ!Q394,\"\")","v":""},{"$f":"IF(登録済データ!$B394<>0,登録済データ!R394,\"\")","v":""},{"$f":"IF(登録済データ!$B394<>0,登録済データ!S394,\"\")","v":""},{"$f":"IF(登録済データ!$B394<>0,登録済データ!T394,\"\")","v":""},{"$f":"IF(登録済データ!$B394<>0,登録済データ!U394,\"\")","v":""},{"$f":"IF(登録済データ!$B394<>0,登録済データ!V394,\"\")","v":""},{"$f":"IF(登録済データ!$B394<>0,登録済データ!W394,\"\")","v":""},{"$f":"IF(登録済データ!$B394<>0,登録済データ!X394,\"\")","v":""},{"$f":"IF($F391<>\"\",登録済データ!$C$4,\"\")","v":""}]
[null,{"$f":"IF($F392<>\"\",登録済データ!$C$2,\"\")","v":""},{"$f":"IF($F392<>\"\",IF($I$1=\"企業コード3桁\",LEFT(登録済データ!$C$3,3),LEFT(登録済データ!$C$3,6)),\"\")","v":""},null,{"$f":"IF(登録済データ!$B395<>0,登録済データ!C395,\"\")","v":""},{"$f":"IF(登録済データ!$B395<>0,登録済データ!D395,\"\")","v":""},{"$f":"IF(登録済データ!$B395<>0,登録済データ!E395,\"\")","v":""},{"$f":"IF(登録済データ!$B395<>0,IF(登録済データ!F395<>\"\",登録済データ!F395,\"\"),\"\")","v":""},{"$f":"IF(登録済データ!$B395<>0,IF(登録済データ!G395<>\"\",登録済データ!G395,\"\"),\"\")","v":""},{"$f":"IF(登録済データ!$B395<>0,IF(登録済データ!H395<>\"\",登録済データ!H395,\"\"),\"\")","v":""},{"$f":"IF(登録済データ!$B395<>0,IF(登録済データ!I395<>\"\",登録済データ!I395,\"\"),\"\")","v":""},{"$f":"IF(登録済データ!$B395<>0,登録済データ!J395,\"\")","v":""},{"$f":"IF(登録済データ!$B395<>0,登録済データ!K395,\"\")","v":""},{"$f":"IF(登録済データ!$B395<>0,登録済データ!L395,\"\")","v":""},{"$f":"IF(登録済データ!$B395<>0,登録済データ!M395,\"\")","v":""},{"$f":"IF(登録済データ!$B395<>0,登録済データ!N395,\"\")","v":""},{"$f":"IF(登録済データ!$B395<>0,登録済データ!O395,\"\")","v":""},{"$f":"IF(登録済データ!$B395<>0,登録済データ!P395,\"\")","v":""},{"$f":"IF(登録済データ!$B395<>0,登録済データ!Q395,\"\")","v":""},{"$f":"IF(登録済データ!$B395<>0,登録済データ!R395,\"\")","v":""},{"$f":"IF(登録済データ!$B395<>0,登録済データ!S395,\"\")","v":""},{"$f":"IF(登録済データ!$B395<>0,登録済データ!T395,\"\")","v":""},{"$f":"IF(登録済データ!$B395<>0,登録済データ!U395,\"\")","v":""},{"$f":"IF(登録済データ!$B395<>0,登録済データ!V395,\"\")","v":""},{"$f":"IF(登録済データ!$B395<>0,登録済データ!W395,\"\")","v":""},{"$f":"IF(登録済データ!$B395<>0,登録済データ!X395,\"\")","v":""},{"$f":"IF($F392<>\"\",登録済データ!$C$4,\"\")","v":""}]
[null,{"$f":"IF($F393<>\"\",登録済データ!$C$2,\"\")","v":""},{"$f":"IF($F393<>\"\",IF($I$1=\"企業コード3桁\",LEFT(登録済データ!$C$3,3),LEFT(登録済データ!$C$3,6)),\"\")","v":""},null,{"$f":"IF(登録済データ!$B396<>0,登録済データ!C396,\"\")","v":""},{"$f":"IF(登録済データ!$B396<>0,登録済データ!D396,\"\")","v":""},{"$f":"IF(登録済データ!$B396<>0,登録済データ!E396,\"\")","v":""},{"$f":"IF(登録済データ!$B396<>0,IF(登録済データ!F396<>\"\",登録済データ!F396,\"\"),\"\")","v":""},{"$f":"IF(登録済データ!$B396<>0,IF(登録済データ!G396<>\"\",登録済データ!G396,\"\"),\"\")","v":""},{"$f":"IF(登録済データ!$B396<>0,IF(登録済データ!H396<>\"\",登録済データ!H396,\"\"),\"\")","v":""},{"$f":"IF(登録済データ!$B396<>0,IF(登録済データ!I396<>\"\",登録済データ!I396,\"\"),\"\")","v":""},{"$f":"IF(登録済データ!$B396<>0,登録済データ!J396,\"\")","v":""},{"$f":"IF(登録済データ!$B396<>0,登録済データ!K396,\"\")","v":""},{"$f":"IF(登録済データ!$B396<>0,登録済データ!L396,\"\")","v":""},{"$f":"IF(登録済データ!$B396<>0,登録済データ!M396,\"\")","v":""},{"$f":"IF(登録済データ!$B396<>0,登録済データ!N396,\"\")","v":""},{"$f":"IF(登録済データ!$B396<>0,登録済データ!O396,\"\")","v":""},{"$f":"IF(登録済データ!$B396<>0,登録済データ!P396,\"\")","v":""},{"$f":"IF(登録済データ!$B396<>0,登録済データ!Q396,\"\")","v":""},{"$f":"IF(登録済データ!$B396<>0,登録済データ!R396,\"\")","v":""},{"$f":"IF(登録済データ!$B396<>0,登録済データ!S396,\"\")","v":""},{"$f":"IF(登録済データ!$B396<>0,登録済データ!T396,\"\")","v":""},{"$f":"IF(登録済データ!$B396<>0,登録済データ!U396,\"\")","v":""},{"$f":"IF(登録済データ!$B396<>0,登録済データ!V396,\"\")","v":""},{"$f":"IF(登録済データ!$B396<>0,登録済データ!W396,\"\")","v":""},{"$f":"IF(登録済データ!$B396<>0,登録済データ!X396,\"\")","v":""},{"$f":"IF($F393<>\"\",登録済データ!$C$4,\"\")","v":""}]
[null,{"$f":"IF($F394<>\"\",登録済データ!$C$2,\"\")","v":""},{"$f":"IF($F394<>\"\",IF($I$1=\"企業コード3桁\",LEFT(登録済データ!$C$3,3),LEFT(登録済データ!$C$3,6)),\"\")","v":""},null,{"$f":"IF(登録済データ!$B397<>0,登録済データ!C397,\"\")","v":""},{"$f":"IF(登録済データ!$B397<>0,登録済データ!D397,\"\")","v":""},{"$f":"IF(登録済データ!$B397<>0,登録済データ!E397,\"\")","v":""},{"$f":"IF(登録済データ!$B397<>0,IF(登録済データ!F397<>\"\",登録済データ!F397,\"\"),\"\")","v":""},{"$f":"IF(登録済データ!$B397<>0,IF(登録済データ!G397<>\"\",登録済データ!G397,\"\"),\"\")","v":""},{"$f":"IF(登録済データ!$B397<>0,IF(登録済データ!H397<>\"\",登録済データ!H397,\"\"),\"\")","v":""},{"$f":"IF(登録済データ!$B397<>0,IF(登録済データ!I397<>\"\",登録済データ!I397,\"\"),\"\")","v":""},{"$f":"IF(登録済データ!$B397<>0,登録済データ!J397,\"\")","v":""},{"$f":"IF(登録済データ!$B397<>0,登録済データ!K397,\"\")","v":""},{"$f":"IF(登録済データ!$B397<>0,登録済データ!L397,\"\")","v":""},{"$f":"IF(登録済データ!$B397<>0,登録済データ!M397,\"\")","v":""},{"$f":"IF(登録済データ!$B397<>0,登録済データ!N397,\"\")","v":""},{"$f":"IF(登録済データ!$B397<>0,登録済データ!O397,\"\")","v":""},{"$f":"IF(登録済データ!$B397<>0,登録済データ!P397,\"\")","v":""},{"$f":"IF(登録済データ!$B397<>0,登録済データ!Q397,\"\")","v":""},{"$f":"IF(登録済データ!$B397<>0,登録済データ!R397,\"\")","v":""},{"$f":"IF(登録済データ!$B397<>0,登録済データ!S397,\"\")","v":""},{"$f":"IF(登録済データ!$B397<>0,登録済データ!T397,\"\")","v":""},{"$f":"IF(登録済データ!$B397<>0,登録済データ!U397,\"\")","v":""},{"$f":"IF(登録済データ!$B397<>0,登録済データ!V397,\"\")","v":""},{"$f":"IF(登録済データ!$B397<>0,登録済データ!W397,\"\")","v":""},{"$f":"IF(登録済データ!$B397<>0,登録済データ!X397,\"\")","v":""},{"$f":"IF($F394<>\"\",登録済データ!$C$4,\"\")","v":""}]
[null,{"$f":"IF($F395<>\"\",登録済データ!$C$2,\"\")","v":""},{"$f":"IF($F395<>\"\",IF($I$1=\"企業コード3桁\",LEFT(登録済データ!$C$3,3),LEFT(登録済データ!$C$3,6)),\"\")","v":""},null,{"$f":"IF(登録済データ!$B398<>0,登録済データ!C398,\"\")","v":""},{"$f":"IF(登録済データ!$B398<>0,登録済データ!D398,\"\")","v":""},{"$f":"IF(登録済データ!$B398<>0,登録済データ!E398,\"\")","v":""},{"$f":"IF(登録済データ!$B398<>0,IF(登録済データ!F398<>\"\",登録済データ!F398,\"\"),\"\")","v":""},{"$f":"IF(登録済データ!$B398<>0,IF(登録済データ!G398<>\"\",登録済データ!G398,\"\"),\"\")","v":""},{"$f":"IF(登録済データ!$B398<>0,IF(登録済データ!H398<>\"\",登録済データ!H398,\"\"),\"\")","v":""},{"$f":"IF(登録済データ!$B398<>0,IF(登録済データ!I398<>\"\",登録済データ!I398,\"\"),\"\")","v":""},{"$f":"IF(登録済データ!$B398<>0,登録済データ!J398,\"\")","v":""},{"$f":"IF(登録済データ!$B398<>0,登録済データ!K398,\"\")","v":""},{"$f":"IF(登録済データ!$B398<>0,登録済データ!L398,\"\")","v":""},{"$f":"IF(登録済データ!$B398<>0,登録済データ!M398,\"\")","v":""},{"$f":"IF(登録済データ!$B398<>0,登録済データ!N398,\"\")","v":""},{"$f":"IF(登録済データ!$B398<>0,登録済データ!O398,\"\")","v":""},{"$f":"IF(登録済データ!$B398<>0,登録済データ!P398,\"\")","v":""},{"$f":"IF(登録済データ!$B398<>0,登録済データ!Q398,\"\")","v":""},{"$f":"IF(登録済データ!$B398<>0,登録済データ!R398,\"\")","v":""},{"$f":"IF(登録済データ!$B398<>0,登録済データ!S398,\"\")","v":""},{"$f":"IF(登録済データ!$B398<>0,登録済データ!T398,\"\")","v":""},{"$f":"IF(登録済データ!$B398<>0,登録済データ!U398,\"\")","v":""},{"$f":"IF(登録済データ!$B398<>0,登録済データ!V398,\"\")","v":""},{"$f":"IF(登録済データ!$B398<>0,登録済データ!W398,\"\")","v":""},{"$f":"IF(登録済データ!$B398<>0,登録済データ!X398,\"\")","v":""},{"$f":"IF($F395<>\"\",登録済データ!$C$4,\"\")","v":""}]
[null,{"$f":"IF($F396<>\"\",登録済データ!$C$2,\"\")","v":""},{"$f":"IF($F396<>\"\",IF($I$1=\"企業コード3桁\",LEFT(登録済データ!$C$3,3),LEFT(登録済データ!$C$3,6)),\"\")","v":""},null,{"$f":"IF(登録済データ!$B399<>0,登録済データ!C399,\"\")","v":""},{"$f":"IF(登録済データ!$B399<>0,登録済データ!D399,\"\")","v":""},{"$f":"IF(登録済データ!$B399<>0,登録済データ!E399,\"\")","v":""},{"$f":"IF(登録済データ!$B399<>0,IF(登録済データ!F399<>\"\",登録済データ!F399,\"\"),\"\")","v":""},{"$f":"IF(登録済データ!$B399<>0,IF(登録済データ!G399<>\"\",登録済データ!G399,\"\"),\"\")","v":""},{"$f":"IF(登録済データ!$B399<>0,IF(登録済データ!H399<>\"\",登録済データ!H399,\"\"),\"\")","v":""},{"$f":"IF(登録済データ!$B399<>0,IF(登録済データ!I399<>\"\",登録済データ!I399,\"\"),\"\")","v":""},{"$f":"IF(登録済データ!$B399<>0,登録済データ!J399,\"\")","v":""},{"$f":"IF(登録済データ!$B399<>0,登録済データ!K399,\"\")","v":""},{"$f":"IF(登録済データ!$B399<>0,登録済データ!L399,\"\")","v":""},{"$f":"IF(登録済データ!$B399<>0,登録済データ!M399,\"\")","v":""},{"$f":"IF(登録済データ!$B399<>0,登録済データ!N399,\"\")","v":""},{"$f":"IF(登録済データ!$B399<>0,登録済データ!O399,\"\")","v":""},{"$f":"IF(登録済データ!$B399<>0,登録済データ!P399,\"\")","v":""},{"$f":"IF(登録済データ!$B399<>0,登録済データ!Q399,\"\")","v":""},{"$f":"IF(登録済データ!$B399<>0,登録済データ!R399,\"\")","v":""},{"$f":"IF(登録済データ!$B399<>0,登録済データ!S399,\"\")","v":""},{"$f":"IF(登録済データ!$B399<>0,登録済データ!T399,\"\")","v":""},{"$f":"IF(登録済データ!$B399<>0,登録済データ!U399,\"\")","v":""},{"$f":"IF(登録済データ!$B399<>0,登録済データ!V399,\"\")","v":""},{"$f":"IF(登録済データ!$B399<>0,登録済データ!W399,\"\")","v":""},{"$f":"IF(登録済データ!$B399<>0,登録済データ!X399,\"\")","v":""},{"$f":"IF($F396<>\"\",登録済データ!$C$4,\"\")","v":""}]
[null,{"$f":"IF($F397<>\"\",登録済データ!$C$2,\"\")","v":""},{"$f":"IF($F397<>\"\",IF($I$1=\"企業コード3桁\",LEFT(登録済データ!$C$3,3),LEFT(登録済データ!$C$3,6)),\"\")","v":""},null,{"$f":"IF(登録済データ!$B400<>0,登録済データ!C400,\"\")","v":""},{"$f":"IF(登録済データ!$B400<>0,登録済データ!D400,\"\")","v":""},{"$f":"IF(登録済データ!$B400<>0,登録済データ!E400,\"\")","v":""},{"$f":"IF(登録済データ!$B400<>0,IF(登録済データ!F400<>\"\",登録済データ!F400,\"\"),\"\")","v":""},{"$f":"IF(登録済データ!$B400<>0,IF(登録済データ!G400<>\"\",登録済データ!G400,\"\"),\"\")","v":""},{"$f":"IF(登録済データ!$B400<>0,IF(登録済データ!H400<>\"\",登録済データ!H400,\"\"),\"\")","v":""},{"$f":"IF(登録済データ!$B400<>0,IF(登録済データ!I400<>\"\",登録済データ!I400,\"\"),\"\")","v":""},{"$f":"IF(登録済データ!$B400<>0,登録済データ!J400,\"\")","v":""},{"$f":"IF(登録済データ!$B400<>0,登録済データ!K400,\"\")","v":""},{"$f":"IF(登録済データ!$B400<>0,登録済データ!L400,\"\")","v":""},{"$f":"IF(登録済データ!$B400<>0,登録済データ!M400,\"\")","v":""},{"$f":"IF(登録済データ!$B400<>0,登録済データ!N400,\"\")","v":""},{"$f":"IF(登録済データ!$B400<>0,登録済データ!O400,\"\")","v":""},{"$f":"IF(登録済データ!$B400<>0,登録済データ!P400,\"\")","v":""},{"$f":"IF(登録済データ!$B400<>0,登録済データ!Q400,\"\")","v":""},{"$f":"IF(登録済データ!$B400<>0,登録済データ!R400,\"\")","v":""},{"$f":"IF(登録済データ!$B400<>0,登録済データ!S400,\"\")","v":""},{"$f":"IF(登録済データ!$B400<>0,登録済データ!T400,\"\")","v":""},{"$f":"IF(登録済データ!$B400<>0,登録済データ!U400,\"\")","v":""},{"$f":"IF(登録済データ!$B400<>0,登録済データ!V400,\"\")","v":""},{"$f":"IF(登録済データ!$B400<>0,登録済データ!W400,\"\")","v":""},{"$f":"IF(登録済データ!$B400<>0,登録済データ!X400,\"\")","v":""},{"$f":"IF($F397<>\"\",登録済データ!$C$4,\"\")","v":""}]
[null,{"$f":"IF($F398<>\"\",登録済データ!$C$2,\"\")","v":""},{"$f":"IF($F398<>\"\",IF($I$1=\"企業コード3桁\",LEFT(登録済データ!$C$3,3),LEFT(登録済データ!$C$3,6)),\"\")","v":""},null,{"$f":"IF(登録済データ!$B401<>0,登録済データ!C401,\"\")","v":""},{"$f":"IF(登録済データ!$B401<>0,登録済データ!D401,\"\")","v":""},{"$f":"IF(登録済データ!$B401<>0,登録済データ!E401,\"\")","v":""},{"$f":"IF(登録済データ!$B401<>0,IF(登録済データ!F401<>\"\",登録済データ!F401,\"\"),\"\")","v":""},{"$f":"IF(登録済データ!$B401<>0,IF(登録済データ!G401<>\"\",登録済データ!G401,\"\"),\"\")","v":""},{"$f":"IF(登録済データ!$B401<>0,IF(登録済データ!H401<>\"\",登録済データ!H401,\"\"),\"\")","v":""},{"$f":"IF(登録済データ!$B401<>0,IF(登録済データ!I401<>\"\",登録済データ!I401,\"\"),\"\")","v":""},{"$f":"IF(登録済データ!$B401<>0,登録済データ!J401,\"\")","v":""},{"$f":"IF(登録済データ!$B401<>0,登録済データ!K401,\"\")","v":""},{"$f":"IF(登録済データ!$B401<>0,登録済データ!L401,\"\")","v":""},{"$f":"IF(登録済データ!$B401<>0,登録済データ!M401,\"\")","v":""},{"$f":"IF(登録済データ!$B401<>0,登録済データ!N401,\"\")","v":""},{"$f":"IF(登録済データ!$B401<>0,登録済データ!O401,\"\")","v":""},{"$f":"IF(登録済データ!$B401<>0,登録済データ!P401,\"\")","v":""},{"$f":"IF(登録済データ!$B401<>0,登録済データ!Q401,\"\")","v":""},{"$f":"IF(登録済データ!$B401<>0,登録済データ!R401,\"\")","v":""},{"$f":"IF(登録済データ!$B401<>0,登録済データ!S401,\"\")","v":""},{"$f":"IF(登録済データ!$B401<>0,登録済データ!T401,\"\")","v":""},{"$f":"IF(登録済データ!$B401<>0,登録済データ!U401,\"\")","v":""},{"$f":"IF(登録済データ!$B401<>0,登録済データ!V401,\"\")","v":""},{"$f":"IF(登録済データ!$B401<>0,登録済データ!W401,\"\")","v":""},{"$f":"IF(登録済データ!$B401<>0,登録済データ!X401,\"\")","v":""},{"$f":"IF($F398<>\"\",登録済データ!$C$4,\"\")","v":""}]
[null,{"$f":"IF($F399<>\"\",登録済データ!$C$2,\"\")","v":""},{"$f":"IF($F399<>\"\",IF($I$1=\"企業コード3桁\",LEFT(登録済データ!$C$3,3),LEFT(登録済データ!$C$3,6)),\"\")","v":""},null,{"$f":"IF(登録済データ!$B402<>0,登録済データ!C402,\"\")","v":""},{"$f":"IF(登録済データ!$B402<>0,登録済データ!D402,\"\")","v":""},{"$f":"IF(登録済データ!$B402<>0,登録済データ!E402,\"\")","v":""},{"$f":"IF(登録済データ!$B402<>0,IF(登録済データ!F402<>\"\",登録済データ!F402,\"\"),\"\")","v":""},{"$f":"IF(登録済データ!$B402<>0,IF(登録済データ!G402<>\"\",登録済データ!G402,\"\"),\"\")","v":""},{"$f":"IF(登録済データ!$B402<>0,IF(登録済データ!H402<>\"\",登録済データ!H402,\"\"),\"\")","v":""},{"$f":"IF(登録済データ!$B402<>0,IF(登録済データ!I402<>\"\",登録済データ!I402,\"\"),\"\")","v":""},{"$f":"IF(登録済データ!$B402<>0,登録済データ!J402,\"\")","v":""},{"$f":"IF(登録済データ!$B402<>0,登録済データ!K402,\"\")","v":""},{"$f":"IF(登録済データ!$B402<>0,登録済データ!L402,\"\")","v":""},{"$f":"IF(登録済データ!$B402<>0,登録済データ!M402,\"\")","v":""},{"$f":"IF(登録済データ!$B402<>0,登録済データ!N402,\"\")","v":""},{"$f":"IF(登録済データ!$B402<>0,登録済データ!O402,\"\")","v":""},{"$f":"IF(登録済データ!$B402<>0,登録済データ!P402,\"\")","v":""},{"$f":"IF(登録済データ!$B402<>0,登録済データ!Q402,\"\")","v":""},{"$f":"IF(登録済データ!$B402<>0,登録済データ!R402,\"\")","v":""},{"$f":"IF(登録済データ!$B402<>0,登録済データ!S402,\"\")","v":""},{"$f":"IF(登録済データ!$B402<>0,登録済データ!T402,\"\")","v":""},{"$f":"IF(登録済データ!$B402<>0,登録済データ!U402,\"\")","v":""},{"$f":"IF(登録済データ!$B402<>0,登録済データ!V402,\"\")","v":""},{"$f":"IF(登録済データ!$B402<>0,登録済データ!W402,\"\")","v":""},{"$f":"IF(登録済データ!$B402<>0,登録済データ!X402,\"\")","v":""},{"$f":"IF($F399<>\"\",登録済データ!$C$4,\"\")","v":""}]
[null,{"$f":"IF($F400<>\"\",登録済データ!$C$2,\"\")","v":""},{"$f":"IF($F400<>\"\",IF($I$1=\"企業コード3桁\",LEFT(登録済データ!$C$3,3),LEFT(登録済データ!$C$3,6)),\"\")","v":""},null,{"$f":"IF(登録済データ!$B403<>0,登録済データ!C403,\"\")","v":""},{"$f":"IF(登録済データ!$B403<>0,登録済データ!D403,\"\")","v":""},{"$f":"IF(登録済データ!$B403<>0,登録済データ!E403,\"\")","v":""},{"$f":"IF(登録済データ!$B403<>0,IF(登録済データ!F403<>\"\",登録済データ!F403,\"\"),\"\")","v":""},{"$f":"IF(登録済データ!$B403<>0,IF(登録済データ!G403<>\"\",登録済データ!G403,\"\"),\"\")","v":""},{"$f":"IF(登録済データ!$B403<>0,IF(登録済データ!H403<>\"\",登録済データ!H403,\"\"),\"\")","v":""},{"$f":"IF(登録済データ!$B403<>0,IF(登録済データ!I403<>\"\",登録済データ!I403,\"\"),\"\")","v":""},{"$f":"IF(登録済データ!$B403<>0,登録済データ!J403,\"\")","v":""},{"$f":"IF(登録済データ!$B403<>0,登録済データ!K403,\"\")","v":""},{"$f":"IF(登録済データ!$B403<>0,登録済データ!L403,\"\")","v":""},{"$f":"IF(登録済データ!$B403<>0,登録済データ!M403,\"\")","v":""},{"$f":"IF(登録済データ!$B403<>0,登録済データ!N403,\"\")","v":""},{"$f":"IF(登録済データ!$B403<>0,登録済データ!O403,\"\")","v":""},{"$f":"IF(登録済データ!$B403<>0,登録済データ!P403,\"\")","v":""},{"$f":"IF(登録済データ!$B403<>0,登録済データ!Q403,\"\")","v":""},{"$f":"IF(登録済データ!$B403<>0,登録済データ!R403,\"\")","v":""},{"$f":"IF(登録済データ!$B403<>0,登録済データ!S403,\"\")","v":""},{"$f":"IF(登録済データ!$B403<>0,登録済データ!T403,\"\")","v":""},{"$f":"IF(登録済データ!$B403<>0,登録済データ!U403,\"\")","v":""},{"$f":"IF(登録済データ!$B403<>0,登録済データ!V403,\"\")","v":""},{"$f":"IF(登録済データ!$B403<>0,登録済データ!W403,\"\")","v":""},{"$f":"IF(登録済データ!$B403<>0,登録済データ!X403,\"\")","v":""},{"$f":"IF($F400<>\"\",登録済データ!$C$4,\"\")","v":""}]
[null,{"$f":"IF($F401<>\"\",登録済データ!$C$2,\"\")","v":""},{"$f":"IF($F401<>\"\",IF($I$1=\"企業コード3桁\",LEFT(登録済データ!$C$3,3),LEFT(登録済データ!$C$3,6)),\"\")","v":""},null,{"$f":"IF(登録済データ!$B404<>0,登録済データ!C404,\"\")","v":""},{"$f":"IF(登録済データ!$B404<>0,登録済データ!D404,\"\")","v":""},{"$f":"IF(登録済データ!$B404<>0,登録済データ!E404,\"\")","v":""},{"$f":"IF(登録済データ!$B404<>0,IF(登録済データ!F404<>\"\",登録済データ!F404,\"\"),\"\")","v":""},{"$f":"IF(登録済データ!$B404<>0,IF(登録済データ!G404<>\"\",登録済データ!G404,\"\"),\"\")","v":""},{"$f":"IF(登録済データ!$B404<>0,IF(登録済データ!H404<>\"\",登録済データ!H404,\"\"),\"\")","v":""},{"$f":"IF(登録済データ!$B404<>0,IF(登録済データ!I404<>\"\",登録済データ!I404,\"\"),\"\")","v":""},{"$f":"IF(登録済データ!$B404<>0,登録済データ!J404,\"\")","v":""},{"$f":"IF(登録済データ!$B404<>0,登録済データ!K404,\"\")","v":""},{"$f":"IF(登録済データ!$B404<>0,登録済データ!L404,\"\")","v":""},{"$f":"IF(登録済データ!$B404<>0,登録済データ!M404,\"\")","v":""},{"$f":"IF(登録済データ!$B404<>0,登録済データ!N404,\"\")","v":""},{"$f":"IF(登録済データ!$B404<>0,登録済データ!O404,\"\")","v":""},{"$f":"IF(登録済データ!$B404<>0,登録済データ!P404,\"\")","v":""},{"$f":"IF(登録済データ!$B404<>0,登録済データ!Q404,\"\")","v":""},{"$f":"IF(登録済データ!$B404<>0,登録済データ!R404,\"\")","v":""},{"$f":"IF(登録済データ!$B404<>0,登録済データ!S404,\"\")","v":""},{"$f":"IF(登録済データ!$B404<>0,登録済データ!T404,\"\")","v":""},{"$f":"IF(登録済データ!$B404<>0,登録済データ!U404,\"\")","v":""},{"$f":"IF(登録済データ!$B404<>0,登録済データ!V404,\"\")","v":""},{"$f":"IF(登録済データ!$B404<>0,登録済データ!W404,\"\")","v":""},{"$f":"IF(登録済データ!$B404<>0,登録済データ!X404,\"\")","v":""},{"$f":"IF($F401<>\"\",登録済データ!$C$4,\"\")","v":""}]
[null,{"$f":"IF($F402<>\"\",登録済データ!$C$2,\"\")","v":""},{"$f":"IF($F402<>\"\",IF($I$1=\"企業コード3桁\",LEFT(登録済データ!$C$3,3),LEFT(登録済データ!$C$3,6)),\"\")","v":""},null,{"$f":"IF(登録済データ!$B405<>0,登録済データ!C405,\"\")","v":""},{"$f":"IF(登録済データ!$B405<>0,登録済データ!D405,\"\")","v":""},{"$f":"IF(登録済データ!$B405<>0,登録済データ!E405,\"\")","v":""},{"$f":"IF(登録済データ!$B405<>0,IF(登録済データ!F405<>\"\",登録済データ!F405,\"\"),\"\")","v":""},{"$f":"IF(登録済データ!$B405<>0,IF(登録済データ!G405<>\"\",登録済データ!G405,\"\"),\"\")","v":""},{"$f":"IF(登録済データ!$B405<>0,IF(登録済データ!H405<>\"\",登録済データ!H405,\"\"),\"\")","v":""},{"$f":"IF(登録済データ!$B405<>0,IF(登録済データ!I405<>\"\",登録済データ!I405,\"\"),\"\")","v":""},{"$f":"IF(登録済データ!$B405<>0,登録済データ!J405,\"\")","v":""},{"$f":"IF(登録済データ!$B405<>0,登録済データ!K405,\"\")","v":""},{"$f":"IF(登録済データ!$B405<>0,登録済データ!L405,\"\")","v":""},{"$f":"IF(登録済データ!$B405<>0,登録済データ!M405,\"\")","v":""},{"$f":"IF(登録済データ!$B405<>0,登録済データ!N405,\"\")","v":""},{"$f":"IF(登録済データ!$B405<>0,登録済データ!O405,\"\")","v":""},{"$f":"IF(登録済データ!$B405<>0,登録済データ!P405,\"\")","v":""},{"$f":"IF(登録済データ!$B405<>0,登録済データ!Q405,\"\")","v":""},{"$f":"IF(登録済データ!$B405<>0,登録済データ!R405,\"\")","v":""},{"$f":"IF(登録済データ!$B405<>0,登録済データ!S405,\"\")","v":""},{"$f":"IF(登録済データ!$B405<>0,登録済データ!T405,\"\")","v":""},{"$f":"IF(登録済データ!$B405<>0,登録済データ!U405,\"\")","v":""},{"$f":"IF(登録済データ!$B405<>0,登録済データ!V405,\"\")","v":""},{"$f":"IF(登録済データ!$B405<>0,登録済データ!W405,\"\")","v":""},{"$f":"IF(登録済データ!$B405<>0,登録済データ!X405,\"\")","v":""},{"$f":"IF($F402<>\"\",登録済データ!$C$4,\"\")","v":""}]
[null,{"$f":"IF($F403<>\"\",登録済データ!$C$2,\"\")","v":""},{"$f":"IF($F403<>\"\",IF($I$1=\"企業コード3桁\",LEFT(登録済データ!$C$3,3),LEFT(登録済データ!$C$3,6)),\"\")","v":""},null,{"$f":"IF(登録済データ!$B406<>0,登録済データ!C406,\"\")","v":""},{"$f":"IF(登録済データ!$B406<>0,登録済データ!D406,\"\")","v":""},{"$f":"IF(登録済データ!$B406<>0,登録済データ!E406,\"\")","v":""},{"$f":"IF(登録済データ!$B406<>0,IF(登録済データ!F406<>\"\",登録済データ!F406,\"\"),\"\")","v":""},{"$f":"IF(登録済データ!$B406<>0,IF(登録済データ!G406<>\"\",登録済データ!G406,\"\"),\"\")","v":""},{"$f":"IF(登録済データ!$B406<>0,IF(登録済データ!H406<>\"\",登録済データ!H406,\"\"),\"\")","v":""},{"$f":"IF(登録済データ!$B406<>0,IF(登録済データ!I406<>\"\",登録済データ!I406,\"\"),\"\")","v":""},{"$f":"IF(登録済データ!$B406<>0,登録済データ!J406,\"\")","v":""},{"$f":"IF(登録済データ!$B406<>0,登録済データ!K406,\"\")","v":""},{"$f":"IF(登録済データ!$B406<>0,登録済データ!L406,\"\")","v":""},{"$f":"IF(登録済データ!$B406<>0,登録済データ!M406,\"\")","v":""},{"$f":"IF(登録済データ!$B406<>0,登録済データ!N406,\"\")","v":""},{"$f":"IF(登録済データ!$B406<>0,登録済データ!O406,\"\")","v":""},{"$f":"IF(登録済データ!$B406<>0,登録済データ!P406,\"\")","v":""},{"$f":"IF(登録済データ!$B406<>0,登録済データ!Q406,\"\")","v":""},{"$f":"IF(登録済データ!$B406<>0,登録済データ!R406,\"\")","v":""},{"$f":"IF(登録済データ!$B406<>0,登録済データ!S406,\"\")","v":""},{"$f":"IF(登録済データ!$B406<>0,登録済データ!T406,\"\")","v":""},{"$f":"IF(登録済データ!$B406<>0,登録済データ!U406,\"\")","v":""},{"$f":"IF(登録済データ!$B406<>0,登録済データ!V406,\"\")","v":""},{"$f":"IF(登録済データ!$B406<>0,登録済データ!W406,\"\")","v":""},{"$f":"IF(登録済データ!$B406<>0,登録済データ!X406,\"\")","v":""},{"$f":"IF($F403<>\"\",登録済データ!$C$4,\"\")","v":""}]
[null,{"$f":"IF($F404<>\"\",登録済データ!$C$2,\"\")","v":""},{"$f":"IF($F404<>\"\",IF($I$1=\"企業コード3桁\",LEFT(登録済データ!$C$3,3),LEFT(登録済データ!$C$3,6)),\"\")","v":""},null,{"$f":"IF(登録済データ!$B407<>0,登録済データ!C407,\"\")","v":""},{"$f":"IF(登録済データ!$B407<>0,登録済データ!D407,\"\")","v":""},{"$f":"IF(登録済データ!$B407<>0,登録済データ!E407,\"\")","v":""},{"$f":"IF(登録済データ!$B407<>0,IF(登録済データ!F407<>\"\",登録済データ!F407,\"\"),\"\")","v":""},{"$f":"IF(登録済データ!$B407<>0,IF(登録済データ!G407<>\"\",登録済データ!G407,\"\"),\"\")","v":""},{"$f":"IF(登録済データ!$B407<>0,IF(登録済データ!H407<>\"\",登録済データ!H407,\"\"),\"\")","v":""},{"$f":"IF(登録済データ!$B407<>0,IF(登録済データ!I407<>\"\",登録済データ!I407,\"\"),\"\")","v":""},{"$f":"IF(登録済データ!$B407<>0,登録済データ!J407,\"\")","v":""},{"$f":"IF(登録済データ!$B407<>0,登録済データ!K407,\"\")","v":""},{"$f":"IF(登録済データ!$B407<>0,登録済データ!L407,\"\")","v":""},{"$f":"IF(登録済データ!$B407<>0,登録済データ!M407,\"\")","v":""},{"$f":"IF(登録済データ!$B407<>0,登録済データ!N407,\"\")","v":""},{"$f":"IF(登録済データ!$B407<>0,登録済データ!O407,\"\")","v":""},{"$f":"IF(登録済データ!$B407<>0,登録済データ!P407,\"\")","v":""},{"$f":"IF(登録済データ!$B407<>0,登録済データ!Q407,\"\")","v":""},{"$f":"IF(登録済データ!$B407<>0,登録済データ!R407,\"\")","v":""},{"$f":"IF(登録済データ!$B407<>0,登録済データ!S407,\"\")","v":""},{"$f":"IF(登録済データ!$B407<>0,登録済データ!T407,\"\")","v":""},{"$f":"IF(登録済データ!$B407<>0,登録済データ!U407,\"\")","v":""},{"$f":"IF(登録済データ!$B407<>0,登録済データ!V407,\"\")","v":""},{"$f":"IF(登録済データ!$B407<>0,登録済データ!W407,\"\")","v":""},{"$f":"IF(登録済データ!$B407<>0,登録済データ!X407,\"\")","v":""},{"$f":"IF($F404<>\"\",登録済データ!$C$4,\"\")","v":""}]
[null,{"$f":"IF($F405<>\"\",登録済データ!$C$2,\"\")","v":""},{"$f":"IF($F405<>\"\",IF($I$1=\"企業コード3桁\",LEFT(登録済データ!$C$3,3),LEFT(登録済データ!$C$3,6)),\"\")","v":""},null,{"$f":"IF(登録済データ!$B408<>0,登録済データ!C408,\"\")","v":""},{"$f":"IF(登録済データ!$B408<>0,登録済データ!D408,\"\")","v":""},{"$f":"IF(登録済データ!$B408<>0,登録済データ!E408,\"\")","v":""},{"$f":"IF(登録済データ!$B408<>0,IF(登録済データ!F408<>\"\",登録済データ!F408,\"\"),\"\")","v":""},{"$f":"IF(登録済データ!$B408<>0,IF(登録済データ!G408<>\"\",登録済データ!G408,\"\"),\"\")","v":""},{"$f":"IF(登録済データ!$B408<>0,IF(登録済データ!H408<>\"\",登録済データ!H408,\"\"),\"\")","v":""},{"$f":"IF(登録済データ!$B408<>0,IF(登録済データ!I408<>\"\",登録済データ!I408,\"\"),\"\")","v":""},{"$f":"IF(登録済データ!$B408<>0,登録済データ!J408,\"\")","v":""},{"$f":"IF(登録済データ!$B408<>0,登録済データ!K408,\"\")","v":""},{"$f":"IF(登録済データ!$B408<>0,登録済データ!L408,\"\")","v":""},{"$f":"IF(登録済データ!$B408<>0,登録済データ!M408,\"\")","v":""},{"$f":"IF(登録済データ!$B408<>0,登録済データ!N408,\"\")","v":""},{"$f":"IF(登録済データ!$B408<>0,登録済データ!O408,\"\")","v":""},{"$f":"IF(登録済データ!$B408<>0,登録済データ!P408,\"\")","v":""},{"$f":"IF(登録済データ!$B408<>0,登録済データ!Q408,\"\")","v":""},{"$f":"IF(登録済データ!$B408<>0,登録済データ!R408,\"\")","v":""},{"$f":"IF(登録済データ!$B408<>0,登録済データ!S408,\"\")","v":""},{"$f":"IF(登録済データ!$B408<>0,登録済データ!T408,\"\")","v":""},{"$f":"IF(登録済データ!$B408<>0,登録済データ!U408,\"\")","v":""},{"$f":"IF(登録済データ!$B408<>0,登録済データ!V408,\"\")","v":""},{"$f":"IF(登録済データ!$B408<>0,登録済データ!W408,\"\")","v":""},{"$f":"IF(登録済データ!$B408<>0,登録済データ!X408,\"\")","v":""},{"$f":"IF($F405<>\"\",登録済データ!$C$4,\"\")","v":""}]
[null,{"$f":"IF($F406<>\"\",登録済データ!$C$2,\"\")","v":""},{"$f":"IF($F406<>\"\",IF($I$1=\"企業コード3桁\",LEFT(登録済データ!$C$3,3),LEFT(登録済データ!$C$3,6)),\"\")","v":""},null,{"$f":"IF(登録済データ!$B409<>0,登録済データ!C409,\"\")","v":""},{"$f":"IF(登録済データ!$B409<>0,登録済データ!D409,\"\")","v":""},{"$f":"IF(登録済データ!$B409<>0,登録済データ!E409,\"\")","v":""},{"$f":"IF(登録済データ!$B409<>0,IF(登録済データ!F409<>\"\",登録済データ!F409,\"\"),\"\")","v":""},{"$f":"IF(登録済データ!$B409<>0,IF(登録済データ!G409<>\"\",登録済データ!G409,\"\"),\"\")","v":""},{"$f":"IF(登録済データ!$B409<>0,IF(登録済データ!H409<>\"\",登録済データ!H409,\"\"),\"\")","v":""},{"$f":"IF(登録済データ!$B409<>0,IF(登録済データ!I409<>\"\",登録済データ!I409,\"\"),\"\")","v":""},{"$f":"IF(登録済データ!$B409<>0,登録済データ!J409,\"\")","v":""},{"$f":"IF(登録済データ!$B409<>0,登録済データ!K409,\"\")","v":""},{"$f":"IF(登録済データ!$B409<>0,登録済データ!L409,\"\")","v":""},{"$f":"IF(登録済データ!$B409<>0,登録済データ!M409,\"\")","v":""},{"$f":"IF(登録済データ!$B409<>0,登録済データ!N409,\"\")","v":""},{"$f":"IF(登録済データ!$B409<>0,登録済データ!O409,\"\")","v":""},{"$f":"IF(登録済データ!$B409<>0,登録済データ!P409,\"\")","v":""},{"$f":"IF(登録済データ!$B409<>0,登録済データ!Q409,\"\")","v":""},{"$f":"IF(登録済データ!$B409<>0,登録済データ!R409,\"\")","v":""},{"$f":"IF(登録済データ!$B409<>0,登録済データ!S409,\"\")","v":""},{"$f":"IF(登録済データ!$B409<>0,登録済データ!T409,\"\")","v":""},{"$f":"IF(登録済データ!$B409<>0,登録済データ!U409,\"\")","v":""},{"$f":"IF(登録済データ!$B409<>0,登録済データ!V409,\"\")","v":""},{"$f":"IF(登録済データ!$B409<>0,登録済データ!W409,\"\")","v":""},{"$f":"IF(登録済データ!$B409<>0,登録済データ!X409,\"\")","v":""},{"$f":"IF($F406<>\"\",登録済データ!$C$4,\"\")","v":""}]
[null,{"$f":"IF($F407<>\"\",登録済データ!$C$2,\"\")","v":""},{"$f":"IF($F407<>\"\",IF($I$1=\"企業コード3桁\",LEFT(登録済データ!$C$3,3),LEFT(登録済データ!$C$3,6)),\"\")","v":""},null,{"$f":"IF(登録済データ!$B410<>0,登録済データ!C410,\"\")","v":""},{"$f":"IF(登録済データ!$B410<>0,登録済データ!D410,\"\")","v":""},{"$f":"IF(登録済データ!$B410<>0,登録済データ!E410,\"\")","v":""},{"$f":"IF(登録済データ!$B410<>0,IF(登録済データ!F410<>\"\",登録済データ!F410,\"\"),\"\")","v":""},{"$f":"IF(登録済データ!$B410<>0,IF(登録済データ!G410<>\"\",登録済データ!G410,\"\"),\"\")","v":""},{"$f":"IF(登録済データ!$B410<>0,IF(登録済データ!H410<>\"\",登録済データ!H410,\"\"),\"\")","v":""},{"$f":"IF(登録済データ!$B410<>0,IF(登録済データ!I410<>\"\",登録済データ!I410,\"\"),\"\")","v":""},{"$f":"IF(登録済データ!$B410<>0,登録済データ!J410,\"\")","v":""},{"$f":"IF(登録済データ!$B410<>0,登録済データ!K410,\"\")","v":""},{"$f":"IF(登録済データ!$B410<>0,登録済データ!L410,\"\")","v":""},{"$f":"IF(登録済データ!$B410<>0,登録済データ!M410,\"\")","v":""},{"$f":"IF(登録済データ!$B410<>0,登録済データ!N410,\"\")","v":""},{"$f":"IF(登録済データ!$B410<>0,登録済データ!O410,\"\")","v":""},{"$f":"IF(登録済データ!$B410<>0,登録済データ!P410,\"\")","v":""},{"$f":"IF(登録済データ!$B410<>0,登録済データ!Q410,\"\")","v":""},{"$f":"IF(登録済データ!$B410<>0,登録済データ!R410,\"\")","v":""},{"$f":"IF(登録済データ!$B410<>0,登録済データ!S410,\"\")","v":""},{"$f":"IF(登録済データ!$B410<>0,登録済データ!T410,\"\")","v":""},{"$f":"IF(登録済データ!$B410<>0,登録済データ!U410,\"\")","v":""},{"$f":"IF(登録済データ!$B410<>0,登録済データ!V410,\"\")","v":""},{"$f":"IF(登録済データ!$B410<>0,登録済データ!W410,\"\")","v":""},{"$f":"IF(登録済データ!$B410<>0,登録済データ!X410,\"\")","v":""},{"$f":"IF($F407<>\"\",登録済データ!$C$4,\"\")","v":""}]
[null,{"$f":"IF($F408<>\"\",登録済データ!$C$2,\"\")","v":""},{"$f":"IF($F408<>\"\",IF($I$1=\"企業コード3桁\",LEFT(登録済データ!$C$3,3),LEFT(登録済データ!$C$3,6)),\"\")","v":""},null,{"$f":"IF(登録済データ!$B411<>0,登録済データ!C411,\"\")","v":""},{"$f":"IF(登録済データ!$B411<>0,登録済データ!D411,\"\")","v":""},{"$f":"IF(登録済データ!$B411<>0,登録済データ!E411,\"\")","v":""},{"$f":"IF(登録済データ!$B411<>0,IF(登録済データ!F411<>\"\",登録済データ!F411,\"\"),\"\")","v":""},{"$f":"IF(登録済データ!$B411<>0,IF(登録済データ!G411<>\"\",登録済データ!G411,\"\"),\"\")","v":""},{"$f":"IF(登録済データ!$B411<>0,IF(登録済データ!H411<>\"\",登録済データ!H411,\"\"),\"\")","v":""},{"$f":"IF(登録済データ!$B411<>0,IF(登録済データ!I411<>\"\",登録済データ!I411,\"\"),\"\")","v":""},{"$f":"IF(登録済データ!$B411<>0,登録済データ!J411,\"\")","v":""},{"$f":"IF(登録済データ!$B411<>0,登録済データ!K411,\"\")","v":""},{"$f":"IF(登録済データ!$B411<>0,登録済データ!L411,\"\")","v":""},{"$f":"IF(登録済データ!$B411<>0,登録済データ!M411,\"\")","v":""},{"$f":"IF(登録済データ!$B411<>0,登録済データ!N411,\"\")","v":""},{"$f":"IF(登録済データ!$B411<>0,登録済データ!O411,\"\")","v":""},{"$f":"IF(登録済データ!$B411<>0,登録済データ!P411,\"\")","v":""},{"$f":"IF(登録済データ!$B411<>0,登録済データ!Q411,\"\")","v":""},{"$f":"IF(登録済データ!$B411<>0,登録済データ!R411,\"\")","v":""},{"$f":"IF(登録済データ!$B411<>0,登録済データ!S411,\"\")","v":""},{"$f":"IF(登録済データ!$B411<>0,登録済データ!T411,\"\")","v":""},{"$f":"IF(登録済データ!$B411<>0,登録済データ!U411,\"\")","v":""},{"$f":"IF(登録済データ!$B411<>0,登録済データ!V411,\"\")","v":""},{"$f":"IF(登録済データ!$B411<>0,登録済データ!W411,\"\")","v":""},{"$f":"IF(登録済データ!$B411<>0,登録済データ!X411,\"\")","v":""},{"$f":"IF($F408<>\"\",登録済データ!$C$4,\"\")","v":""}]
[null,{"$f":"IF($F409<>\"\",登録済データ!$C$2,\"\")","v":""},{"$f":"IF($F409<>\"\",IF($I$1=\"企業コード3桁\",LEFT(登録済データ!$C$3,3),LEFT(登録済データ!$C$3,6)),\"\")","v":""},null,{"$f":"IF(登録済データ!$B412<>0,登録済データ!C412,\"\")","v":""},{"$f":"IF(登録済データ!$B412<>0,登録済データ!D412,\"\")","v":""},{"$f":"IF(登録済データ!$B412<>0,登録済データ!E412,\"\")","v":""},{"$f":"IF(登録済データ!$B412<>0,IF(登録済データ!F412<>\"\",登録済データ!F412,\"\"),\"\")","v":""},{"$f":"IF(登録済データ!$B412<>0,IF(登録済データ!G412<>\"\",登録済データ!G412,\"\"),\"\")","v":""},{"$f":"IF(登録済データ!$B412<>0,IF(登録済データ!H412<>\"\",登録済データ!H412,\"\"),\"\")","v":""},{"$f":"IF(登録済データ!$B412<>0,IF(登録済データ!I412<>\"\",登録済データ!I412,\"\"),\"\")","v":""},{"$f":"IF(登録済データ!$B412<>0,登録済データ!J412,\"\")","v":""},{"$f":"IF(登録済データ!$B412<>0,登録済データ!K412,\"\")","v":""},{"$f":"IF(登録済データ!$B412<>0,登録済データ!L412,\"\")","v":""},{"$f":"IF(登録済データ!$B412<>0,登録済データ!M412,\"\")","v":""},{"$f":"IF(登録済データ!$B412<>0,登録済データ!N412,\"\")","v":""},{"$f":"IF(登録済データ!$B412<>0,登録済データ!O412,\"\")","v":""},{"$f":"IF(登録済データ!$B412<>0,登録済データ!P412,\"\")","v":""},{"$f":"IF(登録済データ!$B412<>0,登録済データ!Q412,\"\")","v":""},{"$f":"IF(登録済データ!$B412<>0,登録済データ!R412,\"\")","v":""},{"$f":"IF(登録済データ!$B412<>0,登録済データ!S412,\"\")","v":""},{"$f":"IF(登録済データ!$B412<>0,登録済データ!T412,\"\")","v":""},{"$f":"IF(登録済データ!$B412<>0,登録済データ!U412,\"\")","v":""},{"$f":"IF(登録済データ!$B412<>0,登録済データ!V412,\"\")","v":""},{"$f":"IF(登録済データ!$B412<>0,登録済データ!W412,\"\")","v":""},{"$f":"IF(登録済データ!$B412<>0,登録済データ!X412,\"\")","v":""},{"$f":"IF($F409<>\"\",登録済データ!$C$4,\"\")","v":""}]
[null,{"$f":"IF($F410<>\"\",登録済データ!$C$2,\"\")","v":""},{"$f":"IF($F410<>\"\",IF($I$1=\"企業コード3桁\",LEFT(登録済データ!$C$3,3),LEFT(登録済データ!$C$3,6)),\"\")","v":""},null,{"$f":"IF(登録済データ!$B413<>0,登録済データ!C413,\"\")","v":""},{"$f":"IF(登録済データ!$B413<>0,登録済データ!D413,\"\")","v":""},{"$f":"IF(登録済データ!$B413<>0,登録済データ!E413,\"\")","v":""},{"$f":"IF(登録済データ!$B413<>0,IF(登録済データ!F413<>\"\",登録済データ!F413,\"\"),\"\")","v":""},{"$f":"IF(登録済データ!$B413<>0,IF(登録済データ!G413<>\"\",登録済データ!G413,\"\"),\"\")","v":""},{"$f":"IF(登録済データ!$B413<>0,IF(登録済データ!H413<>\"\",登録済データ!H413,\"\"),\"\")","v":""},{"$f":"IF(登録済データ!$B413<>0,IF(登録済データ!I413<>\"\",登録済データ!I413,\"\"),\"\")","v":""},{"$f":"IF(登録済データ!$B413<>0,登録済データ!J413,\"\")","v":""},{"$f":"IF(登録済データ!$B413<>0,登録済データ!K413,\"\")","v":""},{"$f":"IF(登録済データ!$B413<>0,登録済データ!L413,\"\")","v":""},{"$f":"IF(登録済データ!$B413<>0,登録済データ!M413,\"\")","v":""},{"$f":"IF(登録済データ!$B413<>0,登録済データ!N413,\"\")","v":""},{"$f":"IF(登録済データ!$B413<>0,登録済データ!O413,\"\")","v":""},{"$f":"IF(登録済データ!$B413<>0,登録済データ!P413,\"\")","v":""},{"$f":"IF(登録済データ!$B413<>0,登録済データ!Q413,\"\")","v":""},{"$f":"IF(登録済データ!$B413<>0,登録済データ!R413,\"\")","v":""},{"$f":"IF(登録済データ!$B413<>0,登録済データ!S413,\"\")","v":""},{"$f":"IF(登録済データ!$B413<>0,登録済データ!T413,\"\")","v":""},{"$f":"IF(登録済データ!$B413<>0,登録済データ!U413,\"\")","v":""},{"$f":"IF(登録済データ!$B413<>0,登録済データ!V413,\"\")","v":""},{"$f":"IF(登録済データ!$B413<>0,登録済データ!W413,\"\")","v":""},{"$f":"IF(登録済データ!$B413<>0,登録済データ!X413,\"\")","v":""},{"$f":"IF($F410<>\"\",登録済データ!$C$4,\"\")","v":""}]
[null,{"$f":"IF($F411<>\"\",登録済データ!$C$2,\"\")","v":""},{"$f":"IF($F411<>\"\",IF($I$1=\"企業コード3桁\",LEFT(登録済データ!$C$3,3),LEFT(登録済データ!$C$3,6)),\"\")","v":""},null,{"$f":"IF(登録済データ!$B414<>0,登録済データ!C414,\"\")","v":""},{"$f":"IF(登録済データ!$B414<>0,登録済データ!D414,\"\")","v":""},{"$f":"IF(登録済データ!$B414<>0,登録済データ!E414,\"\")","v":""},{"$f":"IF(登録済データ!$B414<>0,IF(登録済データ!F414<>\"\",登録済データ!F414,\"\"),\"\")","v":""},{"$f":"IF(登録済データ!$B414<>0,IF(登録済データ!G414<>\"\",登録済データ!G414,\"\"),\"\")","v":""},{"$f":"IF(登録済データ!$B414<>0,IF(登録済データ!H414<>\"\",登録済データ!H414,\"\"),\"\")","v":""},{"$f":"IF(登録済データ!$B414<>0,IF(登録済データ!I414<>\"\",登録済データ!I414,\"\"),\"\")","v":""},{"$f":"IF(登録済データ!$B414<>0,登録済データ!J414,\"\")","v":""},{"$f":"IF(登録済データ!$B414<>0,登録済データ!K414,\"\")","v":""},{"$f":"IF(登録済データ!$B414<>0,登録済データ!L414,\"\")","v":""},{"$f":"IF(登録済データ!$B414<>0,登録済データ!M414,\"\")","v":""},{"$f":"IF(登録済データ!$B414<>0,登録済データ!N414,\"\")","v":""},{"$f":"IF(登録済データ!$B414<>0,登録済データ!O414,\"\")","v":""},{"$f":"IF(登録済データ!$B414<>0,登録済データ!P414,\"\")","v":""},{"$f":"IF(登録済データ!$B414<>0,登録済データ!Q414,\"\")","v":""},{"$f":"IF(登録済データ!$B414<>0,登録済データ!R414,\"\")","v":""},{"$f":"IF(登録済データ!$B414<>0,登録済データ!S414,\"\")","v":""},{"$f":"IF(登録済データ!$B414<>0,登録済データ!T414,\"\")","v":""},{"$f":"IF(登録済データ!$B414<>0,登録済データ!U414,\"\")","v":""},{"$f":"IF(登録済データ!$B414<>0,登録済データ!V414,\"\")","v":""},{"$f":"IF(登録済データ!$B414<>0,登録済データ!W414,\"\")","v":""},{"$f":"IF(登録済データ!$B414<>0,登録済データ!X414,\"\")","v":""},{"$f":"IF($F411<>\"\",登録済データ!$C$4,\"\")","v":""}]
[null,{"$f":"IF($F412<>\"\",登録済データ!$C$2,\"\")","v":""},{"$f":"IF($F412<>\"\",IF($I$1=\"企業コード3桁\",LEFT(登録済データ!$C$3,3),LEFT(登録済データ!$C$3,6)),\"\")","v":""},null,{"$f":"IF(登録済データ!$B415<>0,登録済データ!C415,\"\")","v":""},{"$f":"IF(登録済データ!$B415<>0,登録済データ!D415,\"\")","v":""},{"$f":"IF(登録済データ!$B415<>0,登録済データ!E415,\"\")","v":""},{"$f":"IF(登録済データ!$B415<>0,IF(登録済データ!F415<>\"\",登録済データ!F415,\"\"),\"\")","v":""},{"$f":"IF(登録済データ!$B415<>0,IF(登録済データ!G415<>\"\",登録済データ!G415,\"\"),\"\")","v":""},{"$f":"IF(登録済データ!$B415<>0,IF(登録済データ!H415<>\"\",登録済データ!H415,\"\"),\"\")","v":""},{"$f":"IF(登録済データ!$B415<>0,IF(登録済データ!I415<>\"\",登録済データ!I415,\"\"),\"\")","v":""},{"$f":"IF(登録済データ!$B415<>0,登録済データ!J415,\"\")","v":""},{"$f":"IF(登録済データ!$B415<>0,登録済データ!K415,\"\")","v":""},{"$f":"IF(登録済データ!$B415<>0,登録済データ!L415,\"\")","v":""},{"$f":"IF(登録済データ!$B415<>0,登録済データ!M415,\"\")","v":""},{"$f":"IF(登録済データ!$B415<>0,登録済データ!N415,\"\")","v":""},{"$f":"IF(登録済データ!$B415<>0,登録済データ!O415,\"\")","v":""},{"$f":"IF(登録済データ!$B415<>0,登録済データ!P415,\"\")","v":""},{"$f":"IF(登録済データ!$B415<>0,登録済データ!Q415,\"\")","v":""},{"$f":"IF(登録済データ!$B415<>0,登録済データ!R415,\"\")","v":""},{"$f":"IF(登録済データ!$B415<>0,登録済データ!S415,\"\")","v":""},{"$f":"IF(登録済データ!$B415<>0,登録済データ!T415,\"\")","v":""},{"$f":"IF(登録済データ!$B415<>0,登録済データ!U415,\"\")","v":""},{"$f":"IF(登録済データ!$B415<>0,登録済データ!V415,\"\")","v":""},{"$f":"IF(登録済データ!$B415<>0,登録済データ!W415,\"\")","v":""},{"$f":"IF(登録済データ!$B415<>0,登録済データ!X415,\"\")","v":""},{"$f":"IF($F412<>\"\",登録済データ!$C$4,\"\")","v":""}]
[null,{"$f":"IF($F413<>\"\",登録済データ!$C$2,\"\")","v":""},{"$f":"IF($F413<>\"\",IF($I$1=\"企業コード3桁\",LEFT(登録済データ!$C$3,3),LEFT(登録済データ!$C$3,6)),\"\")","v":""},null,{"$f":"IF(登録済データ!$B416<>0,登録済データ!C416,\"\")","v":""},{"$f":"IF(登録済データ!$B416<>0,登録済データ!D416,\"\")","v":""},{"$f":"IF(登録済データ!$B416<>0,登録済データ!E416,\"\")","v":""},{"$f":"IF(登録済データ!$B416<>0,IF(登録済データ!F416<>\"\",登録済データ!F416,\"\"),\"\")","v":""},{"$f":"IF(登録済データ!$B416<>0,IF(登録済データ!G416<>\"\",登録済データ!G416,\"\"),\"\")","v":""},{"$f":"IF(登録済データ!$B416<>0,IF(登録済データ!H416<>\"\",登録済データ!H416,\"\"),\"\")","v":""},{"$f":"IF(登録済データ!$B416<>0,IF(登録済データ!I416<>\"\",登録済データ!I416,\"\"),\"\")","v":""},{"$f":"IF(登録済データ!$B416<>0,登録済データ!J416,\"\")","v":""},{"$f":"IF(登録済データ!$B416<>0,登録済データ!K416,\"\")","v":""},{"$f":"IF(登録済データ!$B416<>0,登録済データ!L416,\"\")","v":""},{"$f":"IF(登録済データ!$B416<>0,登録済データ!M416,\"\")","v":""},{"$f":"IF(登録済データ!$B416<>0,登録済データ!N416,\"\")","v":""},{"$f":"IF(登録済データ!$B416<>0,登録済データ!O416,\"\")","v":""},{"$f":"IF(登録済データ!$B416<>0,登録済データ!P416,\"\")","v":""},{"$f":"IF(登録済データ!$B416<>0,登録済データ!Q416,\"\")","v":""},{"$f":"IF(登録済データ!$B416<>0,登録済データ!R416,\"\")","v":""},{"$f":"IF(登録済データ!$B416<>0,登録済データ!S416,\"\")","v":""},{"$f":"IF(登録済データ!$B416<>0,登録済データ!T416,\"\")","v":""},{"$f":"IF(登録済データ!$B416<>0,登録済データ!U416,\"\")","v":""},{"$f":"IF(登録済データ!$B416<>0,登録済データ!V416,\"\")","v":""},{"$f":"IF(登録済データ!$B416<>0,登録済データ!W416,\"\")","v":""},{"$f":"IF(登録済データ!$B416<>0,登録済データ!X416,\"\")","v":""},{"$f":"IF($F413<>\"\",登録済データ!$C$4,\"\")","v":""}]
[null,{"$f":"IF($F414<>\"\",登録済データ!$C$2,\"\")","v":""},{"$f":"IF($F414<>\"\",IF($I$1=\"企業コード3桁\",LEFT(登録済データ!$C$3,3),LEFT(登録済データ!$C$3,6)),\"\")","v":""},null,{"$f":"IF(登録済データ!$B417<>0,登録済データ!C417,\"\")","v":""},{"$f":"IF(登録済データ!$B417<>0,登録済データ!D417,\"\")","v":""},{"$f":"IF(登録済データ!$B417<>0,登録済データ!E417,\"\")","v":""},{"$f":"IF(登録済データ!$B417<>0,IF(登録済データ!F417<>\"\",登録済データ!F417,\"\"),\"\")","v":""},{"$f":"IF(登録済データ!$B417<>0,IF(登録済データ!G417<>\"\",登録済データ!G417,\"\"),\"\")","v":""},{"$f":"IF(登録済データ!$B417<>0,IF(登録済データ!H417<>\"\",登録済データ!H417,\"\"),\"\")","v":""},{"$f":"IF(登録済データ!$B417<>0,IF(登録済データ!I417<>\"\",登録済データ!I417,\"\"),\"\")","v":""},{"$f":"IF(登録済データ!$B417<>0,登録済データ!J417,\"\")","v":""},{"$f":"IF(登録済データ!$B417<>0,登録済データ!K417,\"\")","v":""},{"$f":"IF(登録済データ!$B417<>0,登録済データ!L417,\"\")","v":""},{"$f":"IF(登録済データ!$B417<>0,登録済データ!M417,\"\")","v":""},{"$f":"IF(登録済データ!$B417<>0,登録済データ!N417,\"\")","v":""},{"$f":"IF(登録済データ!$B417<>0,登録済データ!O417,\"\")","v":""},{"$f":"IF(登録済データ!$B417<>0,登録済データ!P417,\"\")","v":""},{"$f":"IF(登録済データ!$B417<>0,登録済データ!Q417,\"\")","v":""},{"$f":"IF(登録済データ!$B417<>0,登録済データ!R417,\"\")","v":""},{"$f":"IF(登録済データ!$B417<>0,登録済データ!S417,\"\")","v":""},{"$f":"IF(登録済データ!$B417<>0,登録済データ!T417,\"\")","v":""},{"$f":"IF(登録済データ!$B417<>0,登録済データ!U417,\"\")","v":""},{"$f":"IF(登録済データ!$B417<>0,登録済データ!V417,\"\")","v":""},{"$f":"IF(登録済データ!$B417<>0,登録済データ!W417,\"\")","v":""},{"$f":"IF(登録済データ!$B417<>0,登録済データ!X417,\"\")","v":""},{"$f":"IF($F414<>\"\",登録済データ!$C$4,\"\")","v":""}]
[null,{"$f":"IF($F415<>\"\",登録済データ!$C$2,\"\")","v":""},{"$f":"IF($F415<>\"\",IF($I$1=\"企業コード3桁\",LEFT(登録済データ!$C$3,3),LEFT(登録済データ!$C$3,6)),\"\")","v":""},null,{"$f":"IF(登録済データ!$B418<>0,登録済データ!C418,\"\")","v":""},{"$f":"IF(登録済データ!$B418<>0,登録済データ!D418,\"\")","v":""},{"$f":"IF(登録済データ!$B418<>0,登録済データ!E418,\"\")","v":""},{"$f":"IF(登録済データ!$B418<>0,IF(登録済データ!F418<>\"\",登録済データ!F418,\"\"),\"\")","v":""},{"$f":"IF(登録済データ!$B418<>0,IF(登録済データ!G418<>\"\",登録済データ!G418,\"\"),\"\")","v":""},{"$f":"IF(登録済データ!$B418<>0,IF(登録済データ!H418<>\"\",登録済データ!H418,\"\"),\"\")","v":""},{"$f":"IF(登録済データ!$B418<>0,IF(登録済データ!I418<>\"\",登録済データ!I418,\"\"),\"\")","v":""},{"$f":"IF(登録済データ!$B418<>0,登録済データ!J418,\"\")","v":""},{"$f":"IF(登録済データ!$B418<>0,登録済データ!K418,\"\")","v":""},{"$f":"IF(登録済データ!$B418<>0,登録済データ!L418,\"\")","v":""},{"$f":"IF(登録済データ!$B418<>0,登録済データ!M418,\"\")","v":""},{"$f":"IF(登録済データ!$B418<>0,登録済データ!N418,\"\")","v":""},{"$f":"IF(登録済データ!$B418<>0,登録済データ!O418,\"\")","v":""},{"$f":"IF(登録済データ!$B418<>0,登録済データ!P418,\"\")","v":""},{"$f":"IF(登録済データ!$B418<>0,登録済データ!Q418,\"\")","v":""},{"$f":"IF(登録済データ!$B418<>0,登録済データ!R418,\"\")","v":""},{"$f":"IF(登録済データ!$B418<>0,登録済データ!S418,\"\")","v":""},{"$f":"IF(登録済データ!$B418<>0,登録済データ!T418,\"\")","v":""},{"$f":"IF(登録済データ!$B418<>0,登録済データ!U418,\"\")","v":""},{"$f":"IF(登録済データ!$B418<>0,登録済データ!V418,\"\")","v":""},{"$f":"IF(登録済データ!$B418<>0,登録済データ!W418,\"\")","v":""},{"$f":"IF(登録済データ!$B418<>0,登録済データ!X418,\"\")","v":""},{"$f":"IF($F415<>\"\",登録済データ!$C$4,\"\")","v":""}]
[null,{"$f":"IF($F416<>\"\",登録済データ!$C$2,\"\")","v":""},{"$f":"IF($F416<>\"\",IF($I$1=\"企業コード3桁\",LEFT(登録済データ!$C$3,3),LEFT(登録済データ!$C$3,6)),\"\")","v":""},null,{"$f":"IF(登録済データ!$B419<>0,登録済データ!C419,\"\")","v":""},{"$f":"IF(登録済データ!$B419<>0,登録済データ!D419,\"\")","v":""},{"$f":"IF(登録済データ!$B419<>0,登録済データ!E419,\"\")","v":""},{"$f":"IF(登録済データ!$B419<>0,IF(登録済データ!F419<>\"\",登録済データ!F419,\"\"),\"\")","v":""},{"$f":"IF(登録済データ!$B419<>0,IF(登録済データ!G419<>\"\",登録済データ!G419,\"\"),\"\")","v":""},{"$f":"IF(登録済データ!$B419<>0,IF(登録済データ!H419<>\"\",登録済データ!H419,\"\"),\"\")","v":""},{"$f":"IF(登録済データ!$B419<>0,IF(登録済データ!I419<>\"\",登録済データ!I419,\"\"),\"\")","v":""},{"$f":"IF(登録済データ!$B419<>0,登録済データ!J419,\"\")","v":""},{"$f":"IF(登録済データ!$B419<>0,登録済データ!K419,\"\")","v":""},{"$f":"IF(登録済データ!$B419<>0,登録済データ!L419,\"\")","v":""},{"$f":"IF(登録済データ!$B419<>0,登録済データ!M419,\"\")","v":""},{"$f":"IF(登録済データ!$B419<>0,登録済データ!N419,\"\")","v":""},{"$f":"IF(登録済データ!$B419<>0,登録済データ!O419,\"\")","v":""},{"$f":"IF(登録済データ!$B419<>0,登録済データ!P419,\"\")","v":""},{"$f":"IF(登録済データ!$B419<>0,登録済データ!Q419,\"\")","v":""},{"$f":"IF(登録済データ!$B419<>0,登録済データ!R419,\"\")","v":""},{"$f":"IF(登録済データ!$B419<>0,登録済データ!S419,\"\")","v":""},{"$f":"IF(登録済データ!$B419<>0,登録済データ!T419,\"\")","v":""},{"$f":"IF(登録済データ!$B419<>0,登録済データ!U419,\"\")","v":""},{"$f":"IF(登録済データ!$B419<>0,登録済データ!V419,\"\")","v":""},{"$f":"IF(登録済データ!$B419<>0,登録済データ!W419,\"\")","v":""},{"$f":"IF(登録済データ!$B419<>0,登録済データ!X419,\"\")","v":""},{"$f":"IF($F416<>\"\",登録済データ!$C$4,\"\")","v":""}]
[null,{"$f":"IF($F417<>\"\",登録済データ!$C$2,\"\")","v":""},{"$f":"IF($F417<>\"\",IF($I$1=\"企業コード3桁\",LEFT(登録済データ!$C$3,3),LEFT(登録済データ!$C$3,6)),\"\")","v":""},null,{"$f":"IF(登録済データ!$B420<>0,登録済データ!C420,\"\")","v":""},{"$f":"IF(登録済データ!$B420<>0,登録済データ!D420,\"\")","v":""},{"$f":"IF(登録済データ!$B420<>0,登録済データ!E420,\"\")","v":""},{"$f":"IF(登録済データ!$B420<>0,IF(登録済データ!F420<>\"\",登録済データ!F420,\"\"),\"\")","v":""},{"$f":"IF(登録済データ!$B420<>0,IF(登録済データ!G420<>\"\",登録済データ!G420,\"\"),\"\")","v":""},{"$f":"IF(登録済データ!$B420<>0,IF(登録済データ!H420<>\"\",登録済データ!H420,\"\"),\"\")","v":""},{"$f":"IF(登録済データ!$B420<>0,IF(登録済データ!I420<>\"\",登録済データ!I420,\"\"),\"\")","v":""},{"$f":"IF(登録済データ!$B420<>0,登録済データ!J420,\"\")","v":""},{"$f":"IF(登録済データ!$B420<>0,登録済データ!K420,\"\")","v":""},{"$f":"IF(登録済データ!$B420<>0,登録済データ!L420,\"\")","v":""},{"$f":"IF(登録済データ!$B420<>0,登録済データ!M420,\"\")","v":""},{"$f":"IF(登録済データ!$B420<>0,登録済データ!N420,\"\")","v":""},{"$f":"IF(登録済データ!$B420<>0,登録済データ!O420,\"\")","v":""},{"$f":"IF(登録済データ!$B420<>0,登録済データ!P420,\"\")","v":""},{"$f":"IF(登録済データ!$B420<>0,登録済データ!Q420,\"\")","v":""},{"$f":"IF(登録済データ!$B420<>0,登録済データ!R420,\"\")","v":""},{"$f":"IF(登録済データ!$B420<>0,登録済データ!S420,\"\")","v":""},{"$f":"IF(登録済データ!$B420<>0,登録済データ!T420,\"\")","v":""},{"$f":"IF(登録済データ!$B420<>0,登録済データ!U420,\"\")","v":""},{"$f":"IF(登録済データ!$B420<>0,登録済データ!V420,\"\")","v":""},{"$f":"IF(登録済データ!$B420<>0,登録済データ!W420,\"\")","v":""},{"$f":"IF(登録済データ!$B420<>0,登録済データ!X420,\"\")","v":""},{"$f":"IF($F417<>\"\",登録済データ!$C$4,\"\")","v":""}]
[null,{"$f":"IF($F418<>\"\",登録済データ!$C$2,\"\")","v":""},{"$f":"IF($F418<>\"\",IF($I$1=\"企業コード3桁\",LEFT(登録済データ!$C$3,3),LEFT(登録済データ!$C$3,6)),\"\")","v":""},null,{"$f":"IF(登録済データ!$B421<>0,登録済データ!C421,\"\")","v":""},{"$f":"IF(登録済データ!$B421<>0,登録済データ!D421,\"\")","v":""},{"$f":"IF(登録済データ!$B421<>0,登録済データ!E421,\"\")","v":""},{"$f":"IF(登録済データ!$B421<>0,IF(登録済データ!F421<>\"\",登録済データ!F421,\"\"),\"\")","v":""},{"$f":"IF(登録済データ!$B421<>0,IF(登録済データ!G421<>\"\",登録済データ!G421,\"\"),\"\")","v":""},{"$f":"IF(登録済データ!$B421<>0,IF(登録済データ!H421<>\"\",登録済データ!H421,\"\"),\"\")","v":""},{"$f":"IF(登録済データ!$B421<>0,IF(登録済データ!I421<>\"\",登録済データ!I421,\"\"),\"\")","v":""},{"$f":"IF(登録済データ!$B421<>0,登録済データ!J421,\"\")","v":""},{"$f":"IF(登録済データ!$B421<>0,登録済データ!K421,\"\")","v":""},{"$f":"IF(登録済データ!$B421<>0,登録済データ!L421,\"\")","v":""},{"$f":"IF(登録済データ!$B421<>0,登録済データ!M421,\"\")","v":""},{"$f":"IF(登録済データ!$B421<>0,登録済データ!N421,\"\")","v":""},{"$f":"IF(登録済データ!$B421<>0,登録済データ!O421,\"\")","v":""},{"$f":"IF(登録済データ!$B421<>0,登録済データ!P421,\"\")","v":""},{"$f":"IF(登録済データ!$B421<>0,登録済データ!Q421,\"\")","v":""},{"$f":"IF(登録済データ!$B421<>0,登録済データ!R421,\"\")","v":""},{"$f":"IF(登録済データ!$B421<>0,登録済データ!S421,\"\")","v":""},{"$f":"IF(登録済データ!$B421<>0,登録済データ!T421,\"\")","v":""},{"$f":"IF(登録済データ!$B421<>0,登録済データ!U421,\"\")","v":""},{"$f":"IF(登録済データ!$B421<>0,登録済データ!V421,\"\")","v":""},{"$f":"IF(登録済データ!$B421<>0,登録済データ!W421,\"\")","v":""},{"$f":"IF(登録済データ!$B421<>0,登録済データ!X421,\"\")","v":""},{"$f":"IF($F418<>\"\",登録済データ!$C$4,\"\")","v":""}]
[null,{"$f":"IF($F419<>\"\",登録済データ!$C$2,\"\")","v":""},{"$f":"IF($F419<>\"\",IF($I$1=\"企業コード3桁\",LEFT(登録済データ!$C$3,3),LEFT(登録済データ!$C$3,6)),\"\")","v":""},null,{"$f":"IF(登録済データ!$B422<>0,登録済データ!C422,\"\")","v":""},{"$f":"IF(登録済データ!$B422<>0,登録済データ!D422,\"\")","v":""},{"$f":"IF(登録済データ!$B422<>0,登録済データ!E422,\"\")","v":""},{"$f":"IF(登録済データ!$B422<>0,IF(登録済データ!F422<>\"\",登録済データ!F422,\"\"),\"\")","v":""},{"$f":"IF(登録済データ!$B422<>0,IF(登録済データ!G422<>\"\",登録済データ!G422,\"\"),\"\")","v":""},{"$f":"IF(登録済データ!$B422<>0,IF(登録済データ!H422<>\"\",登録済データ!H422,\"\"),\"\")","v":""},{"$f":"IF(登録済データ!$B422<>0,IF(登録済データ!I422<>\"\",登録済データ!I422,\"\"),\"\")","v":""},{"$f":"IF(登録済データ!$B422<>0,登録済データ!J422,\"\")","v":""},{"$f":"IF(登録済データ!$B422<>0,登録済データ!K422,\"\")","v":""},{"$f":"IF(登録済データ!$B422<>0,登録済データ!L422,\"\")","v":""},{"$f":"IF(登録済データ!$B422<>0,登録済データ!M422,\"\")","v":""},{"$f":"IF(登録済データ!$B422<>0,登録済データ!N422,\"\")","v":""},{"$f":"IF(登録済データ!$B422<>0,登録済データ!O422,\"\")","v":""},{"$f":"IF(登録済データ!$B422<>0,登録済データ!P422,\"\")","v":""},{"$f":"IF(登録済データ!$B422<>0,登録済データ!Q422,\"\")","v":""},{"$f":"IF(登録済データ!$B422<>0,登録済データ!R422,\"\")","v":""},{"$f":"IF(登録済データ!$B422<>0,登録済データ!S422,\"\")","v":""},{"$f":"IF(登録済データ!$B422<>0,登録済データ!T422,\"\")","v":""},{"$f":"IF(登録済データ!$B422<>0,登録済データ!U422,\"\")","v":""},{"$f":"IF(登録済データ!$B422<>0,登録済データ!V422,\"\")","v":""},{"$f":"IF(登録済データ!$B422<>0,登録済データ!W422,\"\")","v":""},{"$f":"IF(登録済データ!$B422<>0,登録済データ!X422,\"\")","v":""},{"$f":"IF($F419<>\"\",登録済データ!$C$4,\"\")","v":""}]
[null,{"$f":"IF($F420<>\"\",登録済データ!$C$2,\"\")","v":""},{"$f":"IF($F420<>\"\",IF($I$1=\"企業コード3桁\",LEFT(登録済データ!$C$3,3),LEFT(登録済データ!$C$3,6)),\"\")","v":""},null,{"$f":"IF(登録済データ!$B423<>0,登録済データ!C423,\"\")","v":""},{"$f":"IF(登録済データ!$B423<>0,登録済データ!D423,\"\")","v":""},{"$f":"IF(登録済データ!$B423<>0,登録済データ!E423,\"\")","v":""},{"$f":"IF(登録済データ!$B423<>0,IF(登録済データ!F423<>\"\",登録済データ!F423,\"\"),\"\")","v":""},{"$f":"IF(登録済データ!$B423<>0,IF(登録済データ!G423<>\"\",登録済データ!G423,\"\"),\"\")","v":""},{"$f":"IF(登録済データ!$B423<>0,IF(登録済データ!H423<>\"\",登録済データ!H423,\"\"),\"\")","v":""},{"$f":"IF(登録済データ!$B423<>0,IF(登録済データ!I423<>\"\",登録済データ!I423,\"\"),\"\")","v":""},{"$f":"IF(登録済データ!$B423<>0,登録済データ!J423,\"\")","v":""},{"$f":"IF(登録済データ!$B423<>0,登録済データ!K423,\"\")","v":""},{"$f":"IF(登録済データ!$B423<>0,登録済データ!L423,\"\")","v":""},{"$f":"IF(登録済データ!$B423<>0,登録済データ!M423,\"\")","v":""},{"$f":"IF(登録済データ!$B423<>0,登録済データ!N423,\"\")","v":""},{"$f":"IF(登録済データ!$B423<>0,登録済データ!O423,\"\")","v":""},{"$f":"IF(登録済データ!$B423<>0,登録済データ!P423,\"\")","v":""},{"$f":"IF(登録済データ!$B423<>0,登録済データ!Q423,\"\")","v":""},{"$f":"IF(登録済データ!$B423<>0,登録済データ!R423,\"\")","v":""},{"$f":"IF(登録済データ!$B423<>0,登録済データ!S423,\"\")","v":""},{"$f":"IF(登録済データ!$B423<>0,登録済データ!T423,\"\")","v":""},{"$f":"IF(登録済データ!$B423<>0,登録済データ!U423,\"\")","v":""},{"$f":"IF(登録済データ!$B423<>0,登録済データ!V423,\"\")","v":""},{"$f":"IF(登録済データ!$B423<>0,登録済データ!W423,\"\")","v":""},{"$f":"IF(登録済データ!$B423<>0,登録済データ!X423,\"\")","v":""},{"$f":"IF($F420<>\"\",登録済データ!$C$4,\"\")","v":""}]
[null,{"$f":"IF($F421<>\"\",登録済データ!$C$2,\"\")","v":""},{"$f":"IF($F421<>\"\",IF($I$1=\"企業コード3桁\",LEFT(登録済データ!$C$3,3),LEFT(登録済データ!$C$3,6)),\"\")","v":""},null,{"$f":"IF(登録済データ!$B424<>0,登録済データ!C424,\"\")","v":""},{"$f":"IF(登録済データ!$B424<>0,登録済データ!D424,\"\")","v":""},{"$f":"IF(登録済データ!$B424<>0,登録済データ!E424,\"\")","v":""},{"$f":"IF(登録済データ!$B424<>0,IF(登録済データ!F424<>\"\",登録済データ!F424,\"\"),\"\")","v":""},{"$f":"IF(登録済データ!$B424<>0,IF(登録済データ!G424<>\"\",登録済データ!G424,\"\"),\"\")","v":""},{"$f":"IF(登録済データ!$B424<>0,IF(登録済データ!H424<>\"\",登録済データ!H424,\"\"),\"\")","v":""},{"$f":"IF(登録済データ!$B424<>0,IF(登録済データ!I424<>\"\",登録済データ!I424,\"\"),\"\")","v":""},{"$f":"IF(登録済データ!$B424<>0,登録済データ!J424,\"\")","v":""},{"$f":"IF(登録済データ!$B424<>0,登録済データ!K424,\"\")","v":""},{"$f":"IF(登録済データ!$B424<>0,登録済データ!L424,\"\")","v":""},{"$f":"IF(登録済データ!$B424<>0,登録済データ!M424,\"\")","v":""},{"$f":"IF(登録済データ!$B424<>0,登録済データ!N424,\"\")","v":""},{"$f":"IF(登録済データ!$B424<>0,登録済データ!O424,\"\")","v":""},{"$f":"IF(登録済データ!$B424<>0,登録済データ!P424,\"\")","v":""},{"$f":"IF(登録済データ!$B424<>0,登録済データ!Q424,\"\")","v":""},{"$f":"IF(登録済データ!$B424<>0,登録済データ!R424,\"\")","v":""},{"$f":"IF(登録済データ!$B424<>0,登録済データ!S424,\"\")","v":""},{"$f":"IF(登録済データ!$B424<>0,登録済データ!T424,\"\")","v":""},{"$f":"IF(登録済データ!$B424<>0,登録済データ!U424,\"\")","v":""},{"$f":"IF(登録済データ!$B424<>0,登録済データ!V424,\"\")","v":""},{"$f":"IF(登録済データ!$B424<>0,登録済データ!W424,\"\")","v":""},{"$f":"IF(登録済データ!$B424<>0,登録済データ!X424,\"\")","v":""},{"$f":"IF($F421<>\"\",登録済データ!$C$4,\"\")","v":""}]
[null,{"$f":"IF($F422<>\"\",登録済データ!$C$2,\"\")","v":""},{"$f":"IF($F422<>\"\",IF($I$1=\"企業コード3桁\",LEFT(登録済データ!$C$3,3),LEFT(登録済データ!$C$3,6)),\"\")","v":""},null,{"$f":"IF(登録済データ!$B425<>0,登録済データ!C425,\"\")","v":""},{"$f":"IF(登録済データ!$B425<>0,登録済データ!D425,\"\")","v":""},{"$f":"IF(登録済データ!$B425<>0,登録済データ!E425,\"\")","v":""},{"$f":"IF(登録済データ!$B425<>0,IF(登録済データ!F425<>\"\",登録済データ!F425,\"\"),\"\")","v":""},{"$f":"IF(登録済データ!$B425<>0,IF(登録済データ!G425<>\"\",登録済データ!G425,\"\"),\"\")","v":""},{"$f":"IF(登録済データ!$B425<>0,IF(登録済データ!H425<>\"\",登録済データ!H425,\"\"),\"\")","v":""},{"$f":"IF(登録済データ!$B425<>0,IF(登録済データ!I425<>\"\",登録済データ!I425,\"\"),\"\")","v":""},{"$f":"IF(登録済データ!$B425<>0,登録済データ!J425,\"\")","v":""},{"$f":"IF(登録済データ!$B425<>0,登録済データ!K425,\"\")","v":""},{"$f":"IF(登録済データ!$B425<>0,登録済データ!L425,\"\")","v":""},{"$f":"IF(登録済データ!$B425<>0,登録済データ!M425,\"\")","v":""},{"$f":"IF(登録済データ!$B425<>0,登録済データ!N425,\"\")","v":""},{"$f":"IF(登録済データ!$B425<>0,登録済データ!O425,\"\")","v":""},{"$f":"IF(登録済データ!$B425<>0,登録済データ!P425,\"\")","v":""},{"$f":"IF(登録済データ!$B425<>0,登録済データ!Q425,\"\")","v":""},{"$f":"IF(登録済データ!$B425<>0,登録済データ!R425,\"\")","v":""},{"$f":"IF(登録済データ!$B425<>0,登録済データ!S425,\"\")","v":""},{"$f":"IF(登録済データ!$B425<>0,登録済データ!T425,\"\")","v":""},{"$f":"IF(登録済データ!$B425<>0,登録済データ!U425,\"\")","v":""},{"$f":"IF(登録済データ!$B425<>0,登録済データ!V425,\"\")","v":""},{"$f":"IF(登録済データ!$B425<>0,登録済データ!W425,\"\")","v":""},{"$f":"IF(登録済データ!$B425<>0,登録済データ!X425,\"\")","v":""},{"$f":"IF($F422<>\"\",登録済データ!$C$4,\"\")","v":""}]
[null,{"$f":"IF($F423<>\"\",登録済データ!$C$2,\"\")","v":""},{"$f":"IF($F423<>\"\",IF($I$1=\"企業コード3桁\",LEFT(登録済データ!$C$3,3),LEFT(登録済データ!$C$3,6)),\"\")","v":""},null,{"$f":"IF(登録済データ!$B426<>0,登録済データ!C426,\"\")","v":""},{"$f":"IF(登録済データ!$B426<>0,登録済データ!D426,\"\")","v":""},{"$f":"IF(登録済データ!$B426<>0,登録済データ!E426,\"\")","v":""},{"$f":"IF(登録済データ!$B426<>0,IF(登録済データ!F426<>\"\",登録済データ!F426,\"\"),\"\")","v":""},{"$f":"IF(登録済データ!$B426<>0,IF(登録済データ!G426<>\"\",登録済データ!G426,\"\"),\"\")","v":""},{"$f":"IF(登録済データ!$B426<>0,IF(登録済データ!H426<>\"\",登録済データ!H426,\"\"),\"\")","v":""},{"$f":"IF(登録済データ!$B426<>0,IF(登録済データ!I426<>\"\",登録済データ!I426,\"\"),\"\")","v":""},{"$f":"IF(登録済データ!$B426<>0,登録済データ!J426,\"\")","v":""},{"$f":"IF(登録済データ!$B426<>0,登録済データ!K426,\"\")","v":""},{"$f":"IF(登録済データ!$B426<>0,登録済データ!L426,\"\")","v":""},{"$f":"IF(登録済データ!$B426<>0,登録済データ!M426,\"\")","v":""},{"$f":"IF(登録済データ!$B426<>0,登録済データ!N426,\"\")","v":""},{"$f":"IF(登録済データ!$B426<>0,登録済データ!O426,\"\")","v":""},{"$f":"IF(登録済データ!$B426<>0,登録済データ!P426,\"\")","v":""},{"$f":"IF(登録済データ!$B426<>0,登録済データ!Q426,\"\")","v":""},{"$f":"IF(登録済データ!$B426<>0,登録済データ!R426,\"\")","v":""},{"$f":"IF(登録済データ!$B426<>0,登録済データ!S426,\"\")","v":""},{"$f":"IF(登録済データ!$B426<>0,登録済データ!T426,\"\")","v":""},{"$f":"IF(登録済データ!$B426<>0,登録済データ!U426,\"\")","v":""},{"$f":"IF(登録済データ!$B426<>0,登録済データ!V426,\"\")","v":""},{"$f":"IF(登録済データ!$B426<>0,登録済データ!W426,\"\")","v":""},{"$f":"IF(登録済データ!$B426<>0,登録済データ!X426,\"\")","v":""},{"$f":"IF($F423<>\"\",登録済データ!$C$4,\"\")","v":""}]
[null,{"$f":"IF($F424<>\"\",登録済データ!$C$2,\"\")","v":""},{"$f":"IF($F424<>\"\",IF($I$1=\"企業コード3桁\",LEFT(登録済データ!$C$3,3),LEFT(登録済データ!$C$3,6)),\"\")","v":""},null,{"$f":"IF(登録済データ!$B427<>0,登録済データ!C427,\"\")","v":""},{"$f":"IF(登録済データ!$B427<>0,登録済データ!D427,\"\")","v":""},{"$f":"IF(登録済データ!$B427<>0,登録済データ!E427,\"\")","v":""},{"$f":"IF(登録済データ!$B427<>0,IF(登録済データ!F427<>\"\",登録済データ!F427,\"\"),\"\")","v":""},{"$f":"IF(登録済データ!$B427<>0,IF(登録済データ!G427<>\"\",登録済データ!G427,\"\"),\"\")","v":""},{"$f":"IF(登録済データ!$B427<>0,IF(登録済データ!H427<>\"\",登録済データ!H427,\"\"),\"\")","v":""},{"$f":"IF(登録済データ!$B427<>0,IF(登録済データ!I427<>\"\",登録済データ!I427,\"\"),\"\")","v":""},{"$f":"IF(登録済データ!$B427<>0,登録済データ!J427,\"\")","v":""},{"$f":"IF(登録済データ!$B427<>0,登録済データ!K427,\"\")","v":""},{"$f":"IF(登録済データ!$B427<>0,登録済データ!L427,\"\")","v":""},{"$f":"IF(登録済データ!$B427<>0,登録済データ!M427,\"\")","v":""},{"$f":"IF(登録済データ!$B427<>0,登録済データ!N427,\"\")","v":""},{"$f":"IF(登録済データ!$B427<>0,登録済データ!O427,\"\")","v":""},{"$f":"IF(登録済データ!$B427<>0,登録済データ!P427,\"\")","v":""},{"$f":"IF(登録済データ!$B427<>0,登録済データ!Q427,\"\")","v":""},{"$f":"IF(登録済データ!$B427<>0,登録済データ!R427,\"\")","v":""},{"$f":"IF(登録済データ!$B427<>0,登録済データ!S427,\"\")","v":""},{"$f":"IF(登録済データ!$B427<>0,登録済データ!T427,\"\")","v":""},{"$f":"IF(登録済データ!$B427<>0,登録済データ!U427,\"\")","v":""},{"$f":"IF(登録済データ!$B427<>0,登録済データ!V427,\"\")","v":""},{"$f":"IF(登録済データ!$B427<>0,登録済データ!W427,\"\")","v":""},{"$f":"IF(登録済データ!$B427<>0,登録済データ!X427,\"\")","v":""},{"$f":"IF($F424<>\"\",登録済データ!$C$4,\"\")","v":""}]
[null,{"$f":"IF($F425<>\"\",登録済データ!$C$2,\"\")","v":""},{"$f":"IF($F425<>\"\",IF($I$1=\"企業コード3桁\",LEFT(登録済データ!$C$3,3),LEFT(登録済データ!$C$3,6)),\"\")","v":""},null,{"$f":"IF(登録済データ!$B428<>0,登録済データ!C428,\"\")","v":""},{"$f":"IF(登録済データ!$B428<>0,登録済データ!D428,\"\")","v":""},{"$f":"IF(登録済データ!$B428<>0,登録済データ!E428,\"\")","v":""},{"$f":"IF(登録済データ!$B428<>0,IF(登録済データ!F428<>\"\",登録済データ!F428,\"\"),\"\")","v":""},{"$f":"IF(登録済データ!$B428<>0,IF(登録済データ!G428<>\"\",登録済データ!G428,\"\"),\"\")","v":""},{"$f":"IF(登録済データ!$B428<>0,IF(登録済データ!H428<>\"\",登録済データ!H428,\"\"),\"\")","v":""},{"$f":"IF(登録済データ!$B428<>0,IF(登録済データ!I428<>\"\",登録済データ!I428,\"\"),\"\")","v":""},{"$f":"IF(登録済データ!$B428<>0,登録済データ!J428,\"\")","v":""},{"$f":"IF(登録済データ!$B428<>0,登録済データ!K428,\"\")","v":""},{"$f":"IF(登録済データ!$B428<>0,登録済データ!L428,\"\")","v":""},{"$f":"IF(登録済データ!$B428<>0,登録済データ!M428,\"\")","v":""},{"$f":"IF(登録済データ!$B428<>0,登録済データ!N428,\"\")","v":""},{"$f":"IF(登録済データ!$B428<>0,登録済データ!O428,\"\")","v":""},{"$f":"IF(登録済データ!$B428<>0,登録済データ!P428,\"\")","v":""},{"$f":"IF(登録済データ!$B428<>0,登録済データ!Q428,\"\")","v":""},{"$f":"IF(登録済データ!$B428<>0,登録済データ!R428,\"\")","v":""},{"$f":"IF(登録済データ!$B428<>0,登録済データ!S428,\"\")","v":""},{"$f":"IF(登録済データ!$B428<>0,登録済データ!T428,\"\")","v":""},{"$f":"IF(登録済データ!$B428<>0,登録済データ!U428,\"\")","v":""},{"$f":"IF(登録済データ!$B428<>0,登録済データ!V428,\"\")","v":""},{"$f":"IF(登録済データ!$B428<>0,登録済データ!W428,\"\")","v":""},{"$f":"IF(登録済データ!$B428<>0,登録済データ!X428,\"\")","v":""},{"$f":"IF($F425<>\"\",登録済データ!$C$4,\"\")","v":""}]
[null,{"$f":"IF($F426<>\"\",登録済データ!$C$2,\"\")","v":""},{"$f":"IF($F426<>\"\",IF($I$1=\"企業コード3桁\",LEFT(登録済データ!$C$3,3),LEFT(登録済データ!$C$3,6)),\"\")","v":""},null,{"$f":"IF(登録済データ!$B429<>0,登録済データ!C429,\"\")","v":""},{"$f":"IF(登録済データ!$B429<>0,登録済データ!D429,\"\")","v":""},{"$f":"IF(登録済データ!$B429<>0,登録済データ!E429,\"\")","v":""},{"$f":"IF(登録済データ!$B429<>0,IF(登録済データ!F429<>\"\",登録済データ!F429,\"\"),\"\")","v":""},{"$f":"IF(登録済データ!$B429<>0,IF(登録済データ!G429<>\"\",登録済データ!G429,\"\"),\"\")","v":""},{"$f":"IF(登録済データ!$B429<>0,IF(登録済データ!H429<>\"\",登録済データ!H429,\"\"),\"\")","v":""},{"$f":"IF(登録済データ!$B429<>0,IF(登録済データ!I429<>\"\",登録済データ!I429,\"\"),\"\")","v":""},{"$f":"IF(登録済データ!$B429<>0,登録済データ!J429,\"\")","v":""},{"$f":"IF(登録済データ!$B429<>0,登録済データ!K429,\"\")","v":""},{"$f":"IF(登録済データ!$B429<>0,登録済データ!L429,\"\")","v":""},{"$f":"IF(登録済データ!$B429<>0,登録済データ!M429,\"\")","v":""},{"$f":"IF(登録済データ!$B429<>0,登録済データ!N429,\"\")","v":""},{"$f":"IF(登録済データ!$B429<>0,登録済データ!O429,\"\")","v":""},{"$f":"IF(登録済データ!$B429<>0,登録済データ!P429,\"\")","v":""},{"$f":"IF(登録済データ!$B429<>0,登録済データ!Q429,\"\")","v":""},{"$f":"IF(登録済データ!$B429<>0,登録済データ!R429,\"\")","v":""},{"$f":"IF(登録済データ!$B429<>0,登録済データ!S429,\"\")","v":""},{"$f":"IF(登録済データ!$B429<>0,登録済データ!T429,\"\")","v":""},{"$f":"IF(登録済データ!$B429<>0,登録済データ!U429,\"\")","v":""},{"$f":"IF(登録済データ!$B429<>0,登録済データ!V429,\"\")","v":""},{"$f":"IF(登録済データ!$B429<>0,登録済データ!W429,\"\")","v":""},{"$f":"IF(登録済データ!$B429<>0,登録済データ!X429,\"\")","v":""},{"$f":"IF($F426<>\"\",登録済データ!$C$4,\"\")","v":""}]
[null,{"$f":"IF($F427<>\"\",登録済データ!$C$2,\"\")","v":""},{"$f":"IF($F427<>\"\",IF($I$1=\"企業コード3桁\",LEFT(登録済データ!$C$3,3),LEFT(登録済データ!$C$3,6)),\"\")","v":""},null,{"$f":"IF(登録済データ!$B430<>0,登録済データ!C430,\"\")","v":""},{"$f":"IF(登録済データ!$B430<>0,登録済データ!D430,\"\")","v":""},{"$f":"IF(登録済データ!$B430<>0,登録済データ!E430,\"\")","v":""},{"$f":"IF(登録済データ!$B430<>0,IF(登録済データ!F430<>\"\",登録済データ!F430,\"\"),\"\")","v":""},{"$f":"IF(登録済データ!$B430<>0,IF(登録済データ!G430<>\"\",登録済データ!G430,\"\"),\"\")","v":""},{"$f":"IF(登録済データ!$B430<>0,IF(登録済データ!H430<>\"\",登録済データ!H430,\"\"),\"\")","v":""},{"$f":"IF(登録済データ!$B430<>0,IF(登録済データ!I430<>\"\",登録済データ!I430,\"\"),\"\")","v":""},{"$f":"IF(登録済データ!$B430<>0,登録済データ!J430,\"\")","v":""},{"$f":"IF(登録済データ!$B430<>0,登録済データ!K430,\"\")","v":""},{"$f":"IF(登録済データ!$B430<>0,登録済データ!L430,\"\")","v":""},{"$f":"IF(登録済データ!$B430<>0,登録済データ!M430,\"\")","v":""},{"$f":"IF(登録済データ!$B430<>0,登録済データ!N430,\"\")","v":""},{"$f":"IF(登録済データ!$B430<>0,登録済データ!O430,\"\")","v":""},{"$f":"IF(登録済データ!$B430<>0,登録済データ!P430,\"\")","v":""},{"$f":"IF(登録済データ!$B430<>0,登録済データ!Q430,\"\")","v":""},{"$f":"IF(登録済データ!$B430<>0,登録済データ!R430,\"\")","v":""},{"$f":"IF(登録済データ!$B430<>0,登録済データ!S430,\"\")","v":""},{"$f":"IF(登録済データ!$B430<>0,登録済データ!T430,\"\")","v":""},{"$f":"IF(登録済データ!$B430<>0,登録済データ!U430,\"\")","v":""},{"$f":"IF(登録済データ!$B430<>0,登録済データ!V430,\"\")","v":""},{"$f":"IF(登録済データ!$B430<>0,登録済データ!W430,\"\")","v":""},{"$f":"IF(登録済データ!$B430<>0,登録済データ!X430,\"\")","v":""},{"$f":"IF($F427<>\"\",登録済データ!$C$4,\"\")","v":""}]
[null,{"$f":"IF($F428<>\"\",登録済データ!$C$2,\"\")","v":""},{"$f":"IF($F428<>\"\",IF($I$1=\"企業コード3桁\",LEFT(登録済データ!$C$3,3),LEFT(登録済データ!$C$3,6)),\"\")","v":""},null,{"$f":"IF(登録済データ!$B431<>0,登録済データ!C431,\"\")","v":""},{"$f":"IF(登録済データ!$B431<>0,登録済データ!D431,\"\")","v":""},{"$f":"IF(登録済データ!$B431<>0,登録済データ!E431,\"\")","v":""},{"$f":"IF(登録済データ!$B431<>0,IF(登録済データ!F431<>\"\",登録済データ!F431,\"\"),\"\")","v":""},{"$f":"IF(登録済データ!$B431<>0,IF(登録済データ!G431<>\"\",登録済データ!G431,\"\"),\"\")","v":""},{"$f":"IF(登録済データ!$B431<>0,IF(登録済データ!H431<>\"\",登録済データ!H431,\"\"),\"\")","v":""},{"$f":"IF(登録済データ!$B431<>0,IF(登録済データ!I431<>\"\",登録済データ!I431,\"\"),\"\")","v":""},{"$f":"IF(登録済データ!$B431<>0,登録済データ!J431,\"\")","v":""},{"$f":"IF(登録済データ!$B431<>0,登録済データ!K431,\"\")","v":""},{"$f":"IF(登録済データ!$B431<>0,登録済データ!L431,\"\")","v":""},{"$f":"IF(登録済データ!$B431<>0,登録済データ!M431,\"\")","v":""},{"$f":"IF(登録済データ!$B431<>0,登録済データ!N431,\"\")","v":""},{"$f":"IF(登録済データ!$B431<>0,登録済データ!O431,\"\")","v":""},{"$f":"IF(登録済データ!$B431<>0,登録済データ!P431,\"\")","v":""},{"$f":"IF(登録済データ!$B431<>0,登録済データ!Q431,\"\")","v":""},{"$f":"IF(登録済データ!$B431<>0,登録済データ!R431,\"\")","v":""},{"$f":"IF(登録済データ!$B431<>0,登録済データ!S431,\"\")","v":""},{"$f":"IF(登録済データ!$B431<>0,登録済データ!T431,\"\")","v":""},{"$f":"IF(登録済データ!$B431<>0,登録済データ!U431,\"\")","v":""},{"$f":"IF(登録済データ!$B431<>0,登録済データ!V431,\"\")","v":""},{"$f":"IF(登録済データ!$B431<>0,登録済データ!W431,\"\")","v":""},{"$f":"IF(登録済データ!$B431<>0,登録済データ!X431,\"\")","v":""},{"$f":"IF($F428<>\"\",登録済データ!$C$4,\"\")","v":""}]
[null,{"$f":"IF($F429<>\"\",登録済データ!$C$2,\"\")","v":""},{"$f":"IF($F429<>\"\",IF($I$1=\"企業コード3桁\",LEFT(登録済データ!$C$3,3),LEFT(登録済データ!$C$3,6)),\"\")","v":""},null,{"$f":"IF(登録済データ!$B432<>0,登録済データ!C432,\"\")","v":""},{"$f":"IF(登録済データ!$B432<>0,登録済データ!D432,\"\")","v":""},{"$f":"IF(登録済データ!$B432<>0,登録済データ!E432,\"\")","v":""},{"$f":"IF(登録済データ!$B432<>0,IF(登録済データ!F432<>\"\",登録済データ!F432,\"\"),\"\")","v":""},{"$f":"IF(登録済データ!$B432<>0,IF(登録済データ!G432<>\"\",登録済データ!G432,\"\"),\"\")","v":""},{"$f":"IF(登録済データ!$B432<>0,IF(登録済データ!H432<>\"\",登録済データ!H432,\"\"),\"\")","v":""},{"$f":"IF(登録済データ!$B432<>0,IF(登録済データ!I432<>\"\",登録済データ!I432,\"\"),\"\")","v":""},{"$f":"IF(登録済データ!$B432<>0,登録済データ!J432,\"\")","v":""},{"$f":"IF(登録済データ!$B432<>0,登録済データ!K432,\"\")","v":""},{"$f":"IF(登録済データ!$B432<>0,登録済データ!L432,\"\")","v":""},{"$f":"IF(登録済データ!$B432<>0,登録済データ!M432,\"\")","v":""},{"$f":"IF(登録済データ!$B432<>0,登録済データ!N432,\"\")","v":""},{"$f":"IF(登録済データ!$B432<>0,登録済データ!O432,\"\")","v":""},{"$f":"IF(登録済データ!$B432<>0,登録済データ!P432,\"\")","v":""},{"$f":"IF(登録済データ!$B432<>0,登録済データ!Q432,\"\")","v":""},{"$f":"IF(登録済データ!$B432<>0,登録済データ!R432,\"\")","v":""},{"$f":"IF(登録済データ!$B432<>0,登録済データ!S432,\"\")","v":""},{"$f":"IF(登録済データ!$B432<>0,登録済データ!T432,\"\")","v":""},{"$f":"IF(登録済データ!$B432<>0,登録済データ!U432,\"\")","v":""},{"$f":"IF(登録済データ!$B432<>0,登録済データ!V432,\"\")","v":""},{"$f":"IF(登録済データ!$B432<>0,登録済データ!W432,\"\")","v":""},{"$f":"IF(登録済データ!$B432<>0,登録済データ!X432,\"\")","v":""},{"$f":"IF($F429<>\"\",登録済データ!$C$4,\"\")","v":""}]
[null,{"$f":"IF($F430<>\"\",登録済データ!$C$2,\"\")","v":""},{"$f":"IF($F430<>\"\",IF($I$1=\"企業コード3桁\",LEFT(登録済データ!$C$3,3),LEFT(登録済データ!$C$3,6)),\"\")","v":""},null,{"$f":"IF(登録済データ!$B433<>0,登録済データ!C433,\"\")","v":""},{"$f":"IF(登録済データ!$B433<>0,登録済データ!D433,\"\")","v":""},{"$f":"IF(登録済データ!$B433<>0,登録済データ!E433,\"\")","v":""},{"$f":"IF(登録済データ!$B433<>0,IF(登録済データ!F433<>\"\",登録済データ!F433,\"\"),\"\")","v":""},{"$f":"IF(登録済データ!$B433<>0,IF(登録済データ!G433<>\"\",登録済データ!G433,\"\"),\"\")","v":""},{"$f":"IF(登録済データ!$B433<>0,IF(登録済データ!H433<>\"\",登録済データ!H433,\"\"),\"\")","v":""},{"$f":"IF(登録済データ!$B433<>0,IF(登録済データ!I433<>\"\",登録済データ!I433,\"\"),\"\")","v":""},{"$f":"IF(登録済データ!$B433<>0,登録済データ!J433,\"\")","v":""},{"$f":"IF(登録済データ!$B433<>0,登録済データ!K433,\"\")","v":""},{"$f":"IF(登録済データ!$B433<>0,登録済データ!L433,\"\")","v":""},{"$f":"IF(登録済データ!$B433<>0,登録済データ!M433,\"\")","v":""},{"$f":"IF(登録済データ!$B433<>0,登録済データ!N433,\"\")","v":""},{"$f":"IF(登録済データ!$B433<>0,登録済データ!O433,\"\")","v":""},{"$f":"IF(登録済データ!$B433<>0,登録済データ!P433,\"\")","v":""},{"$f":"IF(登録済データ!$B433<>0,登録済データ!Q433,\"\")","v":""},{"$f":"IF(登録済データ!$B433<>0,登録済データ!R433,\"\")","v":""},{"$f":"IF(登録済データ!$B433<>0,登録済データ!S433,\"\")","v":""},{"$f":"IF(登録済データ!$B433<>0,登録済データ!T433,\"\")","v":""},{"$f":"IF(登録済データ!$B433<>0,登録済データ!U433,\"\")","v":""},{"$f":"IF(登録済データ!$B433<>0,登録済データ!V433,\"\")","v":""},{"$f":"IF(登録済データ!$B433<>0,登録済データ!W433,\"\")","v":""},{"$f":"IF(登録済データ!$B433<>0,登録済データ!X433,\"\")","v":""},{"$f":"IF($F430<>\"\",登録済データ!$C$4,\"\")","v":""}]
[null,{"$f":"IF($F431<>\"\",登録済データ!$C$2,\"\")","v":""},{"$f":"IF($F431<>\"\",IF($I$1=\"企業コード3桁\",LEFT(登録済データ!$C$3,3),LEFT(登録済データ!$C$3,6)),\"\")","v":""},null,{"$f":"IF(登録済データ!$B434<>0,登録済データ!C434,\"\")","v":""},{"$f":"IF(登録済データ!$B434<>0,登録済データ!D434,\"\")","v":""},{"$f":"IF(登録済データ!$B434<>0,登録済データ!E434,\"\")","v":""},{"$f":"IF(登録済データ!$B434<>0,IF(登録済データ!F434<>\"\",登録済データ!F434,\"\"),\"\")","v":""},{"$f":"IF(登録済データ!$B434<>0,IF(登録済データ!G434<>\"\",登録済データ!G434,\"\"),\"\")","v":""},{"$f":"IF(登録済データ!$B434<>0,IF(登録済データ!H434<>\"\",登録済データ!H434,\"\"),\"\")","v":""},{"$f":"IF(登録済データ!$B434<>0,IF(登録済データ!I434<>\"\",登録済データ!I434,\"\"),\"\")","v":""},{"$f":"IF(登録済データ!$B434<>0,登録済データ!J434,\"\")","v":""},{"$f":"IF(登録済データ!$B434<>0,登録済データ!K434,\"\")","v":""},{"$f":"IF(登録済データ!$B434<>0,登録済データ!L434,\"\")","v":""},{"$f":"IF(登録済データ!$B434<>0,登録済データ!M434,\"\")","v":""},{"$f":"IF(登録済データ!$B434<>0,登録済データ!N434,\"\")","v":""},{"$f":"IF(登録済データ!$B434<>0,登録済データ!O434,\"\")","v":""},{"$f":"IF(登録済データ!$B434<>0,登録済データ!P434,\"\")","v":""},{"$f":"IF(登録済データ!$B434<>0,登録済データ!Q434,\"\")","v":""},{"$f":"IF(登録済データ!$B434<>0,登録済データ!R434,\"\")","v":""},{"$f":"IF(登録済データ!$B434<>0,登録済データ!S434,\"\")","v":""},{"$f":"IF(登録済データ!$B434<>0,登録済データ!T434,\"\")","v":""},{"$f":"IF(登録済データ!$B434<>0,登録済データ!U434,\"\")","v":""},{"$f":"IF(登録済データ!$B434<>0,登録済データ!V434,\"\")","v":""},{"$f":"IF(登録済データ!$B434<>0,登録済データ!W434,\"\")","v":""},{"$f":"IF(登録済データ!$B434<>0,登録済データ!X434,\"\")","v":""},{"$f":"IF($F431<>\"\",登録済データ!$C$4,\"\")","v":""}]
[null,{"$f":"IF($F432<>\"\",登録済データ!$C$2,\"\")","v":""},{"$f":"IF($F432<>\"\",IF($I$1=\"企業コード3桁\",LEFT(登録済データ!$C$3,3),LEFT(登録済データ!$C$3,6)),\"\")","v":""},null,{"$f":"IF(登録済データ!$B435<>0,登録済データ!C435,\"\")","v":""},{"$f":"IF(登録済データ!$B435<>0,登録済データ!D435,\"\")","v":""},{"$f":"IF(登録済データ!$B435<>0,登録済データ!E435,\"\")","v":""},{"$f":"IF(登録済データ!$B435<>0,IF(登録済データ!F435<>\"\",登録済データ!F435,\"\"),\"\")","v":""},{"$f":"IF(登録済データ!$B435<>0,IF(登録済データ!G435<>\"\",登録済データ!G435,\"\"),\"\")","v":""},{"$f":"IF(登録済データ!$B435<>0,IF(登録済データ!H435<>\"\",登録済データ!H435,\"\"),\"\")","v":""},{"$f":"IF(登録済データ!$B435<>0,IF(登録済データ!I435<>\"\",登録済データ!I435,\"\"),\"\")","v":""},{"$f":"IF(登録済データ!$B435<>0,登録済データ!J435,\"\")","v":""},{"$f":"IF(登録済データ!$B435<>0,登録済データ!K435,\"\")","v":""},{"$f":"IF(登録済データ!$B435<>0,登録済データ!L435,\"\")","v":""},{"$f":"IF(登録済データ!$B435<>0,登録済データ!M435,\"\")","v":""},{"$f":"IF(登録済データ!$B435<>0,登録済データ!N435,\"\")","v":""},{"$f":"IF(登録済データ!$B435<>0,登録済データ!O435,\"\")","v":""},{"$f":"IF(登録済データ!$B435<>0,登録済データ!P435,\"\")","v":""},{"$f":"IF(登録済データ!$B435<>0,登録済データ!Q435,\"\")","v":""},{"$f":"IF(登録済データ!$B435<>0,登録済データ!R435,\"\")","v":""},{"$f":"IF(登録済データ!$B435<>0,登録済データ!S435,\"\")","v":""},{"$f":"IF(登録済データ!$B435<>0,登録済データ!T435,\"\")","v":""},{"$f":"IF(登録済データ!$B435<>0,登録済データ!U435,\"\")","v":""},{"$f":"IF(登録済データ!$B435<>0,登録済データ!V435,\"\")","v":""},{"$f":"IF(登録済データ!$B435<>0,登録済データ!W435,\"\")","v":""},{"$f":"IF(登録済データ!$B435<>0,登録済データ!X435,\"\")","v":""},{"$f":"IF($F432<>\"\",登録済データ!$C$4,\"\")","v":""}]
[null,{"$f":"IF($F433<>\"\",登録済データ!$C$2,\"\")","v":""},{"$f":"IF($F433<>\"\",IF($I$1=\"企業コード3桁\",LEFT(登録済データ!$C$3,3),LEFT(登録済データ!$C$3,6)),\"\")","v":""},null,{"$f":"IF(登録済データ!$B436<>0,登録済データ!C436,\"\")","v":""},{"$f":"IF(登録済データ!$B436<>0,登録済データ!D436,\"\")","v":""},{"$f":"IF(登録済データ!$B436<>0,登録済データ!E436,\"\")","v":""},{"$f":"IF(登録済データ!$B436<>0,IF(登録済データ!F436<>\"\",登録済データ!F436,\"\"),\"\")","v":""},{"$f":"IF(登録済データ!$B436<>0,IF(登録済データ!G436<>\"\",登録済データ!G436,\"\"),\"\")","v":""},{"$f":"IF(登録済データ!$B436<>0,IF(登録済データ!H436<>\"\",登録済データ!H436,\"\"),\"\")","v":""},{"$f":"IF(登録済データ!$B436<>0,IF(登録済データ!I436<>\"\",登録済データ!I436,\"\"),\"\")","v":""},{"$f":"IF(登録済データ!$B436<>0,登録済データ!J436,\"\")","v":""},{"$f":"IF(登録済データ!$B436<>0,登録済データ!K436,\"\")","v":""},{"$f":"IF(登録済データ!$B436<>0,登録済データ!L436,\"\")","v":""},{"$f":"IF(登録済データ!$B436<>0,登録済データ!M436,\"\")","v":""},{"$f":"IF(登録済データ!$B436<>0,登録済データ!N436,\"\")","v":""},{"$f":"IF(登録済データ!$B436<>0,登録済データ!O436,\"\")","v":""},{"$f":"IF(登録済データ!$B436<>0,登録済データ!P436,\"\")","v":""},{"$f":"IF(登録済データ!$B436<>0,登録済データ!Q436,\"\")","v":""},{"$f":"IF(登録済データ!$B436<>0,登録済データ!R436,\"\")","v":""},{"$f":"IF(登録済データ!$B436<>0,登録済データ!S436,\"\")","v":""},{"$f":"IF(登録済データ!$B436<>0,登録済データ!T436,\"\")","v":""},{"$f":"IF(登録済データ!$B436<>0,登録済データ!U436,\"\")","v":""},{"$f":"IF(登録済データ!$B436<>0,登録済データ!V436,\"\")","v":""},{"$f":"IF(登録済データ!$B436<>0,登録済データ!W436,\"\")","v":""},{"$f":"IF(登録済データ!$B436<>0,登録済データ!X436,\"\")","v":""},{"$f":"IF($F433<>\"\",登録済データ!$C$4,\"\")","v":""}]
[null,{"$f":"IF($F434<>\"\",登録済データ!$C$2,\"\")","v":""},{"$f":"IF($F434<>\"\",IF($I$1=\"企業コード3桁\",LEFT(登録済データ!$C$3,3),LEFT(登録済データ!$C$3,6)),\"\")","v":""},null,{"$f":"IF(登録済データ!$B437<>0,登録済データ!C437,\"\")","v":""},{"$f":"IF(登録済データ!$B437<>0,登録済データ!D437,\"\")","v":""},{"$f":"IF(登録済データ!$B437<>0,登録済データ!E437,\"\")","v":""},{"$f":"IF(登録済データ!$B437<>0,IF(登録済データ!F437<>\"\",登録済データ!F437,\"\"),\"\")","v":""},{"$f":"IF(登録済データ!$B437<>0,IF(登録済データ!G437<>\"\",登録済データ!G437,\"\"),\"\")","v":""},{"$f":"IF(登録済データ!$B437<>0,IF(登録済データ!H437<>\"\",登録済データ!H437,\"\"),\"\")","v":""},{"$f":"IF(登録済データ!$B437<>0,IF(登録済データ!I437<>\"\",登録済データ!I437,\"\"),\"\")","v":""},{"$f":"IF(登録済データ!$B437<>0,登録済データ!J437,\"\")","v":""},{"$f":"IF(登録済データ!$B437<>0,登録済データ!K437,\"\")","v":""},{"$f":"IF(登録済データ!$B437<>0,登録済データ!L437,\"\")","v":""},{"$f":"IF(登録済データ!$B437<>0,登録済データ!M437,\"\")","v":""},{"$f":"IF(登録済データ!$B437<>0,登録済データ!N437,\"\")","v":""},{"$f":"IF(登録済データ!$B437<>0,登録済データ!O437,\"\")","v":""},{"$f":"IF(登録済データ!$B437<>0,登録済データ!P437,\"\")","v":""},{"$f":"IF(登録済データ!$B437<>0,登録済データ!Q437,\"\")","v":""},{"$f":"IF(登録済データ!$B437<>0,登録済データ!R437,\"\")","v":""},{"$f":"IF(登録済データ!$B437<>0,登録済データ!S437,\"\")","v":""},{"$f":"IF(登録済データ!$B437<>0,登録済データ!T437,\"\")","v":""},{"$f":"IF(登録済データ!$B437<>0,登録済データ!U437,\"\")","v":""},{"$f":"IF(登録済データ!$B437<>0,登録済データ!V437,\"\")","v":""},{"$f":"IF(登録済データ!$B437<>0,登録済データ!W437,\"\")","v":""},{"$f":"IF(登録済データ!$B437<>0,登録済データ!X437,\"\")","v":""},{"$f":"IF($F434<>\"\",登録済データ!$C$4,\"\")","v":""}]
[null,{"$f":"IF($F435<>\"\",登録済データ!$C$2,\"\")","v":""},{"$f":"IF($F435<>\"\",IF($I$1=\"企業コード3桁\",LEFT(登録済データ!$C$3,3),LEFT(登録済データ!$C$3,6)),\"\")","v":""},null,{"$f":"IF(登録済データ!$B438<>0,登録済データ!C438,\"\")","v":""},{"$f":"IF(登録済データ!$B438<>0,登録済データ!D438,\"\")","v":""},{"$f":"IF(登録済データ!$B438<>0,登録済データ!E438,\"\")","v":""},{"$f":"IF(登録済データ!$B438<>0,IF(登録済データ!F438<>\"\",登録済データ!F438,\"\"),\"\")","v":""},{"$f":"IF(登録済データ!$B438<>0,IF(登録済データ!G438<>\"\",登録済データ!G438,\"\"),\"\")","v":""},{"$f":"IF(登録済データ!$B438<>0,IF(登録済データ!H438<>\"\",登録済データ!H438,\"\"),\"\")","v":""},{"$f":"IF(登録済データ!$B438<>0,IF(登録済データ!I438<>\"\",登録済データ!I438,\"\"),\"\")","v":""},{"$f":"IF(登録済データ!$B438<>0,登録済データ!J438,\"\")","v":""},{"$f":"IF(登録済データ!$B438<>0,登録済データ!K438,\"\")","v":""},{"$f":"IF(登録済データ!$B438<>0,登録済データ!L438,\"\")","v":""},{"$f":"IF(登録済データ!$B438<>0,登録済データ!M438,\"\")","v":""},{"$f":"IF(登録済データ!$B438<>0,登録済データ!N438,\"\")","v":""},{"$f":"IF(登録済データ!$B438<>0,登録済データ!O438,\"\")","v":""},{"$f":"IF(登録済データ!$B438<>0,登録済データ!P438,\"\")","v":""},{"$f":"IF(登録済データ!$B438<>0,登録済データ!Q438,\"\")","v":""},{"$f":"IF(登録済データ!$B438<>0,登録済データ!R438,\"\")","v":""},{"$f":"IF(登録済データ!$B438<>0,登録済データ!S438,\"\")","v":""},{"$f":"IF(登録済データ!$B438<>0,登録済データ!T438,\"\")","v":""},{"$f":"IF(登録済データ!$B438<>0,登録済データ!U438,\"\")","v":""},{"$f":"IF(登録済データ!$B438<>0,登録済データ!V438,\"\")","v":""},{"$f":"IF(登録済データ!$B438<>0,登録済データ!W438,\"\")","v":""},{"$f":"IF(登録済データ!$B438<>0,登録済データ!X438,\"\")","v":""},{"$f":"IF($F435<>\"\",登録済データ!$C$4,\"\")","v":""}]
[null,{"$f":"IF($F436<>\"\",登録済データ!$C$2,\"\")","v":""},{"$f":"IF($F436<>\"\",IF($I$1=\"企業コード3桁\",LEFT(登録済データ!$C$3,3),LEFT(登録済データ!$C$3,6)),\"\")","v":""},null,{"$f":"IF(登録済データ!$B439<>0,登録済データ!C439,\"\")","v":""},{"$f":"IF(登録済データ!$B439<>0,登録済データ!D439,\"\")","v":""},{"$f":"IF(登録済データ!$B439<>0,登録済データ!E439,\"\")","v":""},{"$f":"IF(登録済データ!$B439<>0,IF(登録済データ!F439<>\"\",登録済データ!F439,\"\"),\"\")","v":""},{"$f":"IF(登録済データ!$B439<>0,IF(登録済データ!G439<>\"\",登録済データ!G439,\"\"),\"\")","v":""},{"$f":"IF(登録済データ!$B439<>0,IF(登録済データ!H439<>\"\",登録済データ!H439,\"\"),\"\")","v":""},{"$f":"IF(登録済データ!$B439<>0,IF(登録済データ!I439<>\"\",登録済データ!I439,\"\"),\"\")","v":""},{"$f":"IF(登録済データ!$B439<>0,登録済データ!J439,\"\")","v":""},{"$f":"IF(登録済データ!$B439<>0,登録済データ!K439,\"\")","v":""},{"$f":"IF(登録済データ!$B439<>0,登録済データ!L439,\"\")","v":""},{"$f":"IF(登録済データ!$B439<>0,登録済データ!M439,\"\")","v":""},{"$f":"IF(登録済データ!$B439<>0,登録済データ!N439,\"\")","v":""},{"$f":"IF(登録済データ!$B439<>0,登録済データ!O439,\"\")","v":""},{"$f":"IF(登録済データ!$B439<>0,登録済データ!P439,\"\")","v":""},{"$f":"IF(登録済データ!$B439<>0,登録済データ!Q439,\"\")","v":""},{"$f":"IF(登録済データ!$B439<>0,登録済データ!R439,\"\")","v":""},{"$f":"IF(登録済データ!$B439<>0,登録済データ!S439,\"\")","v":""},{"$f":"IF(登録済データ!$B439<>0,登録済データ!T439,\"\")","v":""},{"$f":"IF(登録済データ!$B439<>0,登録済データ!U439,\"\")","v":""},{"$f":"IF(登録済データ!$B439<>0,登録済データ!V439,\"\")","v":""},{"$f":"IF(登録済データ!$B439<>0,登録済データ!W439,\"\")","v":""},{"$f":"IF(登録済データ!$B439<>0,登録済データ!X439,\"\")","v":""},{"$f":"IF($F436<>\"\",登録済データ!$C$4,\"\")","v":""}]
[null,{"$f":"IF($F437<>\"\",登録済データ!$C$2,\"\")","v":""},{"$f":"IF($F437<>\"\",IF($I$1=\"企業コード3桁\",LEFT(登録済データ!$C$3,3),LEFT(登録済データ!$C$3,6)),\"\")","v":""},null,{"$f":"IF(登録済データ!$B440<>0,登録済データ!C440,\"\")","v":""},{"$f":"IF(登録済データ!$B440<>0,登録済データ!D440,\"\")","v":""},{"$f":"IF(登録済データ!$B440<>0,登録済データ!E440,\"\")","v":""},{"$f":"IF(登録済データ!$B440<>0,IF(登録済データ!F440<>\"\",登録済データ!F440,\"\"),\"\")","v":""},{"$f":"IF(登録済データ!$B440<>0,IF(登録済データ!G440<>\"\",登録済データ!G440,\"\"),\"\")","v":""},{"$f":"IF(登録済データ!$B440<>0,IF(登録済データ!H440<>\"\",登録済データ!H440,\"\"),\"\")","v":""},{"$f":"IF(登録済データ!$B440<>0,IF(登録済データ!I440<>\"\",登録済データ!I440,\"\"),\"\")","v":""},{"$f":"IF(登録済データ!$B440<>0,登録済データ!J440,\"\")","v":""},{"$f":"IF(登録済データ!$B440<>0,登録済データ!K440,\"\")","v":""},{"$f":"IF(登録済データ!$B440<>0,登録済データ!L440,\"\")","v":""},{"$f":"IF(登録済データ!$B440<>0,登録済データ!M440,\"\")","v":""},{"$f":"IF(登録済データ!$B440<>0,登録済データ!N440,\"\")","v":""},{"$f":"IF(登録済データ!$B440<>0,登録済データ!O440,\"\")","v":""},{"$f":"IF(登録済データ!$B440<>0,登録済データ!P440,\"\")","v":""},{"$f":"IF(登録済データ!$B440<>0,登録済データ!Q440,\"\")","v":""},{"$f":"IF(登録済データ!$B440<>0,登録済データ!R440,\"\")","v":""},{"$f":"IF(登録済データ!$B440<>0,登録済データ!S440,\"\")","v":""},{"$f":"IF(登録済データ!$B440<>0,登録済データ!T440,\"\")","v":""},{"$f":"IF(登録済データ!$B440<>0,登録済データ!U440,\"\")","v":""},{"$f":"IF(登録済データ!$B440<>0,登録済データ!V440,\"\")","v":""},{"$f":"IF(登録済データ!$B440<>0,登録済データ!W440,\"\")","v":""},{"$f":"IF(登録済データ!$B440<>0,登録済データ!X440,\"\")","v":""},{"$f":"IF($F437<>\"\",登録済データ!$C$4,\"\")","v":""}]
[null,{"$f":"IF($F438<>\"\",登録済データ!$C$2,\"\")","v":""},{"$f":"IF($F438<>\"\",IF($I$1=\"企業コード3桁\",LEFT(登録済データ!$C$3,3),LEFT(登録済データ!$C$3,6)),\"\")","v":""},null,{"$f":"IF(登録済データ!$B441<>0,登録済データ!C441,\"\")","v":""},{"$f":"IF(登録済データ!$B441<>0,登録済データ!D441,\"\")","v":""},{"$f":"IF(登録済データ!$B441<>0,登録済データ!E441,\"\")","v":""},{"$f":"IF(登録済データ!$B441<>0,IF(登録済データ!F441<>\"\",登録済データ!F441,\"\"),\"\")","v":""},{"$f":"IF(登録済データ!$B441<>0,IF(登録済データ!G441<>\"\",登録済データ!G441,\"\"),\"\")","v":""},{"$f":"IF(登録済データ!$B441<>0,IF(登録済データ!H441<>\"\",登録済データ!H441,\"\"),\"\")","v":""},{"$f":"IF(登録済データ!$B441<>0,IF(登録済データ!I441<>\"\",登録済データ!I441,\"\"),\"\")","v":""},{"$f":"IF(登録済データ!$B441<>0,登録済データ!J441,\"\")","v":""},{"$f":"IF(登録済データ!$B441<>0,登録済データ!K441,\"\")","v":""},{"$f":"IF(登録済データ!$B441<>0,登録済データ!L441,\"\")","v":""},{"$f":"IF(登録済データ!$B441<>0,登録済データ!M441,\"\")","v":""},{"$f":"IF(登録済データ!$B441<>0,登録済データ!N441,\"\")","v":""},{"$f":"IF(登録済データ!$B441<>0,登録済データ!O441,\"\")","v":""},{"$f":"IF(登録済データ!$B441<>0,登録済データ!P441,\"\")","v":""},{"$f":"IF(登録済データ!$B441<>0,登録済データ!Q441,\"\")","v":""},{"$f":"IF(登録済データ!$B441<>0,登録済データ!R441,\"\")","v":""},{"$f":"IF(登録済データ!$B441<>0,登録済データ!S441,\"\")","v":""},{"$f":"IF(登録済データ!$B441<>0,登録済データ!T441,\"\")","v":""},{"$f":"IF(登録済データ!$B441<>0,登録済データ!U441,\"\")","v":""},{"$f":"IF(登録済データ!$B441<>0,登録済データ!V441,\"\")","v":""},{"$f":"IF(登録済データ!$B441<>0,登録済データ!W441,\"\")","v":""},{"$f":"IF(登録済データ!$B441<>0,登録済データ!X441,\"\")","v":""},{"$f":"IF($F438<>\"\",登録済データ!$C$4,\"\")","v":""}]
[null,{"$f":"IF($F439<>\"\",登録済データ!$C$2,\"\")","v":""},{"$f":"IF($F439<>\"\",IF($I$1=\"企業コード3桁\",LEFT(登録済データ!$C$3,3),LEFT(登録済データ!$C$3,6)),\"\")","v":""},null,{"$f":"IF(登録済データ!$B442<>0,登録済データ!C442,\"\")","v":""},{"$f":"IF(登録済データ!$B442<>0,登録済データ!D442,\"\")","v":""},{"$f":"IF(登録済データ!$B442<>0,登録済データ!E442,\"\")","v":""},{"$f":"IF(登録済データ!$B442<>0,IF(登録済データ!F442<>\"\",登録済データ!F442,\"\"),\"\")","v":""},{"$f":"IF(登録済データ!$B442<>0,IF(登録済データ!G442<>\"\",登録済データ!G442,\"\"),\"\")","v":""},{"$f":"IF(登録済データ!$B442<>0,IF(登録済データ!H442<>\"\",登録済データ!H442,\"\"),\"\")","v":""},{"$f":"IF(登録済データ!$B442<>0,IF(登録済データ!I442<>\"\",登録済データ!I442,\"\"),\"\")","v":""},{"$f":"IF(登録済データ!$B442<>0,登録済データ!J442,\"\")","v":""},{"$f":"IF(登録済データ!$B442<>0,登録済データ!K442,\"\")","v":""},{"$f":"IF(登録済データ!$B442<>0,登録済データ!L442,\"\")","v":""},{"$f":"IF(登録済データ!$B442<>0,登録済データ!M442,\"\")","v":""},{"$f":"IF(登録済データ!$B442<>0,登録済データ!N442,\"\")","v":""},{"$f":"IF(登録済データ!$B442<>0,登録済データ!O442,\"\")","v":""},{"$f":"IF(登録済データ!$B442<>0,登録済データ!P442,\"\")","v":""},{"$f":"IF(登録済データ!$B442<>0,登録済データ!Q442,\"\")","v":""},{"$f":"IF(登録済データ!$B442<>0,登録済データ!R442,\"\")","v":""},{"$f":"IF(登録済データ!$B442<>0,登録済データ!S442,\"\")","v":""},{"$f":"IF(登録済データ!$B442<>0,登録済データ!T442,\"\")","v":""},{"$f":"IF(登録済データ!$B442<>0,登録済データ!U442,\"\")","v":""},{"$f":"IF(登録済データ!$B442<>0,登録済データ!V442,\"\")","v":""},{"$f":"IF(登録済データ!$B442<>0,登録済データ!W442,\"\")","v":""},{"$f":"IF(登録済データ!$B442<>0,登録済データ!X442,\"\")","v":""},{"$f":"IF($F439<>\"\",登録済データ!$C$4,\"\")","v":""}]
[null,{"$f":"IF($F440<>\"\",登録済データ!$C$2,\"\")","v":""},{"$f":"IF($F440<>\"\",IF($I$1=\"企業コード3桁\",LEFT(登録済データ!$C$3,3),LEFT(登録済データ!$C$3,6)),\"\")","v":""},null,{"$f":"IF(登録済データ!$B443<>0,登録済データ!C443,\"\")","v":""},{"$f":"IF(登録済データ!$B443<>0,登録済データ!D443,\"\")","v":""},{"$f":"IF(登録済データ!$B443<>0,登録済データ!E443,\"\")","v":""},{"$f":"IF(登録済データ!$B443<>0,IF(登録済データ!F443<>\"\",登録済データ!F443,\"\"),\"\")","v":""},{"$f":"IF(登録済データ!$B443<>0,IF(登録済データ!G443<>\"\",登録済データ!G443,\"\"),\"\")","v":""},{"$f":"IF(登録済データ!$B443<>0,IF(登録済データ!H443<>\"\",登録済データ!H443,\"\"),\"\")","v":""},{"$f":"IF(登録済データ!$B443<>0,IF(登録済データ!I443<>\"\",登録済データ!I443,\"\"),\"\")","v":""},{"$f":"IF(登録済データ!$B443<>0,登録済データ!J443,\"\")","v":""},{"$f":"IF(登録済データ!$B443<>0,登録済データ!K443,\"\")","v":""},{"$f":"IF(登録済データ!$B443<>0,登録済データ!L443,\"\")","v":""},{"$f":"IF(登録済データ!$B443<>0,登録済データ!M443,\"\")","v":""},{"$f":"IF(登録済データ!$B443<>0,登録済データ!N443,\"\")","v":""},{"$f":"IF(登録済データ!$B443<>0,登録済データ!O443,\"\")","v":""},{"$f":"IF(登録済データ!$B443<>0,登録済データ!P443,\"\")","v":""},{"$f":"IF(登録済データ!$B443<>0,登録済データ!Q443,\"\")","v":""},{"$f":"IF(登録済データ!$B443<>0,登録済データ!R443,\"\")","v":""},{"$f":"IF(登録済データ!$B443<>0,登録済データ!S443,\"\")","v":""},{"$f":"IF(登録済データ!$B443<>0,登録済データ!T443,\"\")","v":""},{"$f":"IF(登録済データ!$B443<>0,登録済データ!U443,\"\")","v":""},{"$f":"IF(登録済データ!$B443<>0,登録済データ!V443,\"\")","v":""},{"$f":"IF(登録済データ!$B443<>0,登録済データ!W443,\"\")","v":""},{"$f":"IF(登録済データ!$B443<>0,登録済データ!X443,\"\")","v":""},{"$f":"IF($F440<>\"\",登録済データ!$C$4,\"\")","v":""}]
[null,{"$f":"IF($F441<>\"\",登録済データ!$C$2,\"\")","v":""},{"$f":"IF($F441<>\"\",IF($I$1=\"企業コード3桁\",LEFT(登録済データ!$C$3,3),LEFT(登録済データ!$C$3,6)),\"\")","v":""},null,{"$f":"IF(登録済データ!$B444<>0,登録済データ!C444,\"\")","v":""},{"$f":"IF(登録済データ!$B444<>0,登録済データ!D444,\"\")","v":""},{"$f":"IF(登録済データ!$B444<>0,登録済データ!E444,\"\")","v":""},{"$f":"IF(登録済データ!$B444<>0,IF(登録済データ!F444<>\"\",登録済データ!F444,\"\"),\"\")","v":""},{"$f":"IF(登録済データ!$B444<>0,IF(登録済データ!G444<>\"\",登録済データ!G444,\"\"),\"\")","v":""},{"$f":"IF(登録済データ!$B444<>0,IF(登録済データ!H444<>\"\",登録済データ!H444,\"\"),\"\")","v":""},{"$f":"IF(登録済データ!$B444<>0,IF(登録済データ!I444<>\"\",登録済データ!I444,\"\"),\"\")","v":""},{"$f":"IF(登録済データ!$B444<>0,登録済データ!J444,\"\")","v":""},{"$f":"IF(登録済データ!$B444<>0,登録済データ!K444,\"\")","v":""},{"$f":"IF(登録済データ!$B444<>0,登録済データ!L444,\"\")","v":""},{"$f":"IF(登録済データ!$B444<>0,登録済データ!M444,\"\")","v":""},{"$f":"IF(登録済データ!$B444<>0,登録済データ!N444,\"\")","v":""},{"$f":"IF(登録済データ!$B444<>0,登録済データ!O444,\"\")","v":""},{"$f":"IF(登録済データ!$B444<>0,登録済データ!P444,\"\")","v":""},{"$f":"IF(登録済データ!$B444<>0,登録済データ!Q444,\"\")","v":""},{"$f":"IF(登録済データ!$B444<>0,登録済データ!R444,\"\")","v":""},{"$f":"IF(登録済データ!$B444<>0,登録済データ!S444,\"\")","v":""},{"$f":"IF(登録済データ!$B444<>0,登録済データ!T444,\"\")","v":""},{"$f":"IF(登録済データ!$B444<>0,登録済データ!U444,\"\")","v":""},{"$f":"IF(登録済データ!$B444<>0,登録済データ!V444,\"\")","v":""},{"$f":"IF(登録済データ!$B444<>0,登録済データ!W444,\"\")","v":""},{"$f":"IF(登録済データ!$B444<>0,登録済データ!X444,\"\")","v":""},{"$f":"IF($F441<>\"\",登録済データ!$C$4,\"\")","v":""}]
[null,{"$f":"IF($F442<>\"\",登録済データ!$C$2,\"\")","v":""},{"$f":"IF($F442<>\"\",IF($I$1=\"企業コード3桁\",LEFT(登録済データ!$C$3,3),LEFT(登録済データ!$C$3,6)),\"\")","v":""},null,{"$f":"IF(登録済データ!$B445<>0,登録済データ!C445,\"\")","v":""},{"$f":"IF(登録済データ!$B445<>0,登録済データ!D445,\"\")","v":""},{"$f":"IF(登録済データ!$B445<>0,登録済データ!E445,\"\")","v":""},{"$f":"IF(登録済データ!$B445<>0,IF(登録済データ!F445<>\"\",登録済データ!F445,\"\"),\"\")","v":""},{"$f":"IF(登録済データ!$B445<>0,IF(登録済データ!G445<>\"\",登録済データ!G445,\"\"),\"\")","v":""},{"$f":"IF(登録済データ!$B445<>0,IF(登録済データ!H445<>\"\",登録済データ!H445,\"\"),\"\")","v":""},{"$f":"IF(登録済データ!$B445<>0,IF(登録済データ!I445<>\"\",登録済データ!I445,\"\"),\"\")","v":""},{"$f":"IF(登録済データ!$B445<>0,登録済データ!J445,\"\")","v":""},{"$f":"IF(登録済データ!$B445<>0,登録済データ!K445,\"\")","v":""},{"$f":"IF(登録済データ!$B445<>0,登録済データ!L445,\"\")","v":""},{"$f":"IF(登録済データ!$B445<>0,登録済データ!M445,\"\")","v":""},{"$f":"IF(登録済データ!$B445<>0,登録済データ!N445,\"\")","v":""},{"$f":"IF(登録済データ!$B445<>0,登録済データ!O445,\"\")","v":""},{"$f":"IF(登録済データ!$B445<>0,登録済データ!P445,\"\")","v":""},{"$f":"IF(登録済データ!$B445<>0,登録済データ!Q445,\"\")","v":""},{"$f":"IF(登録済データ!$B445<>0,登録済データ!R445,\"\")","v":""},{"$f":"IF(登録済データ!$B445<>0,登録済データ!S445,\"\")","v":""},{"$f":"IF(登録済データ!$B445<>0,登録済データ!T445,\"\")","v":""},{"$f":"IF(登録済データ!$B445<>0,登録済データ!U445,\"\")","v":""},{"$f":"IF(登録済データ!$B445<>0,登録済データ!V445,\"\")","v":""},{"$f":"IF(登録済データ!$B445<>0,登録済データ!W445,\"\")","v":""},{"$f":"IF(登録済データ!$B445<>0,登録済データ!X445,\"\")","v":""},{"$f":"IF($F442<>\"\",登録済データ!$C$4,\"\")","v":""}]
[null,{"$f":"IF($F443<>\"\",登録済データ!$C$2,\"\")","v":""},{"$f":"IF($F443<>\"\",IF($I$1=\"企業コード3桁\",LEFT(登録済データ!$C$3,3),LEFT(登録済データ!$C$3,6)),\"\")","v":""},null,{"$f":"IF(登録済データ!$B446<>0,登録済データ!C446,\"\")","v":""},{"$f":"IF(登録済データ!$B446<>0,登録済データ!D446,\"\")","v":""},{"$f":"IF(登録済データ!$B446<>0,登録済データ!E446,\"\")","v":""},{"$f":"IF(登録済データ!$B446<>0,IF(登録済データ!F446<>\"\",登録済データ!F446,\"\"),\"\")","v":""},{"$f":"IF(登録済データ!$B446<>0,IF(登録済データ!G446<>\"\",登録済データ!G446,\"\"),\"\")","v":""},{"$f":"IF(登録済データ!$B446<>0,IF(登録済データ!H446<>\"\",登録済データ!H446,\"\"),\"\")","v":""},{"$f":"IF(登録済データ!$B446<>0,IF(登録済データ!I446<>\"\",登録済データ!I446,\"\"),\"\")","v":""},{"$f":"IF(登録済データ!$B446<>0,登録済データ!J446,\"\")","v":""},{"$f":"IF(登録済データ!$B446<>0,登録済データ!K446,\"\")","v":""},{"$f":"IF(登録済データ!$B446<>0,登録済データ!L446,\"\")","v":""},{"$f":"IF(登録済データ!$B446<>0,登録済データ!M446,\"\")","v":""},{"$f":"IF(登録済データ!$B446<>0,登録済データ!N446,\"\")","v":""},{"$f":"IF(登録済データ!$B446<>0,登録済データ!O446,\"\")","v":""},{"$f":"IF(登録済データ!$B446<>0,登録済データ!P446,\"\")","v":""},{"$f":"IF(登録済データ!$B446<>0,登録済データ!Q446,\"\")","v":""},{"$f":"IF(登録済データ!$B446<>0,登録済データ!R446,\"\")","v":""},{"$f":"IF(登録済データ!$B446<>0,登録済データ!S446,\"\")","v":""},{"$f":"IF(登録済データ!$B446<>0,登録済データ!T446,\"\")","v":""},{"$f":"IF(登録済データ!$B446<>0,登録済データ!U446,\"\")","v":""},{"$f":"IF(登録済データ!$B446<>0,登録済データ!V446,\"\")","v":""},{"$f":"IF(登録済データ!$B446<>0,登録済データ!W446,\"\")","v":""},{"$f":"IF(登録済データ!$B446<>0,登録済データ!X446,\"\")","v":""},{"$f":"IF($F443<>\"\",登録済データ!$C$4,\"\")","v":""}]
[null,{"$f":"IF($F444<>\"\",登録済データ!$C$2,\"\")","v":""},{"$f":"IF($F444<>\"\",IF($I$1=\"企業コード3桁\",LEFT(登録済データ!$C$3,3),LEFT(登録済データ!$C$3,6)),\"\")","v":""},null,{"$f":"IF(登録済データ!$B447<>0,登録済データ!C447,\"\")","v":""},{"$f":"IF(登録済データ!$B447<>0,登録済データ!D447,\"\")","v":""},{"$f":"IF(登録済データ!$B447<>0,登録済データ!E447,\"\")","v":""},{"$f":"IF(登録済データ!$B447<>0,IF(登録済データ!F447<>\"\",登録済データ!F447,\"\"),\"\")","v":""},{"$f":"IF(登録済データ!$B447<>0,IF(登録済データ!G447<>\"\",登録済データ!G447,\"\"),\"\")","v":""},{"$f":"IF(登録済データ!$B447<>0,IF(登録済データ!H447<>\"\",登録済データ!H447,\"\"),\"\")","v":""},{"$f":"IF(登録済データ!$B447<>0,IF(登録済データ!I447<>\"\",登録済データ!I447,\"\"),\"\")","v":""},{"$f":"IF(登録済データ!$B447<>0,登録済データ!J447,\"\")","v":""},{"$f":"IF(登録済データ!$B447<>0,登録済データ!K447,\"\")","v":""},{"$f":"IF(登録済データ!$B447<>0,登録済データ!L447,\"\")","v":""},{"$f":"IF(登録済データ!$B447<>0,登録済データ!M447,\"\")","v":""},{"$f":"IF(登録済データ!$B447<>0,登録済データ!N447,\"\")","v":""},{"$f":"IF(登録済データ!$B447<>0,登録済データ!O447,\"\")","v":""},{"$f":"IF(登録済データ!$B447<>0,登録済データ!P447,\"\")","v":""},{"$f":"IF(登録済データ!$B447<>0,登録済データ!Q447,\"\")","v":""},{"$f":"IF(登録済データ!$B447<>0,登録済データ!R447,\"\")","v":""},{"$f":"IF(登録済データ!$B447<>0,登録済データ!S447,\"\")","v":""},{"$f":"IF(登録済データ!$B447<>0,登録済データ!T447,\"\")","v":""},{"$f":"IF(登録済データ!$B447<>0,登録済データ!U447,\"\")","v":""},{"$f":"IF(登録済データ!$B447<>0,登録済データ!V447,\"\")","v":""},{"$f":"IF(登録済データ!$B447<>0,登録済データ!W447,\"\")","v":""},{"$f":"IF(登録済データ!$B447<>0,登録済データ!X447,\"\")","v":""},{"$f":"IF($F444<>\"\",登録済データ!$C$4,\"\")","v":""}]
[null,{"$f":"IF($F445<>\"\",登録済データ!$C$2,\"\")","v":""},{"$f":"IF($F445<>\"\",IF($I$1=\"企業コード3桁\",LEFT(登録済データ!$C$3,3),LEFT(登録済データ!$C$3,6)),\"\")","v":""},null,{"$f":"IF(登録済データ!$B448<>0,登録済データ!C448,\"\")","v":""},{"$f":"IF(登録済データ!$B448<>0,登録済データ!D448,\"\")","v":""},{"$f":"IF(登録済データ!$B448<>0,登録済データ!E448,\"\")","v":""},{"$f":"IF(登録済データ!$B448<>0,IF(登録済データ!F448<>\"\",登録済データ!F448,\"\"),\"\")","v":""},{"$f":"IF(登録済データ!$B448<>0,IF(登録済データ!G448<>\"\",登録済データ!G448,\"\"),\"\")","v":""},{"$f":"IF(登録済データ!$B448<>0,IF(登録済データ!H448<>\"\",登録済データ!H448,\"\"),\"\")","v":""},{"$f":"IF(登録済データ!$B448<>0,IF(登録済データ!I448<>\"\",登録済データ!I448,\"\"),\"\")","v":""},{"$f":"IF(登録済データ!$B448<>0,登録済データ!J448,\"\")","v":""},{"$f":"IF(登録済データ!$B448<>0,登録済データ!K448,\"\")","v":""},{"$f":"IF(登録済データ!$B448<>0,登録済データ!L448,\"\")","v":""},{"$f":"IF(登録済データ!$B448<>0,登録済データ!M448,\"\")","v":""},{"$f":"IF(登録済データ!$B448<>0,登録済データ!N448,\"\")","v":""},{"$f":"IF(登録済データ!$B448<>0,登録済データ!O448,\"\")","v":""},{"$f":"IF(登録済データ!$B448<>0,登録済データ!P448,\"\")","v":""},{"$f":"IF(登録済データ!$B448<>0,登録済データ!Q448,\"\")","v":""},{"$f":"IF(登録済データ!$B448<>0,登録済データ!R448,\"\")","v":""},{"$f":"IF(登録済データ!$B448<>0,登録済データ!S448,\"\")","v":""},{"$f":"IF(登録済データ!$B448<>0,登録済データ!T448,\"\")","v":""},{"$f":"IF(登録済データ!$B448<>0,登録済データ!U448,\"\")","v":""},{"$f":"IF(登録済データ!$B448<>0,登録済データ!V448,\"\")","v":""},{"$f":"IF(登録済データ!$B448<>0,登録済データ!W448,\"\")","v":""},{"$f":"IF(登録済データ!$B448<>0,登録済データ!X448,\"\")","v":""},{"$f":"IF($F445<>\"\",登録済データ!$C$4,\"\")","v":""}]
[null,{"$f":"IF($F446<>\"\",登録済データ!$C$2,\"\")","v":""},{"$f":"IF($F446<>\"\",IF($I$1=\"企業コード3桁\",LEFT(登録済データ!$C$3,3),LEFT(登録済データ!$C$3,6)),\"\")","v":""},null,{"$f":"IF(登録済データ!$B449<>0,登録済データ!C449,\"\")","v":""},{"$f":"IF(登録済データ!$B449<>0,登録済データ!D449,\"\")","v":""},{"$f":"IF(登録済データ!$B449<>0,登録済データ!E449,\"\")","v":""},{"$f":"IF(登録済データ!$B449<>0,IF(登録済データ!F449<>\"\",登録済データ!F449,\"\"),\"\")","v":""},{"$f":"IF(登録済データ!$B449<>0,IF(登録済データ!G449<>\"\",登録済データ!G449,\"\"),\"\")","v":""},{"$f":"IF(登録済データ!$B449<>0,IF(登録済データ!H449<>\"\",登録済データ!H449,\"\"),\"\")","v":""},{"$f":"IF(登録済データ!$B449<>0,IF(登録済データ!I449<>\"\",登録済データ!I449,\"\"),\"\")","v":""},{"$f":"IF(登録済データ!$B449<>0,登録済データ!J449,\"\")","v":""},{"$f":"IF(登録済データ!$B449<>0,登録済データ!K449,\"\")","v":""},{"$f":"IF(登録済データ!$B449<>0,登録済データ!L449,\"\")","v":""},{"$f":"IF(登録済データ!$B449<>0,登録済データ!M449,\"\")","v":""},{"$f":"IF(登録済データ!$B449<>0,登録済データ!N449,\"\")","v":""},{"$f":"IF(登録済データ!$B449<>0,登録済データ!O449,\"\")","v":""},{"$f":"IF(登録済データ!$B449<>0,登録済データ!P449,\"\")","v":""},{"$f":"IF(登録済データ!$B449<>0,登録済データ!Q449,\"\")","v":""},{"$f":"IF(登録済データ!$B449<>0,登録済データ!R449,\"\")","v":""},{"$f":"IF(登録済データ!$B449<>0,登録済データ!S449,\"\")","v":""},{"$f":"IF(登録済データ!$B449<>0,登録済データ!T449,\"\")","v":""},{"$f":"IF(登録済データ!$B449<>0,登録済データ!U449,\"\")","v":""},{"$f":"IF(登録済データ!$B449<>0,登録済データ!V449,\"\")","v":""},{"$f":"IF(登録済データ!$B449<>0,登録済データ!W449,\"\")","v":""},{"$f":"IF(登録済データ!$B449<>0,登録済データ!X449,\"\")","v":""},{"$f":"IF($F446<>\"\",登録済データ!$C$4,\"\")","v":""}]
[null,{"$f":"IF($F447<>\"\",登録済データ!$C$2,\"\")","v":""},{"$f":"IF($F447<>\"\",IF($I$1=\"企業コード3桁\",LEFT(登録済データ!$C$3,3),LEFT(登録済データ!$C$3,6)),\"\")","v":""},null,{"$f":"IF(登録済データ!$B450<>0,登録済データ!C450,\"\")","v":""},{"$f":"IF(登録済データ!$B450<>0,登録済データ!D450,\"\")","v":""},{"$f":"IF(登録済データ!$B450<>0,登録済データ!E450,\"\")","v":""},{"$f":"IF(登録済データ!$B450<>0,IF(登録済データ!F450<>\"\",登録済データ!F450,\"\"),\"\")","v":""},{"$f":"IF(登録済データ!$B450<>0,IF(登録済データ!G450<>\"\",登録済データ!G450,\"\"),\"\")","v":""},{"$f":"IF(登録済データ!$B450<>0,IF(登録済データ!H450<>\"\",登録済データ!H450,\"\"),\"\")","v":""},{"$f":"IF(登録済データ!$B450<>0,IF(登録済データ!I450<>\"\",登録済データ!I450,\"\"),\"\")","v":""},{"$f":"IF(登録済データ!$B450<>0,登録済データ!J450,\"\")","v":""},{"$f":"IF(登録済データ!$B450<>0,登録済データ!K450,\"\")","v":""},{"$f":"IF(登録済データ!$B450<>0,登録済データ!L450,\"\")","v":""},{"$f":"IF(登録済データ!$B450<>0,登録済データ!M450,\"\")","v":""},{"$f":"IF(登録済データ!$B450<>0,登録済データ!N450,\"\")","v":""},{"$f":"IF(登録済データ!$B450<>0,登録済データ!O450,\"\")","v":""},{"$f":"IF(登録済データ!$B450<>0,登録済データ!P450,\"\")","v":""},{"$f":"IF(登録済データ!$B450<>0,登録済データ!Q450,\"\")","v":""},{"$f":"IF(登録済データ!$B450<>0,登録済データ!R450,\"\")","v":""},{"$f":"IF(登録済データ!$B450<>0,登録済データ!S450,\"\")","v":""},{"$f":"IF(登録済データ!$B450<>0,登録済データ!T450,\"\")","v":""},{"$f":"IF(登録済データ!$B450<>0,登録済データ!U450,\"\")","v":""},{"$f":"IF(登録済データ!$B450<>0,登録済データ!V450,\"\")","v":""},{"$f":"IF(登録済データ!$B450<>0,登録済データ!W450,\"\")","v":""},{"$f":"IF(登録済データ!$B450<>0,登録済データ!X450,\"\")","v":""},{"$f":"IF($F447<>\"\",登録済データ!$C$4,\"\")","v":""}]
[null,{"$f":"IF($F448<>\"\",登録済データ!$C$2,\"\")","v":""},{"$f":"IF($F448<>\"\",IF($I$1=\"企業コード3桁\",LEFT(登録済データ!$C$3,3),LEFT(登録済データ!$C$3,6)),\"\")","v":""},null,{"$f":"IF(登録済データ!$B451<>0,登録済データ!C451,\"\")","v":""},{"$f":"IF(登録済データ!$B451<>0,登録済データ!D451,\"\")","v":""},{"$f":"IF(登録済データ!$B451<>0,登録済データ!E451,\"\")","v":""},{"$f":"IF(登録済データ!$B451<>0,IF(登録済データ!F451<>\"\",登録済データ!F451,\"\"),\"\")","v":""},{"$f":"IF(登録済データ!$B451<>0,IF(登録済データ!G451<>\"\",登録済データ!G451,\"\"),\"\")","v":""},{"$f":"IF(登録済データ!$B451<>0,IF(登録済データ!H451<>\"\",登録済データ!H451,\"\"),\"\")","v":""},{"$f":"IF(登録済データ!$B451<>0,IF(登録済データ!I451<>\"\",登録済データ!I451,\"\"),\"\")","v":""},{"$f":"IF(登録済データ!$B451<>0,登録済データ!J451,\"\")","v":""},{"$f":"IF(登録済データ!$B451<>0,登録済データ!K451,\"\")","v":""},{"$f":"IF(登録済データ!$B451<>0,登録済データ!L451,\"\")","v":""},{"$f":"IF(登録済データ!$B451<>0,登録済データ!M451,\"\")","v":""},{"$f":"IF(登録済データ!$B451<>0,登録済データ!N451,\"\")","v":""},{"$f":"IF(登録済データ!$B451<>0,登録済データ!O451,\"\")","v":""},{"$f":"IF(登録済データ!$B451<>0,登録済データ!P451,\"\")","v":""},{"$f":"IF(登録済データ!$B451<>0,登録済データ!Q451,\"\")","v":""},{"$f":"IF(登録済データ!$B451<>0,登録済データ!R451,\"\")","v":""},{"$f":"IF(登録済データ!$B451<>0,登録済データ!S451,\"\")","v":""},{"$f":"IF(登録済データ!$B451<>0,登録済データ!T451,\"\")","v":""},{"$f":"IF(登録済データ!$B451<>0,登録済データ!U451,\"\")","v":""},{"$f":"IF(登録済データ!$B451<>0,登録済データ!V451,\"\")","v":""},{"$f":"IF(登録済データ!$B451<>0,登録済データ!W451,\"\")","v":""},{"$f":"IF(登録済データ!$B451<>0,登録済データ!X451,\"\")","v":""},{"$f":"IF($F448<>\"\",登録済データ!$C$4,\"\")","v":""}]
[null,{"$f":"IF($F449<>\"\",登録済データ!$C$2,\"\")","v":""},{"$f":"IF($F449<>\"\",IF($I$1=\"企業コード3桁\",LEFT(登録済データ!$C$3,3),LEFT(登録済データ!$C$3,6)),\"\")","v":""},null,{"$f":"IF(登録済データ!$B452<>0,登録済データ!C452,\"\")","v":""},{"$f":"IF(登録済データ!$B452<>0,登録済データ!D452,\"\")","v":""},{"$f":"IF(登録済データ!$B452<>0,登録済データ!E452,\"\")","v":""},{"$f":"IF(登録済データ!$B452<>0,IF(登録済データ!F452<>\"\",登録済データ!F452,\"\"),\"\")","v":""},{"$f":"IF(登録済データ!$B452<>0,IF(登録済データ!G452<>\"\",登録済データ!G452,\"\"),\"\")","v":""},{"$f":"IF(登録済データ!$B452<>0,IF(登録済データ!H452<>\"\",登録済データ!H452,\"\"),\"\")","v":""},{"$f":"IF(登録済データ!$B452<>0,IF(登録済データ!I452<>\"\",登録済データ!I452,\"\"),\"\")","v":""},{"$f":"IF(登録済データ!$B452<>0,登録済データ!J452,\"\")","v":""},{"$f":"IF(登録済データ!$B452<>0,登録済データ!K452,\"\")","v":""},{"$f":"IF(登録済データ!$B452<>0,登録済データ!L452,\"\")","v":""},{"$f":"IF(登録済データ!$B452<>0,登録済データ!M452,\"\")","v":""},{"$f":"IF(登録済データ!$B452<>0,登録済データ!N452,\"\")","v":""},{"$f":"IF(登録済データ!$B452<>0,登録済データ!O452,\"\")","v":""},{"$f":"IF(登録済データ!$B452<>0,登録済データ!P452,\"\")","v":""},{"$f":"IF(登録済データ!$B452<>0,登録済データ!Q452,\"\")","v":""},{"$f":"IF(登録済データ!$B452<>0,登録済データ!R452,\"\")","v":""},{"$f":"IF(登録済データ!$B452<>0,登録済データ!S452,\"\")","v":""},{"$f":"IF(登録済データ!$B452<>0,登録済データ!T452,\"\")","v":""},{"$f":"IF(登録済データ!$B452<>0,登録済データ!U452,\"\")","v":""},{"$f":"IF(登録済データ!$B452<>0,登録済データ!V452,\"\")","v":""},{"$f":"IF(登録済データ!$B452<>0,登録済データ!W452,\"\")","v":""},{"$f":"IF(登録済データ!$B452<>0,登録済データ!X452,\"\")","v":""},{"$f":"IF($F449<>\"\",登録済データ!$C$4,\"\")","v":""}]
[null,{"$f":"IF($F450<>\"\",登録済データ!$C$2,\"\")","v":""},{"$f":"IF($F450<>\"\",IF($I$1=\"企業コード3桁\",LEFT(登録済データ!$C$3,3),LEFT(登録済データ!$C$3,6)),\"\")","v":""},null,{"$f":"IF(登録済データ!$B453<>0,登録済データ!C453,\"\")","v":""},{"$f":"IF(登録済データ!$B453<>0,登録済データ!D453,\"\")","v":""},{"$f":"IF(登録済データ!$B453<>0,登録済データ!E453,\"\")","v":""},{"$f":"IF(登録済データ!$B453<>0,IF(登録済データ!F453<>\"\",登録済データ!F453,\"\"),\"\")","v":""},{"$f":"IF(登録済データ!$B453<>0,IF(登録済データ!G453<>\"\",登録済データ!G453,\"\"),\"\")","v":""},{"$f":"IF(登録済データ!$B453<>0,IF(登録済データ!H453<>\"\",登録済データ!H453,\"\"),\"\")","v":""},{"$f":"IF(登録済データ!$B453<>0,IF(登録済データ!I453<>\"\",登録済データ!I453,\"\"),\"\")","v":""},{"$f":"IF(登録済データ!$B453<>0,登録済データ!J453,\"\")","v":""},{"$f":"IF(登録済データ!$B453<>0,登録済データ!K453,\"\")","v":""},{"$f":"IF(登録済データ!$B453<>0,登録済データ!L453,\"\")","v":""},{"$f":"IF(登録済データ!$B453<>0,登録済データ!M453,\"\")","v":""},{"$f":"IF(登録済データ!$B453<>0,登録済データ!N453,\"\")","v":""},{"$f":"IF(登録済データ!$B453<>0,登録済データ!O453,\"\")","v":""},{"$f":"IF(登録済データ!$B453<>0,登録済データ!P453,\"\")","v":""},{"$f":"IF(登録済データ!$B453<>0,登録済データ!Q453,\"\")","v":""},{"$f":"IF(登録済データ!$B453<>0,登録済データ!R453,\"\")","v":""},{"$f":"IF(登録済データ!$B453<>0,登録済データ!S453,\"\")","v":""},{"$f":"IF(登録済データ!$B453<>0,登録済データ!T453,\"\")","v":""},{"$f":"IF(登録済データ!$B453<>0,登録済データ!U453,\"\")","v":""},{"$f":"IF(登録済データ!$B453<>0,登録済データ!V453,\"\")","v":""},{"$f":"IF(登録済データ!$B453<>0,登録済データ!W453,\"\")","v":""},{"$f":"IF(登録済データ!$B453<>0,登録済データ!X453,\"\")","v":""},{"$f":"IF($F450<>\"\",登録済データ!$C$4,\"\")","v":""}]
[null,{"$f":"IF($F451<>\"\",登録済データ!$C$2,\"\")","v":""},{"$f":"IF($F451<>\"\",IF($I$1=\"企業コード3桁\",LEFT(登録済データ!$C$3,3),LEFT(登録済データ!$C$3,6)),\"\")","v":""},null,{"$f":"IF(登録済データ!$B454<>0,登録済データ!C454,\"\")","v":""},{"$f":"IF(登録済データ!$B454<>0,登録済データ!D454,\"\")","v":""},{"$f":"IF(登録済データ!$B454<>0,登録済データ!E454,\"\")","v":""},{"$f":"IF(登録済データ!$B454<>0,IF(登録済データ!F454<>\"\",登録済データ!F454,\"\"),\"\")","v":""},{"$f":"IF(登録済データ!$B454<>0,IF(登録済データ!G454<>\"\",登録済データ!G454,\"\"),\"\")","v":""},{"$f":"IF(登録済データ!$B454<>0,IF(登録済データ!H454<>\"\",登録済データ!H454,\"\"),\"\")","v":""},{"$f":"IF(登録済データ!$B454<>0,IF(登録済データ!I454<>\"\",登録済データ!I454,\"\"),\"\")","v":""},{"$f":"IF(登録済データ!$B454<>0,登録済データ!J454,\"\")","v":""},{"$f":"IF(登録済データ!$B454<>0,登録済データ!K454,\"\")","v":""},{"$f":"IF(登録済データ!$B454<>0,登録済データ!L454,\"\")","v":""},{"$f":"IF(登録済データ!$B454<>0,登録済データ!M454,\"\")","v":""},{"$f":"IF(登録済データ!$B454<>0,登録済データ!N454,\"\")","v":""},{"$f":"IF(登録済データ!$B454<>0,登録済データ!O454,\"\")","v":""},{"$f":"IF(登録済データ!$B454<>0,登録済データ!P454,\"\")","v":""},{"$f":"IF(登録済データ!$B454<>0,登録済データ!Q454,\"\")","v":""},{"$f":"IF(登録済データ!$B454<>0,登録済データ!R454,\"\")","v":""},{"$f":"IF(登録済データ!$B454<>0,登録済データ!S454,\"\")","v":""},{"$f":"IF(登録済データ!$B454<>0,登録済データ!T454,\"\")","v":""},{"$f":"IF(登録済データ!$B454<>0,登録済データ!U454,\"\")","v":""},{"$f":"IF(登録済データ!$B454<>0,登録済データ!V454,\"\")","v":""},{"$f":"IF(登録済データ!$B454<>0,登録済データ!W454,\"\")","v":""},{"$f":"IF(登録済データ!$B454<>0,登録済データ!X454,\"\")","v":""},{"$f":"IF($F451<>\"\",登録済データ!$C$4,\"\")","v":""}]
[null,{"$f":"IF($F452<>\"\",登録済データ!$C$2,\"\")","v":""},{"$f":"IF($F452<>\"\",IF($I$1=\"企業コード3桁\",LEFT(登録済データ!$C$3,3),LEFT(登録済データ!$C$3,6)),\"\")","v":""},null,{"$f":"IF(登録済データ!$B455<>0,登録済データ!C455,\"\")","v":""},{"$f":"IF(登録済データ!$B455<>0,登録済データ!D455,\"\")","v":""},{"$f":"IF(登録済データ!$B455<>0,登録済データ!E455,\"\")","v":""},{"$f":"IF(登録済データ!$B455<>0,IF(登録済データ!F455<>\"\",登録済データ!F455,\"\"),\"\")","v":""},{"$f":"IF(登録済データ!$B455<>0,IF(登録済データ!G455<>\"\",登録済データ!G455,\"\"),\"\")","v":""},{"$f":"IF(登録済データ!$B455<>0,IF(登録済データ!H455<>\"\",登録済データ!H455,\"\"),\"\")","v":""},{"$f":"IF(登録済データ!$B455<>0,IF(登録済データ!I455<>\"\",登録済データ!I455,\"\"),\"\")","v":""},{"$f":"IF(登録済データ!$B455<>0,登録済データ!J455,\"\")","v":""},{"$f":"IF(登録済データ!$B455<>0,登録済データ!K455,\"\")","v":""},{"$f":"IF(登録済データ!$B455<>0,登録済データ!L455,\"\")","v":""},{"$f":"IF(登録済データ!$B455<>0,登録済データ!M455,\"\")","v":""},{"$f":"IF(登録済データ!$B455<>0,登録済データ!N455,\"\")","v":""},{"$f":"IF(登録済データ!$B455<>0,登録済データ!O455,\"\")","v":""},{"$f":"IF(登録済データ!$B455<>0,登録済データ!P455,\"\")","v":""},{"$f":"IF(登録済データ!$B455<>0,登録済データ!Q455,\"\")","v":""},{"$f":"IF(登録済データ!$B455<>0,登録済データ!R455,\"\")","v":""},{"$f":"IF(登録済データ!$B455<>0,登録済データ!S455,\"\")","v":""},{"$f":"IF(登録済データ!$B455<>0,登録済データ!T455,\"\")","v":""},{"$f":"IF(登録済データ!$B455<>0,登録済データ!U455,\"\")","v":""},{"$f":"IF(登録済データ!$B455<>0,登録済データ!V455,\"\")","v":""},{"$f":"IF(登録済データ!$B455<>0,登録済データ!W455,\"\")","v":""},{"$f":"IF(登録済データ!$B455<>0,登録済データ!X455,\"\")","v":""},{"$f":"IF($F452<>\"\",登録済データ!$C$4,\"\")","v":""}]
[null,{"$f":"IF($F453<>\"\",登録済データ!$C$2,\"\")","v":""},{"$f":"IF($F453<>\"\",IF($I$1=\"企業コード3桁\",LEFT(登録済データ!$C$3,3),LEFT(登録済データ!$C$3,6)),\"\")","v":""},null,{"$f":"IF(登録済データ!$B456<>0,登録済データ!C456,\"\")","v":""},{"$f":"IF(登録済データ!$B456<>0,登録済データ!D456,\"\")","v":""},{"$f":"IF(登録済データ!$B456<>0,登録済データ!E456,\"\")","v":""},{"$f":"IF(登録済データ!$B456<>0,IF(登録済データ!F456<>\"\",登録済データ!F456,\"\"),\"\")","v":""},{"$f":"IF(登録済データ!$B456<>0,IF(登録済データ!G456<>\"\",登録済データ!G456,\"\"),\"\")","v":""},{"$f":"IF(登録済データ!$B456<>0,IF(登録済データ!H456<>\"\",登録済データ!H456,\"\"),\"\")","v":""},{"$f":"IF(登録済データ!$B456<>0,IF(登録済データ!I456<>\"\",登録済データ!I456,\"\"),\"\")","v":""},{"$f":"IF(登録済データ!$B456<>0,登録済データ!J456,\"\")","v":""},{"$f":"IF(登録済データ!$B456<>0,登録済データ!K456,\"\")","v":""},{"$f":"IF(登録済データ!$B456<>0,登録済データ!L456,\"\")","v":""},{"$f":"IF(登録済データ!$B456<>0,登録済データ!M456,\"\")","v":""},{"$f":"IF(登録済データ!$B456<>0,登録済データ!N456,\"\")","v":""},{"$f":"IF(登録済データ!$B456<>0,登録済データ!O456,\"\")","v":""},{"$f":"IF(登録済データ!$B456<>0,登録済データ!P456,\"\")","v":""},{"$f":"IF(登録済データ!$B456<>0,登録済データ!Q456,\"\")","v":""},{"$f":"IF(登録済データ!$B456<>0,登録済データ!R456,\"\")","v":""},{"$f":"IF(登録済データ!$B456<>0,登録済データ!S456,\"\")","v":""},{"$f":"IF(登録済データ!$B456<>0,登録済データ!T456,\"\")","v":""},{"$f":"IF(登録済データ!$B456<>0,登録済データ!U456,\"\")","v":""},{"$f":"IF(登録済データ!$B456<>0,登録済データ!V456,\"\")","v":""},{"$f":"IF(登録済データ!$B456<>0,登録済データ!W456,\"\")","v":""},{"$f":"IF(登録済データ!$B456<>0,登録済データ!X456,\"\")","v":""},{"$f":"IF($F453<>\"\",登録済データ!$C$4,\"\")","v":""}]
[null,{"$f":"IF($F454<>\"\",登録済データ!$C$2,\"\")","v":""},{"$f":"IF($F454<>\"\",IF($I$1=\"企業コード3桁\",LEFT(登録済データ!$C$3,3),LEFT(登録済データ!$C$3,6)),\"\")","v":""},null,{"$f":"IF(登録済データ!$B457<>0,登録済データ!C457,\"\")","v":""},{"$f":"IF(登録済データ!$B457<>0,登録済データ!D457,\"\")","v":""},{"$f":"IF(登録済データ!$B457<>0,登録済データ!E457,\"\")","v":""},{"$f":"IF(登録済データ!$B457<>0,IF(登録済データ!F457<>\"\",登録済データ!F457,\"\"),\"\")","v":""},{"$f":"IF(登録済データ!$B457<>0,IF(登録済データ!G457<>\"\",登録済データ!G457,\"\"),\"\")","v":""},{"$f":"IF(登録済データ!$B457<>0,IF(登録済データ!H457<>\"\",登録済データ!H457,\"\"),\"\")","v":""},{"$f":"IF(登録済データ!$B457<>0,IF(登録済データ!I457<>\"\",登録済データ!I457,\"\"),\"\")","v":""},{"$f":"IF(登録済データ!$B457<>0,登録済データ!J457,\"\")","v":""},{"$f":"IF(登録済データ!$B457<>0,登録済データ!K457,\"\")","v":""},{"$f":"IF(登録済データ!$B457<>0,登録済データ!L457,\"\")","v":""},{"$f":"IF(登録済データ!$B457<>0,登録済データ!M457,\"\")","v":""},{"$f":"IF(登録済データ!$B457<>0,登録済データ!N457,\"\")","v":""},{"$f":"IF(登録済データ!$B457<>0,登録済データ!O457,\"\")","v":""},{"$f":"IF(登録済データ!$B457<>0,登録済データ!P457,\"\")","v":""},{"$f":"IF(登録済データ!$B457<>0,登録済データ!Q457,\"\")","v":""},{"$f":"IF(登録済データ!$B457<>0,登録済データ!R457,\"\")","v":""},{"$f":"IF(登録済データ!$B457<>0,登録済データ!S457,\"\")","v":""},{"$f":"IF(登録済データ!$B457<>0,登録済データ!T457,\"\")","v":""},{"$f":"IF(登録済データ!$B457<>0,登録済データ!U457,\"\")","v":""},{"$f":"IF(登録済データ!$B457<>0,登録済データ!V457,\"\")","v":""},{"$f":"IF(登録済データ!$B457<>0,登録済データ!W457,\"\")","v":""},{"$f":"IF(登録済データ!$B457<>0,登録済データ!X457,\"\")","v":""},{"$f":"IF($F454<>\"\",登録済データ!$C$4,\"\")","v":""}]
[null,{"$f":"IF($F455<>\"\",登録済データ!$C$2,\"\")","v":""},{"$f":"IF($F455<>\"\",IF($I$1=\"企業コード3桁\",LEFT(登録済データ!$C$3,3),LEFT(登録済データ!$C$3,6)),\"\")","v":""},null,{"$f":"IF(登録済データ!$B458<>0,登録済データ!C458,\"\")","v":""},{"$f":"IF(登録済データ!$B458<>0,登録済データ!D458,\"\")","v":""},{"$f":"IF(登録済データ!$B458<>0,登録済データ!E458,\"\")","v":""},{"$f":"IF(登録済データ!$B458<>0,IF(登録済データ!F458<>\"\",登録済データ!F458,\"\"),\"\")","v":""},{"$f":"IF(登録済データ!$B458<>0,IF(登録済データ!G458<>\"\",登録済データ!G458,\"\"),\"\")","v":""},{"$f":"IF(登録済データ!$B458<>0,IF(登録済データ!H458<>\"\",登録済データ!H458,\"\"),\"\")","v":""},{"$f":"IF(登録済データ!$B458<>0,IF(登録済データ!I458<>\"\",登録済データ!I458,\"\"),\"\")","v":""},{"$f":"IF(登録済データ!$B458<>0,登録済データ!J458,\"\")","v":""},{"$f":"IF(登録済データ!$B458<>0,登録済データ!K458,\"\")","v":""},{"$f":"IF(登録済データ!$B458<>0,登録済データ!L458,\"\")","v":""},{"$f":"IF(登録済データ!$B458<>0,登録済データ!M458,\"\")","v":""},{"$f":"IF(登録済データ!$B458<>0,登録済データ!N458,\"\")","v":""},{"$f":"IF(登録済データ!$B458<>0,登録済データ!O458,\"\")","v":""},{"$f":"IF(登録済データ!$B458<>0,登録済データ!P458,\"\")","v":""},{"$f":"IF(登録済データ!$B458<>0,登録済データ!Q458,\"\")","v":""},{"$f":"IF(登録済データ!$B458<>0,登録済データ!R458,\"\")","v":""},{"$f":"IF(登録済データ!$B458<>0,登録済データ!S458,\"\")","v":""},{"$f":"IF(登録済データ!$B458<>0,登録済データ!T458,\"\")","v":""},{"$f":"IF(登録済データ!$B458<>0,登録済データ!U458,\"\")","v":""},{"$f":"IF(登録済データ!$B458<>0,登録済データ!V458,\"\")","v":""},{"$f":"IF(登録済データ!$B458<>0,登録済データ!W458,\"\")","v":""},{"$f":"IF(登録済データ!$B458<>0,登録済データ!X458,\"\")","v":""},{"$f":"IF($F455<>\"\",登録済データ!$C$4,\"\")","v":""}]
[null,{"$f":"IF($F456<>\"\",登録済データ!$C$2,\"\")","v":""},{"$f":"IF($F456<>\"\",IF($I$1=\"企業コード3桁\",LEFT(登録済データ!$C$3,3),LEFT(登録済データ!$C$3,6)),\"\")","v":""},null,{"$f":"IF(登録済データ!$B459<>0,登録済データ!C459,\"\")","v":""},{"$f":"IF(登録済データ!$B459<>0,登録済データ!D459,\"\")","v":""},{"$f":"IF(登録済データ!$B459<>0,登録済データ!E459,\"\")","v":""},{"$f":"IF(登録済データ!$B459<>0,IF(登録済データ!F459<>\"\",登録済データ!F459,\"\"),\"\")","v":""},{"$f":"IF(登録済データ!$B459<>0,IF(登録済データ!G459<>\"\",登録済データ!G459,\"\"),\"\")","v":""},{"$f":"IF(登録済データ!$B459<>0,IF(登録済データ!H459<>\"\",登録済データ!H459,\"\"),\"\")","v":""},{"$f":"IF(登録済データ!$B459<>0,IF(登録済データ!I459<>\"\",登録済データ!I459,\"\"),\"\")","v":""},{"$f":"IF(登録済データ!$B459<>0,登録済データ!J459,\"\")","v":""},{"$f":"IF(登録済データ!$B459<>0,登録済データ!K459,\"\")","v":""},{"$f":"IF(登録済データ!$B459<>0,登録済データ!L459,\"\")","v":""},{"$f":"IF(登録済データ!$B459<>0,登録済データ!M459,\"\")","v":""},{"$f":"IF(登録済データ!$B459<>0,登録済データ!N459,\"\")","v":""},{"$f":"IF(登録済データ!$B459<>0,登録済データ!O459,\"\")","v":""},{"$f":"IF(登録済データ!$B459<>0,登録済データ!P459,\"\")","v":""},{"$f":"IF(登録済データ!$B459<>0,登録済データ!Q459,\"\")","v":""},{"$f":"IF(登録済データ!$B459<>0,登録済データ!R459,\"\")","v":""},{"$f":"IF(登録済データ!$B459<>0,登録済データ!S459,\"\")","v":""},{"$f":"IF(登録済データ!$B459<>0,登録済データ!T459,\"\")","v":""},{"$f":"IF(登録済データ!$B459<>0,登録済データ!U459,\"\")","v":""},{"$f":"IF(登録済データ!$B459<>0,登録済データ!V459,\"\")","v":""},{"$f":"IF(登録済データ!$B459<>0,登録済データ!W459,\"\")","v":""},{"$f":"IF(登録済データ!$B459<>0,登録済データ!X459,\"\")","v":""},{"$f":"IF($F456<>\"\",登録済データ!$C$4,\"\")","v":""}]
[null,{"$f":"IF($F457<>\"\",登録済データ!$C$2,\"\")","v":""},{"$f":"IF($F457<>\"\",IF($I$1=\"企業コード3桁\",LEFT(登録済データ!$C$3,3),LEFT(登録済データ!$C$3,6)),\"\")","v":""},null,{"$f":"IF(登録済データ!$B460<>0,登録済データ!C460,\"\")","v":""},{"$f":"IF(登録済データ!$B460<>0,登録済データ!D460,\"\")","v":""},{"$f":"IF(登録済データ!$B460<>0,登録済データ!E460,\"\")","v":""},{"$f":"IF(登録済データ!$B460<>0,IF(登録済データ!F460<>\"\",登録済データ!F460,\"\"),\"\")","v":""},{"$f":"IF(登録済データ!$B460<>0,IF(登録済データ!G460<>\"\",登録済データ!G460,\"\"),\"\")","v":""},{"$f":"IF(登録済データ!$B460<>0,IF(登録済データ!H460<>\"\",登録済データ!H460,\"\"),\"\")","v":""},{"$f":"IF(登録済データ!$B460<>0,IF(登録済データ!I460<>\"\",登録済データ!I460,\"\"),\"\")","v":""},{"$f":"IF(登録済データ!$B460<>0,登録済データ!J460,\"\")","v":""},{"$f":"IF(登録済データ!$B460<>0,登録済データ!K460,\"\")","v":""},{"$f":"IF(登録済データ!$B460<>0,登録済データ!L460,\"\")","v":""},{"$f":"IF(登録済データ!$B460<>0,登録済データ!M460,\"\")","v":""},{"$f":"IF(登録済データ!$B460<>0,登録済データ!N460,\"\")","v":""},{"$f":"IF(登録済データ!$B460<>0,登録済データ!O460,\"\")","v":""},{"$f":"IF(登録済データ!$B460<>0,登録済データ!P460,\"\")","v":""},{"$f":"IF(登録済データ!$B460<>0,登録済データ!Q460,\"\")","v":""},{"$f":"IF(登録済データ!$B460<>0,登録済データ!R460,\"\")","v":""},{"$f":"IF(登録済データ!$B460<>0,登録済データ!S460,\"\")","v":""},{"$f":"IF(登録済データ!$B460<>0,登録済データ!T460,\"\")","v":""},{"$f":"IF(登録済データ!$B460<>0,登録済データ!U460,\"\")","v":""},{"$f":"IF(登録済データ!$B460<>0,登録済データ!V460,\"\")","v":""},{"$f":"IF(登録済データ!$B460<>0,登録済データ!W460,\"\")","v":""},{"$f":"IF(登録済データ!$B460<>0,登録済データ!X460,\"\")","v":""},{"$f":"IF($F457<>\"\",登録済データ!$C$4,\"\")","v":""}]
[null,{"$f":"IF($F458<>\"\",登録済データ!$C$2,\"\")","v":""},{"$f":"IF($F458<>\"\",IF($I$1=\"企業コード3桁\",LEFT(登録済データ!$C$3,3),LEFT(登録済データ!$C$3,6)),\"\")","v":""},null,{"$f":"IF(登録済データ!$B461<>0,登録済データ!C461,\"\")","v":""},{"$f":"IF(登録済データ!$B461<>0,登録済データ!D461,\"\")","v":""},{"$f":"IF(登録済データ!$B461<>0,登録済データ!E461,\"\")","v":""},{"$f":"IF(登録済データ!$B461<>0,IF(登録済データ!F461<>\"\",登録済データ!F461,\"\"),\"\")","v":""},{"$f":"IF(登録済データ!$B461<>0,IF(登録済データ!G461<>\"\",登録済データ!G461,\"\"),\"\")","v":""},{"$f":"IF(登録済データ!$B461<>0,IF(登録済データ!H461<>\"\",登録済データ!H461,\"\"),\"\")","v":""},{"$f":"IF(登録済データ!$B461<>0,IF(登録済データ!I461<>\"\",登録済データ!I461,\"\"),\"\")","v":""},{"$f":"IF(登録済データ!$B461<>0,登録済データ!J461,\"\")","v":""},{"$f":"IF(登録済データ!$B461<>0,登録済データ!K461,\"\")","v":""},{"$f":"IF(登録済データ!$B461<>0,登録済データ!L461,\"\")","v":""},{"$f":"IF(登録済データ!$B461<>0,登録済データ!M461,\"\")","v":""},{"$f":"IF(登録済データ!$B461<>0,登録済データ!N461,\"\")","v":""},{"$f":"IF(登録済データ!$B461<>0,登録済データ!O461,\"\")","v":""},{"$f":"IF(登録済データ!$B461<>0,登録済データ!P461,\"\")","v":""},{"$f":"IF(登録済データ!$B461<>0,登録済データ!Q461,\"\")","v":""},{"$f":"IF(登録済データ!$B461<>0,登録済データ!R461,\"\")","v":""},{"$f":"IF(登録済データ!$B461<>0,登録済データ!S461,\"\")","v":""},{"$f":"IF(登録済データ!$B461<>0,登録済データ!T461,\"\")","v":""},{"$f":"IF(登録済データ!$B461<>0,登録済データ!U461,\"\")","v":""},{"$f":"IF(登録済データ!$B461<>0,登録済データ!V461,\"\")","v":""},{"$f":"IF(登録済データ!$B461<>0,登録済データ!W461,\"\")","v":""},{"$f":"IF(登録済データ!$B461<>0,登録済データ!X461,\"\")","v":""},{"$f":"IF($F458<>\"\",登録済データ!$C$4,\"\")","v":""}]
[null,{"$f":"IF($F459<>\"\",登録済データ!$C$2,\"\")","v":""},{"$f":"IF($F459<>\"\",IF($I$1=\"企業コード3桁\",LEFT(登録済データ!$C$3,3),LEFT(登録済データ!$C$3,6)),\"\")","v":""},null,{"$f":"IF(登録済データ!$B462<>0,登録済データ!C462,\"\")","v":""},{"$f":"IF(登録済データ!$B462<>0,登録済データ!D462,\"\")","v":""},{"$f":"IF(登録済データ!$B462<>0,登録済データ!E462,\"\")","v":""},{"$f":"IF(登録済データ!$B462<>0,IF(登録済データ!F462<>\"\",登録済データ!F462,\"\"),\"\")","v":""},{"$f":"IF(登録済データ!$B462<>0,IF(登録済データ!G462<>\"\",登録済データ!G462,\"\"),\"\")","v":""},{"$f":"IF(登録済データ!$B462<>0,IF(登録済データ!H462<>\"\",登録済データ!H462,\"\"),\"\")","v":""},{"$f":"IF(登録済データ!$B462<>0,IF(登録済データ!I462<>\"\",登録済データ!I462,\"\"),\"\")","v":""},{"$f":"IF(登録済データ!$B462<>0,登録済データ!J462,\"\")","v":""},{"$f":"IF(登録済データ!$B462<>0,登録済データ!K462,\"\")","v":""},{"$f":"IF(登録済データ!$B462<>0,登録済データ!L462,\"\")","v":""},{"$f":"IF(登録済データ!$B462<>0,登録済データ!M462,\"\")","v":""},{"$f":"IF(登録済データ!$B462<>0,登録済データ!N462,\"\")","v":""},{"$f":"IF(登録済データ!$B462<>0,登録済データ!O462,\"\")","v":""},{"$f":"IF(登録済データ!$B462<>0,登録済データ!P462,\"\")","v":""},{"$f":"IF(登録済データ!$B462<>0,登録済データ!Q462,\"\")","v":""},{"$f":"IF(登録済データ!$B462<>0,登録済データ!R462,\"\")","v":""},{"$f":"IF(登録済データ!$B462<>0,登録済データ!S462,\"\")","v":""},{"$f":"IF(登録済データ!$B462<>0,登録済データ!T462,\"\")","v":""},{"$f":"IF(登録済データ!$B462<>0,登録済データ!U462,\"\")","v":""},{"$f":"IF(登録済データ!$B462<>0,登録済データ!V462,\"\")","v":""},{"$f":"IF(登録済データ!$B462<>0,登録済データ!W462,\"\")","v":""},{"$f":"IF(登録済データ!$B462<>0,登録済データ!X462,\"\")","v":""},{"$f":"IF($F459<>\"\",登録済データ!$C$4,\"\")","v":""}]
[null,{"$f":"IF($F460<>\"\",登録済データ!$C$2,\"\")","v":""},{"$f":"IF($F460<>\"\",IF($I$1=\"企業コード3桁\",LEFT(登録済データ!$C$3,3),LEFT(登録済データ!$C$3,6)),\"\")","v":""},null,{"$f":"IF(登録済データ!$B463<>0,登録済データ!C463,\"\")","v":""},{"$f":"IF(登録済データ!$B463<>0,登録済データ!D463,\"\")","v":""},{"$f":"IF(登録済データ!$B463<>0,登録済データ!E463,\"\")","v":""},{"$f":"IF(登録済データ!$B463<>0,IF(登録済データ!F463<>\"\",登録済データ!F463,\"\"),\"\")","v":""},{"$f":"IF(登録済データ!$B463<>0,IF(登録済データ!G463<>\"\",登録済データ!G463,\"\"),\"\")","v":""},{"$f":"IF(登録済データ!$B463<>0,IF(登録済データ!H463<>\"\",登録済データ!H463,\"\"),\"\")","v":""},{"$f":"IF(登録済データ!$B463<>0,IF(登録済データ!I463<>\"\",登録済データ!I463,\"\"),\"\")","v":""},{"$f":"IF(登録済データ!$B463<>0,登録済データ!J463,\"\")","v":""},{"$f":"IF(登録済データ!$B463<>0,登録済データ!K463,\"\")","v":""},{"$f":"IF(登録済データ!$B463<>0,登録済データ!L463,\"\")","v":""},{"$f":"IF(登録済データ!$B463<>0,登録済データ!M463,\"\")","v":""},{"$f":"IF(登録済データ!$B463<>0,登録済データ!N463,\"\")","v":""},{"$f":"IF(登録済データ!$B463<>0,登録済データ!O463,\"\")","v":""},{"$f":"IF(登録済データ!$B463<>0,登録済データ!P463,\"\")","v":""},{"$f":"IF(登録済データ!$B463<>0,登録済データ!Q463,\"\")","v":""},{"$f":"IF(登録済データ!$B463<>0,登録済データ!R463,\"\")","v":""},{"$f":"IF(登録済データ!$B463<>0,登録済データ!S463,\"\")","v":""},{"$f":"IF(登録済データ!$B463<>0,登録済データ!T463,\"\")","v":""},{"$f":"IF(登録済データ!$B463<>0,登録済データ!U463,\"\")","v":""},{"$f":"IF(登録済データ!$B463<>0,登録済データ!V463,\"\")","v":""},{"$f":"IF(登録済データ!$B463<>0,登録済データ!W463,\"\")","v":""},{"$f":"IF(登録済データ!$B463<>0,登録済データ!X463,\"\")","v":""},{"$f":"IF($F460<>\"\",登録済データ!$C$4,\"\")","v":""}]
[null,{"$f":"IF($F461<>\"\",登録済データ!$C$2,\"\")","v":""},{"$f":"IF($F461<>\"\",IF($I$1=\"企業コード3桁\",LEFT(登録済データ!$C$3,3),LEFT(登録済データ!$C$3,6)),\"\")","v":""},null,{"$f":"IF(登録済データ!$B464<>0,登録済データ!C464,\"\")","v":""},{"$f":"IF(登録済データ!$B464<>0,登録済データ!D464,\"\")","v":""},{"$f":"IF(登録済データ!$B464<>0,登録済データ!E464,\"\")","v":""},{"$f":"IF(登録済データ!$B464<>0,IF(登録済データ!F464<>\"\",登録済データ!F464,\"\"),\"\")","v":""},{"$f":"IF(登録済データ!$B464<>0,IF(登録済データ!G464<>\"\",登録済データ!G464,\"\"),\"\")","v":""},{"$f":"IF(登録済データ!$B464<>0,IF(登録済データ!H464<>\"\",登録済データ!H464,\"\"),\"\")","v":""},{"$f":"IF(登録済データ!$B464<>0,IF(登録済データ!I464<>\"\",登録済データ!I464,\"\"),\"\")","v":""},{"$f":"IF(登録済データ!$B464<>0,登録済データ!J464,\"\")","v":""},{"$f":"IF(登録済データ!$B464<>0,登録済データ!K464,\"\")","v":""},{"$f":"IF(登録済データ!$B464<>0,登録済データ!L464,\"\")","v":""},{"$f":"IF(登録済データ!$B464<>0,登録済データ!M464,\"\")","v":""},{"$f":"IF(登録済データ!$B464<>0,登録済データ!N464,\"\")","v":""},{"$f":"IF(登録済データ!$B464<>0,登録済データ!O464,\"\")","v":""},{"$f":"IF(登録済データ!$B464<>0,登録済データ!P464,\"\")","v":""},{"$f":"IF(登録済データ!$B464<>0,登録済データ!Q464,\"\")","v":""},{"$f":"IF(登録済データ!$B464<>0,登録済データ!R464,\"\")","v":""},{"$f":"IF(登録済データ!$B464<>0,登録済データ!S464,\"\")","v":""},{"$f":"IF(登録済データ!$B464<>0,登録済データ!T464,\"\")","v":""},{"$f":"IF(登録済データ!$B464<>0,登録済データ!U464,\"\")","v":""},{"$f":"IF(登録済データ!$B464<>0,登録済データ!V464,\"\")","v":""},{"$f":"IF(登録済データ!$B464<>0,登録済データ!W464,\"\")","v":""},{"$f":"IF(登録済データ!$B464<>0,登録済データ!X464,\"\")","v":""},{"$f":"IF($F461<>\"\",登録済データ!$C$4,\"\")","v":""}]
[null,{"$f":"IF($F462<>\"\",登録済データ!$C$2,\"\")","v":""},{"$f":"IF($F462<>\"\",IF($I$1=\"企業コード3桁\",LEFT(登録済データ!$C$3,3),LEFT(登録済データ!$C$3,6)),\"\")","v":""},null,{"$f":"IF(登録済データ!$B465<>0,登録済データ!C465,\"\")","v":""},{"$f":"IF(登録済データ!$B465<>0,登録済データ!D465,\"\")","v":""},{"$f":"IF(登録済データ!$B465<>0,登録済データ!E465,\"\")","v":""},{"$f":"IF(登録済データ!$B465<>0,IF(登録済データ!F465<>\"\",登録済データ!F465,\"\"),\"\")","v":""},{"$f":"IF(登録済データ!$B465<>0,IF(登録済データ!G465<>\"\",登録済データ!G465,\"\"),\"\")","v":""},{"$f":"IF(登録済データ!$B465<>0,IF(登録済データ!H465<>\"\",登録済データ!H465,\"\"),\"\")","v":""},{"$f":"IF(登録済データ!$B465<>0,IF(登録済データ!I465<>\"\",登録済データ!I465,\"\"),\"\")","v":""},{"$f":"IF(登録済データ!$B465<>0,登録済データ!J465,\"\")","v":""},{"$f":"IF(登録済データ!$B465<>0,登録済データ!K465,\"\")","v":""},{"$f":"IF(登録済データ!$B465<>0,登録済データ!L465,\"\")","v":""},{"$f":"IF(登録済データ!$B465<>0,登録済データ!M465,\"\")","v":""},{"$f":"IF(登録済データ!$B465<>0,登録済データ!N465,\"\")","v":""},{"$f":"IF(登録済データ!$B465<>0,登録済データ!O465,\"\")","v":""},{"$f":"IF(登録済データ!$B465<>0,登録済データ!P465,\"\")","v":""},{"$f":"IF(登録済データ!$B465<>0,登録済データ!Q465,\"\")","v":""},{"$f":"IF(登録済データ!$B465<>0,登録済データ!R465,\"\")","v":""},{"$f":"IF(登録済データ!$B465<>0,登録済データ!S465,\"\")","v":""},{"$f":"IF(登録済データ!$B465<>0,登録済データ!T465,\"\")","v":""},{"$f":"IF(登録済データ!$B465<>0,登録済データ!U465,\"\")","v":""},{"$f":"IF(登録済データ!$B465<>0,登録済データ!V465,\"\")","v":""},{"$f":"IF(登録済データ!$B465<>0,登録済データ!W465,\"\")","v":""},{"$f":"IF(登録済データ!$B465<>0,登録済データ!X465,\"\")","v":""},{"$f":"IF($F462<>\"\",登録済データ!$C$4,\"\")","v":""}]
[null,{"$f":"IF($F463<>\"\",登録済データ!$C$2,\"\")","v":""},{"$f":"IF($F463<>\"\",IF($I$1=\"企業コード3桁\",LEFT(登録済データ!$C$3,3),LEFT(登録済データ!$C$3,6)),\"\")","v":""},null,{"$f":"IF(登録済データ!$B466<>0,登録済データ!C466,\"\")","v":""},{"$f":"IF(登録済データ!$B466<>0,登録済データ!D466,\"\")","v":""},{"$f":"IF(登録済データ!$B466<>0,登録済データ!E466,\"\")","v":""},{"$f":"IF(登録済データ!$B466<>0,IF(登録済データ!F466<>\"\",登録済データ!F466,\"\"),\"\")","v":""},{"$f":"IF(登録済データ!$B466<>0,IF(登録済データ!G466<>\"\",登録済データ!G466,\"\"),\"\")","v":""},{"$f":"IF(登録済データ!$B466<>0,IF(登録済データ!H466<>\"\",登録済データ!H466,\"\"),\"\")","v":""},{"$f":"IF(登録済データ!$B466<>0,IF(登録済データ!I466<>\"\",登録済データ!I466,\"\"),\"\")","v":""},{"$f":"IF(登録済データ!$B466<>0,登録済データ!J466,\"\")","v":""},{"$f":"IF(登録済データ!$B466<>0,登録済データ!K466,\"\")","v":""},{"$f":"IF(登録済データ!$B466<>0,登録済データ!L466,\"\")","v":""},{"$f":"IF(登録済データ!$B466<>0,登録済データ!M466,\"\")","v":""},{"$f":"IF(登録済データ!$B466<>0,登録済データ!N466,\"\")","v":""},{"$f":"IF(登録済データ!$B466<>0,登録済データ!O466,\"\")","v":""},{"$f":"IF(登録済データ!$B466<>0,登録済データ!P466,\"\")","v":""},{"$f":"IF(登録済データ!$B466<>0,登録済データ!Q466,\"\")","v":""},{"$f":"IF(登録済データ!$B466<>0,登録済データ!R466,\"\")","v":""},{"$f":"IF(登録済データ!$B466<>0,登録済データ!S466,\"\")","v":""},{"$f":"IF(登録済データ!$B466<>0,登録済データ!T466,\"\")","v":""},{"$f":"IF(登録済データ!$B466<>0,登録済データ!U466,\"\")","v":""},{"$f":"IF(登録済データ!$B466<>0,登録済データ!V466,\"\")","v":""},{"$f":"IF(登録済データ!$B466<>0,登録済データ!W466,\"\")","v":""},{"$f":"IF(登録済データ!$B466<>0,登録済データ!X466,\"\")","v":""},{"$f":"IF($F463<>\"\",登録済データ!$C$4,\"\")","v":""}]
[null,{"$f":"IF($F464<>\"\",登録済データ!$C$2,\"\")","v":""},{"$f":"IF($F464<>\"\",IF($I$1=\"企業コード3桁\",LEFT(登録済データ!$C$3,3),LEFT(登録済データ!$C$3,6)),\"\")","v":""},null,{"$f":"IF(登録済データ!$B467<>0,登録済データ!C467,\"\")","v":""},{"$f":"IF(登録済データ!$B467<>0,登録済データ!D467,\"\")","v":""},{"$f":"IF(登録済データ!$B467<>0,登録済データ!E467,\"\")","v":""},{"$f":"IF(登録済データ!$B467<>0,IF(登録済データ!F467<>\"\",登録済データ!F467,\"\"),\"\")","v":""},{"$f":"IF(登録済データ!$B467<>0,IF(登録済データ!G467<>\"\",登録済データ!G467,\"\"),\"\")","v":""},{"$f":"IF(登録済データ!$B467<>0,IF(登録済データ!H467<>\"\",登録済データ!H467,\"\"),\"\")","v":""},{"$f":"IF(登録済データ!$B467<>0,IF(登録済データ!I467<>\"\",登録済データ!I467,\"\"),\"\")","v":""},{"$f":"IF(登録済データ!$B467<>0,登録済データ!J467,\"\")","v":""},{"$f":"IF(登録済データ!$B467<>0,登録済データ!K467,\"\")","v":""},{"$f":"IF(登録済データ!$B467<>0,登録済データ!L467,\"\")","v":""},{"$f":"IF(登録済データ!$B467<>0,登録済データ!M467,\"\")","v":""},{"$f":"IF(登録済データ!$B467<>0,登録済データ!N467,\"\")","v":""},{"$f":"IF(登録済データ!$B467<>0,登録済データ!O467,\"\")","v":""},{"$f":"IF(登録済データ!$B467<>0,登録済データ!P467,\"\")","v":""},{"$f":"IF(登録済データ!$B467<>0,登録済データ!Q467,\"\")","v":""},{"$f":"IF(登録済データ!$B467<>0,登録済データ!R467,\"\")","v":""},{"$f":"IF(登録済データ!$B467<>0,登録済データ!S467,\"\")","v":""},{"$f":"IF(登録済データ!$B467<>0,登録済データ!T467,\"\")","v":""},{"$f":"IF(登録済データ!$B467<>0,登録済データ!U467,\"\")","v":""},{"$f":"IF(登録済データ!$B467<>0,登録済データ!V467,\"\")","v":""},{"$f":"IF(登録済データ!$B467<>0,登録済データ!W467,\"\")","v":""},{"$f":"IF(登録済データ!$B467<>0,登録済データ!X467,\"\")","v":""},{"$f":"IF($F464<>\"\",登録済データ!$C$4,\"\")","v":""}]
[null,{"$f":"IF($F465<>\"\",登録済データ!$C$2,\"\")","v":""},{"$f":"IF($F465<>\"\",IF($I$1=\"企業コード3桁\",LEFT(登録済データ!$C$3,3),LEFT(登録済データ!$C$3,6)),\"\")","v":""},null,{"$f":"IF(登録済データ!$B468<>0,登録済データ!C468,\"\")","v":""},{"$f":"IF(登録済データ!$B468<>0,登録済データ!D468,\"\")","v":""},{"$f":"IF(登録済データ!$B468<>0,登録済データ!E468,\"\")","v":""},{"$f":"IF(登録済データ!$B468<>0,IF(登録済データ!F468<>\"\",登録済データ!F468,\"\"),\"\")","v":""},{"$f":"IF(登録済データ!$B468<>0,IF(登録済データ!G468<>\"\",登録済データ!G468,\"\"),\"\")","v":""},{"$f":"IF(登録済データ!$B468<>0,IF(登録済データ!H468<>\"\",登録済データ!H468,\"\"),\"\")","v":""},{"$f":"IF(登録済データ!$B468<>0,IF(登録済データ!I468<>\"\",登録済データ!I468,\"\"),\"\")","v":""},{"$f":"IF(登録済データ!$B468<>0,登録済データ!J468,\"\")","v":""},{"$f":"IF(登録済データ!$B468<>0,登録済データ!K468,\"\")","v":""},{"$f":"IF(登録済データ!$B468<>0,登録済データ!L468,\"\")","v":""},{"$f":"IF(登録済データ!$B468<>0,登録済データ!M468,\"\")","v":""},{"$f":"IF(登録済データ!$B468<>0,登録済データ!N468,\"\")","v":""},{"$f":"IF(登録済データ!$B468<>0,登録済データ!O468,\"\")","v":""},{"$f":"IF(登録済データ!$B468<>0,登録済データ!P468,\"\")","v":""},{"$f":"IF(登録済データ!$B468<>0,登録済データ!Q468,\"\")","v":""},{"$f":"IF(登録済データ!$B468<>0,登録済データ!R468,\"\")","v":""},{"$f":"IF(登録済データ!$B468<>0,登録済データ!S468,\"\")","v":""},{"$f":"IF(登録済データ!$B468<>0,登録済データ!T468,\"\")","v":""},{"$f":"IF(登録済データ!$B468<>0,登録済データ!U468,\"\")","v":""},{"$f":"IF(登録済データ!$B468<>0,登録済データ!V468,\"\")","v":""},{"$f":"IF(登録済データ!$B468<>0,登録済データ!W468,\"\")","v":""},{"$f":"IF(登録済データ!$B468<>0,登録済データ!X468,\"\")","v":""},{"$f":"IF($F465<>\"\",登録済データ!$C$4,\"\")","v":""}]
[null,{"$f":"IF($F466<>\"\",登録済データ!$C$2,\"\")","v":""},{"$f":"IF($F466<>\"\",IF($I$1=\"企業コード3桁\",LEFT(登録済データ!$C$3,3),LEFT(登録済データ!$C$3,6)),\"\")","v":""},null,{"$f":"IF(登録済データ!$B469<>0,登録済データ!C469,\"\")","v":""},{"$f":"IF(登録済データ!$B469<>0,登録済データ!D469,\"\")","v":""},{"$f":"IF(登録済データ!$B469<>0,登録済データ!E469,\"\")","v":""},{"$f":"IF(登録済データ!$B469<>0,IF(登録済データ!F469<>\"\",登録済データ!F469,\"\"),\"\")","v":""},{"$f":"IF(登録済データ!$B469<>0,IF(登録済データ!G469<>\"\",登録済データ!G469,\"\"),\"\")","v":""},{"$f":"IF(登録済データ!$B469<>0,IF(登録済データ!H469<>\"\",登録済データ!H469,\"\"),\"\")","v":""},{"$f":"IF(登録済データ!$B469<>0,IF(登録済データ!I469<>\"\",登録済データ!I469,\"\"),\"\")","v":""},{"$f":"IF(登録済データ!$B469<>0,登録済データ!J469,\"\")","v":""},{"$f":"IF(登録済データ!$B469<>0,登録済データ!K469,\"\")","v":""},{"$f":"IF(登録済データ!$B469<>0,登録済データ!L469,\"\")","v":""},{"$f":"IF(登録済データ!$B469<>0,登録済データ!M469,\"\")","v":""},{"$f":"IF(登録済データ!$B469<>0,登録済データ!N469,\"\")","v":""},{"$f":"IF(登録済データ!$B469<>0,登録済データ!O469,\"\")","v":""},{"$f":"IF(登録済データ!$B469<>0,登録済データ!P469,\"\")","v":""},{"$f":"IF(登録済データ!$B469<>0,登録済データ!Q469,\"\")","v":""},{"$f":"IF(登録済データ!$B469<>0,登録済データ!R469,\"\")","v":""},{"$f":"IF(登録済データ!$B469<>0,登録済データ!S469,\"\")","v":""},{"$f":"IF(登録済データ!$B469<>0,登録済データ!T469,\"\")","v":""},{"$f":"IF(登録済データ!$B469<>0,登録済データ!U469,\"\")","v":""},{"$f":"IF(登録済データ!$B469<>0,登録済データ!V469,\"\")","v":""},{"$f":"IF(登録済データ!$B469<>0,登録済データ!W469,\"\")","v":""},{"$f":"IF(登録済データ!$B469<>0,登録済データ!X469,\"\")","v":""},{"$f":"IF($F466<>\"\",登録済データ!$C$4,\"\")","v":""}]
[null,{"$f":"IF($F467<>\"\",登録済データ!$C$2,\"\")","v":""},{"$f":"IF($F467<>\"\",IF($I$1=\"企業コード3桁\",LEFT(登録済データ!$C$3,3),LEFT(登録済データ!$C$3,6)),\"\")","v":""},null,{"$f":"IF(登録済データ!$B470<>0,登録済データ!C470,\"\")","v":""},{"$f":"IF(登録済データ!$B470<>0,登録済データ!D470,\"\")","v":""},{"$f":"IF(登録済データ!$B470<>0,登録済データ!E470,\"\")","v":""},{"$f":"IF(登録済データ!$B470<>0,IF(登録済データ!F470<>\"\",登録済データ!F470,\"\"),\"\")","v":""},{"$f":"IF(登録済データ!$B470<>0,IF(登録済データ!G470<>\"\",登録済データ!G470,\"\"),\"\")","v":""},{"$f":"IF(登録済データ!$B470<>0,IF(登録済データ!H470<>\"\",登録済データ!H470,\"\"),\"\")","v":""},{"$f":"IF(登録済データ!$B470<>0,IF(登録済データ!I470<>\"\",登録済データ!I470,\"\"),\"\")","v":""},{"$f":"IF(登録済データ!$B470<>0,登録済データ!J470,\"\")","v":""},{"$f":"IF(登録済データ!$B470<>0,登録済データ!K470,\"\")","v":""},{"$f":"IF(登録済データ!$B470<>0,登録済データ!L470,\"\")","v":""},{"$f":"IF(登録済データ!$B470<>0,登録済データ!M470,\"\")","v":""},{"$f":"IF(登録済データ!$B470<>0,登録済データ!N470,\"\")","v":""},{"$f":"IF(登録済データ!$B470<>0,登録済データ!O470,\"\")","v":""},{"$f":"IF(登録済データ!$B470<>0,登録済データ!P470,\"\")","v":""},{"$f":"IF(登録済データ!$B470<>0,登録済データ!Q470,\"\")","v":""},{"$f":"IF(登録済データ!$B470<>0,登録済データ!R470,\"\")","v":""},{"$f":"IF(登録済データ!$B470<>0,登録済データ!S470,\"\")","v":""},{"$f":"IF(登録済データ!$B470<>0,登録済データ!T470,\"\")","v":""},{"$f":"IF(登録済データ!$B470<>0,登録済データ!U470,\"\")","v":""},{"$f":"IF(登録済データ!$B470<>0,登録済データ!V470,\"\")","v":""},{"$f":"IF(登録済データ!$B470<>0,登録済データ!W470,\"\")","v":""},{"$f":"IF(登録済データ!$B470<>0,登録済データ!X470,\"\")","v":""},{"$f":"IF($F467<>\"\",登録済データ!$C$4,\"\")","v":""}]
[null,{"$f":"IF($F468<>\"\",登録済データ!$C$2,\"\")","v":""},{"$f":"IF($F468<>\"\",IF($I$1=\"企業コード3桁\",LEFT(登録済データ!$C$3,3),LEFT(登録済データ!$C$3,6)),\"\")","v":""},null,{"$f":"IF(登録済データ!$B471<>0,登録済データ!C471,\"\")","v":""},{"$f":"IF(登録済データ!$B471<>0,登録済データ!D471,\"\")","v":""},{"$f":"IF(登録済データ!$B471<>0,登録済データ!E471,\"\")","v":""},{"$f":"IF(登録済データ!$B471<>0,IF(登録済データ!F471<>\"\",登録済データ!F471,\"\"),\"\")","v":""},{"$f":"IF(登録済データ!$B471<>0,IF(登録済データ!G471<>\"\",登録済データ!G471,\"\"),\"\")","v":""},{"$f":"IF(登録済データ!$B471<>0,IF(登録済データ!H471<>\"\",登録済データ!H471,\"\"),\"\")","v":""},{"$f":"IF(登録済データ!$B471<>0,IF(登録済データ!I471<>\"\",登録済データ!I471,\"\"),\"\")","v":""},{"$f":"IF(登録済データ!$B471<>0,登録済データ!J471,\"\")","v":""},{"$f":"IF(登録済データ!$B471<>0,登録済データ!K471,\"\")","v":""},{"$f":"IF(登録済データ!$B471<>0,登録済データ!L471,\"\")","v":""},{"$f":"IF(登録済データ!$B471<>0,登録済データ!M471,\"\")","v":""},{"$f":"IF(登録済データ!$B471<>0,登録済データ!N471,\"\")","v":""},{"$f":"IF(登録済データ!$B471<>0,登録済データ!O471,\"\")","v":""},{"$f":"IF(登録済データ!$B471<>0,登録済データ!P471,\"\")","v":""},{"$f":"IF(登録済データ!$B471<>0,登録済データ!Q471,\"\")","v":""},{"$f":"IF(登録済データ!$B471<>0,登録済データ!R471,\"\")","v":""},{"$f":"IF(登録済データ!$B471<>0,登録済データ!S471,\"\")","v":""},{"$f":"IF(登録済データ!$B471<>0,登録済データ!T471,\"\")","v":""},{"$f":"IF(登録済データ!$B471<>0,登録済データ!U471,\"\")","v":""},{"$f":"IF(登録済データ!$B471<>0,登録済データ!V471,\"\")","v":""},{"$f":"IF(登録済データ!$B471<>0,登録済データ!W471,\"\")","v":""},{"$f":"IF(登録済データ!$B471<>0,登録済データ!X471,\"\")","v":""},{"$f":"IF($F468<>\"\",登録済データ!$C$4,\"\")","v":""}]
[null,{"$f":"IF($F469<>\"\",登録済データ!$C$2,\"\")","v":""},{"$f":"IF($F469<>\"\",IF($I$1=\"企業コード3桁\",LEFT(登録済データ!$C$3,3),LEFT(登録済データ!$C$3,6)),\"\")","v":""},null,{"$f":"IF(登録済データ!$B472<>0,登録済データ!C472,\"\")","v":""},{"$f":"IF(登録済データ!$B472<>0,登録済データ!D472,\"\")","v":""},{"$f":"IF(登録済データ!$B472<>0,登録済データ!E472,\"\")","v":""},{"$f":"IF(登録済データ!$B472<>0,IF(登録済データ!F472<>\"\",登録済データ!F472,\"\"),\"\")","v":""},{"$f":"IF(登録済データ!$B472<>0,IF(登録済データ!G472<>\"\",登録済データ!G472,\"\"),\"\")","v":""},{"$f":"IF(登録済データ!$B472<>0,IF(登録済データ!H472<>\"\",登録済データ!H472,\"\"),\"\")","v":""},{"$f":"IF(登録済データ!$B472<>0,IF(登録済データ!I472<>\"\",登録済データ!I472,\"\"),\"\")","v":""},{"$f":"IF(登録済データ!$B472<>0,登録済データ!J472,\"\")","v":""},{"$f":"IF(登録済データ!$B472<>0,登録済データ!K472,\"\")","v":""},{"$f":"IF(登録済データ!$B472<>0,登録済データ!L472,\"\")","v":""},{"$f":"IF(登録済データ!$B472<>0,登録済データ!M472,\"\")","v":""},{"$f":"IF(登録済データ!$B472<>0,登録済データ!N472,\"\")","v":""},{"$f":"IF(登録済データ!$B472<>0,登録済データ!O472,\"\")","v":""},{"$f":"IF(登録済データ!$B472<>0,登録済データ!P472,\"\")","v":""},{"$f":"IF(登録済データ!$B472<>0,登録済データ!Q472,\"\")","v":""},{"$f":"IF(登録済データ!$B472<>0,登録済データ!R472,\"\")","v":""},{"$f":"IF(登録済データ!$B472<>0,登録済データ!S472,\"\")","v":""},{"$f":"IF(登録済データ!$B472<>0,登録済データ!T472,\"\")","v":""},{"$f":"IF(登録済データ!$B472<>0,登録済データ!U472,\"\")","v":""},{"$f":"IF(登録済データ!$B472<>0,登録済データ!V472,\"\")","v":""},{"$f":"IF(登録済データ!$B472<>0,登録済データ!W472,\"\")","v":""},{"$f":"IF(登録済データ!$B472<>0,登録済データ!X472,\"\")","v":""},{"$f":"IF($F469<>\"\",登録済データ!$C$4,\"\")","v":""}]
[null,{"$f":"IF($F470<>\"\",登録済データ!$C$2,\"\")","v":""},{"$f":"IF($F470<>\"\",IF($I$1=\"企業コード3桁\",LEFT(登録済データ!$C$3,3),LEFT(登録済データ!$C$3,6)),\"\")","v":""},null,{"$f":"IF(登録済データ!$B473<>0,登録済データ!C473,\"\")","v":""},{"$f":"IF(登録済データ!$B473<>0,登録済データ!D473,\"\")","v":""},{"$f":"IF(登録済データ!$B473<>0,登録済データ!E473,\"\")","v":""},{"$f":"IF(登録済データ!$B473<>0,IF(登録済データ!F473<>\"\",登録済データ!F473,\"\"),\"\")","v":""},{"$f":"IF(登録済データ!$B473<>0,IF(登録済データ!G473<>\"\",登録済データ!G473,\"\"),\"\")","v":""},{"$f":"IF(登録済データ!$B473<>0,IF(登録済データ!H473<>\"\",登録済データ!H473,\"\"),\"\")","v":""},{"$f":"IF(登録済データ!$B473<>0,IF(登録済データ!I473<>\"\",登録済データ!I473,\"\"),\"\")","v":""},{"$f":"IF(登録済データ!$B473<>0,登録済データ!J473,\"\")","v":""},{"$f":"IF(登録済データ!$B473<>0,登録済データ!K473,\"\")","v":""},{"$f":"IF(登録済データ!$B473<>0,登録済データ!L473,\"\")","v":""},{"$f":"IF(登録済データ!$B473<>0,登録済データ!M473,\"\")","v":""},{"$f":"IF(登録済データ!$B473<>0,登録済データ!N473,\"\")","v":""},{"$f":"IF(登録済データ!$B473<>0,登録済データ!O473,\"\")","v":""},{"$f":"IF(登録済データ!$B473<>0,登録済データ!P473,\"\")","v":""},{"$f":"IF(登録済データ!$B473<>0,登録済データ!Q473,\"\")","v":""},{"$f":"IF(登録済データ!$B473<>0,登録済データ!R473,\"\")","v":""},{"$f":"IF(登録済データ!$B473<>0,登録済データ!S473,\"\")","v":""},{"$f":"IF(登録済データ!$B473<>0,登録済データ!T473,\"\")","v":""},{"$f":"IF(登録済データ!$B473<>0,登録済データ!U473,\"\")","v":""},{"$f":"IF(登録済データ!$B473<>0,登録済データ!V473,\"\")","v":""},{"$f":"IF(登録済データ!$B473<>0,登録済データ!W473,\"\")","v":""},{"$f":"IF(登録済データ!$B473<>0,登録済データ!X473,\"\")","v":""},{"$f":"IF($F470<>\"\",登録済データ!$C$4,\"\")","v":""}]
[null,{"$f":"IF($F471<>\"\",登録済データ!$C$2,\"\")","v":""},{"$f":"IF($F471<>\"\",IF($I$1=\"企業コード3桁\",LEFT(登録済データ!$C$3,3),LEFT(登録済データ!$C$3,6)),\"\")","v":""},null,{"$f":"IF(登録済データ!$B474<>0,登録済データ!C474,\"\")","v":""},{"$f":"IF(登録済データ!$B474<>0,登録済データ!D474,\"\")","v":""},{"$f":"IF(登録済データ!$B474<>0,登録済データ!E474,\"\")","v":""},{"$f":"IF(登録済データ!$B474<>0,IF(登録済データ!F474<>\"\",登録済データ!F474,\"\"),\"\")","v":""},{"$f":"IF(登録済データ!$B474<>0,IF(登録済データ!G474<>\"\",登録済データ!G474,\"\"),\"\")","v":""},{"$f":"IF(登録済データ!$B474<>0,IF(登録済データ!H474<>\"\",登録済データ!H474,\"\"),\"\")","v":""},{"$f":"IF(登録済データ!$B474<>0,IF(登録済データ!I474<>\"\",登録済データ!I474,\"\"),\"\")","v":""},{"$f":"IF(登録済データ!$B474<>0,登録済データ!J474,\"\")","v":""},{"$f":"IF(登録済データ!$B474<>0,登録済データ!K474,\"\")","v":""},{"$f":"IF(登録済データ!$B474<>0,登録済データ!L474,\"\")","v":""},{"$f":"IF(登録済データ!$B474<>0,登録済データ!M474,\"\")","v":""},{"$f":"IF(登録済データ!$B474<>0,登録済データ!N474,\"\")","v":""},{"$f":"IF(登録済データ!$B474<>0,登録済データ!O474,\"\")","v":""},{"$f":"IF(登録済データ!$B474<>0,登録済データ!P474,\"\")","v":""},{"$f":"IF(登録済データ!$B474<>0,登録済データ!Q474,\"\")","v":""},{"$f":"IF(登録済データ!$B474<>0,登録済データ!R474,\"\")","v":""},{"$f":"IF(登録済データ!$B474<>0,登録済データ!S474,\"\")","v":""},{"$f":"IF(登録済データ!$B474<>0,登録済データ!T474,\"\")","v":""},{"$f":"IF(登録済データ!$B474<>0,登録済データ!U474,\"\")","v":""},{"$f":"IF(登録済データ!$B474<>0,登録済データ!V474,\"\")","v":""},{"$f":"IF(登録済データ!$B474<>0,登録済データ!W474,\"\")","v":""},{"$f":"IF(登録済データ!$B474<>0,登録済データ!X474,\"\")","v":""},{"$f":"IF($F471<>\"\",登録済データ!$C$4,\"\")","v":""}]
[null,{"$f":"IF($F472<>\"\",登録済データ!$C$2,\"\")","v":""},{"$f":"IF($F472<>\"\",IF($I$1=\"企業コード3桁\",LEFT(登録済データ!$C$3,3),LEFT(登録済データ!$C$3,6)),\"\")","v":""},null,{"$f":"IF(登録済データ!$B475<>0,登録済データ!C475,\"\")","v":""},{"$f":"IF(登録済データ!$B475<>0,登録済データ!D475,\"\")","v":""},{"$f":"IF(登録済データ!$B475<>0,登録済データ!E475,\"\")","v":""},{"$f":"IF(登録済データ!$B475<>0,IF(登録済データ!F475<>\"\",登録済データ!F475,\"\"),\"\")","v":""},{"$f":"IF(登録済データ!$B475<>0,IF(登録済データ!G475<>\"\",登録済データ!G475,\"\"),\"\")","v":""},{"$f":"IF(登録済データ!$B475<>0,IF(登録済データ!H475<>\"\",登録済データ!H475,\"\"),\"\")","v":""},{"$f":"IF(登録済データ!$B475<>0,IF(登録済データ!I475<>\"\",登録済データ!I475,\"\"),\"\")","v":""},{"$f":"IF(登録済データ!$B475<>0,登録済データ!J475,\"\")","v":""},{"$f":"IF(登録済データ!$B475<>0,登録済データ!K475,\"\")","v":""},{"$f":"IF(登録済データ!$B475<>0,登録済データ!L475,\"\")","v":""},{"$f":"IF(登録済データ!$B475<>0,登録済データ!M475,\"\")","v":""},{"$f":"IF(登録済データ!$B475<>0,登録済データ!N475,\"\")","v":""},{"$f":"IF(登録済データ!$B475<>0,登録済データ!O475,\"\")","v":""},{"$f":"IF(登録済データ!$B475<>0,登録済データ!P475,\"\")","v":""},{"$f":"IF(登録済データ!$B475<>0,登録済データ!Q475,\"\")","v":""},{"$f":"IF(登録済データ!$B475<>0,登録済データ!R475,\"\")","v":""},{"$f":"IF(登録済データ!$B475<>0,登録済データ!S475,\"\")","v":""},{"$f":"IF(登録済データ!$B475<>0,登録済データ!T475,\"\")","v":""},{"$f":"IF(登録済データ!$B475<>0,登録済データ!U475,\"\")","v":""},{"$f":"IF(登録済データ!$B475<>0,登録済データ!V475,\"\")","v":""},{"$f":"IF(登録済データ!$B475<>0,登録済データ!W475,\"\")","v":""},{"$f":"IF(登録済データ!$B475<>0,登録済データ!X475,\"\")","v":""},{"$f":"IF($F472<>\"\",登録済データ!$C$4,\"\")","v":""}]
[null,{"$f":"IF($F473<>\"\",登録済データ!$C$2,\"\")","v":""},{"$f":"IF($F473<>\"\",IF($I$1=\"企業コード3桁\",LEFT(登録済データ!$C$3,3),LEFT(登録済データ!$C$3,6)),\"\")","v":""},null,{"$f":"IF(登録済データ!$B476<>0,登録済データ!C476,\"\")","v":""},{"$f":"IF(登録済データ!$B476<>0,登録済データ!D476,\"\")","v":""},{"$f":"IF(登録済データ!$B476<>0,登録済データ!E476,\"\")","v":""},{"$f":"IF(登録済データ!$B476<>0,IF(登録済データ!F476<>\"\",登録済データ!F476,\"\"),\"\")","v":""},{"$f":"IF(登録済データ!$B476<>0,IF(登録済データ!G476<>\"\",登録済データ!G476,\"\"),\"\")","v":""},{"$f":"IF(登録済データ!$B476<>0,IF(登録済データ!H476<>\"\",登録済データ!H476,\"\"),\"\")","v":""},{"$f":"IF(登録済データ!$B476<>0,IF(登録済データ!I476<>\"\",登録済データ!I476,\"\"),\"\")","v":""},{"$f":"IF(登録済データ!$B476<>0,登録済データ!J476,\"\")","v":""},{"$f":"IF(登録済データ!$B476<>0,登録済データ!K476,\"\")","v":""},{"$f":"IF(登録済データ!$B476<>0,登録済データ!L476,\"\")","v":""},{"$f":"IF(登録済データ!$B476<>0,登録済データ!M476,\"\")","v":""},{"$f":"IF(登録済データ!$B476<>0,登録済データ!N476,\"\")","v":""},{"$f":"IF(登録済データ!$B476<>0,登録済データ!O476,\"\")","v":""},{"$f":"IF(登録済データ!$B476<>0,登録済データ!P476,\"\")","v":""},{"$f":"IF(登録済データ!$B476<>0,登録済データ!Q476,\"\")","v":""},{"$f":"IF(登録済データ!$B476<>0,登録済データ!R476,\"\")","v":""},{"$f":"IF(登録済データ!$B476<>0,登録済データ!S476,\"\")","v":""},{"$f":"IF(登録済データ!$B476<>0,登録済データ!T476,\"\")","v":""},{"$f":"IF(登録済データ!$B476<>0,登録済データ!U476,\"\")","v":""},{"$f":"IF(登録済データ!$B476<>0,登録済データ!V476,\"\")","v":""},{"$f":"IF(登録済データ!$B476<>0,登録済データ!W476,\"\")","v":""},{"$f":"IF(登録済データ!$B476<>0,登録済データ!X476,\"\")","v":""},{"$f":"IF($F473<>\"\",登録済データ!$C$4,\"\")","v":""}]
[null,{"$f":"IF($F474<>\"\",登録済データ!$C$2,\"\")","v":""},{"$f":"IF($F474<>\"\",IF($I$1=\"企業コード3桁\",LEFT(登録済データ!$C$3,3),LEFT(登録済データ!$C$3,6)),\"\")","v":""},null,{"$f":"IF(登録済データ!$B477<>0,登録済データ!C477,\"\")","v":""},{"$f":"IF(登録済データ!$B477<>0,登録済データ!D477,\"\")","v":""},{"$f":"IF(登録済データ!$B477<>0,登録済データ!E477,\"\")","v":""},{"$f":"IF(登録済データ!$B477<>0,IF(登録済データ!F477<>\"\",登録済データ!F477,\"\"),\"\")","v":""},{"$f":"IF(登録済データ!$B477<>0,IF(登録済データ!G477<>\"\",登録済データ!G477,\"\"),\"\")","v":""},{"$f":"IF(登録済データ!$B477<>0,IF(登録済データ!H477<>\"\",登録済データ!H477,\"\"),\"\")","v":""},{"$f":"IF(登録済データ!$B477<>0,IF(登録済データ!I477<>\"\",登録済データ!I477,\"\"),\"\")","v":""},{"$f":"IF(登録済データ!$B477<>0,登録済データ!J477,\"\")","v":""},{"$f":"IF(登録済データ!$B477<>0,登録済データ!K477,\"\")","v":""},{"$f":"IF(登録済データ!$B477<>0,登録済データ!L477,\"\")","v":""},{"$f":"IF(登録済データ!$B477<>0,登録済データ!M477,\"\")","v":""},{"$f":"IF(登録済データ!$B477<>0,登録済データ!N477,\"\")","v":""},{"$f":"IF(登録済データ!$B477<>0,登録済データ!O477,\"\")","v":""},{"$f":"IF(登録済データ!$B477<>0,登録済データ!P477,\"\")","v":""},{"$f":"IF(登録済データ!$B477<>0,登録済データ!Q477,\"\")","v":""},{"$f":"IF(登録済データ!$B477<>0,登録済データ!R477,\"\")","v":""},{"$f":"IF(登録済データ!$B477<>0,登録済データ!S477,\"\")","v":""},{"$f":"IF(登録済データ!$B477<>0,登録済データ!T477,\"\")","v":""},{"$f":"IF(登録済データ!$B477<>0,登録済データ!U477,\"\")","v":""},{"$f":"IF(登録済データ!$B477<>0,登録済データ!V477,\"\")","v":""},{"$f":"IF(登録済データ!$B477<>0,登録済データ!W477,\"\")","v":""},{"$f":"IF(登録済データ!$B477<>0,登録済データ!X477,\"\")","v":""},{"$f":"IF($F474<>\"\",登録済データ!$C$4,\"\")","v":""}]
[null,{"$f":"IF($F475<>\"\",登録済データ!$C$2,\"\")","v":""},{"$f":"IF($F475<>\"\",IF($I$1=\"企業コード3桁\",LEFT(登録済データ!$C$3,3),LEFT(登録済データ!$C$3,6)),\"\")","v":""},null,{"$f":"IF(登録済データ!$B478<>0,登録済データ!C478,\"\")","v":""},{"$f":"IF(登録済データ!$B478<>0,登録済データ!D478,\"\")","v":""},{"$f":"IF(登録済データ!$B478<>0,登録済データ!E478,\"\")","v":""},{"$f":"IF(登録済データ!$B478<>0,IF(登録済データ!F478<>\"\",登録済データ!F478,\"\"),\"\")","v":""},{"$f":"IF(登録済データ!$B478<>0,IF(登録済データ!G478<>\"\",登録済データ!G478,\"\"),\"\")","v":""},{"$f":"IF(登録済データ!$B478<>0,IF(登録済データ!H478<>\"\",登録済データ!H478,\"\"),\"\")","v":""},{"$f":"IF(登録済データ!$B478<>0,IF(登録済データ!I478<>\"\",登録済データ!I478,\"\"),\"\")","v":""},{"$f":"IF(登録済データ!$B478<>0,登録済データ!J478,\"\")","v":""},{"$f":"IF(登録済データ!$B478<>0,登録済データ!K478,\"\")","v":""},{"$f":"IF(登録済データ!$B478<>0,登録済データ!L478,\"\")","v":""},{"$f":"IF(登録済データ!$B478<>0,登録済データ!M478,\"\")","v":""},{"$f":"IF(登録済データ!$B478<>0,登録済データ!N478,\"\")","v":""},{"$f":"IF(登録済データ!$B478<>0,登録済データ!O478,\"\")","v":""},{"$f":"IF(登録済データ!$B478<>0,登録済データ!P478,\"\")","v":""},{"$f":"IF(登録済データ!$B478<>0,登録済データ!Q478,\"\")","v":""},{"$f":"IF(登録済データ!$B478<>0,登録済データ!R478,\"\")","v":""},{"$f":"IF(登録済データ!$B478<>0,登録済データ!S478,\"\")","v":""},{"$f":"IF(登録済データ!$B478<>0,登録済データ!T478,\"\")","v":""},{"$f":"IF(登録済データ!$B478<>0,登録済データ!U478,\"\")","v":""},{"$f":"IF(登録済データ!$B478<>0,登録済データ!V478,\"\")","v":""},{"$f":"IF(登録済データ!$B478<>0,登録済データ!W478,\"\")","v":""},{"$f":"IF(登録済データ!$B478<>0,登録済データ!X478,\"\")","v":""},{"$f":"IF($F475<>\"\",登録済データ!$C$4,\"\")","v":""}]
[null,{"$f":"IF($F476<>\"\",登録済データ!$C$2,\"\")","v":""},{"$f":"IF($F476<>\"\",IF($I$1=\"企業コード3桁\",LEFT(登録済データ!$C$3,3),LEFT(登録済データ!$C$3,6)),\"\")","v":""},null,{"$f":"IF(登録済データ!$B479<>0,登録済データ!C479,\"\")","v":""},{"$f":"IF(登録済データ!$B479<>0,登録済データ!D479,\"\")","v":""},{"$f":"IF(登録済データ!$B479<>0,登録済データ!E479,\"\")","v":""},{"$f":"IF(登録済データ!$B479<>0,IF(登録済データ!F479<>\"\",登録済データ!F479,\"\"),\"\")","v":""},{"$f":"IF(登録済データ!$B479<>0,IF(登録済データ!G479<>\"\",登録済データ!G479,\"\"),\"\")","v":""},{"$f":"IF(登録済データ!$B479<>0,IF(登録済データ!H479<>\"\",登録済データ!H479,\"\"),\"\")","v":""},{"$f":"IF(登録済データ!$B479<>0,IF(登録済データ!I479<>\"\",登録済データ!I479,\"\"),\"\")","v":""},{"$f":"IF(登録済データ!$B479<>0,登録済データ!J479,\"\")","v":""},{"$f":"IF(登録済データ!$B479<>0,登録済データ!K479,\"\")","v":""},{"$f":"IF(登録済データ!$B479<>0,登録済データ!L479,\"\")","v":""},{"$f":"IF(登録済データ!$B479<>0,登録済データ!M479,\"\")","v":""},{"$f":"IF(登録済データ!$B479<>0,登録済データ!N479,\"\")","v":""},{"$f":"IF(登録済データ!$B479<>0,登録済データ!O479,\"\")","v":""},{"$f":"IF(登録済データ!$B479<>0,登録済データ!P479,\"\")","v":""},{"$f":"IF(登録済データ!$B479<>0,登録済データ!Q479,\"\")","v":""},{"$f":"IF(登録済データ!$B479<>0,登録済データ!R479,\"\")","v":""},{"$f":"IF(登録済データ!$B479<>0,登録済データ!S479,\"\")","v":""},{"$f":"IF(登録済データ!$B479<>0,登録済データ!T479,\"\")","v":""},{"$f":"IF(登録済データ!$B479<>0,登録済データ!U479,\"\")","v":""},{"$f":"IF(登録済データ!$B479<>0,登録済データ!V479,\"\")","v":""},{"$f":"IF(登録済データ!$B479<>0,登録済データ!W479,\"\")","v":""},{"$f":"IF(登録済データ!$B479<>0,登録済データ!X479,\"\")","v":""},{"$f":"IF($F476<>\"\",登録済データ!$C$4,\"\")","v":""}]
[null,{"$f":"IF($F477<>\"\",登録済データ!$C$2,\"\")","v":""},{"$f":"IF($F477<>\"\",IF($I$1=\"企業コード3桁\",LEFT(登録済データ!$C$3,3),LEFT(登録済データ!$C$3,6)),\"\")","v":""},null,{"$f":"IF(登録済データ!$B480<>0,登録済データ!C480,\"\")","v":""},{"$f":"IF(登録済データ!$B480<>0,登録済データ!D480,\"\")","v":""},{"$f":"IF(登録済データ!$B480<>0,登録済データ!E480,\"\")","v":""},{"$f":"IF(登録済データ!$B480<>0,IF(登録済データ!F480<>\"\",登録済データ!F480,\"\"),\"\")","v":""},{"$f":"IF(登録済データ!$B480<>0,IF(登録済データ!G480<>\"\",登録済データ!G480,\"\"),\"\")","v":""},{"$f":"IF(登録済データ!$B480<>0,IF(登録済データ!H480<>\"\",登録済データ!H480,\"\"),\"\")","v":""},{"$f":"IF(登録済データ!$B480<>0,IF(登録済データ!I480<>\"\",登録済データ!I480,\"\"),\"\")","v":""},{"$f":"IF(登録済データ!$B480<>0,登録済データ!J480,\"\")","v":""},{"$f":"IF(登録済データ!$B480<>0,登録済データ!K480,\"\")","v":""},{"$f":"IF(登録済データ!$B480<>0,登録済データ!L480,\"\")","v":""},{"$f":"IF(登録済データ!$B480<>0,登録済データ!M480,\"\")","v":""},{"$f":"IF(登録済データ!$B480<>0,登録済データ!N480,\"\")","v":""},{"$f":"IF(登録済データ!$B480<>0,登録済データ!O480,\"\")","v":""},{"$f":"IF(登録済データ!$B480<>0,登録済データ!P480,\"\")","v":""},{"$f":"IF(登録済データ!$B480<>0,登録済データ!Q480,\"\")","v":""},{"$f":"IF(登録済データ!$B480<>0,登録済データ!R480,\"\")","v":""},{"$f":"IF(登録済データ!$B480<>0,登録済データ!S480,\"\")","v":""},{"$f":"IF(登録済データ!$B480<>0,登録済データ!T480,\"\")","v":""},{"$f":"IF(登録済データ!$B480<>0,登録済データ!U480,\"\")","v":""},{"$f":"IF(登録済データ!$B480<>0,登録済データ!V480,\"\")","v":""},{"$f":"IF(登録済データ!$B480<>0,登録済データ!W480,\"\")","v":""},{"$f":"IF(登録済データ!$B480<>0,登録済データ!X480,\"\")","v":""},{"$f":"IF($F477<>\"\",登録済データ!$C$4,\"\")","v":""}]
[null,{"$f":"IF($F478<>\"\",登録済データ!$C$2,\"\")","v":""},{"$f":"IF($F478<>\"\",IF($I$1=\"企業コード3桁\",LEFT(登録済データ!$C$3,3),LEFT(登録済データ!$C$3,6)),\"\")","v":""},null,{"$f":"IF(登録済データ!$B481<>0,登録済データ!C481,\"\")","v":""},{"$f":"IF(登録済データ!$B481<>0,登録済データ!D481,\"\")","v":""},{"$f":"IF(登録済データ!$B481<>0,登録済データ!E481,\"\")","v":""},{"$f":"IF(登録済データ!$B481<>0,IF(登録済データ!F481<>\"\",登録済データ!F481,\"\"),\"\")","v":""},{"$f":"IF(登録済データ!$B481<>0,IF(登録済データ!G481<>\"\",登録済データ!G481,\"\"),\"\")","v":""},{"$f":"IF(登録済データ!$B481<>0,IF(登録済データ!H481<>\"\",登録済データ!H481,\"\"),\"\")","v":""},{"$f":"IF(登録済データ!$B481<>0,IF(登録済データ!I481<>\"\",登録済データ!I481,\"\"),\"\")","v":""},{"$f":"IF(登録済データ!$B481<>0,登録済データ!J481,\"\")","v":""},{"$f":"IF(登録済データ!$B481<>0,登録済データ!K481,\"\")","v":""},{"$f":"IF(登録済データ!$B481<>0,登録済データ!L481,\"\")","v":""},{"$f":"IF(登録済データ!$B481<>0,登録済データ!M481,\"\")","v":""},{"$f":"IF(登録済データ!$B481<>0,登録済データ!N481,\"\")","v":""},{"$f":"IF(登録済データ!$B481<>0,登録済データ!O481,\"\")","v":""},{"$f":"IF(登録済データ!$B481<>0,登録済データ!P481,\"\")","v":""},{"$f":"IF(登録済データ!$B481<>0,登録済データ!Q481,\"\")","v":""},{"$f":"IF(登録済データ!$B481<>0,登録済データ!R481,\"\")","v":""},{"$f":"IF(登録済データ!$B481<>0,登録済データ!S481,\"\")","v":""},{"$f":"IF(登録済データ!$B481<>0,登録済データ!T481,\"\")","v":""},{"$f":"IF(登録済データ!$B481<>0,登録済データ!U481,\"\")","v":""},{"$f":"IF(登録済データ!$B481<>0,登録済データ!V481,\"\")","v":""},{"$f":"IF(登録済データ!$B481<>0,登録済データ!W481,\"\")","v":""},{"$f":"IF(登録済データ!$B481<>0,登録済データ!X481,\"\")","v":""},{"$f":"IF($F478<>\"\",登録済データ!$C$4,\"\")","v":""}]
[null,{"$f":"IF($F479<>\"\",登録済データ!$C$2,\"\")","v":""},{"$f":"IF($F479<>\"\",IF($I$1=\"企業コード3桁\",LEFT(登録済データ!$C$3,3),LEFT(登録済データ!$C$3,6)),\"\")","v":""},null,{"$f":"IF(登録済データ!$B482<>0,登録済データ!C482,\"\")","v":""},{"$f":"IF(登録済データ!$B482<>0,登録済データ!D482,\"\")","v":""},{"$f":"IF(登録済データ!$B482<>0,登録済データ!E482,\"\")","v":""},{"$f":"IF(登録済データ!$B482<>0,IF(登録済データ!F482<>\"\",登録済データ!F482,\"\"),\"\")","v":""},{"$f":"IF(登録済データ!$B482<>0,IF(登録済データ!G482<>\"\",登録済データ!G482,\"\"),\"\")","v":""},{"$f":"IF(登録済データ!$B482<>0,IF(登録済データ!H482<>\"\",登録済データ!H482,\"\"),\"\")","v":""},{"$f":"IF(登録済データ!$B482<>0,IF(登録済データ!I482<>\"\",登録済データ!I482,\"\"),\"\")","v":""},{"$f":"IF(登録済データ!$B482<>0,登録済データ!J482,\"\")","v":""},{"$f":"IF(登録済データ!$B482<>0,登録済データ!K482,\"\")","v":""},{"$f":"IF(登録済データ!$B482<>0,登録済データ!L482,\"\")","v":""},{"$f":"IF(登録済データ!$B482<>0,登録済データ!M482,\"\")","v":""},{"$f":"IF(登録済データ!$B482<>0,登録済データ!N482,\"\")","v":""},{"$f":"IF(登録済データ!$B482<>0,登録済データ!O482,\"\")","v":""},{"$f":"IF(登録済データ!$B482<>0,登録済データ!P482,\"\")","v":""},{"$f":"IF(登録済データ!$B482<>0,登録済データ!Q482,\"\")","v":""},{"$f":"IF(登録済データ!$B482<>0,登録済データ!R482,\"\")","v":""},{"$f":"IF(登録済データ!$B482<>0,登録済データ!S482,\"\")","v":""},{"$f":"IF(登録済データ!$B482<>0,登録済データ!T482,\"\")","v":""},{"$f":"IF(登録済データ!$B482<>0,登録済データ!U482,\"\")","v":""},{"$f":"IF(登録済データ!$B482<>0,登録済データ!V482,\"\")","v":""},{"$f":"IF(登録済データ!$B482<>0,登録済データ!W482,\"\")","v":""},{"$f":"IF(登録済データ!$B482<>0,登録済データ!X482,\"\")","v":""},{"$f":"IF($F479<>\"\",登録済データ!$C$4,\"\")","v":""}]
[null,{"$f":"IF($F480<>\"\",登録済データ!$C$2,\"\")","v":""},{"$f":"IF($F480<>\"\",IF($I$1=\"企業コード3桁\",LEFT(登録済データ!$C$3,3),LEFT(登録済データ!$C$3,6)),\"\")","v":""},null,{"$f":"IF(登録済データ!$B483<>0,登録済データ!C483,\"\")","v":""},{"$f":"IF(登録済データ!$B483<>0,登録済データ!D483,\"\")","v":""},{"$f":"IF(登録済データ!$B483<>0,登録済データ!E483,\"\")","v":""},{"$f":"IF(登録済データ!$B483<>0,IF(登録済データ!F483<>\"\",登録済データ!F483,\"\"),\"\")","v":""},{"$f":"IF(登録済データ!$B483<>0,IF(登録済データ!G483<>\"\",登録済データ!G483,\"\"),\"\")","v":""},{"$f":"IF(登録済データ!$B483<>0,IF(登録済データ!H483<>\"\",登録済データ!H483,\"\"),\"\")","v":""},{"$f":"IF(登録済データ!$B483<>0,IF(登録済データ!I483<>\"\",登録済データ!I483,\"\"),\"\")","v":""},{"$f":"IF(登録済データ!$B483<>0,登録済データ!J483,\"\")","v":""},{"$f":"IF(登録済データ!$B483<>0,登録済データ!K483,\"\")","v":""},{"$f":"IF(登録済データ!$B483<>0,登録済データ!L483,\"\")","v":""},{"$f":"IF(登録済データ!$B483<>0,登録済データ!M483,\"\")","v":""},{"$f":"IF(登録済データ!$B483<>0,登録済データ!N483,\"\")","v":""},{"$f":"IF(登録済データ!$B483<>0,登録済データ!O483,\"\")","v":""},{"$f":"IF(登録済データ!$B483<>0,登録済データ!P483,\"\")","v":""},{"$f":"IF(登録済データ!$B483<>0,登録済データ!Q483,\"\")","v":""},{"$f":"IF(登録済データ!$B483<>0,登録済データ!R483,\"\")","v":""},{"$f":"IF(登録済データ!$B483<>0,登録済データ!S483,\"\")","v":""},{"$f":"IF(登録済データ!$B483<>0,登録済データ!T483,\"\")","v":""},{"$f":"IF(登録済データ!$B483<>0,登録済データ!U483,\"\")","v":""},{"$f":"IF(登録済データ!$B483<>0,登録済データ!V483,\"\")","v":""},{"$f":"IF(登録済データ!$B483<>0,登録済データ!W483,\"\")","v":""},{"$f":"IF(登録済データ!$B483<>0,登録済データ!X483,\"\")","v":""},{"$f":"IF($F480<>\"\",登録済データ!$C$4,\"\")","v":""}]
[null,{"$f":"IF($F481<>\"\",登録済データ!$C$2,\"\")","v":""},{"$f":"IF($F481<>\"\",IF($I$1=\"企業コード3桁\",LEFT(登録済データ!$C$3,3),LEFT(登録済データ!$C$3,6)),\"\")","v":""},null,{"$f":"IF(登録済データ!$B484<>0,登録済データ!C484,\"\")","v":""},{"$f":"IF(登録済データ!$B484<>0,登録済データ!D484,\"\")","v":""},{"$f":"IF(登録済データ!$B484<>0,登録済データ!E484,\"\")","v":""},{"$f":"IF(登録済データ!$B484<>0,IF(登録済データ!F484<>\"\",登録済データ!F484,\"\"),\"\")","v":""},{"$f":"IF(登録済データ!$B484<>0,IF(登録済データ!G484<>\"\",登録済データ!G484,\"\"),\"\")","v":""},{"$f":"IF(登録済データ!$B484<>0,IF(登録済データ!H484<>\"\",登録済データ!H484,\"\"),\"\")","v":""},{"$f":"IF(登録済データ!$B484<>0,IF(登録済データ!I484<>\"\",登録済データ!I484,\"\"),\"\")","v":""},{"$f":"IF(登録済データ!$B484<>0,登録済データ!J484,\"\")","v":""},{"$f":"IF(登録済データ!$B484<>0,登録済データ!K484,\"\")","v":""},{"$f":"IF(登録済データ!$B484<>0,登録済データ!L484,\"\")","v":""},{"$f":"IF(登録済データ!$B484<>0,登録済データ!M484,\"\")","v":""},{"$f":"IF(登録済データ!$B484<>0,登録済データ!N484,\"\")","v":""},{"$f":"IF(登録済データ!$B484<>0,登録済データ!O484,\"\")","v":""},{"$f":"IF(登録済データ!$B484<>0,登録済データ!P484,\"\")","v":""},{"$f":"IF(登録済データ!$B484<>0,登録済データ!Q484,\"\")","v":""},{"$f":"IF(登録済データ!$B484<>0,登録済データ!R484,\"\")","v":""},{"$f":"IF(登録済データ!$B484<>0,登録済データ!S484,\"\")","v":""},{"$f":"IF(登録済データ!$B484<>0,登録済データ!T484,\"\")","v":""},{"$f":"IF(登録済データ!$B484<>0,登録済データ!U484,\"\")","v":""},{"$f":"IF(登録済データ!$B484<>0,登録済データ!V484,\"\")","v":""},{"$f":"IF(登録済データ!$B484<>0,登録済データ!W484,\"\")","v":""},{"$f":"IF(登録済データ!$B484<>0,登録済データ!X484,\"\")","v":""},{"$f":"IF($F481<>\"\",登録済データ!$C$4,\"\")","v":""}]
[null,{"$f":"IF($F482<>\"\",登録済データ!$C$2,\"\")","v":""},{"$f":"IF($F482<>\"\",IF($I$1=\"企業コード3桁\",LEFT(登録済データ!$C$3,3),LEFT(登録済データ!$C$3,6)),\"\")","v":""},null,{"$f":"IF(登録済データ!$B485<>0,登録済データ!C485,\"\")","v":""},{"$f":"IF(登録済データ!$B485<>0,登録済データ!D485,\"\")","v":""},{"$f":"IF(登録済データ!$B485<>0,登録済データ!E485,\"\")","v":""},{"$f":"IF(登録済データ!$B485<>0,IF(登録済データ!F485<>\"\",登録済データ!F485,\"\"),\"\")","v":""},{"$f":"IF(登録済データ!$B485<>0,IF(登録済データ!G485<>\"\",登録済データ!G485,\"\"),\"\")","v":""},{"$f":"IF(登録済データ!$B485<>0,IF(登録済データ!H485<>\"\",登録済データ!H485,\"\"),\"\")","v":""},{"$f":"IF(登録済データ!$B485<>0,IF(登録済データ!I485<>\"\",登録済データ!I485,\"\"),\"\")","v":""},{"$f":"IF(登録済データ!$B485<>0,登録済データ!J485,\"\")","v":""},{"$f":"IF(登録済データ!$B485<>0,登録済データ!K485,\"\")","v":""},{"$f":"IF(登録済データ!$B485<>0,登録済データ!L485,\"\")","v":""},{"$f":"IF(登録済データ!$B485<>0,登録済データ!M485,\"\")","v":""},{"$f":"IF(登録済データ!$B485<>0,登録済データ!N485,\"\")","v":""},{"$f":"IF(登録済データ!$B485<>0,登録済データ!O485,\"\")","v":""},{"$f":"IF(登録済データ!$B485<>0,登録済データ!P485,\"\")","v":""},{"$f":"IF(登録済データ!$B485<>0,登録済データ!Q485,\"\")","v":""},{"$f":"IF(登録済データ!$B485<>0,登録済データ!R485,\"\")","v":""},{"$f":"IF(登録済データ!$B485<>0,登録済データ!S485,\"\")","v":""},{"$f":"IF(登録済データ!$B485<>0,登録済データ!T485,\"\")","v":""},{"$f":"IF(登録済データ!$B485<>0,登録済データ!U485,\"\")","v":""},{"$f":"IF(登録済データ!$B485<>0,登録済データ!V485,\"\")","v":""},{"$f":"IF(登録済データ!$B485<>0,登録済データ!W485,\"\")","v":""},{"$f":"IF(登録済データ!$B485<>0,登録済データ!X485,\"\")","v":""},{"$f":"IF($F482<>\"\",登録済データ!$C$4,\"\")","v":""}]
[null,{"$f":"IF($F483<>\"\",登録済データ!$C$2,\"\")","v":""},{"$f":"IF($F483<>\"\",IF($I$1=\"企業コード3桁\",LEFT(登録済データ!$C$3,3),LEFT(登録済データ!$C$3,6)),\"\")","v":""},null,{"$f":"IF(登録済データ!$B486<>0,登録済データ!C486,\"\")","v":""},{"$f":"IF(登録済データ!$B486<>0,登録済データ!D486,\"\")","v":""},{"$f":"IF(登録済データ!$B486<>0,登録済データ!E486,\"\")","v":""},{"$f":"IF(登録済データ!$B486<>0,IF(登録済データ!F486<>\"\",登録済データ!F486,\"\"),\"\")","v":""},{"$f":"IF(登録済データ!$B486<>0,IF(登録済データ!G486<>\"\",登録済データ!G486,\"\"),\"\")","v":""},{"$f":"IF(登録済データ!$B486<>0,IF(登録済データ!H486<>\"\",登録済データ!H486,\"\"),\"\")","v":""},{"$f":"IF(登録済データ!$B486<>0,IF(登録済データ!I486<>\"\",登録済データ!I486,\"\"),\"\")","v":""},{"$f":"IF(登録済データ!$B486<>0,登録済データ!J486,\"\")","v":""},{"$f":"IF(登録済データ!$B486<>0,登録済データ!K486,\"\")","v":""},{"$f":"IF(登録済データ!$B486<>0,登録済データ!L486,\"\")","v":""},{"$f":"IF(登録済データ!$B486<>0,登録済データ!M486,\"\")","v":""},{"$f":"IF(登録済データ!$B486<>0,登録済データ!N486,\"\")","v":""},{"$f":"IF(登録済データ!$B486<>0,登録済データ!O486,\"\")","v":""},{"$f":"IF(登録済データ!$B486<>0,登録済データ!P486,\"\")","v":""},{"$f":"IF(登録済データ!$B486<>0,登録済データ!Q486,\"\")","v":""},{"$f":"IF(登録済データ!$B486<>0,登録済データ!R486,\"\")","v":""},{"$f":"IF(登録済データ!$B486<>0,登録済データ!S486,\"\")","v":""},{"$f":"IF(登録済データ!$B486<>0,登録済データ!T486,\"\")","v":""},{"$f":"IF(登録済データ!$B486<>0,登録済データ!U486,\"\")","v":""},{"$f":"IF(登録済データ!$B486<>0,登録済データ!V486,\"\")","v":""},{"$f":"IF(登録済データ!$B486<>0,登録済データ!W486,\"\")","v":""},{"$f":"IF(登録済データ!$B486<>0,登録済データ!X486,\"\")","v":""},{"$f":"IF($F483<>\"\",登録済データ!$C$4,\"\")","v":""}]
[null,{"$f":"IF($F484<>\"\",登録済データ!$C$2,\"\")","v":""},{"$f":"IF($F484<>\"\",IF($I$1=\"企業コード3桁\",LEFT(登録済データ!$C$3,3),LEFT(登録済データ!$C$3,6)),\"\")","v":""},null,{"$f":"IF(登録済データ!$B487<>0,登録済データ!C487,\"\")","v":""},{"$f":"IF(登録済データ!$B487<>0,登録済データ!D487,\"\")","v":""},{"$f":"IF(登録済データ!$B487<>0,登録済データ!E487,\"\")","v":""},{"$f":"IF(登録済データ!$B487<>0,IF(登録済データ!F487<>\"\",登録済データ!F487,\"\"),\"\")","v":""},{"$f":"IF(登録済データ!$B487<>0,IF(登録済データ!G487<>\"\",登録済データ!G487,\"\"),\"\")","v":""},{"$f":"IF(登録済データ!$B487<>0,IF(登録済データ!H487<>\"\",登録済データ!H487,\"\"),\"\")","v":""},{"$f":"IF(登録済データ!$B487<>0,IF(登録済データ!I487<>\"\",登録済データ!I487,\"\"),\"\")","v":""},{"$f":"IF(登録済データ!$B487<>0,登録済データ!J487,\"\")","v":""},{"$f":"IF(登録済データ!$B487<>0,登録済データ!K487,\"\")","v":""},{"$f":"IF(登録済データ!$B487<>0,登録済データ!L487,\"\")","v":""},{"$f":"IF(登録済データ!$B487<>0,登録済データ!M487,\"\")","v":""},{"$f":"IF(登録済データ!$B487<>0,登録済データ!N487,\"\")","v":""},{"$f":"IF(登録済データ!$B487<>0,登録済データ!O487,\"\")","v":""},{"$f":"IF(登録済データ!$B487<>0,登録済データ!P487,\"\")","v":""},{"$f":"IF(登録済データ!$B487<>0,登録済データ!Q487,\"\")","v":""},{"$f":"IF(登録済データ!$B487<>0,登録済データ!R487,\"\")","v":""},{"$f":"IF(登録済データ!$B487<>0,登録済データ!S487,\"\")","v":""},{"$f":"IF(登録済データ!$B487<>0,登録済データ!T487,\"\")","v":""},{"$f":"IF(登録済データ!$B487<>0,登録済データ!U487,\"\")","v":""},{"$f":"IF(登録済データ!$B487<>0,登録済データ!V487,\"\")","v":""},{"$f":"IF(登録済データ!$B487<>0,登録済データ!W487,\"\")","v":""},{"$f":"IF(登録済データ!$B487<>0,登録済データ!X487,\"\")","v":""},{"$f":"IF($F484<>\"\",登録済データ!$C$4,\"\")","v":""}]
[null,{"$f":"IF($F485<>\"\",登録済データ!$C$2,\"\")","v":""},{"$f":"IF($F485<>\"\",IF($I$1=\"企業コード3桁\",LEFT(登録済データ!$C$3,3),LEFT(登録済データ!$C$3,6)),\"\")","v":""},null,{"$f":"IF(登録済データ!$B488<>0,登録済データ!C488,\"\")","v":""},{"$f":"IF(登録済データ!$B488<>0,登録済データ!D488,\"\")","v":""},{"$f":"IF(登録済データ!$B488<>0,登録済データ!E488,\"\")","v":""},{"$f":"IF(登録済データ!$B488<>0,IF(登録済データ!F488<>\"\",登録済データ!F488,\"\"),\"\")","v":""},{"$f":"IF(登録済データ!$B488<>0,IF(登録済データ!G488<>\"\",登録済データ!G488,\"\"),\"\")","v":""},{"$f":"IF(登録済データ!$B488<>0,IF(登録済データ!H488<>\"\",登録済データ!H488,\"\"),\"\")","v":""},{"$f":"IF(登録済データ!$B488<>0,IF(登録済データ!I488<>\"\",登録済データ!I488,\"\"),\"\")","v":""},{"$f":"IF(登録済データ!$B488<>0,登録済データ!J488,\"\")","v":""},{"$f":"IF(登録済データ!$B488<>0,登録済データ!K488,\"\")","v":""},{"$f":"IF(登録済データ!$B488<>0,登録済データ!L488,\"\")","v":""},{"$f":"IF(登録済データ!$B488<>0,登録済データ!M488,\"\")","v":""},{"$f":"IF(登録済データ!$B488<>0,登録済データ!N488,\"\")","v":""},{"$f":"IF(登録済データ!$B488<>0,登録済データ!O488,\"\")","v":""},{"$f":"IF(登録済データ!$B488<>0,登録済データ!P488,\"\")","v":""},{"$f":"IF(登録済データ!$B488<>0,登録済データ!Q488,\"\")","v":""},{"$f":"IF(登録済データ!$B488<>0,登録済データ!R488,\"\")","v":""},{"$f":"IF(登録済データ!$B488<>0,登録済データ!S488,\"\")","v":""},{"$f":"IF(登録済データ!$B488<>0,登録済データ!T488,\"\")","v":""},{"$f":"IF(登録済データ!$B488<>0,登録済データ!U488,\"\")","v":""},{"$f":"IF(登録済データ!$B488<>0,登録済データ!V488,\"\")","v":""},{"$f":"IF(登録済データ!$B488<>0,登録済データ!W488,\"\")","v":""},{"$f":"IF(登録済データ!$B488<>0,登録済データ!X488,\"\")","v":""},{"$f":"IF($F485<>\"\",登録済データ!$C$4,\"\")","v":""}]
[null,{"$f":"IF($F486<>\"\",登録済データ!$C$2,\"\")","v":""},{"$f":"IF($F486<>\"\",IF($I$1=\"企業コード3桁\",LEFT(登録済データ!$C$3,3),LEFT(登録済データ!$C$3,6)),\"\")","v":""},null,{"$f":"IF(登録済データ!$B489<>0,登録済データ!C489,\"\")","v":""},{"$f":"IF(登録済データ!$B489<>0,登録済データ!D489,\"\")","v":""},{"$f":"IF(登録済データ!$B489<>0,登録済データ!E489,\"\")","v":""},{"$f":"IF(登録済データ!$B489<>0,IF(登録済データ!F489<>\"\",登録済データ!F489,\"\"),\"\")","v":""},{"$f":"IF(登録済データ!$B489<>0,IF(登録済データ!G489<>\"\",登録済データ!G489,\"\"),\"\")","v":""},{"$f":"IF(登録済データ!$B489<>0,IF(登録済データ!H489<>\"\",登録済データ!H489,\"\"),\"\")","v":""},{"$f":"IF(登録済データ!$B489<>0,IF(登録済データ!I489<>\"\",登録済データ!I489,\"\"),\"\")","v":""},{"$f":"IF(登録済データ!$B489<>0,登録済データ!J489,\"\")","v":""},{"$f":"IF(登録済データ!$B489<>0,登録済データ!K489,\"\")","v":""},{"$f":"IF(登録済データ!$B489<>0,登録済データ!L489,\"\")","v":""},{"$f":"IF(登録済データ!$B489<>0,登録済データ!M489,\"\")","v":""},{"$f":"IF(登録済データ!$B489<>0,登録済データ!N489,\"\")","v":""},{"$f":"IF(登録済データ!$B489<>0,登録済データ!O489,\"\")","v":""},{"$f":"IF(登録済データ!$B489<>0,登録済データ!P489,\"\")","v":""},{"$f":"IF(登録済データ!$B489<>0,登録済データ!Q489,\"\")","v":""},{"$f":"IF(登録済データ!$B489<>0,登録済データ!R489,\"\")","v":""},{"$f":"IF(登録済データ!$B489<>0,登録済データ!S489,\"\")","v":""},{"$f":"IF(登録済データ!$B489<>0,登録済データ!T489,\"\")","v":""},{"$f":"IF(登録済データ!$B489<>0,登録済データ!U489,\"\")","v":""},{"$f":"IF(登録済データ!$B489<>0,登録済データ!V489,\"\")","v":""},{"$f":"IF(登録済データ!$B489<>0,登録済データ!W489,\"\")","v":""},{"$f":"IF(登録済データ!$B489<>0,登録済データ!X489,\"\")","v":""},{"$f":"IF($F486<>\"\",登録済データ!$C$4,\"\")","v":""}]
[null,{"$f":"IF($F487<>\"\",登録済データ!$C$2,\"\")","v":""},{"$f":"IF($F487<>\"\",IF($I$1=\"企業コード3桁\",LEFT(登録済データ!$C$3,3),LEFT(登録済データ!$C$3,6)),\"\")","v":""},null,{"$f":"IF(登録済データ!$B490<>0,登録済データ!C490,\"\")","v":""},{"$f":"IF(登録済データ!$B490<>0,登録済データ!D490,\"\")","v":""},{"$f":"IF(登録済データ!$B490<>0,登録済データ!E490,\"\")","v":""},{"$f":"IF(登録済データ!$B490<>0,IF(登録済データ!F490<>\"\",登録済データ!F490,\"\"),\"\")","v":""},{"$f":"IF(登録済データ!$B490<>0,IF(登録済データ!G490<>\"\",登録済データ!G490,\"\"),\"\")","v":""},{"$f":"IF(登録済データ!$B490<>0,IF(登録済データ!H490<>\"\",登録済データ!H490,\"\"),\"\")","v":""},{"$f":"IF(登録済データ!$B490<>0,IF(登録済データ!I490<>\"\",登録済データ!I490,\"\"),\"\")","v":""},{"$f":"IF(登録済データ!$B490<>0,登録済データ!J490,\"\")","v":""},{"$f":"IF(登録済データ!$B490<>0,登録済データ!K490,\"\")","v":""},{"$f":"IF(登録済データ!$B490<>0,登録済データ!L490,\"\")","v":""},{"$f":"IF(登録済データ!$B490<>0,登録済データ!M490,\"\")","v":""},{"$f":"IF(登録済データ!$B490<>0,登録済データ!N490,\"\")","v":""},{"$f":"IF(登録済データ!$B490<>0,登録済データ!O490,\"\")","v":""},{"$f":"IF(登録済データ!$B490<>0,登録済データ!P490,\"\")","v":""},{"$f":"IF(登録済データ!$B490<>0,登録済データ!Q490,\"\")","v":""},{"$f":"IF(登録済データ!$B490<>0,登録済データ!R490,\"\")","v":""},{"$f":"IF(登録済データ!$B490<>0,登録済データ!S490,\"\")","v":""},{"$f":"IF(登録済データ!$B490<>0,登録済データ!T490,\"\")","v":""},{"$f":"IF(登録済データ!$B490<>0,登録済データ!U490,\"\")","v":""},{"$f":"IF(登録済データ!$B490<>0,登録済データ!V490,\"\")","v":""},{"$f":"IF(登録済データ!$B490<>0,登録済データ!W490,\"\")","v":""},{"$f":"IF(登録済データ!$B490<>0,登録済データ!X490,\"\")","v":""},{"$f":"IF($F487<>\"\",登録済データ!$C$4,\"\")","v":""}]
[null,{"$f":"IF($F488<>\"\",登録済データ!$C$2,\"\")","v":""},{"$f":"IF($F488<>\"\",IF($I$1=\"企業コード3桁\",LEFT(登録済データ!$C$3,3),LEFT(登録済データ!$C$3,6)),\"\")","v":""},null,{"$f":"IF(登録済データ!$B491<>0,登録済データ!C491,\"\")","v":""},{"$f":"IF(登録済データ!$B491<>0,登録済データ!D491,\"\")","v":""},{"$f":"IF(登録済データ!$B491<>0,登録済データ!E491,\"\")","v":""},{"$f":"IF(登録済データ!$B491<>0,IF(登録済データ!F491<>\"\",登録済データ!F491,\"\"),\"\")","v":""},{"$f":"IF(登録済データ!$B491<>0,IF(登録済データ!G491<>\"\",登録済データ!G491,\"\"),\"\")","v":""},{"$f":"IF(登録済データ!$B491<>0,IF(登録済データ!H491<>\"\",登録済データ!H491,\"\"),\"\")","v":""},{"$f":"IF(登録済データ!$B491<>0,IF(登録済データ!I491<>\"\",登録済データ!I491,\"\"),\"\")","v":""},{"$f":"IF(登録済データ!$B491<>0,登録済データ!J491,\"\")","v":""},{"$f":"IF(登録済データ!$B491<>0,登録済データ!K491,\"\")","v":""},{"$f":"IF(登録済データ!$B491<>0,登録済データ!L491,\"\")","v":""},{"$f":"IF(登録済データ!$B491<>0,登録済データ!M491,\"\")","v":""},{"$f":"IF(登録済データ!$B491<>0,登録済データ!N491,\"\")","v":""},{"$f":"IF(登録済データ!$B491<>0,登録済データ!O491,\"\")","v":""},{"$f":"IF(登録済データ!$B491<>0,登録済データ!P491,\"\")","v":""},{"$f":"IF(登録済データ!$B491<>0,登録済データ!Q491,\"\")","v":""},{"$f":"IF(登録済データ!$B491<>0,登録済データ!R491,\"\")","v":""},{"$f":"IF(登録済データ!$B491<>0,登録済データ!S491,\"\")","v":""},{"$f":"IF(登録済データ!$B491<>0,登録済データ!T491,\"\")","v":""},{"$f":"IF(登録済データ!$B491<>0,登録済データ!U491,\"\")","v":""},{"$f":"IF(登録済データ!$B491<>0,登録済データ!V491,\"\")","v":""},{"$f":"IF(登録済データ!$B491<>0,登録済データ!W491,\"\")","v":""},{"$f":"IF(登録済データ!$B491<>0,登録済データ!X491,\"\")","v":""},{"$f":"IF($F488<>\"\",登録済データ!$C$4,\"\")","v":""}]
[null,{"$f":"IF($F489<>\"\",登録済データ!$C$2,\"\")","v":""},{"$f":"IF($F489<>\"\",IF($I$1=\"企業コード3桁\",LEFT(登録済データ!$C$3,3),LEFT(登録済データ!$C$3,6)),\"\")","v":""},null,{"$f":"IF(登録済データ!$B492<>0,登録済データ!C492,\"\")","v":""},{"$f":"IF(登録済データ!$B492<>0,登録済データ!D492,\"\")","v":""},{"$f":"IF(登録済データ!$B492<>0,登録済データ!E492,\"\")","v":""},{"$f":"IF(登録済データ!$B492<>0,IF(登録済データ!F492<>\"\",登録済データ!F492,\"\"),\"\")","v":""},{"$f":"IF(登録済データ!$B492<>0,IF(登録済データ!G492<>\"\",登録済データ!G492,\"\"),\"\")","v":""},{"$f":"IF(登録済データ!$B492<>0,IF(登録済データ!H492<>\"\",登録済データ!H492,\"\"),\"\")","v":""},{"$f":"IF(登録済データ!$B492<>0,IF(登録済データ!I492<>\"\",登録済データ!I492,\"\"),\"\")","v":""},{"$f":"IF(登録済データ!$B492<>0,登録済データ!J492,\"\")","v":""},{"$f":"IF(登録済データ!$B492<>0,登録済データ!K492,\"\")","v":""},{"$f":"IF(登録済データ!$B492<>0,登録済データ!L492,\"\")","v":""},{"$f":"IF(登録済データ!$B492<>0,登録済データ!M492,\"\")","v":""},{"$f":"IF(登録済データ!$B492<>0,登録済データ!N492,\"\")","v":""},{"$f":"IF(登録済データ!$B492<>0,登録済データ!O492,\"\")","v":""},{"$f":"IF(登録済データ!$B492<>0,登録済データ!P492,\"\")","v":""},{"$f":"IF(登録済データ!$B492<>0,登録済データ!Q492,\"\")","v":""},{"$f":"IF(登録済データ!$B492<>0,登録済データ!R492,\"\")","v":""},{"$f":"IF(登録済データ!$B492<>0,登録済データ!S492,\"\")","v":""},{"$f":"IF(登録済データ!$B492<>0,登録済データ!T492,\"\")","v":""},{"$f":"IF(登録済データ!$B492<>0,登録済データ!U492,\"\")","v":""},{"$f":"IF(登録済データ!$B492<>0,登録済データ!V492,\"\")","v":""},{"$f":"IF(登録済データ!$B492<>0,登録済データ!W492,\"\")","v":""},{"$f":"IF(登録済データ!$B492<>0,登録済データ!X492,\"\")","v":""},{"$f":"IF($F489<>\"\",登録済データ!$C$4,\"\")","v":""}]
[null,{"$f":"IF($F490<>\"\",登録済データ!$C$2,\"\")","v":""},{"$f":"IF($F490<>\"\",IF($I$1=\"企業コード3桁\",LEFT(登録済データ!$C$3,3),LEFT(登録済データ!$C$3,6)),\"\")","v":""},null,{"$f":"IF(登録済データ!$B493<>0,登録済データ!C493,\"\")","v":""},{"$f":"IF(登録済データ!$B493<>0,登録済データ!D493,\"\")","v":""},{"$f":"IF(登録済データ!$B493<>0,登録済データ!E493,\"\")","v":""},{"$f":"IF(登録済データ!$B493<>0,IF(登録済データ!F493<>\"\",登録済データ!F493,\"\"),\"\")","v":""},{"$f":"IF(登録済データ!$B493<>0,IF(登録済データ!G493<>\"\",登録済データ!G493,\"\"),\"\")","v":""},{"$f":"IF(登録済データ!$B493<>0,IF(登録済データ!H493<>\"\",登録済データ!H493,\"\"),\"\")","v":""},{"$f":"IF(登録済データ!$B493<>0,IF(登録済データ!I493<>\"\",登録済データ!I493,\"\"),\"\")","v":""},{"$f":"IF(登録済データ!$B493<>0,登録済データ!J493,\"\")","v":""},{"$f":"IF(登録済データ!$B493<>0,登録済データ!K493,\"\")","v":""},{"$f":"IF(登録済データ!$B493<>0,登録済データ!L493,\"\")","v":""},{"$f":"IF(登録済データ!$B493<>0,登録済データ!M493,\"\")","v":""},{"$f":"IF(登録済データ!$B493<>0,登録済データ!N493,\"\")","v":""},{"$f":"IF(登録済データ!$B493<>0,登録済データ!O493,\"\")","v":""},{"$f":"IF(登録済データ!$B493<>0,登録済データ!P493,\"\")","v":""},{"$f":"IF(登録済データ!$B493<>0,登録済データ!Q493,\"\")","v":""},{"$f":"IF(登録済データ!$B493<>0,登録済データ!R493,\"\")","v":""},{"$f":"IF(登録済データ!$B493<>0,登録済データ!S493,\"\")","v":""},{"$f":"IF(登録済データ!$B493<>0,登録済データ!T493,\"\")","v":""},{"$f":"IF(登録済データ!$B493<>0,登録済データ!U493,\"\")","v":""},{"$f":"IF(登録済データ!$B493<>0,登録済データ!V493,\"\")","v":""},{"$f":"IF(登録済データ!$B493<>0,登録済データ!W493,\"\")","v":""},{"$f":"IF(登録済データ!$B493<>0,登録済データ!X493,\"\")","v":""},{"$f":"IF($F490<>\"\",登録済データ!$C$4,\"\")","v":""}]
[null,{"$f":"IF($F491<>\"\",登録済データ!$C$2,\"\")","v":""},{"$f":"IF($F491<>\"\",IF($I$1=\"企業コード3桁\",LEFT(登録済データ!$C$3,3),LEFT(登録済データ!$C$3,6)),\"\")","v":""},null,{"$f":"IF(登録済データ!$B494<>0,登録済データ!C494,\"\")","v":""},{"$f":"IF(登録済データ!$B494<>0,登録済データ!D494,\"\")","v":""},{"$f":"IF(登録済データ!$B494<>0,登録済データ!E494,\"\")","v":""},{"$f":"IF(登録済データ!$B494<>0,IF(登録済データ!F494<>\"\",登録済データ!F494,\"\"),\"\")","v":""},{"$f":"IF(登録済データ!$B494<>0,IF(登録済データ!G494<>\"\",登録済データ!G494,\"\"),\"\")","v":""},{"$f":"IF(登録済データ!$B494<>0,IF(登録済データ!H494<>\"\",登録済データ!H494,\"\"),\"\")","v":""},{"$f":"IF(登録済データ!$B494<>0,IF(登録済データ!I494<>\"\",登録済データ!I494,\"\"),\"\")","v":""},{"$f":"IF(登録済データ!$B494<>0,登録済データ!J494,\"\")","v":""},{"$f":"IF(登録済データ!$B494<>0,登録済データ!K494,\"\")","v":""},{"$f":"IF(登録済データ!$B494<>0,登録済データ!L494,\"\")","v":""},{"$f":"IF(登録済データ!$B494<>0,登録済データ!M494,\"\")","v":""},{"$f":"IF(登録済データ!$B494<>0,登録済データ!N494,\"\")","v":""},{"$f":"IF(登録済データ!$B494<>0,登録済データ!O494,\"\")","v":""},{"$f":"IF(登録済データ!$B494<>0,登録済データ!P494,\"\")","v":""},{"$f":"IF(登録済データ!$B494<>0,登録済データ!Q494,\"\")","v":""},{"$f":"IF(登録済データ!$B494<>0,登録済データ!R494,\"\")","v":""},{"$f":"IF(登録済データ!$B494<>0,登録済データ!S494,\"\")","v":""},{"$f":"IF(登録済データ!$B494<>0,登録済データ!T494,\"\")","v":""},{"$f":"IF(登録済データ!$B494<>0,登録済データ!U494,\"\")","v":""},{"$f":"IF(登録済データ!$B494<>0,登録済データ!V494,\"\")","v":""},{"$f":"IF(登録済データ!$B494<>0,登録済データ!W494,\"\")","v":""},{"$f":"IF(登録済データ!$B494<>0,登録済データ!X494,\"\")","v":""},{"$f":"IF($F491<>\"\",登録済データ!$C$4,\"\")","v":""}]
[null,{"$f":"IF($F492<>\"\",登録済データ!$C$2,\"\")","v":""},{"$f":"IF($F492<>\"\",IF($I$1=\"企業コード3桁\",LEFT(登録済データ!$C$3,3),LEFT(登録済データ!$C$3,6)),\"\")","v":""},null,{"$f":"IF(登録済データ!$B495<>0,登録済データ!C495,\"\")","v":""},{"$f":"IF(登録済データ!$B495<>0,登録済データ!D495,\"\")","v":""},{"$f":"IF(登録済データ!$B495<>0,登録済データ!E495,\"\")","v":""},{"$f":"IF(登録済データ!$B495<>0,IF(登録済データ!F495<>\"\",登録済データ!F495,\"\"),\"\")","v":""},{"$f":"IF(登録済データ!$B495<>0,IF(登録済データ!G495<>\"\",登録済データ!G495,\"\"),\"\")","v":""},{"$f":"IF(登録済データ!$B495<>0,IF(登録済データ!H495<>\"\",登録済データ!H495,\"\"),\"\")","v":""},{"$f":"IF(登録済データ!$B495<>0,IF(登録済データ!I495<>\"\",登録済データ!I495,\"\"),\"\")","v":""},{"$f":"IF(登録済データ!$B495<>0,登録済データ!J495,\"\")","v":""},{"$f":"IF(登録済データ!$B495<>0,登録済データ!K495,\"\")","v":""},{"$f":"IF(登録済データ!$B495<>0,登録済データ!L495,\"\")","v":""},{"$f":"IF(登録済データ!$B495<>0,登録済データ!M495,\"\")","v":""},{"$f":"IF(登録済データ!$B495<>0,登録済データ!N495,\"\")","v":""},{"$f":"IF(登録済データ!$B495<>0,登録済データ!O495,\"\")","v":""},{"$f":"IF(登録済データ!$B495<>0,登録済データ!P495,\"\")","v":""},{"$f":"IF(登録済データ!$B495<>0,登録済データ!Q495,\"\")","v":""},{"$f":"IF(登録済データ!$B495<>0,登録済データ!R495,\"\")","v":""},{"$f":"IF(登録済データ!$B495<>0,登録済データ!S495,\"\")","v":""},{"$f":"IF(登録済データ!$B495<>0,登録済データ!T495,\"\")","v":""},{"$f":"IF(登録済データ!$B495<>0,登録済データ!U495,\"\")","v":""},{"$f":"IF(登録済データ!$B495<>0,登録済データ!V495,\"\")","v":""},{"$f":"IF(登録済データ!$B495<>0,登録済データ!W495,\"\")","v":""},{"$f":"IF(登録済データ!$B495<>0,登録済データ!X495,\"\")","v":""},{"$f":"IF($F492<>\"\",登録済データ!$C$4,\"\")","v":""}]
[null,{"$f":"IF($F493<>\"\",登録済データ!$C$2,\"\")","v":""},{"$f":"IF($F493<>\"\",IF($I$1=\"企業コード3桁\",LEFT(登録済データ!$C$3,3),LEFT(登録済データ!$C$3,6)),\"\")","v":""},null,{"$f":"IF(登録済データ!$B496<>0,登録済データ!C496,\"\")","v":""},{"$f":"IF(登録済データ!$B496<>0,登録済データ!D496,\"\")","v":""},{"$f":"IF(登録済データ!$B496<>0,登録済データ!E496,\"\")","v":""},{"$f":"IF(登録済データ!$B496<>0,IF(登録済データ!F496<>\"\",登録済データ!F496,\"\"),\"\")","v":""},{"$f":"IF(登録済データ!$B496<>0,IF(登録済データ!G496<>\"\",登録済データ!G496,\"\"),\"\")","v":""},{"$f":"IF(登録済データ!$B496<>0,IF(登録済データ!H496<>\"\",登録済データ!H496,\"\"),\"\")","v":""},{"$f":"IF(登録済データ!$B496<>0,IF(登録済データ!I496<>\"\",登録済データ!I496,\"\"),\"\")","v":""},{"$f":"IF(登録済データ!$B496<>0,登録済データ!J496,\"\")","v":""},{"$f":"IF(登録済データ!$B496<>0,登録済データ!K496,\"\")","v":""},{"$f":"IF(登録済データ!$B496<>0,登録済データ!L496,\"\")","v":""},{"$f":"IF(登録済データ!$B496<>0,登録済データ!M496,\"\")","v":""},{"$f":"IF(登録済データ!$B496<>0,登録済データ!N496,\"\")","v":""},{"$f":"IF(登録済データ!$B496<>0,登録済データ!O496,\"\")","v":""},{"$f":"IF(登録済データ!$B496<>0,登録済データ!P496,\"\")","v":""},{"$f":"IF(登録済データ!$B496<>0,登録済データ!Q496,\"\")","v":""},{"$f":"IF(登録済データ!$B496<>0,登録済データ!R496,\"\")","v":""},{"$f":"IF(登録済データ!$B496<>0,登録済データ!S496,\"\")","v":""},{"$f":"IF(登録済データ!$B496<>0,登録済データ!T496,\"\")","v":""},{"$f":"IF(登録済データ!$B496<>0,登録済データ!U496,\"\")","v":""},{"$f":"IF(登録済データ!$B496<>0,登録済データ!V496,\"\")","v":""},{"$f":"IF(登録済データ!$B496<>0,登録済データ!W496,\"\")","v":""},{"$f":"IF(登録済データ!$B496<>0,登録済データ!X496,\"\")","v":""},{"$f":"IF($F493<>\"\",登録済データ!$C$4,\"\")","v":""}]
[null,{"$f":"IF($F494<>\"\",登録済データ!$C$2,\"\")","v":""},{"$f":"IF($F494<>\"\",IF($I$1=\"企業コード3桁\",LEFT(登録済データ!$C$3,3),LEFT(登録済データ!$C$3,6)),\"\")","v":""},null,{"$f":"IF(登録済データ!$B497<>0,登録済データ!C497,\"\")","v":""},{"$f":"IF(登録済データ!$B497<>0,登録済データ!D497,\"\")","v":""},{"$f":"IF(登録済データ!$B497<>0,登録済データ!E497,\"\")","v":""},{"$f":"IF(登録済データ!$B497<>0,IF(登録済データ!F497<>\"\",登録済データ!F497,\"\"),\"\")","v":""},{"$f":"IF(登録済データ!$B497<>0,IF(登録済データ!G497<>\"\",登録済データ!G497,\"\"),\"\")","v":""},{"$f":"IF(登録済データ!$B497<>0,IF(登録済データ!H497<>\"\",登録済データ!H497,\"\"),\"\")","v":""},{"$f":"IF(登録済データ!$B497<>0,IF(登録済データ!I497<>\"\",登録済データ!I497,\"\"),\"\")","v":""},{"$f":"IF(登録済データ!$B497<>0,登録済データ!J497,\"\")","v":""},{"$f":"IF(登録済データ!$B497<>0,登録済データ!K497,\"\")","v":""},{"$f":"IF(登録済データ!$B497<>0,登録済データ!L497,\"\")","v":""},{"$f":"IF(登録済データ!$B497<>0,登録済データ!M497,\"\")","v":""},{"$f":"IF(登録済データ!$B497<>0,登録済データ!N497,\"\")","v":""},{"$f":"IF(登録済データ!$B497<>0,登録済データ!O497,\"\")","v":""},{"$f":"IF(登録済データ!$B497<>0,登録済データ!P497,\"\")","v":""},{"$f":"IF(登録済データ!$B497<>0,登録済データ!Q497,\"\")","v":""},{"$f":"IF(登録済データ!$B497<>0,登録済データ!R497,\"\")","v":""},{"$f":"IF(登録済データ!$B497<>0,登録済データ!S497,\"\")","v":""},{"$f":"IF(登録済データ!$B497<>0,登録済データ!T497,\"\")","v":""},{"$f":"IF(登録済データ!$B497<>0,登録済データ!U497,\"\")","v":""},{"$f":"IF(登録済データ!$B497<>0,登録済データ!V497,\"\")","v":""},{"$f":"IF(登録済データ!$B497<>0,登録済データ!W497,\"\")","v":""},{"$f":"IF(登録済データ!$B497<>0,登録済データ!X497,\"\")","v":""},{"$f":"IF($F494<>\"\",登録済データ!$C$4,\"\")","v":""}]
[null,{"$f":"IF($F495<>\"\",登録済データ!$C$2,\"\")","v":""},{"$f":"IF($F495<>\"\",IF($I$1=\"企業コード3桁\",LEFT(登録済データ!$C$3,3),LEFT(登録済データ!$C$3,6)),\"\")","v":""},null,{"$f":"IF(登録済データ!$B498<>0,登録済データ!C498,\"\")","v":""},{"$f":"IF(登録済データ!$B498<>0,登録済データ!D498,\"\")","v":""},{"$f":"IF(登録済データ!$B498<>0,登録済データ!E498,\"\")","v":""},{"$f":"IF(登録済データ!$B498<>0,IF(登録済データ!F498<>\"\",登録済データ!F498,\"\"),\"\")","v":""},{"$f":"IF(登録済データ!$B498<>0,IF(登録済データ!G498<>\"\",登録済データ!G498,\"\"),\"\")","v":""},{"$f":"IF(登録済データ!$B498<>0,IF(登録済データ!H498<>\"\",登録済データ!H498,\"\"),\"\")","v":""},{"$f":"IF(登録済データ!$B498<>0,IF(登録済データ!I498<>\"\",登録済データ!I498,\"\"),\"\")","v":""},{"$f":"IF(登録済データ!$B498<>0,登録済データ!J498,\"\")","v":""},{"$f":"IF(登録済データ!$B498<>0,登録済データ!K498,\"\")","v":""},{"$f":"IF(登録済データ!$B498<>0,登録済データ!L498,\"\")","v":""},{"$f":"IF(登録済データ!$B498<>0,登録済データ!M498,\"\")","v":""},{"$f":"IF(登録済データ!$B498<>0,登録済データ!N498,\"\")","v":""},{"$f":"IF(登録済データ!$B498<>0,登録済データ!O498,\"\")","v":""},{"$f":"IF(登録済データ!$B498<>0,登録済データ!P498,\"\")","v":""},{"$f":"IF(登録済データ!$B498<>0,登録済データ!Q498,\"\")","v":""},{"$f":"IF(登録済データ!$B498<>0,登録済データ!R498,\"\")","v":""},{"$f":"IF(登録済データ!$B498<>0,登録済データ!S498,\"\")","v":""},{"$f":"IF(登録済データ!$B498<>0,登録済データ!T498,\"\")","v":""},{"$f":"IF(登録済データ!$B498<>0,登録済データ!U498,\"\")","v":""},{"$f":"IF(登録済データ!$B498<>0,登録済データ!V498,\"\")","v":""},{"$f":"IF(登録済データ!$B498<>0,登録済データ!W498,\"\")","v":""},{"$f":"IF(登録済データ!$B498<>0,登録済データ!X498,\"\")","v":""},{"$f":"IF($F495<>\"\",登録済データ!$C$4,\"\")","v":""}]
[null,{"$f":"IF($F496<>\"\",登録済データ!$C$2,\"\")","v":""},{"$f":"IF($F496<>\"\",IF($I$1=\"企業コード3桁\",LEFT(登録済データ!$C$3,3),LEFT(登録済データ!$C$3,6)),\"\")","v":""},null,{"$f":"IF(登録済データ!$B499<>0,登録済データ!C499,\"\")","v":""},{"$f":"IF(登録済データ!$B499<>0,登録済データ!D499,\"\")","v":""},{"$f":"IF(登録済データ!$B499<>0,登録済データ!E499,\"\")","v":""},{"$f":"IF(登録済データ!$B499<>0,IF(登録済データ!F499<>\"\",登録済データ!F499,\"\"),\"\")","v":""},{"$f":"IF(登録済データ!$B499<>0,IF(登録済データ!G499<>\"\",登録済データ!G499,\"\"),\"\")","v":""},{"$f":"IF(登録済データ!$B499<>0,IF(登録済データ!H499<>\"\",登録済データ!H499,\"\"),\"\")","v":""},{"$f":"IF(登録済データ!$B499<>0,IF(登録済データ!I499<>\"\",登録済データ!I499,\"\"),\"\")","v":""},{"$f":"IF(登録済データ!$B499<>0,登録済データ!J499,\"\")","v":""},{"$f":"IF(登録済データ!$B499<>0,登録済データ!K499,\"\")","v":""},{"$f":"IF(登録済データ!$B499<>0,登録済データ!L499,\"\")","v":""},{"$f":"IF(登録済データ!$B499<>0,登録済データ!M499,\"\")","v":""},{"$f":"IF(登録済データ!$B499<>0,登録済データ!N499,\"\")","v":""},{"$f":"IF(登録済データ!$B499<>0,登録済データ!O499,\"\")","v":""},{"$f":"IF(登録済データ!$B499<>0,登録済データ!P499,\"\")","v":""},{"$f":"IF(登録済データ!$B499<>0,登録済データ!Q499,\"\")","v":""},{"$f":"IF(登録済データ!$B499<>0,登録済データ!R499,\"\")","v":""},{"$f":"IF(登録済データ!$B499<>0,登録済データ!S499,\"\")","v":""},{"$f":"IF(登録済データ!$B499<>0,登録済データ!T499,\"\")","v":""},{"$f":"IF(登録済データ!$B499<>0,登録済データ!U499,\"\")","v":""},{"$f":"IF(登録済データ!$B499<>0,登録済データ!V499,\"\")","v":""},{"$f":"IF(登録済データ!$B499<>0,登録済データ!W499,\"\")","v":""},{"$f":"IF(登録済データ!$B499<>0,登録済データ!X499,\"\")","v":""},{"$f":"IF($F496<>\"\",登録済データ!$C$4,\"\")","v":""}]
[null,{"$f":"IF($F497<>\"\",登録済データ!$C$2,\"\")","v":""},{"$f":"IF($F497<>\"\",IF($I$1=\"企業コード3桁\",LEFT(登録済データ!$C$3,3),LEFT(登録済データ!$C$3,6)),\"\")","v":""},null,{"$f":"IF(登録済データ!$B500<>0,登録済データ!C500,\"\")","v":""},{"$f":"IF(登録済データ!$B500<>0,登録済データ!D500,\"\")","v":""},{"$f":"IF(登録済データ!$B500<>0,登録済データ!E500,\"\")","v":""},{"$f":"IF(登録済データ!$B500<>0,IF(登録済データ!F500<>\"\",登録済データ!F500,\"\"),\"\")","v":""},{"$f":"IF(登録済データ!$B500<>0,IF(登録済データ!G500<>\"\",登録済データ!G500,\"\"),\"\")","v":""},{"$f":"IF(登録済データ!$B500<>0,IF(登録済データ!H500<>\"\",登録済データ!H500,\"\"),\"\")","v":""},{"$f":"IF(登録済データ!$B500<>0,IF(登録済データ!I500<>\"\",登録済データ!I500,\"\"),\"\")","v":""},{"$f":"IF(登録済データ!$B500<>0,登録済データ!J500,\"\")","v":""},{"$f":"IF(登録済データ!$B500<>0,登録済データ!K500,\"\")","v":""},{"$f":"IF(登録済データ!$B500<>0,登録済データ!L500,\"\")","v":""},{"$f":"IF(登録済データ!$B500<>0,登録済データ!M500,\"\")","v":""},{"$f":"IF(登録済データ!$B500<>0,登録済データ!N500,\"\")","v":""},{"$f":"IF(登録済データ!$B500<>0,登録済データ!O500,\"\")","v":""},{"$f":"IF(登録済データ!$B500<>0,登録済データ!P500,\"\")","v":""},{"$f":"IF(登録済データ!$B500<>0,登録済データ!Q500,\"\")","v":""},{"$f":"IF(登録済データ!$B500<>0,登録済データ!R500,\"\")","v":""},{"$f":"IF(登録済データ!$B500<>0,登録済データ!S500,\"\")","v":""},{"$f":"IF(登録済データ!$B500<>0,登録済データ!T500,\"\")","v":""},{"$f":"IF(登録済データ!$B500<>0,登録済データ!U500,\"\")","v":""},{"$f":"IF(登録済データ!$B500<>0,登録済データ!V500,\"\")","v":""},{"$f":"IF(登録済データ!$B500<>0,登録済データ!W500,\"\")","v":""},{"$f":"IF(登録済データ!$B500<>0,登録済データ!X500,\"\")","v":""},{"$f":"IF($F497<>\"\",登録済データ!$C$4,\"\")","v":""}]
[null,{"$f":"IF($F498<>\"\",登録済データ!$C$2,\"\")","v":""},{"$f":"IF($F498<>\"\",IF($I$1=\"企業コード3桁\",LEFT(登録済データ!$C$3,3),LEFT(登録済データ!$C$3,6)),\"\")","v":""},null,{"$f":"IF(登録済データ!$B501<>0,登録済データ!C501,\"\")","v":""},{"$f":"IF(登録済データ!$B501<>0,登録済データ!D501,\"\")","v":""},{"$f":"IF(登録済データ!$B501<>0,登録済データ!E501,\"\")","v":""},{"$f":"IF(登録済データ!$B501<>0,IF(登録済データ!F501<>\"\",登録済データ!F501,\"\"),\"\")","v":""},{"$f":"IF(登録済データ!$B501<>0,IF(登録済データ!G501<>\"\",登録済データ!G501,\"\"),\"\")","v":""},{"$f":"IF(登録済データ!$B501<>0,IF(登録済データ!H501<>\"\",登録済データ!H501,\"\"),\"\")","v":""},{"$f":"IF(登録済データ!$B501<>0,IF(登録済データ!I501<>\"\",登録済データ!I501,\"\"),\"\")","v":""},{"$f":"IF(登録済データ!$B501<>0,登録済データ!J501,\"\")","v":""},{"$f":"IF(登録済データ!$B501<>0,登録済データ!K501,\"\")","v":""},{"$f":"IF(登録済データ!$B501<>0,登録済データ!L501,\"\")","v":""},{"$f":"IF(登録済データ!$B501<>0,登録済データ!M501,\"\")","v":""},{"$f":"IF(登録済データ!$B501<>0,登録済データ!N501,\"\")","v":""},{"$f":"IF(登録済データ!$B501<>0,登録済データ!O501,\"\")","v":""},{"$f":"IF(登録済データ!$B501<>0,登録済データ!P501,\"\")","v":""},{"$f":"IF(登録済データ!$B501<>0,登録済データ!Q501,\"\")","v":""},{"$f":"IF(登録済データ!$B501<>0,登録済データ!R501,\"\")","v":""},{"$f":"IF(登録済データ!$B501<>0,登録済データ!S501,\"\")","v":""},{"$f":"IF(登録済データ!$B501<>0,登録済データ!T501,\"\")","v":""},{"$f":"IF(登録済データ!$B501<>0,登録済データ!U501,\"\")","v":""},{"$f":"IF(登録済データ!$B501<>0,登録済データ!V501,\"\")","v":""},{"$f":"IF(登録済データ!$B501<>0,登録済データ!W501,\"\")","v":""},{"$f":"IF(登録済データ!$B501<>0,登録済データ!X501,\"\")","v":""},{"$f":"IF($F498<>\"\",登録済データ!$C$4,\"\")","v":""}]
[null,{"$f":"IF($F499<>\"\",登録済データ!$C$2,\"\")","v":""},{"$f":"IF($F499<>\"\",IF($I$1=\"企業コード3桁\",LEFT(登録済データ!$C$3,3),LEFT(登録済データ!$C$3,6)),\"\")","v":""},null,{"$f":"IF(登録済データ!$B502<>0,登録済データ!C502,\"\")","v":""},{"$f":"IF(登録済データ!$B502<>0,登録済データ!D502,\"\")","v":""},{"$f":"IF(登録済データ!$B502<>0,登録済データ!E502,\"\")","v":""},{"$f":"IF(登録済データ!$B502<>0,IF(登録済データ!F502<>\"\",登録済データ!F502,\"\"),\"\")","v":""},{"$f":"IF(登録済データ!$B502<>0,IF(登録済データ!G502<>\"\",登録済データ!G502,\"\"),\"\")","v":""},{"$f":"IF(登録済データ!$B502<>0,IF(登録済データ!H502<>\"\",登録済データ!H502,\"\"),\"\")","v":""},{"$f":"IF(登録済データ!$B502<>0,IF(登録済データ!I502<>\"\",登録済データ!I502,\"\"),\"\")","v":""},{"$f":"IF(登録済データ!$B502<>0,登録済データ!J502,\"\")","v":""},{"$f":"IF(登録済データ!$B502<>0,登録済データ!K502,\"\")","v":""},{"$f":"IF(登録済データ!$B502<>0,登録済データ!L502,\"\")","v":""},{"$f":"IF(登録済データ!$B502<>0,登録済データ!M502,\"\")","v":""},{"$f":"IF(登録済データ!$B502<>0,登録済データ!N502,\"\")","v":""},{"$f":"IF(登録済データ!$B502<>0,登録済データ!O502,\"\")","v":""},{"$f":"IF(登録済データ!$B502<>0,登録済データ!P502,\"\")","v":""},{"$f":"IF(登録済データ!$B502<>0,登録済データ!Q502,\"\")","v":""},{"$f":"IF(登録済データ!$B502<>0,登録済データ!R502,\"\")","v":""},{"$f":"IF(登録済データ!$B502<>0,登録済データ!S502,\"\")","v":""},{"$f":"IF(登録済データ!$B502<>0,登録済データ!T502,\"\")","v":""},{"$f":"IF(登録済データ!$B502<>0,登録済データ!U502,\"\")","v":""},{"$f":"IF(登録済データ!$B502<>0,登録済データ!V502,\"\")","v":""},{"$f":"IF(登録済データ!$B502<>0,登録済データ!W502,\"\")","v":""},{"$f":"IF(登録済データ!$B502<>0,登録済データ!X502,\"\")","v":""},{"$f":"IF($F499<>\"\",登録済データ!$C$4,\"\")","v":""}]
[null,{"$f":"IF($F500<>\"\",登録済データ!$C$2,\"\")","v":""},{"$f":"IF($F500<>\"\",IF($I$1=\"企業コード3桁\",LEFT(登録済データ!$C$3,3),LEFT(登録済データ!$C$3,6)),\"\")","v":""},null,{"$f":"IF(登録済データ!$B503<>0,登録済データ!C503,\"\")","v":""},{"$f":"IF(登録済データ!$B503<>0,登録済データ!D503,\"\")","v":""},{"$f":"IF(登録済データ!$B503<>0,登録済データ!E503,\"\")","v":""},{"$f":"IF(登録済データ!$B503<>0,IF(登録済データ!F503<>\"\",登録済データ!F503,\"\"),\"\")","v":""},{"$f":"IF(登録済データ!$B503<>0,IF(登録済データ!G503<>\"\",登録済データ!G503,\"\"),\"\")","v":""},{"$f":"IF(登録済データ!$B503<>0,IF(登録済データ!H503<>\"\",登録済データ!H503,\"\"),\"\")","v":""},{"$f":"IF(登録済データ!$B503<>0,IF(登録済データ!I503<>\"\",登録済データ!I503,\"\"),\"\")","v":""},{"$f":"IF(登録済データ!$B503<>0,登録済データ!J503,\"\")","v":""},{"$f":"IF(登録済データ!$B503<>0,登録済データ!K503,\"\")","v":""},{"$f":"IF(登録済データ!$B503<>0,登録済データ!L503,\"\")","v":""},{"$f":"IF(登録済データ!$B503<>0,登録済データ!M503,\"\")","v":""},{"$f":"IF(登録済データ!$B503<>0,登録済データ!N503,\"\")","v":""},{"$f":"IF(登録済データ!$B503<>0,登録済データ!O503,\"\")","v":""},{"$f":"IF(登録済データ!$B503<>0,登録済データ!P503,\"\")","v":""},{"$f":"IF(登録済データ!$B503<>0,登録済データ!Q503,\"\")","v":""},{"$f":"IF(登録済データ!$B503<>0,登録済データ!R503,\"\")","v":""},{"$f":"IF(登録済データ!$B503<>0,登録済データ!S503,\"\")","v":""},{"$f":"IF(登録済データ!$B503<>0,登録済データ!T503,\"\")","v":""},{"$f":"IF(登録済データ!$B503<>0,登録済データ!U503,\"\")","v":""},{"$f":"IF(登録済データ!$B503<>0,登録済データ!V503,\"\")","v":""},{"$f":"IF(登録済データ!$B503<>0,登録済データ!W503,\"\")","v":""},{"$f":"IF(登録済データ!$B503<>0,登録済データ!X503,\"\")","v":""},{"$f":"IF($F500<>\"\",登録済データ!$C$4,\"\")","v":""}]
[null,{"$f":"IF($F501<>\"\",登録済データ!$C$2,\"\")","v":""},{"$f":"IF($F501<>\"\",IF($I$1=\"企業コード3桁\",LEFT(登録済データ!$C$3,3),LEFT(登録済データ!$C$3,6)),\"\")","v":""},null,{"$f":"IF(登録済データ!$B504<>0,登録済データ!C504,\"\")","v":""},{"$f":"IF(登録済データ!$B504<>0,登録済データ!D504,\"\")","v":""},{"$f":"IF(登録済データ!$B504<>0,登録済データ!E504,\"\")","v":""},{"$f":"IF(登録済データ!$B504<>0,IF(登録済データ!F504<>\"\",登録済データ!F504,\"\"),\"\")","v":""},{"$f":"IF(登録済データ!$B504<>0,IF(登録済データ!G504<>\"\",登録済データ!G504,\"\"),\"\")","v":""},{"$f":"IF(登録済データ!$B504<>0,IF(登録済データ!H504<>\"\",登録済データ!H504,\"\"),\"\")","v":""},{"$f":"IF(登録済データ!$B504<>0,IF(登録済データ!I504<>\"\",登録済データ!I504,\"\"),\"\")","v":""},{"$f":"IF(登録済データ!$B504<>0,登録済データ!J504,\"\")","v":""},{"$f":"IF(登録済データ!$B504<>0,登録済データ!K504,\"\")","v":""},{"$f":"IF(登録済データ!$B504<>0,登録済データ!L504,\"\")","v":""},{"$f":"IF(登録済データ!$B504<>0,登録済データ!M504,\"\")","v":""},{"$f":"IF(登録済データ!$B504<>0,登録済データ!N504,\"\")","v":""},{"$f":"IF(登録済データ!$B504<>0,登録済データ!O504,\"\")","v":""},{"$f":"IF(登録済データ!$B504<>0,登録済データ!P504,\"\")","v":""},{"$f":"IF(登録済データ!$B504<>0,登録済データ!Q504,\"\")","v":""},{"$f":"IF(登録済データ!$B504<>0,登録済データ!R504,\"\")","v":""},{"$f":"IF(登録済データ!$B504<>0,登録済データ!S504,\"\")","v":""},{"$f":"IF(登録済データ!$B504<>0,登録済データ!T504,\"\")","v":""},{"$f":"IF(登録済データ!$B504<>0,登録済データ!U504,\"\")","v":""},{"$f":"IF(登録済データ!$B504<>0,登録済データ!V504,\"\")","v":""},{"$f":"IF(登録済データ!$B504<>0,登録済データ!W504,\"\")","v":""},{"$f":"IF(登録済データ!$B504<>0,登録済データ!X504,\"\")","v":""},{"$f":"IF($F501<>\"\",登録済データ!$C$4,\"\")","v":""}]
[null,{"$f":"IF($F502<>\"\",登録済データ!$C$2,\"\")","v":""},{"$f":"IF($F502<>\"\",IF($I$1=\"企業コード3桁\",LEFT(登録済データ!$C$3,3),LEFT(登録済データ!$C$3,6)),\"\")","v":""},null,{"$f":"IF(登録済データ!$B505<>0,登録済データ!C505,\"\")","v":""},{"$f":"IF(登録済データ!$B505<>0,登録済データ!D505,\"\")","v":""},{"$f":"IF(登録済データ!$B505<>0,登録済データ!E505,\"\")","v":""},{"$f":"IF(登録済データ!$B505<>0,IF(登録済データ!F505<>\"\",登録済データ!F505,\"\"),\"\")","v":""},{"$f":"IF(登録済データ!$B505<>0,IF(登録済データ!G505<>\"\",登録済データ!G505,\"\"),\"\")","v":""},{"$f":"IF(登録済データ!$B505<>0,IF(登録済データ!H505<>\"\",登録済データ!H505,\"\"),\"\")","v":""},{"$f":"IF(登録済データ!$B505<>0,IF(登録済データ!I505<>\"\",登録済データ!I505,\"\"),\"\")","v":""},{"$f":"IF(登録済データ!$B505<>0,登録済データ!J505,\"\")","v":""},{"$f":"IF(登録済データ!$B505<>0,登録済データ!K505,\"\")","v":""},{"$f":"IF(登録済データ!$B505<>0,登録済データ!L505,\"\")","v":""},{"$f":"IF(登録済データ!$B505<>0,登録済データ!M505,\"\")","v":""},{"$f":"IF(登録済データ!$B505<>0,登録済データ!N505,\"\")","v":""},{"$f":"IF(登録済データ!$B505<>0,登録済データ!O505,\"\")","v":""},{"$f":"IF(登録済データ!$B505<>0,登録済データ!P505,\"\")","v":""},{"$f":"IF(登録済データ!$B505<>0,登録済データ!Q505,\"\")","v":""},{"$f":"IF(登録済データ!$B505<>0,登録済データ!R505,\"\")","v":""},{"$f":"IF(登録済データ!$B505<>0,登録済データ!S505,\"\")","v":""},{"$f":"IF(登録済データ!$B505<>0,登録済データ!T505,\"\")","v":""},{"$f":"IF(登録済データ!$B505<>0,登録済データ!U505,\"\")","v":""},{"$f":"IF(登録済データ!$B505<>0,登録済データ!V505,\"\")","v":""},{"$f":"IF(登録済データ!$B505<>0,登録済データ!W505,\"\")","v":""},{"$f":"IF(登録済データ!$B505<>0,登録済データ!X505,\"\")","v":""},{"$f":"IF($F502<>\"\",登録済データ!$C$4,\"\")","v":""}]
[null,{"$f":"IF($F503<>\"\",登録済データ!$C$2,\"\")","v":""},{"$f":"IF($F503<>\"\",IF($I$1=\"企業コード3桁\",LEFT(登録済データ!$C$3,3),LEFT(登録済データ!$C$3,6)),\"\")","v":""},null,{"$f":"IF(登録済データ!$B506<>0,登録済データ!C506,\"\")","v":""},{"$f":"IF(登録済データ!$B506<>0,登録済データ!D506,\"\")","v":""},{"$f":"IF(登録済データ!$B506<>0,登録済データ!E506,\"\")","v":""},{"$f":"IF(登録済データ!$B506<>0,IF(登録済データ!F506<>\"\",登録済データ!F506,\"\"),\"\")","v":""},{"$f":"IF(登録済データ!$B506<>0,IF(登録済データ!G506<>\"\",登録済データ!G506,\"\"),\"\")","v":""},{"$f":"IF(登録済データ!$B506<>0,IF(登録済データ!H506<>\"\",登録済データ!H506,\"\"),\"\")","v":""},{"$f":"IF(登録済データ!$B506<>0,IF(登録済データ!I506<>\"\",登録済データ!I506,\"\"),\"\")","v":""},{"$f":"IF(登録済データ!$B506<>0,登録済データ!J506,\"\")","v":""},{"$f":"IF(登録済データ!$B506<>0,登録済データ!K506,\"\")","v":""},{"$f":"IF(登録済データ!$B506<>0,登録済データ!L506,\"\")","v":""},{"$f":"IF(登録済データ!$B506<>0,登録済データ!M506,\"\")","v":""},{"$f":"IF(登録済データ!$B506<>0,登録済データ!N506,\"\")","v":""},{"$f":"IF(登録済データ!$B506<>0,登録済データ!O506,\"\")","v":""},{"$f":"IF(登録済データ!$B506<>0,登録済データ!P506,\"\")","v":""},{"$f":"IF(登録済データ!$B506<>0,登録済データ!Q506,\"\")","v":""},{"$f":"IF(登録済データ!$B506<>0,登録済データ!R506,\"\")","v":""},{"$f":"IF(登録済データ!$B506<>0,登録済データ!S506,\"\")","v":""},{"$f":"IF(登録済データ!$B506<>0,登録済データ!T506,\"\")","v":""},{"$f":"IF(登録済データ!$B506<>0,登録済データ!U506,\"\")","v":""},{"$f":"IF(登録済データ!$B506<>0,登録済データ!V506,\"\")","v":""},{"$f":"IF(登録済データ!$B506<>0,登録済データ!W506,\"\")","v":""},{"$f":"IF(登録済データ!$B506<>0,登録済データ!X506,\"\")","v":""},{"$f":"IF($F503<>\"\",登録済データ!$C$4,\"\")","v":""}]
[null,{"$f":"IF($F504<>\"\",登録済データ!$C$2,\"\")","v":""},{"$f":"IF($F504<>\"\",IF($I$1=\"企業コード3桁\",LEFT(登録済データ!$C$3,3),LEFT(登録済データ!$C$3,6)),\"\")","v":""},null,{"$f":"IF(登録済データ!$B507<>0,登録済データ!C507,\"\")","v":""},{"$f":"IF(登録済データ!$B507<>0,登録済データ!D507,\"\")","v":""},{"$f":"IF(登録済データ!$B507<>0,登録済データ!E507,\"\")","v":""},{"$f":"IF(登録済データ!$B507<>0,IF(登録済データ!F507<>\"\",登録済データ!F507,\"\"),\"\")","v":""},{"$f":"IF(登録済データ!$B507<>0,IF(登録済データ!G507<>\"\",登録済データ!G507,\"\"),\"\")","v":""},{"$f":"IF(登録済データ!$B507<>0,IF(登録済データ!H507<>\"\",登録済データ!H507,\"\"),\"\")","v":""},{"$f":"IF(登録済データ!$B507<>0,IF(登録済データ!I507<>\"\",登録済データ!I507,\"\"),\"\")","v":""},{"$f":"IF(登録済データ!$B507<>0,登録済データ!J507,\"\")","v":""},{"$f":"IF(登録済データ!$B507<>0,登録済データ!K507,\"\")","v":""},{"$f":"IF(登録済データ!$B507<>0,登録済データ!L507,\"\")","v":""},{"$f":"IF(登録済データ!$B507<>0,登録済データ!M507,\"\")","v":""},{"$f":"IF(登録済データ!$B507<>0,登録済データ!N507,\"\")","v":""},{"$f":"IF(登録済データ!$B507<>0,登録済データ!O507,\"\")","v":""},{"$f":"IF(登録済データ!$B507<>0,登録済データ!P507,\"\")","v":""},{"$f":"IF(登録済データ!$B507<>0,登録済データ!Q507,\"\")","v":""},{"$f":"IF(登録済データ!$B507<>0,登録済データ!R507,\"\")","v":""},{"$f":"IF(登録済データ!$B507<>0,登録済データ!S507,\"\")","v":""},{"$f":"IF(登録済データ!$B507<>0,登録済データ!T507,\"\")","v":""},{"$f":"IF(登録済データ!$B507<>0,登録済データ!U507,\"\")","v":""},{"$f":"IF(登録済データ!$B507<>0,登録済データ!V507,\"\")","v":""},{"$f":"IF(登録済データ!$B507<>0,登録済データ!W507,\"\")","v":""},{"$f":"IF(登録済データ!$B507<>0,登録済データ!X507,\"\")","v":""},{"$f":"IF($F504<>\"\",登録済データ!$C$4,\"\")","v":""}]

{"sheet":"設定情報案内","index":3,"n_rows":49,"n_cols":32,"rows_kept":49,"cut":false,"hidden":true,"merged":[[51,0,51,32],[13,0,13,10],[13,11,13,33],[0,24,0,27],[0,28,0,33],[2,0,2,33],[12,0,12,10],[12,11,12,33],[3,22,5,33],[7,0,7,32],[24,11,24,13],[24,15,24,17],[14,0,14,10],[14,11,14,33],[15,0,15,10],[15,11,15,33],[18,11,18,33],[19,11,19,33],[20,11,20,33],[21,11,21,33],[22,11,22,32],[23,11,23,13],[23,15,23,17],[27,0,27,10],[27,11,27,21],[27,22,27,33],[28,0,28,10],[28,11,28,21],[28,22,28,33],[29,0,29,10],[29,11,29,21],[29,22,29,33],[30,0,30,10],[30,11,30,20],[30,22,30,33],[31,0,31,10],[31,11,31,21],[31,22,31,33],[32,0,32,10],[32,11,32,21],[32,22,32,33],[39,0,39,10],[39,11,39,33],[33,0,33,10],[33,11,33,21],[33,22,33,33],[34,0,34,10],[34,11,34,21],[34,22,34,33],[35,0,35,10],[35,11,35,21],[35,22,35,33],[38,0,38,10],[38,11,38,33],[40,11,40,33],[41,11,41,33],[42,11,42,33],[45,11,45,33],[48,11,48,33]]}
[null,null,null,null,null,null,null,null,null,null,null,null,null,null,null,null,null,null,null,null,null,null,null,null,"発行日：",null,null,null,{"$f":"TODAY()","v":"2022-10-07"}]
[]
["ピットタッチ・プロ端末設定情報"]
[]
[]
["拝啓　時下ますますご清栄のこととお喜び申し上げます。"]
[]
["この度は、弊社勤怠管理システム「セコムあんしん勤怠管理サービス KING OF TIME Edition」\n打刻専用端末をご購入頂きまして、誠にありがとうございます。"]
["お客様のピットタッチ・プロ端末設定情報を、以下のとおりご案内申し上げます。"]
["本状の再発行はいたしかねますので、大切に保管してください。"]
[null,null,null,null,null,null,null,null,null,null,null,null,null,null,null,null,null,null,null,null,null,null,null,null,null,null,null,null,null,null,null,"敬具"]
["■お客様情報"]
[" 製品名（型番号）",null,null,null,null,null,null,null,null,null,null,"PitTouch Pro （BFR-810）"]
[]
[" ご契約者名",null,null,null,null,null,null,null,null,null,null,{"$f":"作業用!B4","v":""}]
["シリアル番号"]
[]
["■端末設定情報"]
[" 企業コード",null,null,null,null,null,null,null,null,null,null,{"$f":"LOWER(ASC(作業用!C4))","v":""}]
[" 所属コード",null,null,null,null,null,null,null,null,null,null,{"$f":"ASC(作業用!E4)","v":""}]
[" 所属名",null,null,null,null,null,null,null,null,null,null,{"$f":"作業用!F4","v":""}]
[" タイムレコーダーID",null,null,null,null,null,null,null,null,null,null,{"$f":"ASC(作業用!G4)","v":""}]
[" 休憩打刻ボタンの有無",null,null,null,null,null,null,null,null,null,null,{"$f":"作業用!L4","v":""}]
["「出勤」モード選択時間帯",null,null,null,null,null,null,null,null,null,null,{"$f":"ASC(TEXT(IF(作業用!H4=\"\",\"\",作業用!H4),\"hh:mm\"))","v":""},null,null,{"$f":"IF(L24=\"\",\"\",\"~\")","v":""},{"$f":"ASC(TEXT(IF(作業用!I4=\"\",\"\",作業用!I4),\"hh:mm\"))","v":""}]
["「退勤」モード選択時間帯",null,null,null,null,null,null,null,null,null,null,{"$f":"ASC(TEXT(IF(作業用!J4=\"\",\"\",作業用!J4),\"hh:mm\"))","v":""},null,null,{"$f":"IF(L25=\"\",\"\",\"~\")","v":""},{"$f":"ASC(TEXT(IF(作業用!K4=\"\",\"\",作業用!K4),\"hh:mm\"))","v":""}]
[]
["■ネットワーク設定情報"]
[null,null,null,null,null,null,null,null,null,null,null,"【 設定情報 】"]
[" ユーザー名",null,null,null,null,null,null,null,null,null,null,"admin"]
[" パスワード",null,null,null,null,null,null,null,null,null,null,"0000"]
[" IPアドレス取得方法",null,null,null,null,null,null,null,null,null,null,{"$f":"IF(作業用!N4=\"\",\"自動（DHCP）\",作業用!N4)","v":"自動（DHCP）"}]
[" IPアドレス",null,null,null,null,null,null,null,null,null,null,{"$f":"IF(作業用!O4=0,\"\",作業用!O4)","v":""}]
[" サブネットマスク",null,null,null,null,null,null,null,null,null,null,{"$f":"IF(作業用!P4=0,\"\",作業用!P4)","v":""}]
[" ゲートウェイアドレス",null,null,null,null,null,null,null,null,null,null,{"$f":"IF(作業用!Q4=0,\"\",作業用!Q4)","v":""}]
[" プライマリDNS",null,null,null,null,null,null,null,null,null,null,{"$f":"IF(作業用!R4=0,\"\",作業用!R4)","v":""}]
[" セカンダリDNS",null,null,null,null,null,null,null,null,null,null,{"$f":"IF(作業用!S4=0,\"\",作業用!S4)","v":""}]
[]
["■プロキシ設定情報"]
["プロキシ設定の有無",null,null,null,null,null,null,null,null,null,null,{"$f":"作業用!T4","v":""}]
["プロキシサーバー名",null,null,null,null,null,null,null,null,null,null,{"$f":"IF(作業用!U4=0,\"\",作業用!U4)","v":""}]
["プロキシポート番号",null,null,null,null,null,null,null,null,null,null,{"$f":"IF(作業用!V4=0,\"\",作業用!V4)","v":""}]
["認証ユーザー名",null,null,null,null,null,null,null,null,null,null,{"$f":"IF(作業用!W4=0,\"\",作業用!W4)","v":""}]
["認証パスワード",null,null,null,null,null,null,null,null,null,null,{"$f":"IF(作業用!X4=0,\"\",作業用!X4)","v":""}]
[]
["■NTP設定情報"]
["NTPサーバー名",null,null,null,null,null,null,null,null,null,null,{"$f":"IF(作業用!Y4=0,\"ntp.jst.mfeed.ad.jp\",作業用!Y4)","v":""}]
[]
["■時間表記情報"]
["時間表記",null,null,null,null,null,null,null,null,null,null,{"$f":"作業用!Z4","v":""}]

{"sheet":"プロバイダ出力","index":4,"n_rows":61,"n_cols":1,"rows_kept":61,"cut":false,"hidden":true,"merged":[]}
["###PitTouch Pro ピットタッチ・プロ"]
[]
["###プロバイダ設定ファイル"]
["#####勤怠管理クラウドシステム「セコムあんしん勤怠管理サービス KING OF TIME Edition」"]
[]
["#＜基本設定＞"]
[]
["##非接触IC切り替え（※設定変更NG）"]
["rfid.card.mode=2"]
["##データベースインデックス（※設定変更NG）"]
["database.index=1"]
[]
[]
["#＜サーバ基本設定＞"]
[]
["##サーバURL（s2.kingtime.jp OR s3.kingtime.jp OR ja.kingtime.jp OR nec.kingtime.jp）"]
["server.url=https://secomtime.secomtrust.net/gateway"]
[]
["##送信フォーマット（timerecorder_id=タイムレコーダー設定一覧に表示されたタイムレコーダーＩＤ／company_code=ログインＩＤ先頭頭3桁の文字列）"]
[{"$f":"\"server.send.format=?page_id=/fpsgateway/notify_verified&tag_id=[CID]&record_type_code=[STS]&device_type_code=\"&'ファイル名一覧 出力シート'!D5&\"&timerecorder_id=\"&プロバイダ入力１!C5&\"&recording_time=[TIME]&local_timestamp_flag=[TX]&company_code=\"&プロバイダ入力１!C6","v":"server.send.format=?page_id=/fpsgateway/notify_verified&tag_id=[CID]&record_type_code=[STS]&device_type_code=20&timerecorder_id=&recording_time=[TIME]&local_timestamp_flag=[TX]&company_code="}]
[]
[]
["#＜代理応答設定＞"]
[]
["##代理応答（ステータスなし（※設定変更NG））"]
["agency.sound.status.0=0000"]
["##代理応答（ステータス１）（※設定変更NG）"]
["agency.sound.status.1=1008"]
["##代理応答（ステータス２）（※設定変更NG）"]
["agency.sound.status.2=1010"]
["##代理応答（ステータス３）（※設定変更NG）"]
["agency.sound.status.3=1011"]
["##代理応答（ステータス４）（※設定変更NG）"]
["agency.sound.status.4=1009"]
[]
[]
["#＜ステータス設定＞"]
[]
["##ステータス切り替え（2:出勤/退勤 6:出勤/退勤/休憩/戻り）"]
[{"$f":"\"status.mode=\"&プロバイダ入力１!C7","v":"status.mode=2"}]
[]
[]
["#＜ステータス自動変更設定＞"]
[]
["##ステータス自動変更時間帯１（hh:mm-hh:mm）※24:00→NG、00:00→OK"]
[{"$f":"\"status.auto.term.1=\"&プロバイダ入力１!C8","v":"status.auto.term.1="}]
[]
["##ステータス自動変更時間帯２（hh:mm-hh:mm）※24:00→NG、00:00→OK"]
[{"$f":"\"status.auto.term.2=\"&プロバイダ入力１!C9","v":"status.auto.term.2="}]
[]
["##自動変更ステータス１（1:出勤 2:退勤 3:休憩 4:戻り）"]
["status.auto.no.1=1"]
[]
["##自動変更ステータス２（1:出勤 2:退勤 3:休憩 4:戻り）"]
["status.auto.no.2=2"]
[]
[]
["#＜表示設定＞"]
[]
["##時刻表示（0:１２時間表示 1:２４時間表示）"]
[{"$f":"\"clock.mode=\"&プロバイダ入力１!C10","v":"clock.mode=1"}]

{"sheet":"コンテンツ出力","index":5,"n_rows":87,"n_cols":1,"rows_kept":87,"cut":false,"hidden":true,"merged":[]}
["###PitTouch Pro ピットタッチ・プロ"]
[]
["###コンテンツセット設定ファイル"]
["#####勤怠管理クラウドシステム「セコムあんしん勤怠管理サービス KING OF TIME Edition」"]
[]
[]
["#＜ＬＡＮポート設定＞"]
[]
["##IPアドレス取得方法（0:固定ＩＰ 1:ＤＨＣＰ）"]
[{"$f":"\"network.lan.ipmode.isdhcp:\"&コンテンツ入力!C3","v":"network.lan.ipmode.isdhcp:1"}]
[]
["##IPアドレス（XXX.XXX.XXX.XXX ※XXXは０～２５５までの数値）"]
[{"$f":"\"network.lan.ipaddr:\"&IF(コンテンツ入力!C3=\"0\",コンテンツ入力!C4,\"10.0.0.92\")","v":"network.lan.ipaddr:10.0.0.92"}]
[]
["##サブネットマスク（XXX.XXX.XXX.XXX ※XXXは０～２５５までの数値）"]
[{"$f":"\"network.lan.subnet:\"&IF(コンテンツ入力!C3=\"0\",コンテンツ入力!C5,\"255.255.255.0\")","v":"network.lan.subnet:255.255.255.0"}]
[]
["##ゲートウェイアドレス（XXX.XXX.XXX.XXX ※XXXは０～２５５までの数値）"]
[{"$f":"\"network.lan.gateway:\"&IF(コンテンツ入力!C3=\"0\",コンテンツ入力!C6,\"10.0.0.1\")","v":"network.lan.gateway:10.0.0.1"}]
[]
["##プライマリDNSサーバアドレス（XXX.XXX.XXX.XXX ※XXXは０～２５５までの数値）"]
[{"$f":"\"network.lan.dns1:\"&IF(コンテンツ入力!C3=\"0\",コンテンツ入力!C7,\"\")","v":"network.lan.dns1:"}]
[]
["##セカンダリDNSサーバアドレス（XXX.XXX.XXX.XXX または空白 ※XXXは０～２５５までの数値）"]
[{"$f":"\"network.lan.dns2:\"&IF(コンテンツ入力!C3=\"0\",コンテンツ入力!C8,\"\")","v":"network.lan.dns2:"}]
[]
[]
["#＜無線LANモジュール設定＞"]
[]
["##無線LANモジュール（0:使用しない 1:使用する）"]
["wlan.device.enable:1"]
[]
["##ＳＳＩＤ（３２文字以内の文字列）"]
["wlan.device.ssid:"]
[]
["##認証・暗号化（0:使用しない 1:WEP 2:WPAパーソナル 3:WPA2パーソナル）"]
["wlan.security.authenc:0"]
[]
["##ＷＥＰキー（５文字か１３文字の文字列または１０桁か２６桁の１６進数）"]
["wlan.wep.key0:"]
[]
["##ＷＰＡ共有キー（８～６３文字の文字列または６４桁の１６進数）"]
["wlan.wpap.psk:"]
[]
["##IPアドレス取得方法（0:固定ＩＰ 1:ＤＨＣＰ）"]
["network.wlan.ipmode.isdhcp:1"]
[]
["##IPアドレス（XXX.XXX.XXX.XXX ※XXXは０～２５５までの数値）"]
["network.wlan.ipaddr:"]
[]
["##サブネットマスク（XXX.XXX.XXX.XXX ※XXXは０～２５５までの数値）"]
["network.wlan.subnet:"]
[]
["##ゲートウェイアドレス（XXX.XXX.XXX.XXX ※XXXは０～２５５までの数値）"]
["network.wlan.gateway:"]
[]
["##プライマリDNSサーバアドレス（XXX.XXX.XXX.XXX ※XXXは０～２５５までの数値）"]
["network.wlan.dns1:"]
[]
["##セカンダリDNSサーバアドレス（XXX.XXX.XXX.XXX または空白 ※XXXは０～２５５までの数値）"]
["network.wlan.dns2:"]
[]
["#＜プロキシ設定＞"]
["##プロキシ機能（0:使用しない 1:使用する）"]
[{"$f":"\"network.proxy.enable:\"&コンテンツ入力!C10","v":"network.proxy.enable:0"}]
[]
["##プロキシサーバ名（１２８文字以内の文字列：ホスト名 OR ＩＰアドレス）"]
[{"$f":"\"network.proxy.domain:\"&IF(コンテンツ入力!C10=\"1\",コンテンツ入力!C11,\"\")","v":"network.proxy.domain:"}]
[]
["##プロキシポート番号（0～65535）"]
[{"$f":"\"network.proxy.port:\"&IF(コンテンツ入力!C10=\"1\",コンテンツ入力!C12,\"\")","v":"network.proxy.port:"}]
[]
["##認証ユーザー名（３２文字以内の文字列※必要な場合）"]
[{"$f":"\"network.proxy.user:\"&IF(コンテンツ入力!C10=\"1\",コンテンツ入力!C13,\"\")","v":"network.proxy.user:"}]
[]
["##認証パスワード（３２文字以内の文字列※必要な場合）"]
[{"$f":"\"network.proxy.pass:\"&IF(コンテンツ入力!C10=\"1\",コンテンツ入力!C14,\"\")","v":"network.proxy.pass:"}]
[]
[]
["＃＜時刻設定＞"]
["##NTPサーバー名"]
[{"$f":"\"time.ntp.server:\"&コンテンツ入力!C9","v":"time.ntp.server:"}]
[]
[]
["#＜自動更新設定＞"]
["##ファームウェア自動更新(0:しない/1:する)"]
["update.firmware.auto:1"]

{"sheet":"ファイル名一覧 出力シート","index":6,"n_rows":13,"n_cols":14,"rows_kept":13,"cut":false,"hidden":true,"merged":[[3,6,3,9],[4,4,4,5],[4,6,4,9]]}
[]
[]
[null,"サーバーID(選択)",{"$f":"G4","v":"セコム"},null,null,null,null,null,null,null,null,null,null,{"$f":"C3","v":"セコム"}]
[null,"フォームスタック",{"$f":"設定情報案内!L15&\"様\"&\"_\"&設定情報案内!L21&\"_\"&IF(貼付用!G1=\"nec\",\"勤革時_PitTouch Pro 設定情報案内\",\"FormStack_PitTouch Pro 設定情報案内\")","v":"様__FormStack_PitTouch Pro 設定情報案内"},null,"サーバーIDを選んでください",null,{"$f":"貼付用!G1","v":"セコム"}]
[null,"プロバイダーファイル ",{"$f":"設定情報案内!L15&\"様\"&\"_\"&設定情報案内!L21&\"_\"&IF(貼付用!G1=\"nec\",\"勤革時_Provider\",G4&\"_\"&G5&\"_Provider\")","v":"様__セコム_IC_Provider"},{"$f":"IF($G$5=\"認証選択\",\"\",IF($G$5=\"IC\",20,19))","v":20},"認証方法を選んでください",null,{"$f":"貼付用!H1","v":"IC"}]
[null,"コンテンツファイル",{"$f":"設定情報案内!L15&\"様\"&\"_\"&設定情報案内!L21&\"_\"&IF(貼付用!G1=\"nec\",\"勤革時_content_settings\",\"content_settings\")","v":"様__content_settings"}]
[]
[null,null,"この度は、弊社勤怠管理システム「勤革時」打刻専用端末をご購入頂きまして、誠にありがとうございます。","「勤革時」サポートセンター　営業時間 9:30-12:00　13:00-17:30（土日祝日及び弊社休業日を除く）"]
[null,null,null,"　TEL: 03-4577-9650　お問合せフォーム:『https://htht.formstack.com/forms/kinkakujisp_contact』"]
[null,null,"この度は、弊社勤怠管理システム「KING OF TIME」打刻専用端末をご購入頂きまして、誠にありがとうございます。","「KING OF TIME」サポートセンター　営業時間 9:30-12:00　13:00-17:30（土日祝日及び弊社休業日を除く）"]
[null,null,null,"　TEL: 03-4570-8550　お問合せフォーム:『https://www.kingtime.jp/onlinesupport』"]
[null,null,"この度は、弊社勤怠管理システム「リクナビHRTech 勤怠管理」打刻専用端末をご購入頂きまして、誠にありがとうございます。","「リクナビHRTech勤怠管理 」サポートセンター　営業時間 9:30-12:00　13:00-17:30（土日祝日及び弊社休業日を除く）"]
[null,null,null,"　TEL: 03-4588-0623　お問合せフォーム:『https://help.time.hrtech.rikunabi.com/h-t/rkn/』"]

{"sheet":"作業用","index":7,"n_rows":4,"n_cols":31,"rows_kept":4,"cut":false,"hidden":true,"merged":[]}
[]
["Time","ご企業名","企業コード","ご注文番号","所属コード","所属名","タイムレコーダーID","1.出勤モード「開始」","2.出勤モード「終了」","3.退勤モード「開始」","4.退勤モード「終了」","休憩打刻の有無","ネットワーク接続方法","IPアドレス取得方法","IPアドレス","サブネットマスク","ゲートウェイアドレス","プライマリDNS","セカンダリDNS","プロキシ設定の有無","プロキシサーバー名","プロキシポート番号","認証ユーザー名","認証パスワード","NTPサーバー名","時間表記の指定","メールアドレス","Browser","IP Address","Unique ID","Location"]
[]
[{"$f":"貼付用!A4","v":0},{"$f":"貼付用!B4","v":""},{"$f":"貼付用!C4","v":""},{"$f":"貼付用!D4","v":0},{"$f":"貼付用!E4","v":""},{"$f":"貼付用!F4","v":""},{"$f":"貼付用!G4","v":""},{"$f":"貼付用!H4","v":""},{"$f":"貼付用!I4","v":""},{"$f":"貼付用!J4","v":""},{"$f":"貼付用!K4","v":""},{"$f":"貼付用!L4","v":""},{"$f":"貼付用!M4","v":""},{"$f":"貼付用!N4","v":""},{"$f":"貼付用!O4","v":""},{"$f":"貼付用!P4","v":""},{"$f":"貼付用!Q4","v":""},{"$f":"貼付用!R4","v":""},{"$f":"貼付用!S4","v":""},{"$f":"貼付用!T4","v":""},{"$f":"貼付用!U4","v":""},{"$f":"貼付用!V4","v":""},{"$f":"貼付用!W4","v":""},{"$f":"貼付用!X4","v":""},{"$f":"貼付用!Y4","v":""},{"$f":"貼付用!Z4","v":""},{"$f":"貼付用!AA4","v":""},{"$f":"貼付用!AB4","v":0},{"$f":"貼付用!AC4","v":0},{"$f":"貼付用!AD4","v":0},{"$f":"貼付用!AE4","v":0}]

{"sheet":"プロバイダ入力１","index":8,"n_rows":10,"n_cols":4,"rows_kept":10,"cut":false,"hidden":true,"merged":[]}
[null,"ファイル名"]
[null,"作業内容 ※　行数は秀丸に準拠","入力内容","作業確認"]
[1,"s2、s3、nec、ja のいずれかを入力します。",{"$f":"'ファイル名一覧 出力シート'!N3","v":"セコム"}]
[2,"念のため、type_code「19」か type_code「20」で正しいものか確認します。"]
[3,"23-2行目＝タイムレコーダーIDをコピーします。",{"$f":"設定情報案内!L22","v":""}]
[4,"24行目＝企業コードをコピーします。",{"$f":"設定情報案内!L19","v":""}]
[5,"44行目＝休憩打刻がある場合は「6」、ない場合は「2」を記入します。",{"$f":"IF(設定情報案内!L23=\"有\",\"6\",\"2\")","v":"2"}]
[6,"50行目＝出退勤の切り替え時間を記入します。（指定がない場合は時刻のみ削除します）",{"$f":"IF(設定情報案内!L24=\"\",\"\",CONCATENATE(TEXT(設定情報案内!L24,\"hh:mm\"),\"-\",TEXT(設定情報案内!P24,\"hh:mm\")))","v":""}]
[7,"53行目＝出退勤の切り替え時間を記入します。（指定がない場合は時刻のみ削除します）",{"$f":"IF(設定情報案内!L25=\"\",\"\",CONCATENATE(TEXT(設定情報案内!L25,\"hh:mm\"),\"-\",TEXT(設定情報案内!P25,\"hh:mm\")))","v":""}]
[8,"65行目＝時間表示方法を設定します。",{"$f":"IF(設定情報案内!L49=\"12時間表記\",\"0\",\"1\")","v":"1"}]

{"sheet":"コンテンツ入力","index":9,"n_rows":14,"n_cols":4,"rows_kept":14,"cut":false,"hidden":true,"merged":[]}
[null,"ファイル名",{"$f":"設定情報案内!L15&\"様\"&\"_\"&設定情報案内!L21&\"_\"&\"content_setteings\"","v":"様__content_setteings"}]
[null,"作業内容 ※　行数は秀丸に準拠","入力内容","作業確認"]
[1,"10行目　IPアドレス取得方法が自動の場合、特に変更は不要です。",{"$f":"IF(設定情報案内!L31=\"自動（DHCP）\",\"1\",\"0\")","v":"1"}]
[2,"13行目　IPアドレスの入力",{"$f":"IF(設定情報案内!L32=\"\",\"\",設定情報案内!L32)","v":""}]
[3,"16行目　IPアドレスの入力",{"$f":"IF(設定情報案内!L33=\"\",\"\",設定情報案内!L33)","v":""}]
[4,"19行目　IPアドレスの入力",{"$f":"IF(設定情報案内!L34=\"\",\"\",設定情報案内!L34)","v":""}]
[5,"22行目　IPアドレスの入力",{"$f":"IF(設定情報案内!L35=0,\"\",設定情報案内!L35)","v":""}]
[6,"26行目　IPアドレスの入力",{"$f":"IF(設定情報案内!L36=0,\"\",設定情報案内!L36)","v":""}]
[7,"84行目　",{"$f":"設定情報案内!L46","v":""}]
[8,"67行目",{"$f":"IF(設定情報案内!L39=\"有\",\"1\",\"0\")","v":"0"}]
[9,"70行目",{"$f":"IF(設定情報案内!L40=\"\",\"\",設定情報案内!L40)","v":""}]
[10,"73行目",{"$f":"IF(設定情報案内!L41=\"\",\"\",設定情報案内!L41)","v":""}]
[11,"76行目",{"$f":"IF(設定情報案内!L42=\"\",\"\",設定情報案内!L42)","v":""}]
[11,"79行目",{"$f":"IF(設定情報案内!L43=\"\",\"\",設定情報案内!L43)","v":""}]